Workbook
Name _edn2: 'Waste and Recycling'!#REF!
Name _edn3: 'Waste and Recycling'!$N$41
Name _edn4: 'Waste and Recycling'!$N$42
Name _edn5: 'Waste and Recycling'!$N$43
Name _edn6: 'Waste and Recycling'!$N$44
Name _edn7: 'Waste and Recycling'!$N$45
Name _ednref1: 'School Grounds & Gardens'!$O$44
Name _ednref10: 'School Grounds & Gardens'!$O$69
Name _ednref11: 'School Grounds & Gardens'!$O$70
Name _ednref12: 'School Grounds & Gardens'!$G$146
Name _ednref13: 'School Grounds & Gardens'!$G$147
Name _ednref14: 'School Grounds & Gardens'!#REF!
Name _ednref17: 'School Grounds & Gardens'!#REF!
Name _ednref2: 'Waste and Recycling'!$N$13
Name _ednref3: 'Waste and Recycling'!$N$19
Name _ednref4: 'Waste and Recycling'!$N$20
Name _ednref5: 'Waste and Recycling'!#REF!
Name _ednref6: 'Waste and Recycling'!$N$27
Name _ednref7: 'Waste and Recycling'!$N$29
Name _ednref8: 'School Grounds & Gardens'!$O$67
Name _ednref9: 'School Grounds & Gardens'!$O$68
Name _Hlk13060454: 'Healthy School Buildings'!$I$3
Name _Hlk13060473: Water!$I$15
Name _Hlk13669401: 'Waste and Recycling'!$N$9
Name _Hlk13669419: 'Waste and Recycling'!$N$13
Name _Hlk13669427: 'Waste and Recycling'!$N$12
Name _Hlk13669450: 'Waste and Recycling'!$N$21
Name CFL_Lighting: 'Conversion factors'!$D$108:$D$111
Name Halogen_Lighting: 'Conversion factors'!$C$108:$C$111
Name Incandescent_Lighting: 'Conversion factors'!$B$108:$B$111
Name Not_sure: 'Conversion factors'!$E$108:$E$111
Name ProOne: Transportation!$D$19:$D$20
Name Select_from_the_list: 'Conversion factors'!$A$108:$A$111

Sheet Introduction
A1: WASHINGTON GREEN SCHOOLS - ENVIRONMENTAL IMPACT CALCULATOR
C2: Copyright 2020 Washington Green Schools. All rights reserved.
A4: About This Tool
A5: Background
A6: This calculator has been created for Washington Green Schools to help you measure the potential environmental benefits of classroom and school level sustainability projects carried out by student groups. Environmental impacts calculated within this tool cover the major greenhouse gases required for reporting including: carbon dioxide (CO2), methane (CH4) and nitrous oxide (N2O). For the purposes of this tool, we use "CO2" which represents an equivalency factor that includes the impact of all 3 gases.
A7: The projects have been organized according to the six Washington Green Schools certification categories, however many of them could fit into more than one category. Please review the full project list down below before you get started and identify your favorite one(s).
A8: The projects are categorized as either classroom or school projects. Note: Classroom projects refer to projects that can be carried out by small groups of students, but might have impacts for the whole school (ex. running an anti-idling campaign).
A9: Send Your Results to Us!
A10: Washington Green Schools would love to hear about your environmental impact. Please complete the “General Information” section below, save the spreadsheet, and then email the tool to info@wagreenschools.org when you are finished.
A11: Categories
A12: ENERGY: Electricity production (generation, transmission and distribution) accounts for 28% of the total US carbon emissions.
A13: WATER: About 71% of the Earth is covered by water but only 3% of it is fresh water. Despite their importance to life as a drinking water source, sustaining crops through irrigation, providing food in the form of fish, powering homes through dams and moving goods by barges – freshwater habitats are disappearing at an alarming rate.
A14: HEALTHY SCHOOL BUILDINGS: School Buildings have a significant impact on students - access to thermal control, access to natural light and quality air all contribute to improving student well-being and educational outcomes.
A15: WASTE AND RECYCLING: The Environmental Protection Agency estimates that 75% of the American waste stream is recyclable, but we only recycle about 30% of it.
... A25: If you are uncertain about some terminology, please visit the Glossary Tab to find specific definitions and clarifications.
A26: If you need technical guidance or more information on a project, please email us at: | C26: info@wagreenschools.org
A28: For addditional resources and help visit this page: | B28: www.wagreenschools.org/carbon-calculator-resources/
A30: GENERAL INFORMATION
A31: Name of your school
A32: Address of your school
A33: Number of schools in your district
A34: Name of the point of contact at your school
A35: Email address of the point of contact
A36: Title of the point of contact
A39: PROJECT LIST
A41: Energy
A42: Classroom projects | C42: School projects
A43: Turn off lights when the classroom is empty - during lunch, planning periods, etc. | C43: Adjust your thermostat by turning down the heat
A44: Change all light bulbs to LEDs | C44: Install motion sensing light switches in hallways, bathrooms, etc.
A45: Turn off computers and printers at the end of the day, rather than putting them in sleep mode
A47: Water
A48: Classroom projects | C48: School projects
A49: Create a rain garden to absorb extra water, create less runoff | C49: Install aerators on sinks to increase pressure and reduce flow
C50: Fix any leaks inside the building and/or on school grounds
C51: Place water savers in toilet tanks to use less water in your toilet
C52: Install rain barrels to use “free water” for your lawn and plants
A54: Healthy School Buildings
A55: Classroom projects | C55: School projects
A56: Learn how to make DIY natural cleaning products (ex. vinegar + water mix) | C56: Implement an anti-idling campaign
C57: Implement a School Share Table
...

Sheet Energy
C1: ENERGY
G2: Copyright 2020 Washington Green Schools. All rights reserved.
C3: CLASSROOM PROJECTS
C5: INSTRUCTIONS:
C6: DATA ENTRY: Please fill in only the blue cells within each project. Some blue cells are optional, use the tips in Column A to guide you.
C7: PROJECT PERIOD: Enter the dates of your project as a reference point - this will not pro-rate your results (ex. March is Non-Idling month, therefore 03/19-03-19)
C8: PROJECTS: If you cannot find a specific project that you think would belong in this category, please check the full list of projects on the Introduction page.
A9: Jump to the summary section | C9: SUMMARY: At the bottom of the page you'll find a summary of all your project impacts.
C10: PROJECT RESET: To reset a project back to zero, select all blue cells within the project, right click and click on the 'Clear contents' selection. Project 1 & 2: Reset the dropdown menu cells to 'Select from the list' and then clear the content of the other blue cells.
C12: PROJECT #1
C13: Turn off lights when the classroom is empty - during lunch, planning periods, etc.
C15: Turn Off Lighting | D15: Value | F15: YOUR CLASSROOM IMPACT
A16: Tips: | F16: Carbon savings (lbs/hour) | G16: =IFERROR(D24*D20*D25,0) -> 0
A17: Lighting type definitions | C17: SETUP | F17: Carbon savings (lbs/year) | G17: =IFERROR(G16*'Conversion factors'!B41,"") -> 0
A18: *If you are not sure of the type of lights used in your classroom, choose 'Not sure' from the dropdown menu. | C18: Select the type of lights in your classroom* | D18: Select from the list | F18: Cost savings/day | G18: =IFERROR(IF(D24*D20*D22*'Conversion factors'!B4=0,D24*D20*'Conversion factors'!B36,D24*D20*D22*'Conversion factors'!B4),0) -> 0
C19: Number of lights in your classroom | F19: Cost savings ($/year) | G19: =IFERROR(IF(D20*D24*D22*'Conversion factors'!B4*'Conversion factors'!B41=0,D24*D20*'Conversion factors'!B41*'Conversion factors'!B36,D20*D24*D22*'Conversion factors'!B4*'Conversion factors'!B41),0) -> 0
C20: Number of additional hours/day that lights are turned off | F20: Tree seedlings grown for 10 years | G20: =IFERROR(G17*'Conversion factors'!B48,"") -> 0
C21: Number of classrooms in your school
A22: **If you don't know the cost of electricity that your school pays per kWh, leave Cell D22 blank. The tool will use the average cost of electricity in Washington state in this case. | C22: Cost of electricity at your school ($/kWh)** | F22: YOUR SCHOOL IMPACT
C23: Project period (MM/YY - MM/YY) - will not pro-rate results | F23: Carbon savings if all classrooms did the same (lbs/year) | G23: =IFERROR(G17*D21,0) -> 0
C24: Classroom lighting watts/hour | D24: =IFERROR(VLOOKUP(D18,'Conversion factors'!A53:B57,2,FALSE)*D19, "") | F24: Cost savings if all classrooms did the same ($/year) | G24: =IFERROR(D21*G19,0) -> 0
C25: lbs CO2 / Wh saved | D25: ='Conversion factors'!J30*'Conversion factors'!B4 -> 0.000655292 | F25: Tree seedlings grown for 10 years | G25: =IFERROR(G23*'Conversion factors'!B48,0) -> 0
A29: Jump to the top of the page | C29: PROJECT #2 | F29: YOUR CLASSROOM IMPACT
A30: Tips: | C30: Change all light bulbs to LEDs in your classroom | F30: Watt savings per hour | G30: =IFERROR((D36-D41)*D37,0) -> 0
A31: Lighting type definitions | F31: Carbon savings (lbs/hour) | G31: =IFERROR(G30*D42*D37,0) -> 0
A32: *If you are not sure of the type of lights used in your classroom, choose 'Not sure' from the dropdown menu. | C32: Change the light bulbs to LEDs | D32: Value | F32: Carbon savings (lbs/year) | G32: =IFERROR(G31*'Conversion factors'!B43,0) -> 0
F33: Cost savings per day | G33: =IFERROR(IF(Energy!G30*Energy!D39*'Conversion factors'!B4*'Conversion factors'!B44=0,Energy!G30*'Conversion factors'!B44*'Conversion factors'!B36,Energy!G30*Energy!D39*'Conversion factors'!B4*'Conversion factors'!B44),0) -> 0
C34: SETUP | F34: Cost savings ($/year) | G34: =IFERROR(G33*'Conversion factors'!B41,0) -> 0
C35: Choose the initial type of light bulbs in your classroom* | F35: Tree seedlings grown for 10 years | G35: =IFERROR(G32*'Conversion factors'!B48,0) -> 0
A36: **Each light bulb type has its own energy consumption levels. For example, Incandescent bulbs typically use 40 W / 60 W /75 W /100 W. When you fill in this project, please make sure to pick the light bulb type first (Cell D35) and then the Watts (Cell D36). | C36: How many Watts does your light bulbs consume?**
C37: Number of light bulbs changed in your classroom | F37: YOUR SCHOOL IMPACT
C38: Number of classrooms in your school | F38: Carbon savings if all classrooms did the same (lbs/year) | G38: =IFERROR(G32*D38,0) -> 0
C39: Cost of electricity at your school ($/kWh)***
C40: Project period (MM/YY - MM/YY) - will not pro-rate results | F40: Cost savings if all classrooms did the same ($/year) | G40: =IFERROR(D38*G34,0) -> 0
C41: Watts consumed with LED light bulbs | D41: =IFERROR(VLOOKUP(D35&D36,'Conversion factors'!C88:D103,2,FALSE),"") | F41: Tree seedlings grown for 10 years | G41: =IFERROR(G38*'Conversion factors'!B48,0) -> 0
C42: Carbon savings (lbs CO2 / Wh saved) | D42: ='Conversion factors'!J30*'Conversion factors'!B4 -> 0.000655292
A44: ***If you don't know the cost of electricity that your school pays per kWh, leave Cell D39 blank. The tool will use the average cost of electricity in Washington state in this case.
C47: PROJECT #3 | F47: YOUR CLASSROOM IMPACT
C48: Turn off computers and printers at the end of the day, rather than putting them in sleep mode | F48: SLEEP MODE
F49: Energy savings per day (in kWh) | G49: =D54*D58*24*'Conversion factors'!B4-(Energy!D54*Energy!D59*16*'Conversion factors'!B4+Energy!D54*Energy!D58*6*'Conversion factors'!B4) -> 0
...

Sheet Water
C1: WATER
G2: Copyright 2020 Washington Green Schools. All rights reserved.
C3: CLASSROOM PROJECTS
C5: INSTRUCTIONS:
C6: DATA ENTRY: Please fill in only the blue cells within each project. Some blue cells are optional, use the tips in Column A to guide you.
C7: PROJECT PERIOD: Enter the dates of your project as a reference point - this will not pro-rate your results (ex. March is Non-Idling month, therefore 03/19-03-19)
C8: PROJECTS: If you cannot find a specific project that you think would belong in this category, please check the full list of projects on the Introduction page.
A9: Jump to the summary section | C9: SUMMARY: At the bottom of the page you'll find a summary of all your project impacts.
C10: PROJECT RESET: To reset a project back to zero, select all blue cells within the project, right click and click on the 'Clear contents' selection. Project 5: Reset the dropdown menu cells to 'Select from the list' and then clear the content of the other blue cells.
C12: PROJECT #1 | F12: YOUR IMPACT
C13: Create a rain garden to absorb extra water, create less runoff | F13: Water filtered by your rain garden(s) in a year (gallons/year) | G13: =D18*'Conversion factors'!B318+D19*'Conversion factors'!B320 -> 0
C15: Create a rain garden | D15: Value | F15: Copper captured and treated | G15: =IF(G$13<>0,'Conversion factors'!B323,0) -> 0
F16: Lead captured and treated | G16: =IF(G$13<>0,'Conversion factors'!B324,0) -> 0
C17: SETUP | F17: Zinc captured and treated | G17: =IF(G$13<>0,'Conversion factors'!B325,0) -> 0
C18: Area of your 3"deep rain garden (sqft) | F18: Nitrogen captured and treated | G18: =IF(G$13<>0,'Conversion factors'!B326,0) -> 0
C19: Area of your 6" deep rain garden (sqft) | F19: Phosphorus captured and treated | G19: =IF(G$13<>0,'Conversion factors'!B327,0) -> 0
C20: Project period (MM/YY - MM/YY) - will not pro-rate results
C22: SCHOOL PROJECTS
A25: Tips: | C25: PROJECT #2
A26: Aerator definition | C26: Install WaterSense aerators on sinks to increase pressure and reduce flow
A28: *To calculate how long faucets are used a day in your school, conduct a water audit! Remember to check the faucets in the bathrooms as well as the cafeteria. If you cannot do an audit, just leave this cell empty and the tool will use default values based on the number of students in your school. | C28: Install aerators | D28: Value
C30: SETUP | F30: YOUR IMPACT
C31: Number of faucets in your school building | F31: Water savings in day (gallons) | G31: =IFERROR(IF(Water!D31*Water!D33*'Conversion factors'!B331-((Water!D31-Water!D32)*'Conversion factors'!B331*Water!D33+Water!D32*Water!D33*'Conversion factors'!B330)=0,(Water!D31*D35*'Conversion factors'!B333*'Conversion factors'!B334*'Conversion factors'!B331-((Water!D31-Water!D32)*'Conversion factors'!B331*D35*'Conversion factors'!B333*'Conversion factors'!B334+Water!D32*D35*'Conversion factors'!B333*'Conversion factors'!B334*'Conversion factors'!B330)),(Water!D31*Water!D33*'Conversion factors'!B331-((Water!D31-Water!D32)*'Conversion factors'!B331*Water!D33+Water!D32*Water!D33*'Conversion factors'!B330))),0) -> 0
C32: Number of aerators installed | F32: Water savings in a year (gallons/year) | G32: =IFERROR(G31*'Conversion factors'!B41,0) -> 0
C33: Average time faucets are in use per day (minutes)* | F33: Cost savings in day ($) | G33: =IFERROR(IF(G31*D34=0,G31*'Conversion factors'!B228,Water!G31*Water!D34),0) -> 0
C34: Cost of water at your school ($/gallons)** | F34: Cost savings in a year ($/year) | G34: =IFERROR(IF(G32*D34=0,G32*'Conversion factors'!B228,Water!G32*Water!D34),0) -> 0
C35: Number of students at your school
C36: Project period (MM/YY - MM/YY) - will not pro-rate results
A37: **If you don't know the cost of water at your school, leave Cell D34 blank. The tool will use the average cost of water in Seattle.
C39: PROJECT #3
C40: Fix any leaks inside the building and/or on school grounds
C42: Fix any leaks | D42: Value
A43: Jump to the top of the page
A44: Tips: | C44: SETUP | F44: YOUR IMPACT
A45: *If you don't know the cost of water at your school, leave Cell D49 blank. The tool will use the average cost of water in Seattle. | C45: Number of leaky faucets fixed | F45: Water savings in day (gallons) | G45: =IFERROR(D45*'Conversion factors'!B344+Water!D46*'Conversion factors'!B345+Water!D47*'Conversion factors'!B343+Water!D48*'Conversion factors'!B346,0) -> 0
C46: Number of leaky showers fixed | F46: Water savings in year (gallons/year) | G46: =IFERROR(G45*365,0) -> 0
C47: Number of leaky toilets have fixed | F47: Cost savings in day ($) | G47: =IFERROR(IF(G45*D49=0,G45*'Conversion factors'!B228,Water!G45*Water!D49),0) -> 0
C48: Number of leaky irrigation systems fixed | F48: Cost savings in year ($/year) | G48: =IFERROR(IF(G46*D49=0,G46*'Conversion factors'!B228,Water!G46*Water!D49),0) -> 0
C49: Cost of water at your school ($/gallons)*
C50: Project period (MM/YY - MM/YY) - will not pro-rate results
...

Sheet Healthy School Buildings
C1: HEALTHY SCHOOL BUILDINGS
G2: Copyright 2020 Washington Green Schools. All rights reserved.
C3: CLASSROOM PROJECTS
C5: INSTRUCTIONS:
C6: DATA ENTRY: Please fill in only the blue cells within each project. Some blue cells are optional, use the tips in Column A to guide you.
C7: PROJECT PERIOD: Enter the dates of your project as a reference point - this will not pro-rate your results (ex. March is Non-Idling month, therefore 03/19-03-19)
C8: PROJECTS: If you cannot find a specific project that you think would belong in this category, please check the full list of projects on the Introduction page.
A9: Jump to the summary section | C9: SUMMARY: At the bottom of the page you'll find a summary of all your project impacts.
C10: PROJECT RESET: To reset a project back to zero, select all blue cells within the project, right click and click on the 'Clear contents' selection.
C12: PROJECT #1
C13: Learn how to make DIY natural cleaning products (ex. vinegar + water mix) and use them for cleaning
F14: YOUR CLASSROOM IMPACT
C15: DIY natural cleaning | D15: Value | F15: Avoided VOCs (oz) | G15: =IFERROR(D18*'Conversion factors'!B253,0) -> 0
F16: Cost savings ($) | G16: =IFERROR(D18*('Conversion factors'!B255-'Conversion factors'!B257),0) -> 0
A17: Tips: | C17: SETUP
A18: VOCs definition | C18: Total amount of natural cleaner mixed for your classroom (oz) | F18: YOUR SCHOOL IMPACT
C19: Total amount of natural cleaner mixed for the school (oz) | F19: Avoided VOCs (oz) | G19: =IFERROR(D19*'Conversion factors'!B253,0) -> 0
C20: Project period (MM/YY - MM/YY) - will not pro-rate results | F20: Cost savings ($) | G20: =IFERROR(D19*('Conversion factors'!B255-'Conversion factors'!B257),0) -> 0
C24: SCHOOL PROJECTS
C26: PROJECT #2
C27: Implement an anti-idling campaign
C29: Anti-Idling Campaign | D29: Value
F30: YOUR SCHOOL IMPACT
A31: Jump to the top of the page | C31: SETUP | F31: Carbon savings (lbs/day) | G31: =IFERROR(IF(D32*'Conversion factors'!B277/60*D33=0,D32*'Conversion factors'!B277/60*'Conversion factors'!B280,D32*'Conversion factors'!B277/60*D33),0) -> 0
A32: Tips: | C32: Number of cars turned off | F32: Carbon savings (lbs/year) | G32: =(G31*'Conversion factors'!B41) -> 0
A33: *If you are not sure how long the cars wait on average in front of your school, leave cell D33 empty. The tool will use an average of 15 minutes/car in this case. | C33: Average waiting time of cars in front of the school (minutes)* | F33: Cost savings ($/day) | G33: =IFERROR(IF(D32*'Conversion factors'!B267/60*D33*'Conversion factors'!B278=0,D32*'Conversion factors'!B267/60*'Conversion factors'!B280*'Conversion factors'!B278,D32*'Conversion factors'!B267/60*D33*'Conversion factors'!B278),0) -> 0
C34: Project period (MM/YY - MM/YY) - will not pro-rate results | F34: Cost savings ($/year) | G34: =G33*'Conversion factors'!B41 -> 0
C39: PROJECT #3
C40: Implement a School Share Table, donate unwanted food items and compost leftovers
F41: YOUR SCHOOL IMPACT
C42: School Share Table, donate and compost | D42: Value | F42: Food waste savings (lbs/day) | G42: ='Conversion factors'!B286/'Conversion factors'!B41/'Conversion factors'!B288*'Healthy School Buildings'!D45 -> 0
F43: Food waste savings (lbs/year) | G43: ='Conversion factors'!B286/'Conversion factors'!B288*'Healthy School Buildings'!D45 -> 0
A44: Jump to the top of the page | C44: SETUP | F44: Carbon savings (lbs/day) | G44: =IFERROR(G42*('Conversion factors'!B$163-'Conversion factors'!B$165),0) -> 0
A45: Tips: | C45: Number of students at your school | F45: Carbon savings (lbs/year) | G45: =IFERROR(G43*('Conversion factors'!B$163-'Conversion factors'!B$165),0) -> 0
A46: *If you don't know the cost of waste hauling at your school, leave Cell D46 blank. In this case, the tool will use a generic cost of waste hauling In Washington. | C46: Cost of waste hauling ($/gallon)* | F46: Cost savings ($/year) | G46: =IFERROR(IF(G43/'Conversion factors'!B172/'Conversion factors'!B18*D46=0,G43/'Conversion factors'!B172/'Conversion factors'!B18*'Conversion factors'!B169,G43/'Conversion factors'!B172/'Conversion factors'!B18*D46),0) -> 0
C47: Project period (MM/YY - MM/YY) - will not pro-rate results | F47: Tree seedlings grown for 10 years | G47: =IFERROR(G45*'Conversion factors'!B48,0) -> 0
C51: PROJECT #4
C52: Introduce Meatless Mondays
F53: YOUR SCHOOL IMPACT
C54: Introduce Meatless Mondays | D54: Value | F54: Carbon savings (lbs/week) | G54: =IFERROR(D57*'Conversion factors'!B300*('Conversion factors'!B294-'Conversion factors'!B296),0) -> 0
...

Sheet Waste and Recycling
C1: WASTE AND RECYCLING
G2: Copyright 2020 Washington Green Schools. All rights reserved.
C3: CLASSROOM PROJECTS
C5: INSTRUCTIONS:
C6: DATA ENTRY: Please fill in only the blue cells within each project. Some blue cells are optional, use the tips in Column A to guide you.
C7: PROJECT PERIOD: Enter the dates of your project as a reference point - this will not pro-rate your results (ex. March is Non-Idling month, therefore 03/19-03-19)
C8: PROJECTS: If you cannot find a specific project that you think would belong in this category, please check the full list of projects on the Introduction page.
A9: Jump to the summary section | C9: SUMMARY: At the bottom of the page you'll find a summary of all your project impacts.
C10: PROJECT RESET: To reset a project back to zero, select all blue cells within the project, right click and click on the 'Clear contents' selection.
C12: PROJECT #1
C13: Bring a reusable water bottle to school instead of buying plastic water bottles | F13: YOUR CLASSROOM IMPACT
F14: Carbon savings (lbs/week) | G14: =IFERROR(IF(D21<>"",(D20-D21)*D23,0),0) -> 0
C15: Bring a reusable bottle | D15: Value | F15: Carbon savings (lbs/year) | G15: =IFERROR(G14*'Conversion factors'!B42,"") -> 0
F16: Cost savings / week | G16: =IFERROR(IF(D21<>"",IF(D19*(D20-D21)=0,(D20-D21)*'Conversion factors'!B128,D19*(D20-D21)),0),0) -> 0
C17: SETUP | F17: Cost savings ($/year) | G17: =G16*'Conversion factors'!B42 -> 0
A18: Tips: | C18: Number of classrooms in your school | F18: Tree seedlings grown for 10 years | G18: =G15*'Conversion factors'!B48 -> 0
A19: *If you don't know the cost of bottled water at your school, leave Cell D19 blank. The tool will use the average cost of bottled water in this case ($1). | C19: Price of 0.5 liter bottles water at your school*
C20: Total number of water bottles bought per week before the project | F20: YOUR SCHOOL'S IMPACT
C21: Total number of water bottles bought per week after the project | F21: Carbon savings if all classrooms did the same (lbs/year) | G21: =IFERROR(G15*D18,0) -> 0
C22: Project period (MM/YY - MM/YY) - will not pro-rate results | F22: Cost savings if all classrooms did the same ($/year) | G22: =IFERROR(D18*G17,0) -> 0
C23: CO2 impact per 0.5 liter plastic water bottle (pounds) | D23: ='Conversion factors'!B125 -> 0.10912884 | F23: Tree seedlings grown for 10 years | G23: =IFERROR(G21*'Conversion factors'!B48,0) -> 0
C27: PROJECT #2
C28: Use recycled paper instead of virgin paper | F28: YOUR CLASSROOM IMPACT
F29: Carbon savings (lbs/week) | G29: =IFERROR(D37-D38,0) -> 0
C30: Use recycled paper | D30: Value | F30: Carbon savings (lbs/year) | G30: =G29*'Conversion factors'!B42 -> 0
A31: Jump to the top of the page | F31: Extra cost ($/week) | G31: =IFERROR(D34*('Conversion factors'!B154-'Conversion factors'!B153),0) -> 0
C32: SETUP | F32: Extra yearly cost ($/year) | G32: =IFERROR(G31*'Conversion factors'!B42,0) -> 0
C33: Number of classrooms in your school | F33: Tree seedlings grown for 10 years | G33: =G30*'Conversion factors'!B48 -> 0
C34: Number of pages printed per week in/for your classroom
C35: Project period (MM/YY - MM/YY) - will not pro-rate results | F35: YOUR SCHOOL'S IMPACT
C36: Weight of paper used for your classroom (pounds) | D36: =D34/'Conversion factors'!B136*'Conversion factors'!B139 -> 0 | F36: Carbon savings if all classrooms did the same (lbs/year) | G36: =IFERROR(G30*D33,0) -> 0
C37: Carbon impact if virgin paper is used (lbs/week) | D37: =IFERROR(D36*'Conversion factors'!B147,0) -> 0 | F37: Cost savings if all classrooms did the same ($/year) | G37: =IFERROR(D33*G32,0) -> 0
C38: Carbon impact if 100% recycled paper is used (lbs/week) | D38: =IFERROR(D36*'Conversion factors'!B150,0) -> 0 | F38: Tree seedlings grown for 10 years | G38: =IFERROR(G36*'Conversion factors'!B48,0) -> 0
C42: PROJECT #3 | F42: YOUR CLASSROOM IMPACT
C43: Start a worm bin for classroom | F43: Carbon Savings compared to landfill (lbs/month) | G43: =IFERROR(D49*D52*'Conversion factors'!B$163,0) -> 0
F44: Carbon Savings compared to landfill (lbs/year) | G44: =IFERROR(D49*D53*'Conversion factors'!B$163,0) -> 0
C45: Start a worm bin at your school | D45: Value | F45: Cost savings ($/month) | G45: =IFERROR(IF(D49*D52*D50=0,D49*D52*'Conversion factors'!B176,D49*D52*D50/'Conversion factors'!B18/'Conversion factors'!B172),0) -> 0
F46: Cost Savings ($/year) | G46: =IFERROR(IF(D49*D53*D50=0,D49*D53*'Conversion factors'!B176,D49*D53*D50/'Conversion factors'!B18/'Conversion factors'!B172),0) -> 0
C47: SETUP | F47: Tree seedlings grown for 10 years | G47: =IFERROR(G44*'Conversion factors'!B48,0) -> 0
A48: Jump to the top of the page | C48: Number of classrooms in your school
...

Sheet Transportation
C1: TRANSPORTATION
G2: Copyright 2020 Washington Green Schools. All rights reserved.
C3: CLASSROOM PROJECTS
C5: INSTRUCTIONS:
C6: DATA ENTRY: Please fill in only the blue cells within each project. Some blue cells are optional, use the tips in Column A to guide you.
C7: PROJECT PERIOD: Enter the dates of your project as a reference point - this will not pro-rate your results (ex. March is Non-Idling month, therefore 03/19-03-19)
C8: PROJECTS: If you cannot find a specific project that you think would belong in this category, please check the full list of projects on the Introduction page. Please note that the anti idling project has been assigned to the Healthy School Building category due to its impact on air quality.
A10: Jump to the summary section | C10: SUMMARY: At the bottom of the page you'll find a summary of all your project impacts.
C11: PROJECT RESET: To reset a project back to zero, select all blue cells within the project, right click and click on the 'Clear contents' selection.
C13: PROJECT #1
C14: Start a walk to school campaign
F15: YOUR IMPACT
C16: Walk to school campaign | D16: Value | F16: Carbon savings (lbs/day) | G16: =IFERROR(IF((D19*D20/'Conversion factors'!B416*2)*'Conversion factors'!B417=0,(D19*'Conversion factors'!B412/'Conversion factors'!B416*2)*'Conversion factors'!B417,(Transportation!D19*Transportation!D20/'Conversion factors'!B416*2)*'Conversion factors'!B417),0) -> 0
F17: Carbon savings (lbs/year) | G17: =IFERROR(G16*'Conversion factors'!B41,"") -> 0
A18: Tips: | C18: SETUP | F18: Cost savings ($/day) | G18: =IFERROR(IF((D19*D20/'Conversion factors'!B416*2)*'Conversion factors'!B413=0,(D19*'Conversion factors'!B412/'Conversion factors'!B416*2)*'Conversion factors'!B413,(Transportation!D19*Transportation!D20/'Conversion factors'!B416*2)*'Conversion factors'!B413),0) -> 0
C19: Number of students who switched from driving to walking | F19: Cost savings ($/year) | G19: =IFERROR(G18*'Conversion factors'!B41,0) -> 0
A20: *If you don't know the average commute distance at your school, leave Cell D20 blank. The tool will use 2.42 miles in this case. | C20: Average one-way commute distance to school (miles)* | F20: Tree seedlings grown for 10 years | G20: =IFERROR(G17*'Conversion factors'!B$48,"") -> 0
C21: Project period (MM/YY - MM/YY) - will not pro-rate results
C24: PROJECT #2
C25: Start a bike to school campaign
F26: YOUR IMPACT
C27: Bike to school campaign | D27: Value | F27: Carbon savings (lbs/day) | G27: =IFERROR(IF((D30*D31/'Conversion factors'!B416*2)*'Conversion factors'!B417=0,(D30*'Conversion factors'!B412/'Conversion factors'!B416*2)*'Conversion factors'!B417,(Transportation!D30*Transportation!D31/'Conversion factors'!B416*2)*'Conversion factors'!B417),0) -> 0
A28: Jump to the top of the page | F28: Carbon savings (lbs/year) | G28: =IFERROR(G27*'Conversion factors'!B41,"") -> 0
A29: Tips: | C29: SETUP | F29: Cost savings ($/day) | G29: =IFERROR(IF((D30*D31/'Conversion factors'!B416*2)*'Conversion factors'!B413=0,(D30*'Conversion factors'!B412/'Conversion factors'!B416*2)*'Conversion factors'!B413,(Transportation!D30*Transportation!D31/'Conversion factors'!B416*2)*'Conversion factors'!B413),0) -> 0
C30: Number of students who switched from driving to biking | F30: Cost savings ($/year) | G30: =IFERROR(G29*'Conversion factors'!B41,0) -> 0
A31: *If you don't know the average commute distance at your school, just leave Cell D31 blank. The tool will use 2.42 miles in this case. | C31: Average one-way commute distance to school (miles)* | F31: Tree seedlings grown for 10 years | G31: =IFERROR(G28*'Conversion factors'!B$48,"") -> 0
C32: Project period (MM/YY - MM/YY) - will not pro-rate results
C35: PROJECT #3
C36: Develop a carpooling system
C38: Carpooling system | D38: Value
F39: YOUR IMPACT
A40: Jump to the top of the page | C40: SETUP | F40: Carbon savings (lbs/day) | G40: =IFERROR(IF((D41*D44/'Conversion factors'!B416*2)*(D42-1)*'Conversion factors'!B417=0,(D41*'Conversion factors'!B412/'Conversion factors'!B416*2)*(D42-1)*'Conversion factors'!B417,(Transportation!D41*Transportation!D44/'Conversion factors'!B416*2)*(D42-1)*'Conversion factors'!B417),0) -> 0
A41: Tips: | C41: Number of students participating in the carpooling system | F41: Carbon savings (lbs/year) | G41: =IFERROR(G40*'Conversion factors'!B42*Transportation!D43,"") -> 0
A42: Carpooling definition | C42: Average number of students who carpool together | F42: Cost savings ($/day) | G42: =IFERROR(IF((D41*D44/'Conversion factors'!B416*2)*(D42-1)*'Conversion factors'!B413=0,(D41*'Conversion factors'!B412/'Conversion factors'!B416*2)*(D42-1)*'Conversion factors'!B413,(Transportation!D41*Transportation!D44/'Conversion factors'!B416*2)*(D42-1)*'Conversion factors'!B413),0) -> 0
C43: Average number of days a week students carpooled | F43: Cost savings ($/year) | G43: =IFERROR(G42*'Conversion factors'!B42*Transportation!D43,"") -> 0
A44: *If you don't know the average commute distance at your school, leave Cell D44 blank. The tool will use 2.42 miles in this case. | C44: Average one-way commute for the carpools (miles)* | F44: Tree seedlings grown for 10 years | G44: =IFERROR(G41*'Conversion factors'!B$48,"") -> 0
C45: Project period (MM/YY - MM/YY) - will not pro-rate results
C49: SCHOOL PROJECTS
C52: PROJECT #4
C53: Change policy so that all purchased district vehicles are hybrid/high MPG
...

Sheet School Grounds & Gardens
C1: SCHOOL GROUNDS & GARDENS
G2: Copyright 2020 Washington Green Schools. All rights reserved.
C3: CLASSROOM PROJECTS
C5: INSTRUCTIONS:
C6: DATA ENTRY: Please fill in only the blue cells within each project. Some blue cells are optional, use the tips in Column A to guide you.
C7: PROJECT PERIOD: Enter the dates of your project as a reference point - this will not pro-rate your results (ex. March is Non-Idling month, therefore 03/19-03-19)
C8: PROJECTS: If you cannot find a specific project that you think would belong in this category, please check the full list of projects on the Introduction page.
A9: Jump to summary section | C9: SUMMARY: At the bottom of the page you'll find a summary of all your project impacts.
C10: PROJECT RESET: To reset a project back to zero, select all blue cells within the project, right click and click on the 'Clear contents' selection.
C12: PROJECT #1 | F12: YOUR CLASSROOM IMPACT
A13: Tips: | C13: Create an aeroponic gardening project with tomatoes (or other vegetables) | F13: Water savings (gallons/growing cycle) | G13: =IFERROR(D18*'Conversion factors'!B241*'Conversion factors'!B238,0) -> 0
A14: Aeroponic gardening definition | F14: Extra yield (pounds) | G14: =IFERROR(D18*'Conversion factors'!B235*'Conversion factors'!B236,"") -> 0
A15: We use the example of tomato plants in this project, but the example applies to many other vegetables and fruits as well. | C15: Create an aeroponic gardening project | D15: Value | F15: Cost savings on water ($/growing cycle) | G15: =IFERROR(IF(G13*D19=0,G13*'Conversion factors'!B228,'School Grounds & Gardens'!G13*'School Grounds & Gardens'!D19),"") -> 0
C17: SETUP | F17: YOUR SCHOOL IMPACT
C18: Number of tomato plants planted | F18: Water savings (gallons/growing cycle) | G18: =IFERROR(G13*D20,0) -> 0
A19: *If you don't know the cost of water at your school, leave Cell D19 blank. The tool will use the average cost of water in Seattle. | C19: Cost of water at your school ($/gallons)* | F19: Extra yield (pounds) | G19: =IFERROR(G14*D20,"") -> 0
C20: Number of classrooms in your school | F20: Cost savings on water ($/growing cycle) | G20: =IFERROR(G15*D20,"") -> 0
C21: Project period (MM/YY - MM/YY) - will not pro-rate results
C24: SCHOOL PROJECTS
C26: PROJECT #2
C27: Mulch the base of trees and plants regularly to increase absorbency and reduce runoff
C29: Mulch the base of trees and plants | D29: Value
A30: Jump to the top of the page
A31: Tips: | C31: SETUP | F31: YOUR SCHOOL IMPACT
A32: Mulch definition | C32: Number of trees in your school garden | F32: Water savings (gallons/week) | G32: =IFERROR(D36*'Conversion factors'!B222,0) -> 0
A33: *If you don't know the cost of water at your school, leave Cell D33 blank. The tool will use the average cost of water in Seattle. | C33: Cost of water at your school ($/gallons)* | F33: Water savings (gallons/year) | G33: =IFERROR(G32*'Conversion factors'!B224,"") -> 0
C34: Project period (MM/YY - MM/YY) - will not pro-rate results | F34: Cost savings / week | G34: =IFERROR(G32*'Conversion factors'!B228,0) -> 0
C35: Volume of water needed for your trees (gallons/week) | D35: =D32*'Conversion factors'!B216 -> 0 | F35: Cost savings ($/year) | G35: =IFERROR(G33*'Conversion factors'!B228,"") -> 0
C36: Volume of water lost to evaporation per tree in the Pacific Northwest (gallons per week) | D36: =D32*'Conversion factors'!B219 -> 0
C40: PROJECT #3
C41: Plant native plants in your garden
A43: Jump to the top of the page | C43: Plant a native plants garden | D43: Value
A44: Tips:
A45: According to the EPA, on average, schools use 28% of their water consumption for landscaping purposes. | C45: SETUP | F45: YOUR SCHOOL IMPACT
C46: Total volume of water consumed at your school (gallons/year) | F46: Water Savings in your garden (gallons/year) | G46: =IFERROR(D46*'Conversion factors'!B231-D46*'Conversion factors'!B231*'Conversion factors'!B232,0) -> 0
A47: *If you don't know the cost of water at your school, leave Cell D47 blank. The tool will use the average cost of water in Seattle. | C47: Cost of water at your school ($/gallons)* | F47: Cost savings ($/year) | G47: =IFERROR(IF(G46*D47=0,G46*'Conversion factors'!B228,'School Grounds & Gardens'!G46*'School Grounds & Gardens'!D47),0) -> 0
C48: Project period (MM/YY - MM/YY) - will not pro-rate results | G48: =IFERROR(#REF!*'Conversion factors'!B236,"")
C52: PROJECT #4
C53: Plant raised garden beds
A55: Jump to the top of the page | C55: Plant raised garden beds | D55: Value
...

Sheet Results Summary
B2: ="CONGRATULATIONS! You have completed "&C48&" project(s)!" -> CONGRATULATIONS! You have completed 0 project(s)!
D3: Copyright 2020 Washington Green Schools. All rights reserved.
B6: ="You saved "&TEXT(ROUND(C49,0),"#,###,###")&" lbs of CO2" -> You saved lbs of CO2 | C6: ="Your carbon savings are equal to the removal of carbon from the atmosphere by "&TEXT(ROUND(C50,0),"#,###,###")&" tree seedlings over the span of 10 years" -> Your carbon savings are equal to the removal of carbon from the atmosphere by tree seedlings over the span of 10 years | D6: ="You avoided "&TEXT(ROUND(C54,0),"#,###,###")& " oz of VOC" -> You avoided oz of VOC
B19: ="You saved "&TEXT(ROUND(C51,0),"#,###,###")& " gallons of water" -> You saved gallons of water | C19: ="Your water savings is equal "&TEXT(ROUND(C52,0),"#,###,###")&" bathtubs of water" -> Your water savings is equal bathtubs of water | D19: ="Your rain garden filtered out "&TEXT(ROUND(C53,0),"#,###,###")&" gallons of water" -> Your rain garden filtered out gallons of water
C32: ="You saved "&TEXT(ROUND(C55,0),"#,###,###")& " dollars" -> You saved dollars
B47: TOTAL SCHOOL IMPACTS
B48: Number of projects completed | C48: =IFERROR(Energy!I140+Water!I113+'Healthy School Buildings'!I89+'Waste and Recycling'!I170+Transportation!I91+'School Grounds & Gardens'!I104,0) -> 0
B49: Total carbon savings (lbs/year) | C49: =IFERROR(Energy!G155+'Healthy School Buildings'!G103+'Waste and Recycling'!$G$185+Transportation!G106,0) -> 0
B50: Tree seedlings grown for 10 years | C50: =IFERROR(ROUND(C49*'Conversion factors'!B48,2),"") -> 0
B51: Total water savings (gallons/year) | C51: =IFERROR(Water!$G$137+'School Grounds & Gardens'!G119,0) -> 0
B52: Total bathtubs of water saved | C52: =IFERROR(Water!G139+'School Grounds & Gardens'!G121,"") -> 0
B53: Volume of water filtered out by your rain garden (gallons/year) | C53: =Water!D137 -> 0
B54: School avoided VOC (oz/year) | C54: ='Healthy School Buildings'!G102 -> 0
B55: Total cost savings ($/year) | C55: =IFERROR(Energy!G156+Water!$G$138+'Healthy School Buildings'!$G$104+'Waste and Recycling'!$G$186+Transportation!G107+'School Grounds & Gardens'!G120,"") -> 0

Sheet Conversion factors
A1: CONVERSIONS
A2: Power
A3: 1 MWh = | B3: 1000 | C3: KWh
A4: 1 Watt | B4: 0.001 | C4: KiloWatt
A5: Energy
A6: 1 cubic feet of natural gas = | B6: 0.01 | C6: therms (U.S.)
A7: Weight
A8: 1 pound = | B8: 0.00045359237 | C8: metric tons
A9: 1 metric ton = | B9: 2204.62 | C9: pounds
A10: 1 kilogram = | B10: 2.20462 | C10: pounds
A11: 1 pound = | B11: 16 | C11: ounces
A12: 1 gram = | B12: 0.03527396 | C12: ounces
A13: 1 gram = | B13: 0.002204623 | C13: pounds
A14: U.S. short tons | B14: 2000 | C14: pounds
A17: Volume
A18: 1 gallon | B18: 0.0058 | C18: cubic yard
A19: centum cubic feet (CCF) | B19: 748.05195 | C19: US gallons
A20: SCF = CUBIC FEET
A22: ENERGY references
A24: Units of measurement of the emission factors | B24: CO2 Factor (kg/scf) | C24: CH4 Factor (kg/scf) | D24: N2O Factor (kg/scf) | E24: CO2 Factor (lbs./scf) | F24: CH4 Factor (lbs./scf) | G24: N2O Factor (lbs./scf) | H24: CO2e (lbs./scf)
A25: Global Warming Potential | E25: 1 | F25: 28 | G25: 265
A26: Natural Gas | B26: 0.05444 | C26: 1.03e-06 | D26: 1e-07 | E26: =B26*$B$10 -> 0.12001951 | F26: =C26*$B$10*F25 -> 6.3581241e-05 | G26: =G25*D26*$B$10 -> 5.842243e-05 | H26: =SUM(E26:G26) -> 0.12014152
A28: Electricity emission factors | D28: CO2 Factor (lbs./MWh) | E28: CH4 Factor (lbs./MWh) | F28: N2O Factor (lbs./MWh) | G28: CO2 Factor (lbs./KWh) | H28: CH4 Factor (lbs./KWh) | I28: N2O Factor (lbs./KWh) | J28: CO2e Factor (lbs./KWh)
A29: Global Warming Potential | G29: 1 | H29: 28 | I29: 265
A30: NWPP | B30: WECC Northwest | D30: 651.199 | E30: 0.061 | F30: 0.009 | G30: =(D30/$B$3) -> 0.651199 | H30: =(E30/$B$3)*H29 -> 0.001708 | I30: =(F30/$B$3)*I29 -> 0.002385 | J30: =SUM(G30:I30) -> 0.655292
A32: Source: eGRID 2016, SRL16, Subregion Output Emission Rates, Feb, 2018
A35: Average cost of electricity/kWh | B35: 0.0798 | C35: https://www.eia.gov/electricity/data/browser/#/topic/7?agg=0,1&geo=g00000000001&endsec=vg&linechart=ELEC.PRICE.US-ALL.A&columnchart=ELEC.PRICE.US-ALL.A&map=ELEC.PRICE.US-ALL.A&freq=A&ctype=linechart&ltype=pin&rtype=s&pin=&rse=0&maptype=0
A36: Average cost of electricity/Wh | B36: =B35*B4 -> 7.98e-05
A38: Natural gas average price/therm in WA | B38: 0.983 | C38: https://www.bls.gov/regions/mid-atlantic/news-release/averageenergyprices_washingtondc.htm
A39: Natural gas average price/cubic feet in WA | B39: =B38*B6 -> 0.00983
A41: Average number of school days/year in Washington | B41: 180 | C41: https://nces.ed.gov/programs/statereform/tab5_14.asp
A42: Average number of school weeks/year in Washington | B42: =B41/5 -> 36
A43: Minimum amount of instructional times per school year | B43: 1000 | C43: https://nces.ed.gov/programs/statereform/tab5_14.asp
A44: Minimum hours of instruction per school day | B44: =B43/B41 -> 5.5555556
A45: Number of months in a school year | B45: 10
A47: Equivalences
A48: 1 pound of Co2e | B48: 0.0008 | C48: tree seedlings grown for 10 years
A51: Type of lighting | B51: Average Watts per classroom | C51: Average single lamp Watts
A52: Select from the list
A53: Incandescent lighting | B53: =60*G55 -> 202.5
...

Sheet Glossary
A1: GLOSSARY
A2: Term | B2: Definition
A3: General terms
A4: Greenhouse gas | B4: Gases that trap heat in the atmosphere are called greenhouse gases. Some examples include: Carbon dioxide (CO2), Methane (CH4), Nitrous oxide (N2O), Fluorinated gases.
A5: Carbon | B5: Abbreviation used in this tool to represent Carbon Dioxide equivalency emissions, which includes the carbon impacts of CO2, CH4 and N2O emissions in one unit.
A6: Tree seedlings | B6: A medium growth coniferous or deciduous tree, planted in an urban setting and allowed to grow for 10 years. For a detailed definition please see: https://www.epa.gov/energy/greenhouse-gases-equivalencies-calculator-calculations-and-references#seedlings
A7: EPA | B7: United States Environmental Protection Agency
A8: Energy terms
A9: Incandescent Lighting | B9: In an incandescent, electric current runs through a wire within a bulb and heats the wire until it starts to glow.
A10: Halogen Lighting | B10: The halogen light bulb or lamp is a type of incandescent lamp which uses a halogen gas to create light.
A11: CFL Lighting | B11: This lighting uses a tube which is curved or folded to generate light via an electric current, argon and a small amount of mercury vapor which excites a fluorescent coating (called phosphor) on the inside of the tube, which then emits visible light.
A12: LED Lighting | B12: LED stands for light emitting diode. An electrical current passes through a microchip, which illuminates the tiny light sources we call LEDs and the result is visible light.
A13: Water terms
A14: Aerator | B14: Aerators are small parts placed on the end of faucets, with small mesh screens that break up the flow of water into multiple small streams, adding air in between. By diluting the water stream with air, aerators significantly reduce the volume of water flowing from your faucet. They do this while maintaining the feeling of a high-pressure flow. Aerators also reduce splashing in sinks.
A15: Fill cycle diverter | B15: The Fill Cycle Diverter helps save water and money by diverting part of the water that would normally fill the toilet bowl to the tank.
A16: Toilet tank bank | B16: Toilet tank banks displace a certain amount of water equivalent in your toilet tank, which means every flush will use less water.
A17: WaterSense | B17: WaterSense, a voluntary partnership program sponsored by the U.S. Environmental Protection Agency (EPA), is both a label for water-efficient products and a resource for helping you save water.
A18: Stencils on drains | B18: Example of a stencil on drains:
A19: Macroinvertebrate | B19: Macroinvertebrate, any animal lacking a backbone and large enough to see without the aid of a microscope (ex. snails, clams, crayfish, dragonflies, flatworms)
A20: Healthy School Building terms
A21: VOCs | B21: Volatile Organic Compounds: Vapors or gases released from consumer products including: paints and thinners, adhesives, glues, air fresheners, copy machines, pesticides.
A22: Waste and recycling terms
A23: Terracycle | B23: A company that focuses on turning hard-to-recycle materials, such as ocean plastic, into new products.
A24: Transportation terms
A25: Carpooling | B25: Carpooling in this context is defined as at least two students travel together in a car.
A26: MPG | B26: Miles per gallon - indicates how many miles a vehicle can travel using one gallon of fuel.
A27: School grounds terms
A28: Aeroponic gardening | B28: Aeroponic gardening is the process of growing plants in an air or mist environment rather than soil.
A29: Mulch | B29: A material (such as decaying leaves, bark, or compost) spread around or over a plant to enrich or insulate the soil.
