Workbook
Name _edn2: 'Waste and Recycling'!#REF!
Name _edn3: 'Waste and Recycling'!$N$41
Name _edn4: 'Waste and Recycling'!$N$42
Name _edn5: 'Waste and Recycling'!$N$43
Name _edn6: 'Waste and Recycling'!$N$44
Name _edn7: 'Waste and Recycling'!$N$45
Name _ednref1: 'School Grounds & Gardens'!$O$44
Name _ednref10: 'School Grounds & Gardens'!$O$69
Name _ednref11: 'School Grounds & Gardens'!$O$70
Name _ednref12: 'School Grounds & Gardens'!$G$146
Name _ednref13: 'School Grounds & Gardens'!$G$147
Name _ednref14: 'School Grounds & Gardens'!#REF!
Name _ednref17: 'School Grounds & Gardens'!#REF!
Name _ednref2: 'Waste and Recycling'!$N$13
Name _ednref3: 'Waste and Recycling'!$N$19
Name _ednref4: 'Waste and Recycling'!$N$20
Name _ednref5: 'Waste and Recycling'!#REF!
Name _ednref6: 'Waste and Recycling'!$N$27
Name _ednref7: 'Waste and Recycling'!$N$29
Name _ednref8: 'School Grounds & Gardens'!$O$67
Name _ednref9: 'School Grounds & Gardens'!$O$68
Name _Hlk13060454: 'Healthy School Buildings'!$I$3
Name _Hlk13060473: Water!$I$15
Name _Hlk13669401: 'Waste and Recycling'!$N$9
Name _Hlk13669419: 'Waste and Recycling'!$N$13
Name _Hlk13669427: 'Waste and Recycling'!$N$12
Name _Hlk13669450: 'Waste and Recycling'!$N$21
Name CFL_Lighting: 'Conversion factors'!$D$108:$D$111
Name Halogen_Lighting: 'Conversion factors'!$C$108:$C$111
Name Incandescent_Lighting: 'Conversion factors'!$B$108:$B$111
Name Not_sure: 'Conversion factors'!$E$108:$E$111
Name ProOne: Transportation!$D$19:$D$20
Name Select_from_the_list: 'Conversion factors'!$A$108:$A$111

Sheet Introduction
A1: WASHINGTON GREEN SCHOOLS - ENVIRONMENTAL IMPACT CALCULATOR
C2: Copyright 2020 Washington Green Schools. All rights reserved.
A4: About This Tool
A5: Background
A6: This calculator has been created for Washington Green Schools to help you measure the potential environmental benefits of classroom and school level sustainability projects carried out by student groups. Environmental impacts calculated within this tool cover the major greenhouse gases required for reporting including: carbon dioxide (CO2), methane (CH4) and nitrous oxide (N2O). For the purposes of this tool, we use "CO2" which represents an equivalency factor that includes the impact of all 3 gases.
A7: The projects have been organized according to the six Washington Green Schools certification categories, however many of them could fit into more than one category. Please review the full project list down below before you get started and identify your favorite one(s).
A8: The projects are categorized as either classroom or school projects. Note: Classroom projects refer to projects that can be carried out by small groups of students, but might have impacts for the whole school (ex. running an anti-idling campaign).
A9: Send Your Results to Us!
A10: Washington Green Schools would love to hear about your environmental impact. Please complete the “General Information” section below, save the spreadsheet, and then email the tool to info@wagreenschools.org when you are finished.
A11: Categories
A12: ENERGY: Electricity production (generation, transmission and distribution) accounts for 28% of the total US carbon emissions.
A13: WATER: About 71% of the Earth is covered by water but only 3% of it is fresh water. Despite their importance to life as a drinking water source, sustaining crops through irrigation, providing food in the form of fish, powering homes through dams and moving goods by barges – freshwater habitats are disappearing at an alarming rate.
A14: HEALTHY SCHOOL BUILDINGS: School Buildings have a significant impact on students - access to thermal control, access to natural light and quality air all contribute to improving student well-being and educational outcomes.
A15: WASTE AND RECYCLING: The Environmental Protection Agency estimates that 75% of the American waste stream is recyclable, but we only recycle about 30% of it.
... A25: If you are uncertain about some terminology, please visit the Glossary Tab to find specific definitions and clarifications.
A26: If you need technical guidance or more information on a project, please email us at: | C26: info@wagreenschools.org
A28: For addditional resources and help visit this page: | B28: www.wagreenschools.org/carbon-calculator-resources/
A30: GENERAL INFORMATION
A31: Name of your school
A32: Address of your school
A33: Number of schools in your district
A34: Name of the point of contact at your school
A35: Email address of the point of contact
A36: Title of the point of contact
A39: PROJECT LIST
A41: Energy
A42: Classroom projects | C42: School projects
A43: Turn off lights when the classroom is empty - during lunch, planning periods, etc. | C43: Adjust your thermostat by turning down the heat
A44: Change all light bulbs to LEDs | C44: Install motion sensing light switches in hallways, bathrooms, etc.
A45: Turn off computers and printers at the end of the day, rather than putting them in sleep mode
A47: Water
A48: Classroom projects | C48: School projects
A49: Create a rain garden to absorb extra water, create less runoff | C49: Install aerators on sinks to increase pressure and reduce flow
C50: Fix any leaks inside the building and/or on school grounds
C51: Place water savers in toilet tanks to use less water in your toilet
C52: Install rain barrels to use “free water” for your lawn and plants
A54: Healthy School Buildings
A55: Classroom projects | C55: School projects
A56: Learn how to make DIY natural cleaning products (ex. vinegar + water mix) | C56: Implement an anti-idling campaign
C57: Implement a School Share Table
C58: Try “Meatless” Monday
A60: Waste & Recycling
A61: Classroom projects | C61: School projects
A62: Use a reusable water bottle or mug | C62: Purchase remanufactured Ink and Toner cartridges
A63: Use recycled paper | C63: Implement School-Wide composting
A64: Start a worm bin for your classroom | C64: Utilize a milk dispenser instead of individual cartons
A65: Plan a zero waste classroom lunch period | C65: Use durable trays versus disposable
C66: Install refillable water stations
A68: Transportation
A69: Classroom projects | C69: School projects
A70: Walk to school campaign | C70: Change policy so that all purchased district vehicles are hybrid/high MPG/run on biodiesel
A71: Bike to school campaign
A72: Develop carpooling arrangements between families
A74: School Grounds & Gardens
A75: Classroom projects | C75: School projects
A76: Create an aeroponic gardening project | C76: Mulch the base of trees and plants
C77: Plant a native plants garden
C78: Plant raised garden beds
C79: Plant a community vegetable or herb garden
A83: This calculator has been developed by Sustainable Business Consulting on behalf of Washington Green Schools.

Sheet Energy
C1: ENERGY
G2: Copyright 2020 Washington Green Schools. All rights reserved.
C3: CLASSROOM PROJECTS
C5: INSTRUCTIONS:
C6: DATA ENTRY: Please fill in only the blue cells within each project. Some blue cells are optional, use the tips in Column A to guide you.
C7: PROJECT PERIOD: Enter the dates of your project as a reference point - this will not pro-rate your results (ex. March is Non-Idling month, therefore 03/19-03-19)
C8: PROJECTS: If you cannot find a specific project that you think would belong in this category, please check the full list of projects on the Introduction page.
A9: Jump to the summary section | C9: SUMMARY: At the bottom of the page you'll find a summary of all your project impacts.
C10: PROJECT RESET: To reset a project back to zero, select all blue cells within the project, right click and click on the 'Clear contents' selection. Project 1 & 2: Reset the dropdown menu cells to 'Select from the list' and then clear the content of the other blue cells.
C12: PROJECT #1
C13: Turn off lights when the classroom is empty - during lunch, planning periods, etc.
C15: Turn Off Lighting | D15: Value | F15: YOUR CLASSROOM IMPACT
A16: Tips: | F16: Carbon savings (lbs/hour) | G16: =IFERROR(D24*D20*D25,0) -> 0
A17: Lighting type definitions | C17: SETUP | F17: Carbon savings (lbs/year) | G17: =IFERROR(G16*'Conversion factors'!B41,"") -> 0
A18: *If you are not sure of the type of lights used in your classroom, choose 'Not sure' from the dropdown menu. | C18: Select the type of lights in your classroom* | D18: Select from the list | F18: Cost savings/day | G18: =IFERROR(IF(D24*D20*D22*'Conversion factors'!B4=0,D24*D20*'Conversion factors'!B36,D24*D20*D22*'Conversion factors'!B4),0) -> 0
C19: Number of lights in your classroom | F19: Cost savings ($/year) | G19: =IFERROR(IF(D20*D24*D22*'Conversion factors'!B4*'Conversion factors'!B41=0,D24*D20*'Conversion factors'!B41*'Conversion factors'!B36,D20*D24*D22*'Conversion factors'!B4*'Conversion factors'!B41),0) -> 0
C20: Number of additional hours/day that lights are turned off | F20: Tree seedlings grown for 10 years | G20: =IFERROR(G17*'Conversion factors'!B48,"") -> 0
C21: Number of classrooms in your school
A22: **If you don't know the cost of electricity that your school pays per kWh, leave Cell D22 blank. The tool will use the average cost of electricity in Washington state in this case. | C22: Cost of electricity at your school ($/kWh)** | F22: YOUR SCHOOL IMPACT
C23: Project period (MM/YY - MM/YY) - will not pro-rate results | F23: Carbon savings if all classrooms did the same (lbs/year) | G23: =IFERROR(G17*D21,0) -> 0
C24: Classroom lighting watts/hour | D24: =IFERROR(VLOOKUP(D18,'Conversion factors'!A53:B57,2,FALSE)*D19, "") | F24: Cost savings if all classrooms did the same ($/year) | G24: =IFERROR(D21*G19,0) -> 0
C25: lbs CO2 / Wh saved | D25: ='Conversion factors'!J30*'Conversion factors'!B4 -> 0.000655292 | F25: Tree seedlings grown for 10 years | G25: =IFERROR(G23*'Conversion factors'!B48,0) -> 0
A29: Jump to the top of the page | C29: PROJECT #2 | F29: YOUR CLASSROOM IMPACT
A30: Tips: | C30: Change all light bulbs to LEDs in your classroom | F30: Watt savings per hour | G30: =IFERROR((D36-D41)*D37,0) -> 0
A31: Lighting type definitions | F31: Carbon savings (lbs/hour) | G31: =IFERROR(G30*D42*D37,0) -> 0
A32: *If you are not sure of the type of lights used in your classroom, choose 'Not sure' from the dropdown menu. | C32: Change the light bulbs to LEDs | D32: Value | F32: Carbon savings (lbs/year) | G32: =IFERROR(G31*'Conversion factors'!B43,0) -> 0
F33: Cost savings per day | G33: =IFERROR(IF(Energy!G30*Energy!D39*'Conversion factors'!B4*'Conversion factors'!B44=0,Energy!G30*'Conversion factors'!B44*'Conversion factors'!B36,Energy!G30*Energy!D39*'Conversion factors'!B4*'Conversion factors'!B44),0) -> 0
C34: SETUP | F34: Cost savings ($/year) | G34: =IFERROR(G33*'Conversion factors'!B41,0) -> 0
C35: Choose the initial type of light bulbs in your classroom* | F35: Tree seedlings grown for 10 years | G35: =IFERROR(G32*'Conversion factors'!B48,0) -> 0
A36: **Each light bulb type has its own energy consumption levels. For example, Incandescent bulbs typically use 40 W / 60 W /75 W /100 W. When you fill in this project, please make sure to pick the light bulb type first (Cell D35) and then the Watts (Cell D36). | C36: How many Watts does your light bulbs consume?**
C37: Number of light bulbs changed in your classroom | F37: YOUR SCHOOL IMPACT
C38: Number of classrooms in your school | F38: Carbon savings if all classrooms did the same (lbs/year) | G38: =IFERROR(G32*D38,0) -> 0
C39: Cost of electricity at your school ($/kWh)***
C40: Project period (MM/YY - MM/YY) - will not pro-rate results | F40: Cost savings if all classrooms did the same ($/year) | G40: =IFERROR(D38*G34,0) -> 0
C41: Watts consumed with LED light bulbs | D41: =IFERROR(VLOOKUP(D35&D36,'Conversion factors'!C88:D103,2,FALSE),"") | F41: Tree seedlings grown for 10 years | G41: =IFERROR(G38*'Conversion factors'!B48,0) -> 0
C42: Carbon savings (lbs CO2 / Wh saved) | D42: ='Conversion factors'!J30*'Conversion factors'!B4 -> 0.000655292
A44: ***If you don't know the cost of electricity that your school pays per kWh, leave Cell D39 blank. The tool will use the average cost of electricity in Washington state in this case.
C47: PROJECT #3 | F47: YOUR CLASSROOM IMPACT
C48: Turn off computers and printers at the end of the day, rather than putting them in sleep mode | F48: SLEEP MODE
F49: Energy savings per day (in kWh) | G49: =D54*D58*24*'Conversion factors'!B4-(Energy!D54*Energy!D59*16*'Conversion factors'!B4+Energy!D54*Energy!D58*6*'Conversion factors'!B4) -> 0
F50: Carbon savings if in sleep mode (lbs/day)** | G50: =IFERROR(D54*D58*24*'Conversion factors'!B4*'Conversion factors'!J30-(Energy!D54*Energy!D59*16*'Conversion factors'!B4*'Conversion factors'!J30+Energy!D54*Energy!D58*6*'Conversion factors'!B4*'Conversion factors'!J30),"") -> 0
C51: Turn off computers and printers at the end of the day | D51: Value | F51: Carbon savings if in sleep mode (lbs/year) | G51: =IFERROR(G50*'Conversion factors'!B41,"") -> 0
F52: Cost savings per day | G52: =IFERROR(IF(G49*D56=0,G49*'Conversion factors'!B35,Energy!G49*Energy!D56),"") -> 0
C53: SETUP | F53: Cost Savings ($/year) | G53: =IFERROR(G52*'Conversion factors'!B41,"") -> 0
A54: Jump to the top of the page | C54: Number of computers in your classroom | F54: Tree seedlings grown for 10 years | G54: =IFERROR(G51*'Conversion factors'!B48,"") -> 0
A55: Tips: | C55: Number of computers in your school | F55: TURNED OFF
A56: *If you don't know the cost of electricity that your school pays per kWh, leave Cell D56 blank. The tool will use the average cost of electricity in Washington state in this case. | C56: Cost of electricity at your school ($/kWh)* | F56: Energy savings per day (in kWh) | G56: =IFERROR(D54*D58*24*'Conversion factors'!B4-(Energy!D54*Energy!D60*16*'Conversion factors'!B4*+Energy!D54*Energy!D58*6*'Conversion factors'!B4),"") -> 0
C57: Project period (MM/YY - MM/YY) - will not pro-rate results | F57: Carbon savings if turned off (lbs/day)** | G57: =IFERROR(D54*D58*24*'Conversion factors'!B4*'Conversion factors'!J30-(Energy!D54*Energy!D60*16*'Conversion factors'!B4*'Conversion factors'!J30+Energy!D54*Energy!D58*6*'Conversion factors'!B4*'Conversion factors'!J30),"") -> 0
C58: Electricity consumption when in use (in Watts) | D58: ='Conversion factors'!B63 -> 171 | F58: Carbon savings if turned off (lbs/year) | G58: =IFERROR(G57*'Conversion factors'!B41,"") -> 0
C59: Electricity consumption when in sleep mode (in Watts) | D59: ='Conversion factors'!B64 -> 57 | F59: Cost savings per day | G59: =IFERROR(IF(G56*D56=0,G56*'Conversion factors'!B35,Energy!G56*Energy!D56),"") -> 0
C60: Electricity consumption when turned off (in Watts) | D60: 0 | F60: Cost Savings ($/year) | G60: =IFERROR(G59*'Conversion factors'!B41,"") -> 0
A61: **Assuming 6 hours of use per day | F61: Tree seedlings grown for 10 years | G61: =IFERROR(G58*'Conversion factors'!B48,"") -> 0
F62: DIFFERENCE
F63: Carbon difference between sleep mode and turned off (lbs/day) | G63: =IFERROR(G57-G50,"") -> 0
F64: Carbon difference between sleep mode and turned off (lbs/year) | G64: =IFERROR(G58-G51,"") -> 0
F65: Cost difference between sleep mode and turned off ($/day) | G65: =IFERROR(G59-G52,"") -> 0
F66: Cost difference between sleep mode and turned off ($/year) | G66: =IFERROR(G60-G53,"") -> 0
F67: Additional tree seedlings | G67: =IFERROR(G61-G54,"") -> 0
F71: YOUR SCHOOL IMPACT
F72: SLEEP MODE
F73: Carbon savings if all classrooms did the same (lbs/year) | G73: =IFERROR(G51*D55/D54,"")
F74: Cost savings if all classrooms did the same ($/year) | G74: =IFERROR(D55*G53/D54,"")
F75: Tree seedlings grown for 10 years | G75: =IFERROR(G73*'Conversion factors'!B48,"")
F76: TURNED OFF
F77: Carbon savings if all classrooms did the same (lbs/year) | G77: =IFERROR(G58*D55/D54,"")
F78: Cost savings if all classrooms did the same ($/year) | G78: =IFERROR(D55*G60/D54,"")
F79: Tree seedlings grown for 10 years | G79: =IFERROR(G77*'Conversion factors'!B48,"")
F80: DIFFERENCE
F81: Carbon savings (lbs/year) | G81: =IFERROR(G77-G73,"")
F82: Cost savings ($/year) | G82: =IFERROR(G78-G74,"")
F83: Additional tree seedlings | G83: =IFERROR(G79-G75,"")
C86: SCHOOL PROJECTS
C88: PROJECT #4
C89: Adjust your thermostat by turning down the heat
C91: Adjust your thermostat by turning down the heat | D91: Value
C93: SETUP
A94: Jump to the top of the page | C94: School size (sqft)
A95: Tips: | C95: Degrees your thermostat was turned down (degrees Fahrenheit) | F95: YOUR SCHOOL IMPACT
A96: * If you don't know the cost of natural gas that your school pays per cubic feet, leave Cell D96 blank. The tool will use the average cost of natural gas in Washington state in this case. | C96: Cost of natural gas at your school ($/cubic feet)* | F96: Energy savings (cubic feet) | G96: =IFERROR(D99-(D99-D99*D95*0.02),"") -> 0
C97: Project period (MM/YY - MM/YY) - will not pro-rate results | F97: Carbon savings (lbs/year) | G97: =IFERROR(G96*'Conversion factors'!H26,"") -> 0
C98: Average natural gas consumption (cubic feet/sqft) | D98: ='Conversion factors'!B113 -> 29.8 | F98: Cost savings ($/year) | G98: =IFERROR(IF(G96*D96=0,G96*'Conversion factors'!B39,Energy!G96*Energy!D96),"") -> 0
C99: School natural gas consumption | D99: =D94*D98 -> 0 | F99: Tree seedlings grown for 10 years | G99: =IFERROR(G97*'Conversion factors'!B48,"") -> 0
C103: PROJECT #5
C104: Install motion sensing light switches in hallways, bathrooms, etc.
C106: Install motion sensing light switches | D106: Value | F106: YOUR SCHOOL IMPACT
F107: Energy savings (kWh) | G107: =D109-D112 -> 0
A108: Jump to the top of the page | C108: SETUP | F108: Carbon savings (lbs/day) | G108: =IFERROR((D109-D112)*'Conversion factors'!J30,"") -> 0
A109: Tips: | C109: School's average daily electricity consumption (kWh) | F109: Carbon savings (lbs/year) | G109: =IFERROR(G108*'Conversion factors'!B41,"") -> 0
A110: * If you don't know the cost of electricity that your school pays per kWh, leave Cell D110 blank. The tool will use the average cost of electricity in Washington state in this case. | C110: Cost of electricity at your school ($/kWh)* | F110: Cost savings per day | G110: =IFERROR(IF(G107*D110=0,G107*'Conversion factors'!B35,G107*D110),"") -> 0
C111: Project period (MM/YY - MM/YY) - will not pro-rate results | F111: Cost savings ($/year) | G111: =IFERROR(G110*'Conversion factors'!B41,"") -> 0
C112: Daily electricity consumption after the installation of sensors (kWh) | D112: =D109-(D109*0.1) -> 0 | F112: Tree seedlings grown for 10 years | G112: =IFERROR(G109*'Conversion factors'!B48,"") -> 0
C116: OPEN PROJECTS
C117: Don't see your project listed here? That's okay! Your project can still make an impact on your school community, even if it doesn't lend itself to carbon savings or measurable resource conservation results. Feel free to consider these other options: - Organize a school-wide Watt Watchers campaign - Replace the weather strippings on windows/doors Email us at info@wagreenschools.org if you'd like to learn more.
A124: Jump to the top of the page | C124: PROJECT #6
A125: Tips: | C125: Open project: Are you planning to implement a project that is not listed in Projects 1 through 5? Here is the opportunity to record your impact!
A126: In order to avoid double counting, please make sure that the open project does not include any projects that you already accounted for above.
D127: Value
C129: SETUP | F129: YOUR IMPACT
C130: Your school/classroom's monthly electricity consumption a year earlier during the same month (in kWh) | F130: Savings per month (kWhs) | G130: =IFERROR(D130-D132,"") -> 0
A131: The results of your open project is rolled up in the school projects part of the summary section. | F131: Carbon savings (lbs/month) | G131: =IFERROR(G130*'Conversion factors'!J30,"") -> 0
...

Sheet Water
C1: WATER
G2: Copyright 2020 Washington Green Schools. All rights reserved.
C3: CLASSROOM PROJECTS
C5: INSTRUCTIONS:
C6: DATA ENTRY: Please fill in only the blue cells within each project. Some blue cells are optional, use the tips in Column A to guide you.
C7: PROJECT PERIOD: Enter the dates of your project as a reference point - this will not pro-rate your results (ex. March is Non-Idling month, therefore 03/19-03-19)
C8: PROJECTS: If you cannot find a specific project that you think would belong in this category, please check the full list of projects on the Introduction page.
A9: Jump to the summary section | C9: SUMMARY: At the bottom of the page you'll find a summary of all your project impacts.
C10: PROJECT RESET: To reset a project back to zero, select all blue cells within the project, right click and click on the 'Clear contents' selection. Project 5: Reset the dropdown menu cells to 'Select from the list' and then clear the content of the other blue cells.
C12: PROJECT #1 | F12: YOUR IMPACT
C13: Create a rain garden to absorb extra water, create less runoff | F13: Water filtered by your rain garden(s) in a year (gallons/year) | G13: =D18*'Conversion factors'!B318+D19*'Conversion factors'!B320 -> 0
C15: Create a rain garden | D15: Value | F15: Copper captured and treated | G15: =IF(G$13<>0,'Conversion factors'!B323,0) -> 0
F16: Lead captured and treated | G16: =IF(G$13<>0,'Conversion factors'!B324,0) -> 0
C17: SETUP | F17: Zinc captured and treated | G17: =IF(G$13<>0,'Conversion factors'!B325,0) -> 0
C18: Area of your 3"deep rain garden (sqft) | F18: Nitrogen captured and treated | G18: =IF(G$13<>0,'Conversion factors'!B326,0) -> 0
C19: Area of your 6" deep rain garden (sqft) | F19: Phosphorus captured and treated | G19: =IF(G$13<>0,'Conversion factors'!B327,0) -> 0
C20: Project period (MM/YY - MM/YY) - will not pro-rate results
C22: SCHOOL PROJECTS
A25: Tips: | C25: PROJECT #2
A26: Aerator definition | C26: Install WaterSense aerators on sinks to increase pressure and reduce flow
A28: *To calculate how long faucets are used a day in your school, conduct a water audit! Remember to check the faucets in the bathrooms as well as the cafeteria. If you cannot do an audit, just leave this cell empty and the tool will use default values based on the number of students in your school. | C28: Install aerators | D28: Value
C30: SETUP | F30: YOUR IMPACT
C31: Number of faucets in your school building | F31: Water savings in day (gallons) | G31: =IFERROR(IF(Water!D31*Water!D33*'Conversion factors'!B331-((Water!D31-Water!D32)*'Conversion factors'!B331*Water!D33+Water!D32*Water!D33*'Conversion factors'!B330)=0,(Water!D31*D35*'Conversion factors'!B333*'Conversion factors'!B334*'Conversion factors'!B331-((Water!D31-Water!D32)*'Conversion factors'!B331*D35*'Conversion factors'!B333*'Conversion factors'!B334+Water!D32*D35*'Conversion factors'!B333*'Conversion factors'!B334*'Conversion factors'!B330)),(Water!D31*Water!D33*'Conversion factors'!B331-((Water!D31-Water!D32)*'Conversion factors'!B331*Water!D33+Water!D32*Water!D33*'Conversion factors'!B330))),0) -> 0
C32: Number of aerators installed | F32: Water savings in a year (gallons/year) | G32: =IFERROR(G31*'Conversion factors'!B41,0) -> 0
C33: Average time faucets are in use per day (minutes)* | F33: Cost savings in day ($) | G33: =IFERROR(IF(G31*D34=0,G31*'Conversion factors'!B228,Water!G31*Water!D34),0) -> 0
C34: Cost of water at your school ($/gallons)** | F34: Cost savings in a year ($/year) | G34: =IFERROR(IF(G32*D34=0,G32*'Conversion factors'!B228,Water!G32*Water!D34),0) -> 0
C35: Number of students at your school
C36: Project period (MM/YY - MM/YY) - will not pro-rate results
A37: **If you don't know the cost of water at your school, leave Cell D34 blank. The tool will use the average cost of water in Seattle.
C39: PROJECT #3
C40: Fix any leaks inside the building and/or on school grounds
C42: Fix any leaks | D42: Value
A43: Jump to the top of the page
A44: Tips: | C44: SETUP | F44: YOUR IMPACT
A45: *If you don't know the cost of water at your school, leave Cell D49 blank. The tool will use the average cost of water in Seattle. | C45: Number of leaky faucets fixed | F45: Water savings in day (gallons) | G45: =IFERROR(D45*'Conversion factors'!B344+Water!D46*'Conversion factors'!B345+Water!D47*'Conversion factors'!B343+Water!D48*'Conversion factors'!B346,0) -> 0
C46: Number of leaky showers fixed | F46: Water savings in year (gallons/year) | G46: =IFERROR(G45*365,0) -> 0
C47: Number of leaky toilets have fixed | F47: Cost savings in day ($) | G47: =IFERROR(IF(G45*D49=0,G45*'Conversion factors'!B228,Water!G45*Water!D49),0) -> 0
C48: Number of leaky irrigation systems fixed | F48: Cost savings in year ($/year) | G48: =IFERROR(IF(G46*D49=0,G46*'Conversion factors'!B228,Water!G46*Water!D49),0) -> 0
C49: Cost of water at your school ($/gallons)*
C50: Project period (MM/YY - MM/YY) - will not pro-rate results
A52: Jump to the top of the page | C52: PROJECT #4
A53: Tips: | C53: Place water savers in toilet tanks to use less water in your toilet
A54: Fill cycle diverter definition
A55: Toilet tank banks | C55: Place water savers in toilet tanks | D55: Value
A57: *To calculate how many times the toilets are flushed in your school per day, conduct a toilet audit! If that is not of your taste, the tool will assume 3 flushes per student per day. | C57: SETUP | F57: YOUR IMPACT
C58: Number of students at your school | F58: Water savings in day (gallons/day) | G58: =IFERROR(IF(D59*Water!D60*'Conversion factors'!B349+Water!D59*Water!D61*'Conversion factors'!B350=0,D58*'Conversion factors'!B352*Water!D60*'Conversion factors'!B349+Water!D58*'Conversion factors'!B352*Water!D61*'Conversion factors'!B350,D59*Water!D60*'Conversion factors'!B349+Water!D59*Water!D61*'Conversion factors'!B350),0) -> 0
C59: Average number of toilet flushes per day* | F59: Water savings in year (gallons/year) | G59: =IFERROR(G58*'Conversion factors'!B41,0) -> 0
C60: Number of fill cycle diverters installed | F60: Cost savings in day ($/day) | G60: =IFERROR(IF(G58*D62=0,G58*'Conversion factors'!B228,Water!G58*Water!D62),0) -> 0
C61: Number of toilet tank banks installed | F61: Cost savings in year ($/year) | G61: =IFERROR(IF(G59*D62=0,G59*'Conversion factors'!B228,Water!G59*Water!D62),0) -> 0
C62: Cost of water at your school ($/gallons)**
A63: **If you don't know the cost of water at your school, leave Cell D62 blank. The tool will use the average cost of water in Seattle. | C63: Project period (MM/YY - MM/YY) - will not pro-rate results
C66: PROJECT #5
C67: Install rain barrels to use “free water” for your lawn and plants
A69: Jump to the top of the page | C69: Install rain barrels | D69: Value
A70: Tips:
A71: *If you don't know the cost of water at your school, leave Cell D74 blank. The tool will use the average cost of water in Seattle. | C71: SETUP | F71: YOUR IMPACT
C72: Choose the location that is the closest to your school | D72: Select from the list | F72: Water savings in day (gallons) | G72: =IFERROR(IF(D76*'Conversion factors'!B399>D73*55,D73*55,D76*'Conversion factors'!B399),0) -> 0
C73: Number of rain barrels installed | F73: Water savings in year (gallons) | G73: =IFERROR(G72*VLOOKUP(D72,'Conversion factors'!A358:D394,2,FALSE),0) -> 0
C74: Cost of water at your school ($/gallons)* | F74: Cost savings in day ($) | G74: =IFERROR(IF(G72*D74=0,G72*'Conversion factors'!B228,Water!G72*Water!D74),0) -> 0
C75: Project period (MM/YY - MM/YY) - will not pro-rate results | F75: Cost savings in year ($) | G75: =IFERROR(IF(G73*D74=0,G73*'Conversion factors'!B228,Water!G73*Water!D74),0) -> 0
C76: Average precipitation per rainy day at your location | D76: =IFERROR(VLOOKUP(D72,'Conversion factors'!A358:D394,4,FALSE),0) -> 0
C79: OPEN PROJECTS
C80: Don't see your project listed here? That's okay! Your project can still make an impact on your school community, even if it doesn't lend itself to carbon savings or measurable resource conservation results. Feel free to consider these other options: - Organize a school-wide Water Watchers campaign (i.e. reduce water use in the bathroom) - Install water conservative appliances - Don’t water lawn during summer break - Improve water quality: - Use environmentally friendly car wash - Apply stencils on drains - Conduct a macroinvertebrate survey (macroinvertabrates are snails, clams, crayfish, dragonflies) Email us at info@wagreenschools.org if you'd like to learn more.
A85: Tips:
A86: Stencils on drains definition
A87: Macroinvertebrate definition
C95: PROJECT #6
C96: Open project: Are you planning to implement a project that is not listed in Projects 1 through 5? Here is the opportunity to record your impact!
D98: Value
A100: Jump to the top of the page | C100: SETUP | F100: YOUR IMPACT
A101: Tips: | C101: Your school/classroom's monthly water consumption a year earlier during the same month (in gallons) | F101: Water savings per month (in gallon) | G101: =IFERROR(D101-D104,"") -> 0
A102: The results of your open project is rolled up in the school projects part of the summary section. | F102: Water savings per year (in gallon) | G102: =G101*'Conversion factors'!B45 -> 0
C103: Your school/classroom's monthly water consumption during the month after the project was implemented (in gallons) | F103: Cost savings ($/month) | G103: =IFERROR(IF(G101*D106=0,G101*'Conversion factors'!B228,G101*D106),"") -> 0
F104: Cost Savings ($/year) | G104: =IFERROR(G103*'Conversion factors'!B45,"") -> 0
A106: *If you don't know the cost of water at your school, leave Cell D106 blank. The tool will use the average cost of water in Seattle. | C106: Cost of water at your school ($/gallons)*
C107: Project period (MM/YY - MM/YY) - will not pro-rate results
C110: SUMMARY
A113: Jump to the top of the page | C113: ="Congratulations, you have completed "& COUNT(D20,D50,D32,D59,D73,D104) & " project(s)!" -> Congratulations, you have completed 0 project(s)! | I113: =COUNT(D20,D50,D32,D59,D73,D104) -> 0
C117: =TEXT(ROUND(G137,0),"#,###,###")&" gallons of water"&" "&TEXT(ROUND(G138,0),"#,###,###")& " dollars" -> gallons of water dollars | F117: ="Your water saving is equal to "&TEXT(ROUND(G139,0),"#,###,###")&" bathtubs of water" -> Your water saving is equal to bathtubs of water
C127: ="Filtered out "&TEXT(ROUND(D137,0),"#,###,###")&" gallons of water" -> Filtered out gallons of water
C136: TOTAL IMPACT OF ALL YOUR CLASSROOM PROJECTS | F136: TOTAL SCHOOL IMPACTS
C137: Classroom projects water filtered (gallons/year) | D137: =IFERROR(G13,0) -> 0 | F137: School projects water saving (gallons/year) | G137: =IFERROR(ROUND(G32+G46+G59+G73+G102,2),0) -> 0
C138: Number of bath tubs | D138: =IFERROR(D137/'Conversion factors'!B403,0) -> 0 | F138: School projects cost savings ($/year) | G138: =IFERROR(ROUND(G34+G48+G61+G75+G104,2),0) -> 0
F139: Number of bath tubs | G139: =G137/'Conversion factors'!B403 -> 0
C147: ="Wondering what would be the impact if "&Introduction!B33&" schools implemented the same projects as your school did?" -> Wondering what would be the impact if schools implemented the same projects as your school did?
C152: =TEXT(ROUND(D161,0),"#,###,###,###")&" lbs of CO2"&" "&TEXT(ROUND(D162,0),"#,###,###,###")& " dollars" -> lbs of CO2 dollars | F152: ="Your water saving is equal to "&TEXT(ROUND(D163,0),"#,###,###,###")&" bathtubs of water" -> Your water saving is equal to bathtubs of water
C160: TOTAL IMPACTS FOR ALL SCHOOLS
C161: School projects water savings (gallons/year) | D161: =IFERROR(G137*Introduction!B33,0) -> 0
C162: School projects cost savings ($/year) | D162: =IFERROR(G138*Introduction!B33,0) -> 0
C163: Number of bath tubs | D163: =IFERROR(G139*Introduction!B33,0) -> 0

Sheet Healthy School Buildings
C1: HEALTHY SCHOOL BUILDINGS
G2: Copyright 2020 Washington Green Schools. All rights reserved.
C3: CLASSROOM PROJECTS
C5: INSTRUCTIONS:
C6: DATA ENTRY: Please fill in only the blue cells within each project. Some blue cells are optional, use the tips in Column A to guide you.
C7: PROJECT PERIOD: Enter the dates of your project as a reference point - this will not pro-rate your results (ex. March is Non-Idling month, therefore 03/19-03-19)
C8: PROJECTS: If you cannot find a specific project that you think would belong in this category, please check the full list of projects on the Introduction page.
A9: Jump to the summary section | C9: SUMMARY: At the bottom of the page you'll find a summary of all your project impacts.
C10: PROJECT RESET: To reset a project back to zero, select all blue cells within the project, right click and click on the 'Clear contents' selection.
C12: PROJECT #1
C13: Learn how to make DIY natural cleaning products (ex. vinegar + water mix) and use them for cleaning
F14: YOUR CLASSROOM IMPACT
C15: DIY natural cleaning | D15: Value | F15: Avoided VOCs (oz) | G15: =IFERROR(D18*'Conversion factors'!B253,0) -> 0
F16: Cost savings ($) | G16: =IFERROR(D18*('Conversion factors'!B255-'Conversion factors'!B257),0) -> 0
A17: Tips: | C17: SETUP
A18: VOCs definition | C18: Total amount of natural cleaner mixed for your classroom (oz) | F18: YOUR SCHOOL IMPACT
C19: Total amount of natural cleaner mixed for the school (oz) | F19: Avoided VOCs (oz) | G19: =IFERROR(D19*'Conversion factors'!B253,0) -> 0
C20: Project period (MM/YY - MM/YY) - will not pro-rate results | F20: Cost savings ($) | G20: =IFERROR(D19*('Conversion factors'!B255-'Conversion factors'!B257),0) -> 0
C24: SCHOOL PROJECTS
C26: PROJECT #2
C27: Implement an anti-idling campaign
C29: Anti-Idling Campaign | D29: Value
F30: YOUR SCHOOL IMPACT
A31: Jump to the top of the page | C31: SETUP | F31: Carbon savings (lbs/day) | G31: =IFERROR(IF(D32*'Conversion factors'!B277/60*D33=0,D32*'Conversion factors'!B277/60*'Conversion factors'!B280,D32*'Conversion factors'!B277/60*D33),0) -> 0
A32: Tips: | C32: Number of cars turned off | F32: Carbon savings (lbs/year) | G32: =(G31*'Conversion factors'!B41) -> 0
A33: *If you are not sure how long the cars wait on average in front of your school, leave cell D33 empty. The tool will use an average of 15 minutes/car in this case. | C33: Average waiting time of cars in front of the school (minutes)* | F33: Cost savings ($/day) | G33: =IFERROR(IF(D32*'Conversion factors'!B267/60*D33*'Conversion factors'!B278=0,D32*'Conversion factors'!B267/60*'Conversion factors'!B280*'Conversion factors'!B278,D32*'Conversion factors'!B267/60*D33*'Conversion factors'!B278),0) -> 0
C34: Project period (MM/YY - MM/YY) - will not pro-rate results | F34: Cost savings ($/year) | G34: =G33*'Conversion factors'!B41 -> 0
C39: PROJECT #3
C40: Implement a School Share Table, donate unwanted food items and compost leftovers
F41: YOUR SCHOOL IMPACT
C42: School Share Table, donate and compost | D42: Value | F42: Food waste savings (lbs/day) | G42: ='Conversion factors'!B286/'Conversion factors'!B41/'Conversion factors'!B288*'Healthy School Buildings'!D45 -> 0
F43: Food waste savings (lbs/year) | G43: ='Conversion factors'!B286/'Conversion factors'!B288*'Healthy School Buildings'!D45 -> 0
A44: Jump to the top of the page | C44: SETUP | F44: Carbon savings (lbs/day) | G44: =IFERROR(G42*('Conversion factors'!B$163-'Conversion factors'!B$165),0) -> 0
A45: Tips: | C45: Number of students at your school | F45: Carbon savings (lbs/year) | G45: =IFERROR(G43*('Conversion factors'!B$163-'Conversion factors'!B$165),0) -> 0
A46: *If you don't know the cost of waste hauling at your school, leave Cell D46 blank. In this case, the tool will use a generic cost of waste hauling In Washington. | C46: Cost of waste hauling ($/gallon)* | F46: Cost savings ($/year) | G46: =IFERROR(IF(G43/'Conversion factors'!B172/'Conversion factors'!B18*D46=0,G43/'Conversion factors'!B172/'Conversion factors'!B18*'Conversion factors'!B169,G43/'Conversion factors'!B172/'Conversion factors'!B18*D46),0) -> 0
C47: Project period (MM/YY - MM/YY) - will not pro-rate results | F47: Tree seedlings grown for 10 years | G47: =IFERROR(G45*'Conversion factors'!B48,0) -> 0
C51: PROJECT #4
C52: Introduce Meatless Mondays
F53: YOUR SCHOOL IMPACT
C54: Introduce Meatless Mondays | D54: Value | F54: Carbon savings (lbs/week) | G54: =IFERROR(D57*'Conversion factors'!B300*('Conversion factors'!B294-'Conversion factors'!B296),0) -> 0
F55: Carbon savings (lbs/year) | G55: =G54*'Conversion factors'!B42 -> 0
A56: Jump to the top of the page | C56: SETUP | F56: Cost savings ($/week) | G56: =IFERROR(D57*'Conversion factors'!B300*('Conversion factors'!B303-'Conversion factors'!B304),0) -> 0
C57: Number of students at your school eating at the school cafeteria | F57: Cost savings ($/year) | G57: =G56*'Conversion factors'!B42 -> 0
C58: Project period (MM/YY - MM/YY) - will not pro-rate results | F58: Tree seedlings grown for 10 years | G58: =IFERROR(G55*'Conversion factors'!B48,0) -> 0
C62: OPEN PROJECTS
C63: Don't see your project listed here? That's okay! Your project can still make an impact on your school community, even if it doesn't lend itself to carbon savings or measurable resource conservation results. Feel free to consider these other options: - Improve indoor air quality by using plants, fans, filters etc - Introduce regular outdoor time - Work with nutrition services to procure local food or grow food on campus and serve in the cafeteria - Reduce/eliminate amount of harmful chemicals used on school grounds Email us at info@wagreenschools.org if you'd like to learn more.
C75: PROJECT #5
C76: Open project: Are you planning to implement a project that is not listed above? Here is the opportunity to record your impact!
F77: YOUR SCHOOL IMPACT
D78: Value | F78: Carbon savings (lbs/week)
F79: Carbon savings (lbs/year)
C80: SETUP | F80: Cost savings ($/week)
F81: Cost savings ($/year)
F82: Tree seedlings grown for 10 years
C86: SUMMARY
A89: Jump to the top of the page | C89: ="Congratulations, you have completed "& COUNT(D32,D18,D45,D57,D81) & " project(s)!" -> Congratulations, you have completed 0 project(s)! | I89: =COUNT(D32,D18,D45,D57,D81) -> 0
C93: =TEXT(ROUND(G102,2),"#,###,###.###")&"oz of VOC "& TEXT(ROUND(G103,0),"#,###,###")&" lbs of CO2"&" "&TEXT(ROUND(G104,0),"#,###,###")& " dollars" -> .oz of VOC lbs of CO2 dollars | F93: ="Your CO2 saving is equal to "&TEXT(ROUND(G105,0),"#,###,###")&" tree seedlings growing for 10 years" -> Your CO2 saving is equal to tree seedlings growing for 10 years
C101: TOTAL IMPACT OF ALL YOUR CLASSROOM PROJECTS | F101: TOTAL SCHOOL IMPACTS
C102: Classroom projects avoided VOC (oz/year) | D102: =IFERROR(G15,0) -> 0 | F102: School level avoided VOC (oz/year) | G102: =G19 -> 0
C103: Classroom projects cost savings ($/year) | D103: =IFERROR(G16,0) -> 0 | F103: School projects carbon saving (lbs/year) | G103: =IFERROR(ROUND(G32+G45+G55+G79,2),0) -> 0
F104: School projects cost saving ($/year) | G104: =IFERROR(ROUND(G34+G46+G57+G81,2),0) -> 0
F105: Tree seedlings grown for 10 years | G105: =G103*'Conversion factors'!B26 -> 0
C112: ="Wondering what would be the impact if "&Introduction!B33&" schools implemented the same projects as your school did?" -> Wondering what would be the impact if schools implemented the same projects as your school did?
C117: =TEXT(ROUND(D126,2),"#,###,###.###")&"oz of VOC "& TEXT(ROUND(D127,0),"#,###,###,###")&" lbs of CO2"&" "&TEXT(ROUND(D128,0),"#,###,###,###")& " dollars" -> .oz of VOC lbs of CO2 dollars | F117: ="Your CO2 saving is equal to "&TEXT(ROUND(D129,0),"#,###,###,###")&" tree seedlings growing for 10 years" -> Your CO2 saving is equal to tree seedlings growing for 10 years
C125: TOTAL IMPACTS FOR ALL SCHOOLS
C126: Total VOC savings (oz/year) | D126: =IFERROR(G102*Introduction!B33,"") -> 0
C127: Total carbon savings (lbs/year) | D127: =IFERROR(G103*Introduction!B33,0) -> 0
C128: Total cost savings ($/year) | D128: =IFERROR(G104*Introduction!B33,0) -> 0
C129: Tree seedlings grown for 10 years | D129: =IFERROR(G105*Introduction!B33,0) -> 0

Sheet Waste and Recycling
C1: WASTE AND RECYCLING
G2: Copyright 2020 Washington Green Schools. All rights reserved.
C3: CLASSROOM PROJECTS
C5: INSTRUCTIONS:
C6: DATA ENTRY: Please fill in only the blue cells within each project. Some blue cells are optional, use the tips in Column A to guide you.
C7: PROJECT PERIOD: Enter the dates of your project as a reference point - this will not pro-rate your results (ex. March is Non-Idling month, therefore 03/19-03-19)
C8: PROJECTS: If you cannot find a specific project that you think would belong in this category, please check the full list of projects on the Introduction page.
A9: Jump to the summary section | C9: SUMMARY: At the bottom of the page you'll find a summary of all your project impacts.
C10: PROJECT RESET: To reset a project back to zero, select all blue cells within the project, right click and click on the 'Clear contents' selection.
C12: PROJECT #1
C13: Bring a reusable water bottle to school instead of buying plastic water bottles | F13: YOUR CLASSROOM IMPACT
F14: Carbon savings (lbs/week) | G14: =IFERROR(IF(D21<>"",(D20-D21)*D23,0),0) -> 0
C15: Bring a reusable bottle | D15: Value | F15: Carbon savings (lbs/year) | G15: =IFERROR(G14*'Conversion factors'!B42,"") -> 0
F16: Cost savings / week | G16: =IFERROR(IF(D21<>"",IF(D19*(D20-D21)=0,(D20-D21)*'Conversion factors'!B128,D19*(D20-D21)),0),0) -> 0
C17: SETUP | F17: Cost savings ($/year) | G17: =G16*'Conversion factors'!B42 -> 0
A18: Tips: | C18: Number of classrooms in your school | F18: Tree seedlings grown for 10 years | G18: =G15*'Conversion factors'!B48 -> 0
A19: *If you don't know the cost of bottled water at your school, leave Cell D19 blank. The tool will use the average cost of bottled water in this case ($1). | C19: Price of 0.5 liter bottles water at your school*
C20: Total number of water bottles bought per week before the project | F20: YOUR SCHOOL'S IMPACT
C21: Total number of water bottles bought per week after the project | F21: Carbon savings if all classrooms did the same (lbs/year) | G21: =IFERROR(G15*D18,0) -> 0
C22: Project period (MM/YY - MM/YY) - will not pro-rate results | F22: Cost savings if all classrooms did the same ($/year) | G22: =IFERROR(D18*G17,0) -> 0
C23: CO2 impact per 0.5 liter plastic water bottle (pounds) | D23: ='Conversion factors'!B125 -> 0.10912884 | F23: Tree seedlings grown for 10 years | G23: =IFERROR(G21*'Conversion factors'!B48,0) -> 0
C27: PROJECT #2
C28: Use recycled paper instead of virgin paper | F28: YOUR CLASSROOM IMPACT
F29: Carbon savings (lbs/week) | G29: =IFERROR(D37-D38,0) -> 0
C30: Use recycled paper | D30: Value | F30: Carbon savings (lbs/year) | G30: =G29*'Conversion factors'!B42 -> 0
A31: Jump to the top of the page | F31: Extra cost ($/week) | G31: =IFERROR(D34*('Conversion factors'!B154-'Conversion factors'!B153),0) -> 0
C32: SETUP | F32: Extra yearly cost ($/year) | G32: =IFERROR(G31*'Conversion factors'!B42,0) -> 0
C33: Number of classrooms in your school | F33: Tree seedlings grown for 10 years | G33: =G30*'Conversion factors'!B48 -> 0
C34: Number of pages printed per week in/for your classroom
C35: Project period (MM/YY - MM/YY) - will not pro-rate results | F35: YOUR SCHOOL'S IMPACT
C36: Weight of paper used for your classroom (pounds) | D36: =D34/'Conversion factors'!B136*'Conversion factors'!B139 -> 0 | F36: Carbon savings if all classrooms did the same (lbs/year) | G36: =IFERROR(G30*D33,0) -> 0
C37: Carbon impact if virgin paper is used (lbs/week) | D37: =IFERROR(D36*'Conversion factors'!B147,0) -> 0 | F37: Cost savings if all classrooms did the same ($/year) | G37: =IFERROR(D33*G32,0) -> 0
C38: Carbon impact if 100% recycled paper is used (lbs/week) | D38: =IFERROR(D36*'Conversion factors'!B150,0) -> 0 | F38: Tree seedlings grown for 10 years | G38: =IFERROR(G36*'Conversion factors'!B48,0) -> 0
C42: PROJECT #3 | F42: YOUR CLASSROOM IMPACT
C43: Start a worm bin for classroom | F43: Carbon Savings compared to landfill (lbs/month) | G43: =IFERROR(D49*D52*'Conversion factors'!B$163,0) -> 0
F44: Carbon Savings compared to landfill (lbs/year) | G44: =IFERROR(D49*D53*'Conversion factors'!B$163,0) -> 0
C45: Start a worm bin at your school | D45: Value | F45: Cost savings ($/month) | G45: =IFERROR(IF(D49*D52*D50=0,D49*D52*'Conversion factors'!B176,D49*D52*D50/'Conversion factors'!B18/'Conversion factors'!B172),0) -> 0
F46: Cost Savings ($/year) | G46: =IFERROR(IF(D49*D53*D50=0,D49*D53*'Conversion factors'!B176,D49*D53*D50/'Conversion factors'!B18/'Conversion factors'!B172),0) -> 0
C47: SETUP | F47: Tree seedlings grown for 10 years | G47: =IFERROR(G44*'Conversion factors'!B48,0) -> 0
A48: Jump to the top of the page | C48: Number of classrooms in your school
A49: Tips: | C49: Number of worm bins installed in your classroom | F49: YOUR SCHOOL'S IMPACT
A50: *If you don't know the cost of waste hauling at your school, leave Cell D50 blank. In this case, the tool will use a generic cost of waste hauling In Washington. | C50: Cost of waste hauling ($/gallon)* | F50: Carbon savings if all classrooms did the same (lbs/year) | G50: =IFERROR(G44*D48,0) -> 0
C51: Project period (MM/YY - MM/YY) - will not pro-rate results | F51: Cost savings if all classrooms did the same ($/year) | G51: =IFERROR(D48*G46,0) -> 0
C52: Typical weight of matter eaten by 1000 earthworms in a month (lbs) | D52: ='Conversion factors'!B133/12 -> 15.208333 | F52: Tree seedlings grown for 10 years | G52: =IFERROR(G50*'Conversion factors'!B48,0) -> 0
C53: Typical weight of matter eaten by 1000 earthworms in a year (lbs) | D53: ='Conversion factors'!B133 -> 182.5
A57: Jump to the top of the page | C57: PROJECT #4 | F57: YOUR CLASSROOM IMPACT
A58: Tips: | C58: Reuse your plastic lunch bag or pack your lunch in other reusable lunch packaging | F58: Carbon savings (lbs/day) | G58: =IFERROR(D64*'Conversion factors'!B196,0) -> 0
A59: Only applicable if the majority of students bring their own lunch to school | F59: Carbon savings (lbs/year) | G59: =IFERROR(G58*'Conversion factors'!B41,0) -> 0
C60: Bring a zero waste lunch | D60: Value | F60: Cost savings for students ($/day) | G60: =IFERROR(D64*'Conversion factors'!B179,0) -> 0
F61: Cost Savings for students ($/year) | G61: =IFERROR(G60*'Conversion factors'!B41,0) -> 0
C62: SETUP | F62: Tree seedlings grown for 10 years | G62: =IFERROR(G59*'Conversion factors'!B48,0) -> 0
C63: Number of classrooms in your school
C64: Number of students bringing their own lunch and snack to school | F64: YOUR SCHOOL'S IMPACT
C65: Project period (MM/YY - MM/YY) - will not pro-rate results | F65: Carbon savings if all classrooms did the same (lbs/year) | G65: =IFERROR(G59*D63,0) -> 0
F66: Cost savings if all classrooms did the same ($/year) | G66: =IFERROR(D63*G61,0) -> 0
F67: Tree seedlings grown for 10 years | G67: =IFERROR(G65*'Conversion factors'!B48,0) -> 0
C71: SCHOOL PROJECTS
C75: PROJECT #5 | F75: YOUR CLASSROOM IMPACT
C76: Purchase remanufactured Ink and Toner cartridges | F76: Carbon savings per quarter (lbs) | G76: =IFERROR((D81*'Conversion factors'!B200-((D81-D82)*'Conversion factors'!B200+'Waste and Recycling'!D82*'Conversion factors'!B201))*'Conversion factors'!B10,0) -> 0
F77: Carbon savings per year (lbs/year) | G77: =IFERROR(G76*3,0) -> 0
A78: Jump to the top of the page | C78: Purchase remanufacturd cartridges | D78: Value | F78: Cost savings per quarter ($) | G78: =IFERROR(D82*('Conversion factors'!B210*'Conversion factors'!C207),0) -> 0
F79: Cost savings per year ($/year) | G79: =IFERROR(G78*3,0) -> 0
C80: SETUP | F80: Tree seedlings grown for 10 years | G80: =IFERROR(G77*'Conversion factors'!B48,0) -> 0
C81: Number of cartridges changed in your school in one quarter of the year
C82: Number cartridges changed that were remanufactured cartridges
C83: Project period (MM/YY - MM/YY) - will not pro-rate results
C87: PROJECT #6 | F87: YOUR CLASSROOM IMPACT
C88: Implement School-Wide composting | F88: Carbon savings compared to landfill (lbs/week) | G88: =D93*'Conversion factors'!B163 -> 0
F89: Carbon savings compared to landfill (lbs/year) | G89: =IFERROR(G88*'Conversion factors'!B42,0) -> 0
A90: Jump to the top of the page | C90: Implement School-Wide composting | D90: Value | F90: Cost savings per week ($) | G90: =IFERROR(IF(D93*D94=0,D93*'Conversion factors'!B176,D93*D94/'Conversion factors'!B18/'Conversion factors'!B172),0) -> 0
A91: Tips: | F91: Cost savings per year ($/year) | G91: =IFERROR(G90*'Conversion factors'!B42,0) -> 0
A92: *If you don't know the cost of waste hauling at your school, leave Cell D94 blank. In this case, the tool will use a generic cost of waste hauling In Washington. | C92: SETUP | F92: Tree seedlings grown for 10 years | G92: =IFERROR(G89*'Conversion factors'!B48,0) -> 0
C93: Total pounds composted each week
C94: Cost of waste hauling ($/gallon)*
C95: Project period (MM/YY - MM/YY) - will not pro-rate results
C99: PROJECT #7 | F99: YOUR CLASSROOM IMPACT
C100: Utilize a milk dispenser instead of individual cartons | F100: Carbon savings (lbs/week) | G100: =D105*'Conversion factors'!B182*'Conversion factors'!B163*5 -> 0
F101: Carbon savings compared to landfill (lbs/year) | G101: =IFERROR(G100*'Conversion factors'!B42,0) -> 0
A102: Jump to the top of the page | C102: Utilize a milk dispenser instead of individual cartons | D102: Value | F102: Cost savings per week ($) | G102: =IFERROR(IF(D105*D106=0,D105*'Conversion factors'!B176,D105*D106/'Conversion factors'!B18/'Conversion factors'!B172),0) -> 0
A103: Tips: | F103: Cost Savings per year ($/year) | G103: =IFERROR(G102*'Conversion factors'!B42,0) -> 0
A104: *If you don't know the cost of waste hauling at your school, leave Cell D105 blank. In this case, the tool will use a generic cost of waste hauling In Washington. | C104: SETUP | F104: Tree seedlings grown for 10 years | G104: =IFERROR(G101*'Conversion factors'!B48,0) -> 0
C105: Number of cartons used per day
C106: Cost of waste hauling ($/gallon)*
C107: Project period (MM/YY - MM/YY) - will not pro-rate results
C111: PROJECT #8 | F111: YOUR CLASSROOM IMPACT
C112: Use durable trays versus disposable | F112: Carbon savings compared to landfill (lbs/week) | G112: =D117*'Conversion factors'!B185*'Conversion factors'!B163*5 -> 0
F113: Carbon savings compared to landfill (lbs/year) | G113: =IFERROR(G112*'Conversion factors'!B42,0) -> 0
A114: Jump to the top of the page | C114: Use durable trays versus disposable | D114: Value | F114: Cost savings per week ($) | G114: =IFERROR(IF(D117*D118=0,D117*'Conversion factors'!B176,D117*D118/'Conversion factors'!B18/'Conversion factors'!B172),0) -> 0
A115: Tips: | F115: Cost Savings per year ($/year) | G115: =IFERROR(G114*'Conversion factors'!B42,0) -> 0
A116: *If you don't know the cost of waste hauling at your school, leave Cell D118 blank. In this case, the tool will use a generic cost of waste hauling In Washington. | C116: SETUP | F116: Tree seedlings grown for 10 years | G116: =IFERROR(G113*'Conversion factors'!B48,0) -> 0
C117: Number of trays used per day
C118: Cost of waste hauling ($/gallon)*
C119: Project period (MM/YY - MM/YY) - will not pro-rate results
C123: PROJECT #9 | F123: YOUR CLASSROOM IMPACT
C124: Install refillable water stations to reduce bottled water | F124: Carbon savings compared to landfill (lbs/week) | G124: =D129*D130*'Conversion factors'!B190*'Conversion factors'!B163*5 -> 0
F125: Carbon savings compared to landfill (lbs/year) | G125: =IFERROR(G124*'Conversion factors'!B42,0) -> 0
A126: Jump to the top of the page | C126: Install refillable water stations to reduce bottled water | D126: Value | F126: Cost savings per week ($) | G126: =IFERROR(IF(D133*D131=0,D133*'Conversion factors'!B176,D133*D131/'Conversion factors'!B18/'Conversion factors'!B172),0) -> 0
A127: Tips: | F127: Cost Savings per year ($/year) | G127: =IFERROR(G126*'Conversion factors'!B42,0) -> 0
A128: *If you don't know the cost of waste hauling at your school, leave Cell D131 blank. In this case, the tool will use a generic cost of waste hauling In Washington. | C128: SETUP | F128: Tree seedlings grown for 10 years | G128: =IFERROR(G125*'Conversion factors'!B48,0) -> 0
C129: Number of students at your school
...

Sheet Transportation
C1: TRANSPORTATION
G2: Copyright 2020 Washington Green Schools. All rights reserved.
C3: CLASSROOM PROJECTS
C5: INSTRUCTIONS:
C6: DATA ENTRY: Please fill in only the blue cells within each project. Some blue cells are optional, use the tips in Column A to guide you.
C7: PROJECT PERIOD: Enter the dates of your project as a reference point - this will not pro-rate your results (ex. March is Non-Idling month, therefore 03/19-03-19)
C8: PROJECTS: If you cannot find a specific project that you think would belong in this category, please check the full list of projects on the Introduction page. Please note that the anti idling project has been assigned to the Healthy School Building category due to its impact on air quality.
A10: Jump to the summary section | C10: SUMMARY: At the bottom of the page you'll find a summary of all your project impacts.
C11: PROJECT RESET: To reset a project back to zero, select all blue cells within the project, right click and click on the 'Clear contents' selection.
C13: PROJECT #1
C14: Start a walk to school campaign
F15: YOUR IMPACT
C16: Walk to school campaign | D16: Value | F16: Carbon savings (lbs/day) | G16: =IFERROR(IF((D19*D20/'Conversion factors'!B416*2)*'Conversion factors'!B417=0,(D19*'Conversion factors'!B412/'Conversion factors'!B416*2)*'Conversion factors'!B417,(Transportation!D19*Transportation!D20/'Conversion factors'!B416*2)*'Conversion factors'!B417),0) -> 0
F17: Carbon savings (lbs/year) | G17: =IFERROR(G16*'Conversion factors'!B41,"") -> 0
A18: Tips: | C18: SETUP | F18: Cost savings ($/day) | G18: =IFERROR(IF((D19*D20/'Conversion factors'!B416*2)*'Conversion factors'!B413=0,(D19*'Conversion factors'!B412/'Conversion factors'!B416*2)*'Conversion factors'!B413,(Transportation!D19*Transportation!D20/'Conversion factors'!B416*2)*'Conversion factors'!B413),0) -> 0
C19: Number of students who switched from driving to walking | F19: Cost savings ($/year) | G19: =IFERROR(G18*'Conversion factors'!B41,0) -> 0
A20: *If you don't know the average commute distance at your school, leave Cell D20 blank. The tool will use 2.42 miles in this case. | C20: Average one-way commute distance to school (miles)* | F20: Tree seedlings grown for 10 years | G20: =IFERROR(G17*'Conversion factors'!B$48,"") -> 0
C21: Project period (MM/YY - MM/YY) - will not pro-rate results
C24: PROJECT #2
C25: Start a bike to school campaign
F26: YOUR IMPACT
C27: Bike to school campaign | D27: Value | F27: Carbon savings (lbs/day) | G27: =IFERROR(IF((D30*D31/'Conversion factors'!B416*2)*'Conversion factors'!B417=0,(D30*'Conversion factors'!B412/'Conversion factors'!B416*2)*'Conversion factors'!B417,(Transportation!D30*Transportation!D31/'Conversion factors'!B416*2)*'Conversion factors'!B417),0) -> 0
A28: Jump to the top of the page | F28: Carbon savings (lbs/year) | G28: =IFERROR(G27*'Conversion factors'!B41,"") -> 0
A29: Tips: | C29: SETUP | F29: Cost savings ($/day) | G29: =IFERROR(IF((D30*D31/'Conversion factors'!B416*2)*'Conversion factors'!B413=0,(D30*'Conversion factors'!B412/'Conversion factors'!B416*2)*'Conversion factors'!B413,(Transportation!D30*Transportation!D31/'Conversion factors'!B416*2)*'Conversion factors'!B413),0) -> 0
C30: Number of students who switched from driving to biking | F30: Cost savings ($/year) | G30: =IFERROR(G29*'Conversion factors'!B41,0) -> 0
A31: *If you don't know the average commute distance at your school, just leave Cell D31 blank. The tool will use 2.42 miles in this case. | C31: Average one-way commute distance to school (miles)* | F31: Tree seedlings grown for 10 years | G31: =IFERROR(G28*'Conversion factors'!B$48,"") -> 0
C32: Project period (MM/YY - MM/YY) - will not pro-rate results
C35: PROJECT #3
C36: Develop a carpooling system
C38: Carpooling system | D38: Value
F39: YOUR IMPACT
A40: Jump to the top of the page | C40: SETUP | F40: Carbon savings (lbs/day) | G40: =IFERROR(IF((D41*D44/'Conversion factors'!B416*2)*(D42-1)*'Conversion factors'!B417=0,(D41*'Conversion factors'!B412/'Conversion factors'!B416*2)*(D42-1)*'Conversion factors'!B417,(Transportation!D41*Transportation!D44/'Conversion factors'!B416*2)*(D42-1)*'Conversion factors'!B417),0) -> 0
A41: Tips: | C41: Number of students participating in the carpooling system | F41: Carbon savings (lbs/year) | G41: =IFERROR(G40*'Conversion factors'!B42*Transportation!D43,"") -> 0
A42: Carpooling definition | C42: Average number of students who carpool together | F42: Cost savings ($/day) | G42: =IFERROR(IF((D41*D44/'Conversion factors'!B416*2)*(D42-1)*'Conversion factors'!B413=0,(D41*'Conversion factors'!B412/'Conversion factors'!B416*2)*(D42-1)*'Conversion factors'!B413,(Transportation!D41*Transportation!D44/'Conversion factors'!B416*2)*(D42-1)*'Conversion factors'!B413),0) -> 0
C43: Average number of days a week students carpooled | F43: Cost savings ($/year) | G43: =IFERROR(G42*'Conversion factors'!B42*Transportation!D43,"") -> 0
A44: *If you don't know the average commute distance at your school, leave Cell D44 blank. The tool will use 2.42 miles in this case. | C44: Average one-way commute for the carpools (miles)* | F44: Tree seedlings grown for 10 years | G44: =IFERROR(G41*'Conversion factors'!B$48,"") -> 0
C45: Project period (MM/YY - MM/YY) - will not pro-rate results
C49: SCHOOL PROJECTS
C52: PROJECT #4
C53: Change policy so that all purchased district vehicles are hybrid/high MPG
F54: YOUR IMPACT
C55: Change policy so that all purchased district vehicles are hybrid/high MPG | D55: Value | F55: Carbon savings on buses (lbs/year) | G55: =IFERROR(IF(D58*D59=0,D58*('Conversion factors'!B427*'Conversion factors'!B428-'Conversion factors'!B433*'Conversion factors'!B434),D58*(('Conversion factors'!B427*'Conversion factors'!B428)-('Conversion factors'!B425/Transportation!D59*'Conversion factors'!B436))),0) -> 0
A56: Jump to the top of the page | F56: Carbon savings on cars (lbs/year) | G56: =IFERROR(IF(D60*D61=0,D60*('Conversion factors'!B448*'Conversion factors'!B449-'Conversion factors'!B454*'Conversion factors'!B455),D60*(('Conversion factors'!B448*'Conversion factors'!B449)-('Conversion factors'!B446/Transportation!D61*'Conversion factors'!B436))),0) -> 0
A57: Tips: | C57: SETUP | F57: Total carbon saving (lbs/year) | G57: =IFERROR(G55+G56,"") -> 0
A58: MPG definition | C58: Number of school buses switched to hybrid/high MPG | F58: Cost savings on fuel for buses ($/year) | G58: =IFERROR(IF(D58*D59=0,D58*('Conversion factors'!B427-'Conversion factors'!B433)*'Conversion factors'!B414,D58*(('Conversion factors'!B427)-('Conversion factors'!B425/Transportation!D59))*'Conversion factors'!B414),0) -> 0
A59: *If you don't know the MPGs of your new bus/car, leave Cell D57 and D59 blank. The tool will use an efficiency increase of 30% and 50% over traditional school buses/cars, respectively. | C59: MPG of new hybrid/ high MPG school bus | F59: Cost savings on fuel for cars ($/year) | G59: =IFERROR(IF(D60*D61=0,D60*('Conversion factors'!B448-'Conversion factors'!B454)*'Conversion factors'!B413,D60*(('Conversion factors'!B448)-('Conversion factors'!B446/Transportation!D61))*'Conversion factors'!B413),0) -> 0
C60: Number of district cars switched to hybrid/high MPG | F60: Total cost saving on fuel ($/year) | G60: =G58+G59 -> 0
C61: MPG of new hybrid/high MPG district vehicle | F61: Tree seedlings grown for 10 years | G61: =IFERROR(G57*'Conversion factors'!B$48,"") -> 0
C62: Project period (MM/YY - MM/YY) - will not pro-rate results
C65: OPEN PROJECTS
C66: Don't see your project listed here? That's okay! Your project can still make an impact on your school community, even if it doesn't lend itself to carbon savings or measurable resource conservation results. Feel free to consider these other options: - Change pick-up/drop-off policy to be more efficient Email us at info@wagreenschools.org if you'd like to learn more.
C75: PROJECT #5
C76: Open project: Are you planning to implement a project that is not listed in Projects 1 through 5? Here is the opportunity to record your impact!
D78: Value
F79: YOUR IMPACT
C80: SETUP | F80: Carbon savings (lbs/day) | G80: =IFERROR(IF((D79*D82/'Conversion factors'!B455*2)*(D80-1)*'Conversion factors'!B456=0,(D79*'Conversion factors'!B451/'Conversion factors'!B455*2)*(D80-1)*'Conversion factors'!B456,(Transportation!D79*Transportation!D82/'Conversion factors'!B455*2)*(D80-1)*'Conversion factors'!B456),0) -> 0
F81: Carbon savings (lbs/year) | G81: =IFERROR(G80*'Conversion factors'!B79*Transportation!D81,"") -> 0
F82: Cost savings ($/day) | G82: =IFERROR(IF((D79*D82/'Conversion factors'!B455*2)*(D80-1)*'Conversion factors'!B452=0,(D79*'Conversion factors'!B451/'Conversion factors'!B455*2)*(D80-1)*'Conversion factors'!B452,(Transportation!D79*Transportation!D82/'Conversion factors'!B455*2)*(D80-1)*'Conversion factors'!B452),0) -> 0
F83: Cost savings ($/year) | G83: =IFERROR(G82*'Conversion factors'!B79*Transportation!D81,"") -> 0
F84: Tree seedlings grown for 10 years | G84: =IFERROR(G81*'Conversion factors'!B$48,"") -> 0
C88: SUMMARY
A91: Jump to the top of the page | C91: ="Congratulations, you have completed "& COUNT(D19,D30,D41,D62,D81) & " project(s)!" -> Congratulations, you have completed 0 project(s)! | I91: =COUNT(D19,D30,D41,D62,D81) -> 0
C95: =TEXT(ROUND(G106,0),"#,###,###")&" lbs of CO2"&" "&TEXT(ROUND(G107,0),"#,###,###")& " dollars" -> lbs of CO2 dollars | F95: ="Your CO2 saving is equal to "&TEXT(ROUND(G108,0),"#,###,###")&" tree seedlings growing for 10 years" -> Your CO2 saving is equal to tree seedlings growing for 10 years
C103: TOTAL IMPACT OF ALL YOUR CLASSROOM PROJECTS | F103: TOTAL SCHOOL IMPACTS
C104: Classroom projects carbon savings (lbs/year) | D104: =IFERROR(G17+G28+G41,"") -> 0 | F104: School projects carbon savings (lbs/year) | G104: =IFERROR(ROUND(G57+G81,2),"") -> 0
C105: Classroom projects cost savings ($/year) | D105: =IFERROR(G19+G30+G43,"") -> 0 | F105: School projects cost savings ($/year) | G105: =IFERROR(ROUND(G60+G83,2),"") -> 0
C106: Tree seedlings grown for 10 years | D106: =IFERROR(G20+G31+G44,"") -> 0 | F106: Total carbon savings (lbs/year) | G106: =IFERROR(D104+G104,"") -> 0
F107: Total cost savings ($/year) | G107: =IFERROR(D105+G105,"") -> 0
F108: Tree seedlings grown for 10 years | G108: =IFERROR(G106*'Conversion factors'!B$48,"") -> 0
C114: ="Wondering what would be the impact if "&Introduction!B33&" schools implemented the same projects as your school did?" -> Wondering what would be the impact if schools implemented the same projects as your school did?
C119: =TEXT(ROUND(D128,0),"#,###,###,###")&" lbs of CO2"&" "&TEXT(ROUND(D129,0),"#,###,###,###")& " dollars" -> lbs of CO2 dollars | F119: ="Your CO2 saving is equal to "&TEXT(ROUND(D130,0),"#,###,###,###")&" tree seedlings growing for 10 years" -> Your CO2 saving is equal to tree seedlings growing for 10 years
C127: TOTAL IMPACTS FOR ALL SCHOOLS
C128: Total carbon savings (lbs/year) | D128: =IFERROR(G106*Introduction!B33,"") -> 0
C129: Total cost savings ($/year) | D129: =IFERROR(G107*Introduction!B33,"") -> 0
C130: Tree seedlings grown for 10 years | D130: =IFERROR(G108*Introduction!B33,"") -> 0

Sheet School Grounds & Gardens
C1: SCHOOL GROUNDS & GARDENS
G2: Copyright 2020 Washington Green Schools. All rights reserved.
C3: CLASSROOM PROJECTS
C5: INSTRUCTIONS:
C6: DATA ENTRY: Please fill in only the blue cells within each project. Some blue cells are optional, use the tips in Column A to guide you.
C7: PROJECT PERIOD: Enter the dates of your project as a reference point - this will not pro-rate your results (ex. March is Non-Idling month, therefore 03/19-03-19)
C8: PROJECTS: If you cannot find a specific project that you think would belong in this category, please check the full list of projects on the Introduction page.
A9: Jump to summary section | C9: SUMMARY: At the bottom of the page you'll find a summary of all your project impacts.
C10: PROJECT RESET: To reset a project back to zero, select all blue cells within the project, right click and click on the 'Clear contents' selection.
C12: PROJECT #1 | F12: YOUR CLASSROOM IMPACT
A13: Tips: | C13: Create an aeroponic gardening project with tomatoes (or other vegetables) | F13: Water savings (gallons/growing cycle) | G13: =IFERROR(D18*'Conversion factors'!B241*'Conversion factors'!B238,0) -> 0
A14: Aeroponic gardening definition | F14: Extra yield (pounds) | G14: =IFERROR(D18*'Conversion factors'!B235*'Conversion factors'!B236,"") -> 0
A15: We use the example of tomato plants in this project, but the example applies to many other vegetables and fruits as well. | C15: Create an aeroponic gardening project | D15: Value | F15: Cost savings on water ($/growing cycle) | G15: =IFERROR(IF(G13*D19=0,G13*'Conversion factors'!B228,'School Grounds & Gardens'!G13*'School Grounds & Gardens'!D19),"") -> 0
C17: SETUP | F17: YOUR SCHOOL IMPACT
C18: Number of tomato plants planted | F18: Water savings (gallons/growing cycle) | G18: =IFERROR(G13*D20,0) -> 0
A19: *If you don't know the cost of water at your school, leave Cell D19 blank. The tool will use the average cost of water in Seattle. | C19: Cost of water at your school ($/gallons)* | F19: Extra yield (pounds) | G19: =IFERROR(G14*D20,"") -> 0
C20: Number of classrooms in your school | F20: Cost savings on water ($/growing cycle) | G20: =IFERROR(G15*D20,"") -> 0
C21: Project period (MM/YY - MM/YY) - will not pro-rate results
C24: SCHOOL PROJECTS
C26: PROJECT #2
C27: Mulch the base of trees and plants regularly to increase absorbency and reduce runoff
C29: Mulch the base of trees and plants | D29: Value
A30: Jump to the top of the page
A31: Tips: | C31: SETUP | F31: YOUR SCHOOL IMPACT
A32: Mulch definition | C32: Number of trees in your school garden | F32: Water savings (gallons/week) | G32: =IFERROR(D36*'Conversion factors'!B222,0) -> 0
A33: *If you don't know the cost of water at your school, leave Cell D33 blank. The tool will use the average cost of water in Seattle. | C33: Cost of water at your school ($/gallons)* | F33: Water savings (gallons/year) | G33: =IFERROR(G32*'Conversion factors'!B224,"") -> 0
C34: Project period (MM/YY - MM/YY) - will not pro-rate results | F34: Cost savings / week | G34: =IFERROR(G32*'Conversion factors'!B228,0) -> 0
C35: Volume of water needed for your trees (gallons/week) | D35: =D32*'Conversion factors'!B216 -> 0 | F35: Cost savings ($/year) | G35: =IFERROR(G33*'Conversion factors'!B228,"") -> 0
C36: Volume of water lost to evaporation per tree in the Pacific Northwest (gallons per week) | D36: =D32*'Conversion factors'!B219 -> 0
C40: PROJECT #3
C41: Plant native plants in your garden
A43: Jump to the top of the page | C43: Plant a native plants garden | D43: Value
A44: Tips:
A45: According to the EPA, on average, schools use 28% of their water consumption for landscaping purposes. | C45: SETUP | F45: YOUR SCHOOL IMPACT
C46: Total volume of water consumed at your school (gallons/year) | F46: Water Savings in your garden (gallons/year) | G46: =IFERROR(D46*'Conversion factors'!B231-D46*'Conversion factors'!B231*'Conversion factors'!B232,0) -> 0
A47: *If you don't know the cost of water at your school, leave Cell D47 blank. The tool will use the average cost of water in Seattle. | C47: Cost of water at your school ($/gallons)* | F47: Cost savings ($/year) | G47: =IFERROR(IF(G46*D47=0,G46*'Conversion factors'!B228,'School Grounds & Gardens'!G46*'School Grounds & Gardens'!D47),0) -> 0
C48: Project period (MM/YY - MM/YY) - will not pro-rate results | G48: =IFERROR(#REF!*'Conversion factors'!B236,"")
C52: PROJECT #4
C53: Plant raised garden beds
A55: Jump to the top of the page | C55: Plant raised garden beds | D55: Value
A56: Tips:
A57: Raised beds offer better control of your soil, and better soil (organice matter) will quadruple the holding capacity of water of the soil! | C57: SETUP | F57: YOUR SCHOOL IMPACT
C58: Number of raised garden beds | F58: Water Savings in your garden (gallons/year) | G58: =D62*'Conversion factors'!B250*0.004329 -> 0
C59: Average cubic square inch of your garden bed | F59: Cost savings ($/year) | G59: =IFERROR(IF(G58*D60=0,G58*'Conversion factors'!B228,'School Grounds & Gardens'!G58*'School Grounds & Gardens'!D60),0) -> 0
C60: Cost of water at your school ($/gallons)*
A61: *If you don't know the cost of water at your school, leave Cell D60 blank. The tool will use the average cost of water in Seattle. | C61: Project period (MM/YY - MM/YY) - will not pro-rate results
C62: Total cubic square inch | D62: =D59*D58 -> 0 | G62: =IFERROR(#REF!*'Conversion factors'!B252,"")
C66: PROJECT #5
C67: Plant a community vegetable garden
A69: Jump to the top of the page | C69: Plant a vegetable garden | D69: Value
A70: Tips:
A71: The associated cost savings from planting your own vegetable garden come from reduced transportation and labor costs at the commercial level. | C71: SETUP | F71: YOUR SCHOOL IMPACT
C72: Amount invested in establishing a vegetable garden ($) | F72: Potential yield ($) | G72: =IFERROR(D72*'Conversion factors'!B244,0) -> 0
C73: Project period (MM/YY - MM/YY) - will not pro-rate results
C77: OPEN PROJECTS
C78: Don't see your project listed here? That's okay! Your project can still make an impact on your school community, even if it doesn't lend itself to carbon savings or measurable resource conservation results. Feel free to consider these other options: - Increase biodiversity on campus - Plant a pollinator pathway - Remove invasive species from the school yard - Create a food pantry with the produce you collect form your community vegetable garden - Test soil health Email us at info@wagreenschools.org if you'd like to learn more.
C90: PROJECT #5
C91: Open project: Are you planning to implement a project that is not listed above? Here is the opportunity to record your impact!
D93: Value
C95: SETUP
C101: SUMMARY
A104: Jump to the top of the page | C104: ="Congratulations, you have completed "& COUNT(D46,D32,D18,D72,D96) & " project(s)!" -> Congratulations, you have completed 0 project(s)! | I104: =COUNT(D46,D32,D18,D72,D96) -> 0
C108: =TEXT(ROUND(G119,0),"#,###,###")&" gallons of water"&" "&TEXT(ROUND(G120,0),"#,###,###")& " dollars" -> gallons of water dollars | F108: ="Your water saving is equal to "&TEXT(ROUND(G121,0),"#,###,###")&" bathtubs of water" -> Your water saving is equal to bathtubs of water
C116: TOTAL IMPACT OF ALL YOUR CLASSROOM PROJECTS | F116: TOTAL SCHOOL IMPACTS
C117: Classroom projects water savings (gallons/year) | D117: =IFERROR(G13,"") -> 0 | F117: School projects water savings (gallons/year) | G117: =IFERROR(ROUND(G33+G46+G58,2),"") -> 0
C118: Classroom projects cost savings ($/year) | D118: =IFERROR(G15,"") -> 0 | F118: School projects cost savings ($/year) | G118: =IFERROR(ROUND(G35+G47+G59,2),"") -> 0
C119: Number of bath tubs | D119: =IFERROR(D117/'Conversion factors'!B403,0) -> 0 | F119: Total water savings (gallons/year) | G119: =IFERROR(D117+G117,"") -> 0
F120: Total cost savings ($/year) | G120: =IFERROR(D118+G118,"") -> 0
F121: Number of bath tubs | G121: =IFERROR(G119/'Conversion factors'!B403,0) -> 0
C127: ="Wondering what would be the impact if "&Introduction!B33&" schools implemented the same projects as your school did?" -> Wondering what would be the impact if schools implemented the same projects as your school did?
C132: =TEXT(ROUND(D141,0),"#,###,###,###")&" gallons of water"&" "&TEXT(ROUND(D142,0),"#,###,###,###")& " dollars" -> gallons of water dollars | F132: ="Your water saving is equal to "&TEXT(ROUND(D143,0),"#,###,###,###")&" bathtubs of water" -> Your water saving is equal to bathtubs of water
C140: TOTAL IMPACTS FOR ALL SCHOOLS
C141: Total water savings (gallons/year) | D141: =IFERROR(G119*Introduction!B33,"") -> 0
C142: Total cost savings ($/year) | D142: =IFERROR(G120*Introduction!B33,"") -> 0
C143: Number of bath tubs | D143: =IFERROR(G121*Introduction!B33,"") -> 0

Sheet Results Summary
B2: ="CONGRATULATIONS! You have completed "&C48&" project(s)!" -> CONGRATULATIONS! You have completed 0 project(s)!
D3: Copyright 2020 Washington Green Schools. All rights reserved.
B6: ="You saved "&TEXT(ROUND(C49,0),"#,###,###")&" lbs of CO2" -> You saved lbs of CO2 | C6: ="Your carbon savings are equal to the removal of carbon from the atmosphere by "&TEXT(ROUND(C50,0),"#,###,###")&" tree seedlings over the span of 10 years" -> Your carbon savings are equal to the removal of carbon from the atmosphere by tree seedlings over the span of 10 years | D6: ="You avoided "&TEXT(ROUND(C54,0),"#,###,###")& " oz of VOC" -> You avoided oz of VOC
B19: ="You saved "&TEXT(ROUND(C51,0),"#,###,###")& " gallons of water" -> You saved gallons of water | C19: ="Your water savings is equal "&TEXT(ROUND(C52,0),"#,###,###")&" bathtubs of water" -> Your water savings is equal bathtubs of water | D19: ="Your rain garden filtered out "&TEXT(ROUND(C53,0),"#,###,###")&" gallons of water" -> Your rain garden filtered out gallons of water
C32: ="You saved "&TEXT(ROUND(C55,0),"#,###,###")& " dollars" -> You saved dollars
B47: TOTAL SCHOOL IMPACTS
B48: Number of projects completed | C48: =IFERROR(Energy!I140+Water!I113+'Healthy School Buildings'!I89+'Waste and Recycling'!I170+Transportation!I91+'School Grounds & Gardens'!I104,0) -> 0
B49: Total carbon savings (lbs/year) | C49: =IFERROR(Energy!G155+'Healthy School Buildings'!G103+'Waste and Recycling'!$G$185+Transportation!G106,0) -> 0
B50: Tree seedlings grown for 10 years | C50: =IFERROR(ROUND(C49*'Conversion factors'!B48,2),"") -> 0
B51: Total water savings (gallons/year) | C51: =IFERROR(Water!$G$137+'School Grounds & Gardens'!G119,0) -> 0
B52: Total bathtubs of water saved | C52: =IFERROR(Water!G139+'School Grounds & Gardens'!G121,"") -> 0
B53: Volume of water filtered out by your rain garden (gallons/year) | C53: =Water!D137 -> 0
B54: School avoided VOC (oz/year) | C54: ='Healthy School Buildings'!G102 -> 0
B55: Total cost savings ($/year) | C55: =IFERROR(Energy!G156+Water!$G$138+'Healthy School Buildings'!$G$104+'Waste and Recycling'!$G$186+Transportation!G107+'School Grounds & Gardens'!G120,"") -> 0

Sheet Conversion factors
A1: CONVERSIONS
A2: Power
A3: 1 MWh = | B3: 1000 | C3: KWh
A4: 1 Watt | B4: 0.001 | C4: KiloWatt
A5: Energy
A6: 1 cubic feet of natural gas = | B6: 0.01 | C6: therms (U.S.)
A7: Weight
A8: 1 pound = | B8: 0.00045359237 | C8: metric tons
A9: 1 metric ton = | B9: 2204.62 | C9: pounds
A10: 1 kilogram = | B10: 2.20462 | C10: pounds
A11: 1 pound = | B11: 16 | C11: ounces
A12: 1 gram = | B12: 0.03527396 | C12: ounces
A13: 1 gram = | B13: 0.002204623 | C13: pounds
A14: U.S. short tons | B14: 2000 | C14: pounds
A17: Volume
A18: 1 gallon | B18: 0.0058 | C18: cubic yard
A19: centum cubic feet (CCF) | B19: 748.05195 | C19: US gallons
A20: SCF = CUBIC FEET
A22: ENERGY references
A24: Units of measurement of the emission factors | B24: CO2 Factor (kg/scf) | C24: CH4 Factor (kg/scf) | D24: N2O Factor (kg/scf) | E24: CO2 Factor (lbs./scf) | F24: CH4 Factor (lbs./scf) | G24: N2O Factor (lbs./scf) | H24: CO2e (lbs./scf)
A25: Global Warming Potential | E25: 1 | F25: 28 | G25: 265
A26: Natural Gas | B26: 0.05444 | C26: 1.03e-06 | D26: 1e-07 | E26: =B26*$B$10 -> 0.12001951 | F26: =C26*$B$10*F25 -> 6.3581241e-05 | G26: =G25*D26*$B$10 -> 5.842243e-05 | H26: =SUM(E26:G26) -> 0.12014152
A28: Electricity emission factors | D28: CO2 Factor (lbs./MWh) | E28: CH4 Factor (lbs./MWh) | F28: N2O Factor (lbs./MWh) | G28: CO2 Factor (lbs./KWh) | H28: CH4 Factor (lbs./KWh) | I28: N2O Factor (lbs./KWh) | J28: CO2e Factor (lbs./KWh)
A29: Global Warming Potential | G29: 1 | H29: 28 | I29: 265
A30: NWPP | B30: WECC Northwest | D30: 651.199 | E30: 0.061 | F30: 0.009 | G30: =(D30/$B$3) -> 0.651199 | H30: =(E30/$B$3)*H29 -> 0.001708 | I30: =(F30/$B$3)*I29 -> 0.002385 | J30: =SUM(G30:I30) -> 0.655292
A32: Source: eGRID 2016, SRL16, Subregion Output Emission Rates, Feb, 2018
A35: Average cost of electricity/kWh | B35: 0.0798 | C35: https://www.eia.gov/electricity/data/browser/#/topic/7?agg=0,1&geo=g00000000001&endsec=vg&linechart=ELEC.PRICE.US-ALL.A&columnchart=ELEC.PRICE.US-ALL.A&map=ELEC.PRICE.US-ALL.A&freq=A&ctype=linechart&ltype=pin&rtype=s&pin=&rse=0&maptype=0
A36: Average cost of electricity/Wh | B36: =B35*B4 -> 7.98e-05
A38: Natural gas average price/therm in WA | B38: 0.983 | C38: https://www.bls.gov/regions/mid-atlantic/news-release/averageenergyprices_washingtondc.htm
A39: Natural gas average price/cubic feet in WA | B39: =B38*B6 -> 0.00983
A41: Average number of school days/year in Washington | B41: 180 | C41: https://nces.ed.gov/programs/statereform/tab5_14.asp
A42: Average number of school weeks/year in Washington | B42: =B41/5 -> 36
A43: Minimum amount of instructional times per school year | B43: 1000 | C43: https://nces.ed.gov/programs/statereform/tab5_14.asp
A44: Minimum hours of instruction per school day | B44: =B43/B41 -> 5.5555556
A45: Number of months in a school year | B45: 10
A47: Equivalences
A48: 1 pound of Co2e | B48: 0.0008 | C48: tree seedlings grown for 10 years
A51: Type of lighting | B51: Average Watts per classroom | C51: Average single lamp Watts
A52: Select from the list
A53: Incandescent lighting | B53: =60*G55 -> 202.5
A54: Halogen lighting | B54: =B53*72/100 -> 145.8
A55: CFL lighting | B55: 108 | C55: 32 | F55: 32 | G55: =B55/F55 -> 3.375
A56: LED lighting | B56: 45 | F56: =B56/G55 -> 13.333333
A57: Not sure | B57: 108
A59: https://www.currentbyge.com/ideas/cfl-vs-halogen-vs-led
A60: https://www.energy.gov/sites/prod/files/2017/10/f37/2017_gateway_tuning-classroom_0.pdf
A62: Average electricity consumption of a printer ( in Watts) | B62: 5 | C62: https://www.energuide.be/en/questions-answers/how-much-power-does-a-computer-use-and-how-much-co2-does-that-represent/54/
A63: Average electricity consumption of a desktop computer ( in Watts) | B63: 171 | C63: https://www.energuide.be/en/questions-answers/how-much-power-does-a-computer-use-and-how-much-co2-does-that-represent/54/
A64: Average electricity consumption of a desktop computer in sleep mode( in Watts) | B64: =B63/3 -> 57 | C64: https://www.energuide.be/en/questions-answers/how-much-power-does-a-computer-use-and-how-much-co2-does-that-represent/54/
A68: Comparable wattage | B68: 40 W incandescent | C68: 29 W halogen (40 equivalent) | D68: 60 W incandescent | E68: 43 W halogen (60 equivalent) | F68: 75 W incandescent | G68: 53 W halogen (75 equivalent) | H68: 100 W incandescent | I68: 72 W halogen (100 equivalent) | J68: 150 W incandescent
A69: Corresponding commonly available CFL/LED wattages | B69: 4.0 W LED | C69: 4.0 W LED | D69: 6.0 W LED | E69: 6.0 W LED | F69: 10.0 W LED | G69: 10.0 W LED | H69: 11.0 W LED | I69: 11.0 W LED | J69: 40.0 W CFL
B70: 5.0 W LED | C70: 5.0 W LED | D70: 7.0 W LED | E70: 7.0 W LED | F70: 11.0 W LED | G70: 11.0 W LED | H70: 15.0 W LED | I70: 15.0 W LED | J70: 42.0 W CFL
B71: 6.0 W LED | C71: 6.0 W LED | D71: 8.5 W LED | E71: 8.5 W LED | F71: 12.0 W LED | G71: 12.0 W LED | H71: 16.0 W LED | I71: 16.0 W LED
B72: 7.0 W LED | C72: 7.0 W LED | D72: 9.0 W LED | E72: 9.0 W LED | F72: 13.0 W LED | G72: 13.0 W LED | H72: 17.0 W LED | I72: 17.0 W LED
B73: 7.0 W CFL | C73: 7.0 W CFL | D73: 9.5 W LED | E73: 9.5 W LED | F73: 18.0 W CFL | G73: 18.0 W CFL | H73: 18.0 W LED | I73: 18.0 W LED
B74: 9.0 W CFL | C74: 9.0 W CFL | D74: 10.0 W LED | E74: 10.0 W LED | F74: 19.0 W CFL | G74: 19.0 W CFL | H74: 15.0 W CFL | I74: 15.0 W CFL
B75: 10.0 W CFL | C75: 10.0 W CFL | D75: 10.5 W LED | E75: 10.5 W LED | F75: 20.0 W CFL | G75: 20.0 W CFL | H75: 23.0 W CFL | I75: 23.0 W CFL
D76: 11.0 W LED | E76: 11.0 W LED | H76: 26.0 W CFL | I76: 26.0 W CFL
D77: 9.0 W CFL | E77: 9.0 W CFL
D78: 13.0 W CFL | E78: 13.0 W CFL
D79: 14.0 W CFL | E79: 14.0 W CFL
A81: Type of lighting
A82: Select from the list
A83: Incandescent lighting
A84: Halogen lighting
A85: CFL lighting
A86: Not sure
A88: Lighting type | B88: Watts | C88: Lighting type & Watts | D88: Equivalent LED Watts
A89: Incandescent_Lighting | B89: 40 | C89: =A89&B89 -> Incandescent_Lighting40 | D89: 5 | F89: light_bulb_calculator_0
A90: Incandescent_Lighting | B90: 60 | C90: =A90&B90 -> Incandescent_Lighting60 | D90: 9 | F90: Saving calculator for ENERGY STAR certified light bulbs
A91: Incandescent_Lighting | B91: 75 | C91: =A91&B91 -> Incandescent_Lighting75 | D91: 11
A92: Incandescent_Lighting | B92: 100 | C92: =A92&B92 -> Incandescent_Lighting100 | D92: 16
A93: Halogen_Lighting | B93: 29 | C93: =A93&B93 -> Halogen_Lighting29 | D93: 9
A94: Halogen_Lighting | B94: 43 | C94: =A94&B94 -> Halogen_Lighting43 | D94: 13
A95: Halogen_Lighting | B95: 53 | C95: =A95&B95 -> Halogen_Lighting53 | D95: 19
A96: Halogen_Lighting | B96: 72 | C96: =A96&B96 -> Halogen_Lighting72 | D96: 23
A97: CFL_Lighting | B97: 13 | C97: =A97&B97 -> CFL_Lighting13 | D97: 6 | F97: https://www.usailighting.com/stuff/contentmgr/files/1/92ffeb328de0f4878257999e7d46d6e4/misc/lighting_comparison_chart.pdf
A98: CFL_Lighting | B98: 15 | C98: =A98&B98 -> CFL_Lighting15 | D98: 8
A99: CFL_Lighting | B99: 32 | C99: =A99&B99 -> CFL_Lighting32 | D99: 26
A100: Not_sure | B100: 40 | C100: =A100&B100 -> Not_sure40 | D100: 5
A101: Not_sure | B101: 60 | C101: =A101&B101 -> Not_sure60 | D101: 9
A102: Not_sure | B102: 75 | C102: =A102&B102 -> Not_sure75 | D102: 11
A103: Not_sure | B103: 100 | C103: =A103&B103 -> Not_sure100 | D103: 16
A107: Select_from_the_list | B107: Incandescent_Lighting | C107: Halogen_Lighting | D107: CFL_Lighting | E107: Not_sure
B108: 40 | C108: 29 | D108: 13 | E108: 40
B109: 60 | C109: 43 | D109: 15 | E109: 60
B110: 75 | C110: 53 | D110: 32 | E110: 75
B111: 100 | C111: 72 | E111: 100
A113: Education buildings yearly average natural gas consumption per square foot (cubic feet) | B113: 29.8 | C113: U.S. Energy Information Administration, Office of Energy Consumption and Efficiency Statistics, Form EIA-871A of the 2012 Commercial Buildings Energy Consumption Survey.
A116: WASTE references
A119: Average weight of a 0.5 liter PET water bottle (grams) | B119: 9.9 | C119: http://www.petresin.org/news_didyouknow.asp
A120: Average weight of a 0.5 liter PET water bottle (lbs.) | B120: =B119*B13 -> 0.021825768
A122: Average ounce of CO2 emissions per ounce of PET bottle (ounce) | B122: 5 | C122: https://www.plasticpollutioncoalition.org/pft/2015/11/17/plastic-pollution-and-climate-change
A123: Average pounds CO2 emissions per pound of PET bottle (pound) | B123: 5
A125: Average Co2 emission per PET water bottle (pound) | B125: =B120*B123 -> 0.10912884
A128: Average price of a bottle of 0.5 liter water ($) | B128: 1
A131: Recommended number of worms to start a worm bin | B131: 1000 | C131: https://composting.ces.ncsu.edu/wp-content/uploads/2017/04/vermicomposting_earthworms_q_a-2017.pdf?fwd=no
A132: Weight of 1000 worms (pound) | B132: 1 | C132: https://unclejimswormfarm.com/how-much-feed-composting-worms/
A133: Total weight of matter eaten by a worm bin in a year (lbs.) | B133: =B132*0.5*365 -> 182.5
A136: Sheets per ream: | B136: 500 | C136: sheets
...

Sheet Glossary
A1: GLOSSARY
A2: Term | B2: Definition
A3: General terms
A4: Greenhouse gas | B4: Gases that trap heat in the atmosphere are called greenhouse gases. Some examples include: Carbon dioxide (CO2), Methane (CH4), Nitrous oxide (N2O), Fluorinated gases.
A5: Carbon | B5: Abbreviation used in this tool to represent Carbon Dioxide equivalency emissions, which includes the carbon impacts of CO2, CH4 and N2O emissions in one unit.
A6: Tree seedlings | B6: A medium growth coniferous or deciduous tree, planted in an urban setting and allowed to grow for 10 years. For a detailed definition please see: https://www.epa.gov/energy/greenhouse-gases-equivalencies-calculator-calculations-and-references#seedlings
A7: EPA | B7: United States Environmental Protection Agency
A8: Energy terms
A9: Incandescent Lighting | B9: In an incandescent, electric current runs through a wire within a bulb and heats the wire until it starts to glow.
A10: Halogen Lighting | B10: The halogen light bulb or lamp is a type of incandescent lamp which uses a halogen gas to create light.
A11: CFL Lighting | B11: This lighting uses a tube which is curved or folded to generate light via an electric current, argon and a small amount of mercury vapor which excites a fluorescent coating (called phosphor) on the inside of the tube, which then emits visible light.
A12: LED Lighting | B12: LED stands for light emitting diode. An electrical current passes through a microchip, which illuminates the tiny light sources we call LEDs and the result is visible light.
A13: Water terms
A14: Aerator | B14: Aerators are small parts placed on the end of faucets, with small mesh screens that break up the flow of water into multiple small streams, adding air in between. By diluting the water stream with air, aerators significantly reduce the volume of water flowing from your faucet. They do this while maintaining the feeling of a high-pressure flow. Aerators also reduce splashing in sinks.
A15: Fill cycle diverter | B15: The Fill Cycle Diverter helps save water and money by diverting part of the water that would normally fill the toilet bowl to the tank.
A16: Toilet tank bank | B16: Toilet tank banks displace a certain amount of water equivalent in your toilet tank, which means every flush will use less water.
A17: WaterSense | B17: WaterSense, a voluntary partnership program sponsored by the U.S. Environmental Protection Agency (EPA), is both a label for water-efficient products and a resource for helping you save water.
A18: Stencils on drains | B18: Example of a stencil on drains:
A19: Macroinvertebrate | B19: Macroinvertebrate, any animal lacking a backbone and large enough to see without the aid of a microscope (ex. snails, clams, crayfish, dragonflies, flatworms)
A20: Healthy School Building terms
A21: VOCs | B21: Volatile Organic Compounds: Vapors or gases released from consumer products including: paints and thinners, adhesives, glues, air fresheners, copy machines, pesticides.
A22: Waste and recycling terms
A23: Terracycle | B23: A company that focuses on turning hard-to-recycle materials, such as ocean plastic, into new products.
A24: Transportation terms
A25: Carpooling | B25: Carpooling in this context is defined as at least two students travel together in a car.
A26: MPG | B26: Miles per gallon - indicates how many miles a vehicle can travel using one gallon of fuel.
A27: School grounds terms
A28: Aeroponic gardening | B28: Aeroponic gardening is the process of growing plants in an air or mist environment rather than soil.
A29: Mulch | B29: A material (such as decaying leaves, bark, or compost) spread around or over a plant to enrich or insulate the soil.
