Workbook

Sheet output report
A1: Combined Board Check Register
A2: School: | B2: ACLC
A3: Month: | B3: April 2023
E6: Total Paid By Check: | G6: =SUMIF(A10:A10000, "Check", G10:G10000) -> 132395.04
E7: Total Paid By Credit Card: | G7: =SUMIF(A10:A10000, "Credit Card", G10:G10000) -> 22137.83
A9: Payment Type | B9: Check #/CC Account | C9: Vendor | D9: Transaction Date | E9: Description | F9: Void | G9: Amount
A10: =IF(ISBLANK('paste raw data here'!I2),"",IF(OR('paste raw data here'!I2="Check",'paste raw data here'!I2="Bill Payment"),"Check",'paste raw data here'!I2)) -> Check | B10: =IF('paste raw data here'!I2="","",IF(OR('paste raw data here'!I2="Check",'paste raw data here'!I2="Bill Payment"),'paste raw data here'!D2,'paste raw data here'!K2)) -> 52312 | C10: =IF(ISBLANK('paste raw data here'!C2),"",'paste raw data here'!C2) -> AT&T Mobility | D10: =IF(ISBLANK('paste raw data here'!E2),"",'paste raw data here'!E2) -> 45021 | E10: =IF(AND(ISBLANK('paste raw data here'!F2),ISBLANK('paste raw data here'!G2)),"",SUBSTITUTE(SUBSTITUTE(SUBSTITUTE('paste raw data here'!F2&'paste raw data here'!G2,"<br>Bill #","<br>Bill #Bill #"),"<br>Bill #",CHAR(10)),"<br>"," ")) -> Bill #287314158096X03212023--Services due by 04/08/23 | F10: =IF(ISBLANK('paste raw data here'!J2),"",'paste raw data here'!J2) | G10: =IF(ISBLANK('paste raw data here'!H2),"",'paste raw data here'!H2) -> 96.57
A11: =IF(ISBLANK('paste raw data here'!I3),"",IF(OR('paste raw data here'!I3="Check",'paste raw data here'!I3="Bill Payment"),"Check",'paste raw data here'!I3)) -> Check | B11: =IF('paste raw data here'!I3="","",IF(OR('paste raw data here'!I3="Check",'paste raw data here'!I3="Bill Payment"),'paste raw data here'!D3,'paste raw data here'!K3)) -> 52313 | C11: =IF(ISBLANK('paste raw data here'!C3),"",'paste raw data here'!C3) -> Brady Industries | D11: =IF(ISBLANK('paste raw data here'!E3),"",'paste raw data here'!E3) -> 45021 | E11: =IF(AND(ISBLANK('paste raw data here'!F3),ISBLANK('paste raw data here'!G3)),"",SUBSTITUTE(SUBSTITUTE(SUBSTITUTE('paste raw data here'!F3&'paste raw data here'!G3,"<br>Bill #","<br>Bill #Bill #"),"<br>Bill #",CHAR(10)),"<br>"," ")) -> Bill #FQ5587592--Custodial Supplies Bill #FQ558759--Custodial Supplies | F11: =IF(ISBLANK('paste raw data here'!J3),"",'paste raw data here'!J3) | G11: =IF(ISBLANK('paste raw data here'!H3),"",'paste raw data here'!H3) -> 364.69
A12: =IF(ISBLANK('paste raw data here'!I4),"",IF(OR('paste raw data here'!I4="Check",'paste raw data here'!I4="Bill Payment"),"Check",'paste raw data here'!I4)) -> Check | B12: =IF('paste raw data here'!I4="","",IF(OR('paste raw data here'!I4="Check",'paste raw data here'!I4="Bill Payment"),'paste raw data here'!D4,'paste raw data here'!K4)) -> 52314 | C12: =IF(ISBLANK('paste raw data here'!C4),"",'paste raw data here'!C4) -> Courtney Cerefice | D12: =IF(ISBLANK('paste raw data here'!E4),"",'paste raw data here'!E4) -> 45021 | E12: =IF(AND(ISBLANK('paste raw data here'!F4),ISBLANK('paste raw data here'!G4)),"",SUBSTITUTE(SUBSTITUTE(SUBSTITUTE('paste raw data here'!F4&'paste raw data here'!G4,"<br>Bill #","<br>Bill #Bill #"),"<br>Bill #",CHAR(10)),"<br>"," ")) -> Bill #032123--Reimb: Snacks | F12: =IF(ISBLANK('paste raw data here'!J4),"",'paste raw data here'!J4) | G12: =IF(ISBLANK('paste raw data here'!H4),"",'paste raw data here'!H4) -> 241.66
A13: =IF(ISBLANK('paste raw data here'!I5),"",IF(OR('paste raw data here'!I5="Check",'paste raw data here'!I5="Bill Payment"),"Check",'paste raw data here'!I5)) -> Check | B13: =IF('paste raw data here'!I5="","",IF(OR('paste raw data here'!I5="Check",'paste raw data here'!I5="Bill Payment"),'paste raw data here'!D5,'paste raw data here'!K5)) -> 52315 | C13: =IF(ISBLANK('paste raw data here'!C5),"",'paste raw data here'!C5) -> Colonial Life | D13: =IF(ISBLANK('paste raw data here'!E5),"",'paste raw data here'!E5) -> 45021 | E13: =IF(AND(ISBLANK('paste raw data here'!F5),ISBLANK('paste raw data here'!G5)),"",SUBSTITUTE(SUBSTITUTE(SUBSTITUTE('paste raw data here'!F5&'paste raw data here'!G5,"<br>Bill #","<br>Bill #Bill #"),"<br>Bill #",CHAR(10)),"<br>"," ")) -> Bill #36281040401546--March 2023 Ins Premium | F13: =IF(ISBLANK('paste raw data here'!J5),"",'paste raw data here'!J5) | G13: =IF(ISBLANK('paste raw data here'!H5),"",'paste raw data here'!H5) -> 77.29
A14: =IF(ISBLANK('paste raw data here'!I6),"",IF(OR('paste raw data here'!I6="Check",'paste raw data here'!I6="Bill Payment"),"Check",'paste raw data here'!I6)) -> Check | B14: =IF('paste raw data here'!I6="","",IF(OR('paste raw data here'!I6="Check",'paste raw data here'!I6="Bill Payment"),'paste raw data here'!D6,'paste raw data here'!K6)) -> 52316 | C14: =IF(ISBLANK('paste raw data here'!C6),"",'paste raw data here'!C6) -> Molly Fenn | D14: =IF(ISBLANK('paste raw data here'!E6),"",'paste raw data here'!E6) -> 45021 | E14: =IF(AND(ISBLANK('paste raw data here'!F6),ISBLANK('paste raw data here'!G6)),"",SUBSTITUTE(SUBSTITUTE(SUBSTITUTE('paste raw data here'!F6&'paste raw data here'!G6,"<br>Bill #","<br>Bill #Bill #"),"<br>Bill #",CHAR(10)),"<br>"," ")) -> Bill #030623--Reimb: Lodging for CADA Transportation for CADA & Lunch and Breakfast at CADA | F14: =IF(ISBLANK('paste raw data here'!J6),"",'paste raw data here'!J6) | G14: =IF(ISBLANK('paste raw data here'!H6),"",'paste raw data here'!H6) -> 606.73
A15: =IF(ISBLANK('paste raw data here'!I7),"",IF(OR('paste raw data here'!I7="Check",'paste raw data here'!I7="Bill Payment"),"Check",'paste raw data here'!I7)) -> Check | B15: =IF('paste raw data here'!I7="","",IF(OR('paste raw data here'!I7="Check",'paste raw data here'!I7="Bill Payment"),'paste raw data here'!D7,'paste raw data here'!K7)) -> 52317 | C15: =IF(ISBLANK('paste raw data here'!C7),"",'paste raw data here'!C7) -> Lina's Janitorial Services | D15: =IF(ISBLANK('paste raw data here'!E7),"",'paste raw data here'!E7) -> 45021 | E15: =IF(AND(ISBLANK('paste raw data here'!F7),ISBLANK('paste raw data here'!G7)),"",SUBSTITUTE(SUBSTITUTE(SUBSTITUTE('paste raw data here'!F7&'paste raw data here'!G7,"<br>Bill #","<br>Bill #Bill #"),"<br>Bill #",CHAR(10)),"<br>"," ")) -> Bill #79--Janitorial Svcs | F15: =IF(ISBLANK('paste raw data here'!J7),"",'paste raw data here'!J7) | G15: =IF(ISBLANK('paste raw data here'!H7),"",'paste raw data here'!H7) -> 6442.8
A16: =IF(ISBLANK('paste raw data here'!I8),"",IF(OR('paste raw data here'!I8="Check",'paste raw data here'!I8="Bill Payment"),"Check",'paste raw data here'!I8)) -> Check | B16: =IF('paste raw data here'!I8="","",IF(OR('paste raw data here'!I8="Check",'paste raw data here'!I8="Bill Payment"),'paste raw data here'!D8,'paste raw data here'!K8)) -> 52318 | C16: =IF(ISBLANK('paste raw data here'!C8),"",'paste raw data here'!C8) -> ODP Business Solutions, LLC | D16: =IF(ISBLANK('paste raw data here'!E8),"",'paste raw data here'!E8) -> 45021 | E16: =IF(AND(ISBLANK('paste raw data here'!F8),ISBLANK('paste raw data here'!G8)),"",SUBSTITUTE(SUBSTITUTE(SUBSTITUTE('paste raw data here'!F8&'paste raw data here'!G8,"<br>Bill #","<br>Bill #Bill #"),"<br>Bill #",CHAR(10)),"<br>"," ")) -> Bill #304606429001--Office Supplies Bill #302872419001--Office Supplies | F16: =IF(ISBLANK('paste raw data here'!J8),"",'paste raw data here'!J8) | G16: =IF(ISBLANK('paste raw data here'!H8),"",'paste raw data here'!H8) -> 225.01
A17: =IF(ISBLANK('paste raw data here'!I9),"",IF(OR('paste raw data here'!I9="Check",'paste raw data here'!I9="Bill Payment"),"Check",'paste raw data here'!I9)) -> Check | B17: =IF('paste raw data here'!I9="","",IF(OR('paste raw data here'!I9="Check",'paste raw data here'!I9="Bill Payment"),'paste raw data here'!D9,'paste raw data here'!K9)) -> 52319 | C17: =IF(ISBLANK('paste raw data here'!C9),"",'paste raw data here'!C9) -> Purchase Power | D17: =IF(ISBLANK('paste raw data here'!E9),"",'paste raw data here'!E9) -> 45021 | E17: =IF(AND(ISBLANK('paste raw data here'!F9),ISBLANK('paste raw data here'!G9)),"",SUBSTITUTE(SUBSTITUTE(SUBSTITUTE('paste raw data here'!F9&'paste raw data here'!G9,"<br>Bill #","<br>Bill #Bill #"),"<br>Bill #",CHAR(10)),"<br>"," ")) -> Bill #032123--Postage & Other Charges | F17: =IF(ISBLANK('paste raw data here'!J9),"",'paste raw data here'!J9) | G17: =IF(ISBLANK('paste raw data here'!H9),"",'paste raw data here'!H9) -> 371.56
A18: =IF(ISBLANK('paste raw data here'!I10),"",IF(OR('paste raw data here'!I10="Check",'paste raw data here'!I10="Bill Payment"),"Check",'paste raw data here'!I10)) -> Check | B18: =IF('paste raw data here'!I10="","",IF(OR('paste raw data here'!I10="Check",'paste raw data here'!I10="Bill Payment"),'paste raw data here'!D10,'paste raw data here'!K10)) -> 52320 | C18: =IF(ISBLANK('paste raw data here'!C10),"",'paste raw data here'!C10) -> Teachers on Reserve | D18: =IF(ISBLANK('paste raw data here'!E10),"",'paste raw data here'!E10) -> 45021 | E18: =IF(AND(ISBLANK('paste raw data here'!F10),ISBLANK('paste raw data here'!G10)),"",SUBSTITUTE(SUBSTITUTE(SUBSTITUTE('paste raw data here'!F10&'paste raw data here'!G10,"<br>Bill #","<br>Bill #Bill #"),"<br>Bill #",CHAR(10)),"<br>"," ")) -> Bill #93959--Substitute Svc: 03/13 - 03/17/23 | F18: =IF(ISBLANK('paste raw data here'!J10),"",'paste raw data here'!J10) | G18: =IF(ISBLANK('paste raw data here'!H10),"",'paste raw data here'!H10) -> 1232.06
A19: =IF(ISBLANK('paste raw data here'!I11),"",IF(OR('paste raw data here'!I11="Check",'paste raw data here'!I11="Bill Payment"),"Check",'paste raw data here'!I11)) -> Check | B19: =IF('paste raw data here'!I11="","",IF(OR('paste raw data here'!I11="Check",'paste raw data here'!I11="Bill Payment"),'paste raw data here'!D11,'paste raw data here'!K11)) -> 52321 | C19: =IF(ISBLANK('paste raw data here'!C11),"",'paste raw data here'!C11) -> Verizon | D19: =IF(ISBLANK('paste raw data here'!E11),"",'paste raw data here'!E11) -> 45021 | E19: =IF(AND(ISBLANK('paste raw data here'!F11),ISBLANK('paste raw data here'!G11)),"",SUBSTITUTE(SUBSTITUTE(SUBSTITUTE('paste raw data here'!F11&'paste raw data here'!G11,"<br>Bill #","<br>Bill #Bill #"),"<br>Bill #",CHAR(10)),"<br>"," ")) -> Bill #9930610743--Internet Charges: 02/21 - 03/20/23 | F19: =IF(ISBLANK('paste raw data here'!J11),"",'paste raw data here'!J11) | G19: =IF(ISBLANK('paste raw data here'!H11),"",'paste raw data here'!H11) -> 1036.25
A20: =IF(ISBLANK('paste raw data here'!I12),"",IF(OR('paste raw data here'!I12="Check",'paste raw data here'!I12="Bill Payment"),"Check",'paste raw data here'!I12)) -> Check | B20: =IF('paste raw data here'!I12="","",IF(OR('paste raw data here'!I12="Check",'paste raw data here'!I12="Bill Payment"),'paste raw data here'!D12,'paste raw data here'!K12)) -> 52322 | C20: =IF(ISBLANK('paste raw data here'!C12),"",'paste raw data here'!C12) -> Xerox Financial Services | D20: =IF(ISBLANK('paste raw data here'!E12),"",'paste raw data here'!E12) -> 45021 | E20: =IF(AND(ISBLANK('paste raw data here'!F12),ISBLANK('paste raw data here'!G12)),"",SUBSTITUTE(SUBSTITUTE(SUBSTITUTE('paste raw data here'!F12&'paste raw data here'!G12,"<br>Bill #","<br>Bill #Bill #"),"<br>Bill #",CHAR(10)),"<br>"," ")) -> Bill #4051892--Lease Payment: 03/11 - 04/10/23 | F20: =IF(ISBLANK('paste raw data here'!J12),"",'paste raw data here'!J12) | G20: =IF(ISBLANK('paste raw data here'!H12),"",'paste raw data here'!H12) -> 1832.47
A21: =IF(ISBLANK('paste raw data here'!I13),"",IF(OR('paste raw data here'!I13="Check",'paste raw data here'!I13="Bill Payment"),"Check",'paste raw data here'!I13)) -> Check | B21: =IF('paste raw data here'!I13="","",IF(OR('paste raw data here'!I13="Check",'paste raw data here'!I13="Bill Payment"),'paste raw data here'!D13,'paste raw data here'!K13)) -> 52323 | C21: =IF(ISBLANK('paste raw data here'!C13),"",'paste raw data here'!C13) -> Latrice Bennett | D21: =IF(ISBLANK('paste raw data here'!E13),"",'paste raw data here'!E13) -> 45028 | E21: =IF(AND(ISBLANK('paste raw data here'!F13),ISBLANK('paste raw data here'!G13)),"",SUBSTITUTE(SUBSTITUTE(SUBSTITUTE('paste raw data here'!F13&'paste raw data here'!G13,"<br>Bill #","<br>Bill #Bill #"),"<br>Bill #",CHAR(10)),"<br>"," ")) -> Bill #032923--Reimb: Dinner day & Milaege | F21: =IF(ISBLANK('paste raw data here'!J13),"",'paste raw data here'!J13) | G21: =IF(ISBLANK('paste raw data here'!H13),"",'paste raw data here'!H13) -> 101.57
... A431: =IF(ISBLANK('paste raw data here'!I423),"",IF(OR('paste raw data here'!I423="Check",'paste raw data here'!I423="Bill Payment"),"Check",'paste raw data here'!I423)) | B431: =IF('paste raw data here'!I423="","",IF(OR('paste raw data here'!I423="Check",'paste raw data here'!I423="Bill Payment"),'paste raw data here'!D423,'paste raw data here'!K423)) | C431: =IF(ISBLANK('paste raw data here'!C423),"",'paste raw data here'!C423) | D431: =IF(ISBLANK('paste raw data here'!E423),"",'paste raw data here'!E423) | E431: =IF(AND(ISBLANK('paste raw data here'!F423),ISBLANK('paste raw data here'!G423)),"",SUBSTITUTE(SUBSTITUTE(SUBSTITUTE('paste raw data here'!F423&'paste raw data here'!G423,"<br>Bill #","<br>Bill #Bill #"),"<br>Bill #",CHAR(10)),"<br>"," ")) | F431: =IF(ISBLANK('paste raw data here'!J423),"",'paste raw data here'!J423) | G431: =IF(ISBLANK('paste raw data here'!H423),"",'paste raw data here'!H423)

Sheet paste raw data here
A1: Internal ID | B1: Subsidiary | C1: Payee Name | D1: Check Number | E1: Payment Date | F1: Inv Description / Memo (Checks and CC) | G1: Inv Description / Memo (Bill Pmt) | H1: Amount | I1: Type | J1: Status | K1: Account Number
A2: 8142884 | B2: Alameda Community Learning Center (ACLC) | C2: AT&T Mobility | D2: 52312 | E2: 45021 | G2: Bill #287314158096X03212023--Services due by 04/08/23 | H2: 96.57 | I2: Bill Payment | K2: 9121-2364
A3: 8142885 | B3: Alameda Community Learning Center (ACLC) | C3: Brady Industries | D3: 52313 | E3: 45021 | G3: Bill #FQ5587592--Custodial Supplies<br>Bill #FQ558759--Custodial Supplies | H3: 364.69 | I3: Bill Payment | K3: 9121-2364
A4: 8142886 | B4: Alameda Community Learning Center (ACLC) | C4: Courtney Cerefice | D4: 52314 | E4: 45021 | G4: Bill #032123--Reimb: Snacks | H4: 241.66 | I4: Bill Payment | K4: 9121-2364
A5: 8142887 | B5: Alameda Community Learning Center (ACLC) | C5: Colonial Life | D5: 52315 | E5: 45021 | G5: Bill #36281040401546--March 2023 Ins Premium | H5: 77.29 | I5: Bill Payment | K5: 9121-2364
A6: 8142888 | B6: Alameda Community Learning Center (ACLC) | C6: Molly Fenn | D6: 52316 | E6: 45021 | G6: Bill #030623--Reimb: Lodging for CADA<br> Transportation for CADA & Lunch and Breakfast at CADA | H6: 606.73 | I6: Bill Payment | K6: 9121-2364
A7: 8142889 | B7: Alameda Community Learning Center (ACLC) | C7: Lina's Janitorial Services | D7: 52317 | E7: 45021 | G7: Bill #79--Janitorial Svcs | H7: 6442.8 | I7: Bill Payment | K7: 9121-2364
A8: 8142890 | B8: Alameda Community Learning Center (ACLC) | C8: ODP Business Solutions, LLC | D8: 52318 | E8: 45021 | G8: Bill #304606429001--Office Supplies<br>Bill #302872419001--Office Supplies | H8: 225.01 | I8: Bill Payment | K8: 9121-2364
A9: 8142891 | B9: Alameda Community Learning Center (ACLC) | C9: Purchase Power | D9: 52319 | E9: 45021 | G9: Bill #032123--Postage & Other Charges | H9: 371.56 | I9: Bill Payment | K9: 9121-2364
A10: 8142892 | B10: Alameda Community Learning Center (ACLC) | C10: Teachers on Reserve | D10: 52320 | E10: 45021 | G10: Bill #93959--Substitute Svc: 03/13 - 03/17/23 | H10: 1232.06 | I10: Bill Payment | K10: 9121-2364
A11: 8142893 | B11: Alameda Community Learning Center (ACLC) | C11: Verizon | D11: 52321 | E11: 45021 | G11: Bill #9930610743--Internet Charges: 02/21 - 03/20/23 | H11: 1036.25 | I11: Bill Payment | K11: 9121-2364
A12: 8142894 | B12: Alameda Community Learning Center (ACLC) | C12: Xerox Financial Services | D12: 52322 | E12: 45021 | G12: Bill #4051892--Lease Payment: 03/11 - 04/10/23 | H12: 1832.47 | I12: Bill Payment | K12: 9121-2364
A13: 8162159 | B13: Alameda Community Learning Center (ACLC) | C13: Latrice Bennett | D13: 52323 | E13: 45028 | G13: Bill #032923--Reimb: Dinner day & Milaege | H13: 101.57 | I13: Bill Payment | K13: 9121-2364
... A45: 8214227 | B45: Alameda Community Learning Center (ACLC) | C45: The Phillips Academy | D45: 52355 | E45: 45042 | G45: Bill #2022-2023.208--N. Neumansky Tution & Counseling and Guidance - March 2023 | H45: 6908.91 | I45: Bill Payment | K45: 9121-2364
A46: 8243560 | B46: Alameda Community Learning Center (ACLC) | C46: Molly Fenn | D46: M1121 | E46: 45035 | F46: M1121 - Fenn, Molly (ee) - Reimb Lost Inmail | H46: 101.75 | I46: Check | K46: 9129-2372
A47: 8154900 | B47: Alameda Community Learning Center (ACLC) | C47: Amazon Mktplace Pmts | D47: - None - | E47: 45025 | F47: 03/09 - Amazon Mktplace Pmts | H47: 8.32 | I47: Credit Card | K47: 9515-2033
A48: 8155200 | B48: Alameda Community Learning Center (ACLC) | C48: MARRIOTT VISALIA | D48: - None - | E48: 45025 | F48: 03/18 - MARRIOTT VISALIA | H48: 190.71 | I48: Credit Card | K48: 9515-2033
A49: 8155500 | B49: Alameda Community Learning Center (ACLC) | C49: Amazon Mktplace Pmts | D49: - None - | E49: 45025 | F49: 04/03 - Amazon Mktplace Pmts | H49: 19.52 | I49: Credit Card | K49: 9515-2033
A50: 8154882 | B50: Alameda Community Learning Center (ACLC) | C50: Hyatt Regency | D50: - None - | E50: 45025 | F50: 03/15 - Hyatt Regency | H50: 277.71 | I50: Credit Card | K50: 9515-2033
A51: 8154884 | B51: Alameda Community Learning Center (ACLC) | C51: SMK*Surveymonkey | D51: - None - | E51: 45025 | F51: 04/02 - SMK*Surveymonkey | H51: 48 | I51: Credit Card | K51: 9515-2033
A52: 8154887 | B52: Alameda Community Learning Center (ACLC) | C52: Amazon Mktplace Pmts | D52: - None - | E52: 45025 | F52: 03/09 - Amazon Mktplace Pmts | H52: 19.92 | I52: Credit Card | K52: 9515-2033
A53: 8154893 | B53: Alameda Community Learning Center (ACLC) | C53: Amazon Mktplace Pmts | D53: - None - | E53: 45025 | F53: 03/09 - Amazon Mktplace Pmts | H53: 11.06 | I53: Credit Card | K53: 9515-2033
A54: 8154895 | B54: Alameda Community Learning Center (ACLC) | C54: Amazon Mktplace Pmts | D54: - None - | E54: 45025 | F54: 03/09 - Amazon Mktplace Pmts | H54: 10.67 | I54: Credit Card | K54: 9515-2033
A55: 8154898 | B55: Alameda Community Learning Center (ACLC) | C55: Amazon Mktplace Pmts | D55: - None - | E55: 45025 | F55: 03/09 - Amazon Mktplace Pmts | H55: 91.88 | I55: Credit Card | K55: 9515-2033
A56: 8155007 | B56: Alameda Community Learning Center (ACLC) | C56: Amazon Mktplace Pmts | D56: - None - | E56: 45025 | F56: 03/09 - Amazon Mktplace Pmts | H56: 26.9 | I56: Credit Card | K56: 9515-2033
A57: 8155009 | B57: Alameda Community Learning Center (ACLC) | C57: Chipotle | D57: - None - | E57: 45025 | F57: 03/11 - Chipotle | H57: 394.66 | I57: Credit Card | K57: 9515-2033
... A137: 8155522 | B137: Alameda Community Learning Center (ACLC) | C137: Amazon Mktplace Pmts | D137: - None - | E137: 45025 | F137: 04/09 - Amazon Mktplace Pmts | H137: 44.29 | I137: Credit Card | K137: 9515-2033
