Workbook
Name LTSCLIST: '[1]Custom Solution Codes'!$A$2:$A$114

Sheet Chaparral MS
B2: CHAPARRAL MIDDLE SCHOOL
B3: Existing Fixtures | L3: Proposed Fixtures | Q3: Demand Savings (kW/year) | R3: Energy Savings (kWh/year) | S3: Utility Cost Savings (kWh/year) | T3: Unit Fixture Cost | U3: Estimated Total Cost
D4: Fixture Data | I4: Electric Demand (kW) | J4: Annual Hours of Operation | K4: Total Annual Energy Consumption (kWh) | L4: Fixture Code | M4: Fixture Description | N4: Input kW | O4: Electric Demand (kW) | P4: Total Annual Energy Consumption (kWh)
B5: Building | C5: Interior / Exterior | D5: Description | E5: Lamp Type | F5: Mounting | G5: kW | H5: Fixture Qty
A8: Ese | B8: O | C8: Interior | D8: Linear Fluorescent 1x4 | E8: F32T8/1-s | F8: Surface | G8: =IFERROR(VLOOKUP($E8,'Existing Lighting Schedule'!$A$3:$K$174,6,0),"") -> 0.031 | H8: 38 | I8: =G8*H8 -> 1.178 | J8: 1717 | K8: =I8*J8 -> 2022.626 | L8: =IFERROR(VLOOKUP($E8,'Existing Lighting Schedule'!$A$3:$K$174,7,0),"") -> LED23 | M8: =IFERROR(VLOOKUP($E8,'Existing Lighting Schedule'!$A$3:$K$174,10,0),"") -> LED Surface 4' (e.g. Deco DACH-LED-4-23-40 | N8: =IFERROR(VLOOKUP($E8,'Existing Lighting Schedule'!$A$3:$K$174,11,0),"") -> 0.023 | O8: =H8*N8 -> 0.874 | P8: =J8*O8 -> 1500.658 | Q8: =I8-O8 -> 0.304 | R8: =K8-P8 -> 521.968 | S8: =0.2304*R8 -> 120.26143 | T8: =IFERROR(VLOOKUP($L8,'Existing Lighting Schedule'!$G$3:$S$174,13,0),"") -> 251.65 | U8: =H8*T8 -> 9562.7
A9: Ese | B9: O | C9: Interior | D9: PAR 8" | E9: I36 | F9: Recessed | G9: =IFERROR(VLOOKUP($E9,'Existing Lighting Schedule'!$A$3:$K$174,6,0),"") -> 0.036 | H9: 16 | I9: =G9*H9 -> 0.576 | J9: 1717 | K9: =I9*J9 -> 988.992 | L9: =IFERROR(VLOOKUP($E9,'Existing Lighting Schedule'!$A$3:$K$174,7,0),"") -> LED8.5 | M9: =IFERROR(VLOOKUP($E9,'Existing Lighting Schedule'!$A$3:$K$174,10,0),"") -> LED A19 Lamp (e.g. Philips EnduraLED) | N9: =IFERROR(VLOOKUP($E9,'Existing Lighting Schedule'!$A$3:$K$174,11,0),"") -> 0.0085 | O9: =H9*N9 -> 0.136 | P9: =J9*O9 -> 233.512 | Q9: =I9-O9 -> 0.44 | R9: =K9-P9 -> 755.48 | S9: =0.2304*R9 -> 174.06259 | T9: =IFERROR(VLOOKUP($L9,'Existing Lighting Schedule'!$G$3:$S$174,13,0),"") -> 17.975 | U9: =H9*T9 -> 287.6
A10: Ese | B10: O | C10: Interior | D10: Linear Fluorescent 2x4 | E10: F32T8/2 | F10: Recessed | G10: =IFERROR(VLOOKUP($E10,'Existing Lighting Schedule'!$A$3:$K$174,6,0),"") -> 0.059 | H10: 6 | I10: =G10*H10 -> 0.354 | J10: 1717 | K10: =I10*J10 -> 607.818 | L10: =IFERROR(VLOOKUP($E10,'Existing Lighting Schedule'!$A$3:$K$174,7,0),"") -> LED26 | M10: =IFERROR(VLOOKUP($E10,'Existing Lighting Schedule'!$A$3:$K$174,10,0),"") -> LED Troffer 2'x4' (e.g. Lithonia 2VTL4-30L-LP840) | N10: =IFERROR(VLOOKUP($E10,'Existing Lighting Schedule'!$A$3:$K$174,11,0),"") -> 0.026 | O10: =H10*N10 -> 0.156 | P10: =J10*O10 -> 267.852 | Q10: =I10-O10 -> 0.198 | R10: =K10-P10 -> 339.966 | S10: =0.2304*R10 -> 78.328166 | T10: =IFERROR(VLOOKUP($L10,'Existing Lighting Schedule'!$G$3:$S$174,13,0),"") -> 287.6 | U10: =H10*T10 -> 1725.6
A11: Ese | B11: O | C11: Exterior | D11: High Pressure Sodium Wall Pack | E11: HPS70/1 | F11: Wall Pack | G11: =IFERROR(VLOOKUP($E11,'Existing Lighting Schedule'!$A$3:$K$174,6,0),"") -> 0.095 | H11: 5 | I11: =G11*H11 -> 0.475 | J11: 4100 | K11: =I11*J11 -> 1947.5 | L11: =IFERROR(VLOOKUP($E11,'Existing Lighting Schedule'!$A$3:$K$174,7,0),"") -> LED35/1 | M11: =IFERROR(VLOOKUP($E11,'Existing Lighting Schedule'!$A$3:$K$174,10,0),"") -> LED Wall Pack Fixture (e.g. Lithonia DSXW1-20C-530-40K) | N11: =IFERROR(VLOOKUP($E11,'Existing Lighting Schedule'!$A$3:$K$174,11,0),"") -> 0.035 | O11: =H11*N11 -> 0.175 | P11: =J11*O11 -> 717.5 | Q11: 0 | R11: =K11-P11 -> 1230 | S11: =0.2304*R11 -> 283.392 | T11: =IFERROR(VLOOKUP($L11,'Existing Lighting Schedule'!$G$3:$S$174,13,0),"") -> 1078.5 | U11: =H11*T11 -> 5392.5
A12: Ese | B12: P | C12: Interior | D12: Linear Fluorescent 2x4 | E12: F32T8/3 | F12: Recessed | G12: =IFERROR(VLOOKUP($E12,'Existing Lighting Schedule'!$A$3:$K$174,6,0),"") -> 0.089 | H12: 90 | I12: =G12*H12 -> 8.01 | J12: 1717 | K12: =I12*J12 -> 13753.17 | L12: =IFERROR(VLOOKUP($E12,'Existing Lighting Schedule'!$A$3:$K$174,7,0),"") -> LED39 | M12: =IFERROR(VLOOKUP($E12,'Existing Lighting Schedule'!$A$3:$K$174,10,0),"") -> LED Volumetric Kit 2'x4' (e.g. Lithonia 2VTL4-48L-LP840) | N12: =IFERROR(VLOOKUP($E12,'Existing Lighting Schedule'!$A$3:$K$174,11,0),"") -> 0.039 | O12: =H12*N12 -> 3.51 | P12: =J12*O12 -> 6026.67 | Q12: =I12-O12 -> 4.5 | R12: =K12-P12 -> 7726.5 | S12: =0.2304*R12 -> 1780.1856 | T12: =IFERROR(VLOOKUP($L12,'Existing Lighting Schedule'!$G$3:$S$174,13,0),"") -> 287.6 | U12: =H12*T12 -> 25884
A13: Ese | B13: P | C13: Interior | D13: Linear Fluorescent 1x4 | E13: F32T8/2-s | F13: Surface | G13: =IFERROR(VLOOKUP($E13,'Existing Lighting Schedule'!$A$3:$K$174,6,0),"") -> 0.059 | H13: 6 | I13: =G13*H13 -> 0.354 | J13: 1717 | K13: =I13*J13 -> 607.818 | L13: =IFERROR(VLOOKUP($E13,'Existing Lighting Schedule'!$A$3:$K$174,7,0),"") -> LED34 | M13: =IFERROR(VLOOKUP($E13,'Existing Lighting Schedule'!$A$3:$K$174,10,0),"") -> LED Surface 1'x4' (e.g. Deco DSW-LED-4-35-40) | N13: =IFERROR(VLOOKUP($E13,'Existing Lighting Schedule'!$A$3:$K$174,11,0),"") -> 0.034 | O13: =H13*N13 -> 0.204 | P13: =J13*O13 -> 350.268 | Q13: =I13-O13 -> 0.15 | R13: =K13-P13 -> 257.55 | S13: =0.2304*R13 -> 59.33952 | T13: =IFERROR(VLOOKUP($L13,'Existing Lighting Schedule'!$G$3:$S$174,13,0),"") -> 377.475 | U13: =H13*T13 -> 2264.85
A14: Ese | B14: A | C14: Interior | D14: Linear Fluorescent 2x4 | E14: F32T8/3 | F14: Recessed | G14: =IFERROR(VLOOKUP($E14,'Existing Lighting Schedule'!$A$3:$K$174,6,0),"") -> 0.089 | H14: 24 | I14: =G14*H14 -> 2.136 | J14: 1717 | K14: =I14*J14 -> 3667.512 | L14: =IFERROR(VLOOKUP($E14,'Existing Lighting Schedule'!$A$3:$K$174,7,0),"") -> LED39 | M14: =IFERROR(VLOOKUP($E14,'Existing Lighting Schedule'!$A$3:$K$174,10,0),"") -> LED Volumetric Kit 2'x4' (e.g. Lithonia 2VTL4-48L-LP840) | N14: =IFERROR(VLOOKUP($E14,'Existing Lighting Schedule'!$A$3:$K$174,11,0),"") -> 0.039 | O14: =H14*N14 -> 0.936 | P14: =J14*O14 -> 1607.112 | Q14: =I14-O14 -> 1.2 | R14: =K14-P14 -> 2060.4 | S14: =0.2304*R14 -> 474.71616 | T14: =IFERROR(VLOOKUP($L14,'Existing Lighting Schedule'!$G$3:$S$174,13,0),"") -> 287.6 | U14: =H14*T14 -> 6902.4
A15: Ese | B15: A | C15: Interior | D15: Linear Fluorescent 1x4 | E15: F32T8/2-s | F15: Surface | G15: =IFERROR(VLOOKUP($E15,'Existing Lighting Schedule'!$A$3:$K$174,6,0),"") -> 0.059 | H15: 3 | I15: =G15*H15 -> 0.177 | J15: 1717 | K15: =I15*J15 -> 303.909 | L15: =IFERROR(VLOOKUP($E15,'Existing Lighting Schedule'!$A$3:$K$174,7,0),"") -> LED34 | M15: =IFERROR(VLOOKUP($E15,'Existing Lighting Schedule'!$A$3:$K$174,10,0),"") -> LED Surface 1'x4' (e.g. Deco DSW-LED-4-35-40) | N15: =IFERROR(VLOOKUP($E15,'Existing Lighting Schedule'!$A$3:$K$174,11,0),"") -> 0.034 | O15: =H15*N15 -> 0.102 | P15: =J15*O15 -> 175.134 | Q15: =I15-O15 -> 0.075 | R15: =K15-P15 -> 128.775 | S15: =0.2304*R15 -> 29.66976 | T15: =IFERROR(VLOOKUP($L15,'Existing Lighting Schedule'!$G$3:$S$174,13,0),"") -> 377.475 | U15: =H15*T15 -> 1132.425
A16: Ese | B16: A | C16: Interior | D16: Linear Fluorescent 1x4 | E16: F32T8/1-s | F16: Surface | G16: =IFERROR(VLOOKUP($E16,'Existing Lighting Schedule'!$A$3:$K$174,6,0),"") -> 0.031 | H16: 1 | I16: =G16*H16 -> 0.031 | J16: 1717 | K16: =I16*J16 -> 53.227 | L16: =IFERROR(VLOOKUP($E16,'Existing Lighting Schedule'!$A$3:$K$174,7,0),"") -> LED23 | M16: =IFERROR(VLOOKUP($E16,'Existing Lighting Schedule'!$A$3:$K$174,10,0),"") -> LED Surface 4' (e.g. Deco DACH-LED-4-23-40 | N16: =IFERROR(VLOOKUP($E16,'Existing Lighting Schedule'!$A$3:$K$174,11,0),"") -> 0.023 | O16: =H16*N16 -> 0.023 | P16: =J16*O16 -> 39.491 | Q16: =I16-O16 -> 0.008 | R16: =K16-P16 -> 13.736 | S16: =0.2304*R16 -> 3.1647744 | T16: =IFERROR(VLOOKUP($L16,'Existing Lighting Schedule'!$G$3:$S$174,13,0),"") -> 251.65 | U16: =H16*T16 -> 251.65
A17: Ese | B17: C | C17: Interior | D17: Linear Fluorescent 2x4 | E17: F32T8/3 | F17: Recessed | G17: =IFERROR(VLOOKUP($E17,'Existing Lighting Schedule'!$A$3:$K$174,6,0),"") -> 0.089 | H17: 24 | I17: =G17*H17 -> 2.136 | J17: 1717 | K17: =I17*J17 -> 3667.512 | L17: =IFERROR(VLOOKUP($E17,'Existing Lighting Schedule'!$A$3:$K$174,7,0),"") -> LED39 | M17: =IFERROR(VLOOKUP($E17,'Existing Lighting Schedule'!$A$3:$K$174,10,0),"") -> LED Volumetric Kit 2'x4' (e.g. Lithonia 2VTL4-48L-LP840) | N17: =IFERROR(VLOOKUP($E17,'Existing Lighting Schedule'!$A$3:$K$174,11,0),"") -> 0.039 | O17: =H17*N17 -> 0.936 | P17: =J17*O17 -> 1607.112 | Q17: =I17-O17 -> 1.2 | R17: =K17-P17 -> 2060.4 | S17: =0.2304*R17 -> 474.71616 | T17: =IFERROR(VLOOKUP($L17,'Existing Lighting Schedule'!$G$3:$S$174,13,0),"") -> 287.6 | U17: =H17*T17 -> 6902.4
A18: Ese | B18: C | C18: Interior | D18: Linear Fluorescent 1x4 | E18: F32T8/1-s | F18: Surface | G18: =IFERROR(VLOOKUP($E18,'Existing Lighting Schedule'!$A$3:$K$174,6,0),"") -> 0.031 | H18: 3 | I18: =G18*H18 -> 0.093 | J18: 1717 | K18: =I18*J18 -> 159.681 | L18: =IFERROR(VLOOKUP($E18,'Existing Lighting Schedule'!$A$3:$K$174,7,0),"") -> LED23 | M18: =IFERROR(VLOOKUP($E18,'Existing Lighting Schedule'!$A$3:$K$174,10,0),"") -> LED Surface 4' (e.g. Deco DACH-LED-4-23-40 | N18: =IFERROR(VLOOKUP($E18,'Existing Lighting Schedule'!$A$3:$K$174,11,0),"") -> 0.023 | O18: =H18*N18 -> 0.069 | P18: =J18*O18 -> 118.473 | Q18: =I18-O18 -> 0.024 | R18: =K18-P18 -> 41.208 | S18: =0.2304*R18 -> 9.4943232 | T18: =IFERROR(VLOOKUP($L18,'Existing Lighting Schedule'!$G$3:$S$174,13,0),"") -> 251.65 | U18: =H18*T18 -> 754.95
A19: Ese | B19: C | C19: Interior | D19: Linear Fluorescent 1x4 | E19: F32T8/2-s | F19: Surface | G19: =IFERROR(VLOOKUP($E19,'Existing Lighting Schedule'!$A$3:$K$174,6,0),"") -> 0.059 | H19: 6 | I19: =G19*H19 -> 0.354 | J19: 1717 | K19: =I19*J19 -> 607.818 | L19: =IFERROR(VLOOKUP($E19,'Existing Lighting Schedule'!$A$3:$K$174,7,0),"") -> LED34 | M19: =IFERROR(VLOOKUP($E19,'Existing Lighting Schedule'!$A$3:$K$174,10,0),"") -> LED Surface 1'x4' (e.g. Deco DSW-LED-4-35-40) | N19: =IFERROR(VLOOKUP($E19,'Existing Lighting Schedule'!$A$3:$K$174,11,0),"") -> 0.034 | O19: =H19*N19 -> 0.204 | P19: =J19*O19 -> 350.268 | Q19: =I19-O19 -> 0.15 | R19: =K19-P19 -> 257.55 | S19: =0.2304*R19 -> 59.33952 | T19: =IFERROR(VLOOKUP($L19,'Existing Lighting Schedule'!$G$3:$S$174,13,0),"") -> 377.475 | U19: =H19*T19 -> 2264.85
A20: Ese | B20: D | C20: Interior | D20: Linear Fluorescent 2x4 | E20: F32T8/3 | F20: Recessed | G20: =IFERROR(VLOOKUP($E20,'Existing Lighting Schedule'!$A$3:$K$174,6,0),"") -> 0.089 | H20: 36 | I20: =G20*H20 -> 3.204 | J20: 1717 | K20: =I20*J20 -> 5501.268 | L20: =IFERROR(VLOOKUP($E20,'Existing Lighting Schedule'!$A$3:$K$174,7,0),"") -> LED39 | M20: =IFERROR(VLOOKUP($E20,'Existing Lighting Schedule'!$A$3:$K$174,10,0),"") -> LED Volumetric Kit 2'x4' (e.g. Lithonia 2VTL4-48L-LP840) | N20: =IFERROR(VLOOKUP($E20,'Existing Lighting Schedule'!$A$3:$K$174,11,0),"") -> 0.039 | O20: =H20*N20 -> 1.404 | P20: =J20*O20 -> 2410.668 | Q20: =I20-O20 -> 1.8 | R20: =K20-P20 -> 3090.6 | S20: =0.2304*R20 -> 712.07424 | T20: =IFERROR(VLOOKUP($L20,'Existing Lighting Schedule'!$G$3:$S$174,13,0),"") -> 287.6 | U20: =H20*T20 -> 10353.6
A21: Ese | B21: D | C21: Interior | D21: Linear Fluorescent 1x4 | E21: F32T8/1-s | F21: Surface | G21: =IFERROR(VLOOKUP($E21,'Existing Lighting Schedule'!$A$3:$K$174,6,0),"") -> 0.031 | H21: 6 | I21: =G21*H21 -> 0.186 | J21: 1717 | K21: =I21*J21 -> 319.362 | L21: =IFERROR(VLOOKUP($E21,'Existing Lighting Schedule'!$A$3:$K$174,7,0),"") -> LED23 | M21: =IFERROR(VLOOKUP($E21,'Existing Lighting Schedule'!$A$3:$K$174,10,0),"") -> LED Surface 4' (e.g. Deco DACH-LED-4-23-40 | N21: =IFERROR(VLOOKUP($E21,'Existing Lighting Schedule'!$A$3:$K$174,11,0),"") -> 0.023 | O21: =H21*N21 -> 0.138 | P21: =J21*O21 -> 236.946 | Q21: =I21-O21 -> 0.048 | R21: =K21-P21 -> 82.416 | S21: =0.2304*R21 -> 18.988646 | T21: =IFERROR(VLOOKUP($L21,'Existing Lighting Schedule'!$G$3:$S$174,13,0),"") -> 251.65 | U21: =H21*T21 -> 1509.9
A22: Ese | B22: D | C22: Interior | D22: Linear Fluorescent 1x4 | E22: F32T8/2-s | F22: Surface | G22: =IFERROR(VLOOKUP($E22,'Existing Lighting Schedule'!$A$3:$K$174,6,0),"") -> 0.059 | H22: 7 | I22: =G22*H22 -> 0.413 | J22: 1717 | K22: =I22*J22 -> 709.121 | L22: =IFERROR(VLOOKUP($E22,'Existing Lighting Schedule'!$A$3:$K$174,7,0),"") -> LED34 | M22: =IFERROR(VLOOKUP($E22,'Existing Lighting Schedule'!$A$3:$K$174,10,0),"") -> LED Surface 1'x4' (e.g. Deco DSW-LED-4-35-40) | N22: =IFERROR(VLOOKUP($E22,'Existing Lighting Schedule'!$A$3:$K$174,11,0),"") -> 0.034 | O22: =H22*N22 -> 0.238 | P22: =J22*O22 -> 408.646 | Q22: =I22-O22 -> 0.175 | R22: =K22-P22 -> 300.475 | S22: =0.2304*R22 -> 69.22944 | T22: =IFERROR(VLOOKUP($L22,'Existing Lighting Schedule'!$G$3:$S$174,13,0),"") -> 377.475 | U22: =H22*T22 -> 2642.325
A23: Ese | B23: E | C23: Interior | D23: Linear Fluorescent 2x4 | E23: F32T8/3 | F23: Recessed | G23: =IFERROR(VLOOKUP($E23,'Existing Lighting Schedule'!$A$3:$K$174,6,0),"") -> 0.089 | H23: 48 | I23: =G23*H23 -> 4.272 | J23: 1717 | K23: =I23*J23 -> 7335.024 | L23: =IFERROR(VLOOKUP($E23,'Existing Lighting Schedule'!$A$3:$K$174,7,0),"") -> LED39 | M23: =IFERROR(VLOOKUP($E23,'Existing Lighting Schedule'!$A$3:$K$174,10,0),"") -> LED Volumetric Kit 2'x4' (e.g. Lithonia 2VTL4-48L-LP840) | N23: =IFERROR(VLOOKUP($E23,'Existing Lighting Schedule'!$A$3:$K$174,11,0),"") -> 0.039 | O23: =H23*N23 -> 1.872 | P23: =J23*O23 -> 3214.224 | Q23: =I23-O23 -> 2.4 | R23: =K23-P23 -> 4120.8 | S23: =0.2304*R23 -> 949.43232 | T23: =IFERROR(VLOOKUP($L23,'Existing Lighting Schedule'!$G$3:$S$174,13,0),"") -> 287.6 | U23: =H23*T23 -> 13804.8
... A42: Ese | B42: K | C42: Interior | D42: Linear Fluorescent 1x4 | E42: F32T8/2-s | F42: Surface | G42: =IFERROR(VLOOKUP($E42,'Existing Lighting Schedule'!$A$3:$K$174,6,0),"") -> 0.059 | H42: 2 | I42: =G42*H42 -> 0.118 | J42: 1717 | K42: =I42*J42 -> 202.606 | L42: =IFERROR(VLOOKUP($E42,'Existing Lighting Schedule'!$A$3:$K$174,7,0),"") -> LED34 | M42: =IFERROR(VLOOKUP($E42,'Existing Lighting Schedule'!$A$3:$K$174,10,0),"") -> LED Surface 1'x4' (e.g. Deco DSW-LED-4-35-40) | N42: =IFERROR(VLOOKUP($E42,'Existing Lighting Schedule'!$A$3:$K$174,11,0),"") -> 0.034 | O42: =H42*N42 -> 0.068 | P42: =J42*O42 -> 116.756 | Q42: =I42-O42 -> 0.05 | R42: =K42-P42 -> 85.85 | S42: =0.2304*R42 -> 19.77984 | T42: =IFERROR(VLOOKUP($L42,'Existing Lighting Schedule'!$G$3:$S$174,13,0),"") -> 377.475 | U42: =H42*T42 -> 754.95
A43: Ese | B43: K | C43: Exterior | D43: High Pressure Sodium Wall Pack | E43: HPS250/1 | F43: Wall Pack | G43: =IFERROR(VLOOKUP($E43,'Existing Lighting Schedule'!$A$3:$K$174,6,0),"") -> 0.295 | H43: 2 | I43: =G43*H43 -> 0.59 | J43: 4100 | K43: =I43*J43 -> 2419 | L43: =IFERROR(VLOOKUP($E43,'Existing Lighting Schedule'!$A$3:$K$174,7,0),"") -> LED54/1-WP | M43: =IFERROR(VLOOKUP($E43,'Existing Lighting Schedule'!$A$3:$K$174,10,0),"") -> LED Wall Pack Fixture (e.g. Lithonia DSXW2-30C-530-40K-T3M) | N43: =IFERROR(VLOOKUP($E43,'Existing Lighting Schedule'!$A$3:$K$174,11,0),"") -> 0.054 | O43: =H43*N43 -> 0.108 | P43: =J43*O43 -> 442.8 | Q43: 0 | R43: =K43-P43 -> 1976.2 | S43: =0.2304*R43 -> 455.31648 | T43: =IFERROR(VLOOKUP($L43,'Existing Lighting Schedule'!$G$3:$S$174,13,0),"") -> 629.125 | U43: =H43*T43 -> 1258.25
A44: Ese | B44: M | C44: Interior | D44: Linear Fluorescent 2x4 | E44: F32T8/3 | F44: Recessed | G44: =IFERROR(VLOOKUP($E44,'Existing Lighting Schedule'!$A$3:$K$174,6,0),"") -> 0.089 | H44: 96 | I44: =G44*H44 -> 8.544 | J44: 1717 | K44: =I44*J44 -> 14670.048 | L44: =IFERROR(VLOOKUP($E44,'Existing Lighting Schedule'!$A$3:$K$174,7,0),"") -> LED39 | M44: =IFERROR(VLOOKUP($E44,'Existing Lighting Schedule'!$A$3:$K$174,10,0),"") -> LED Volumetric Kit 2'x4' (e.g. Lithonia 2VTL4-48L-LP840) | N44: =IFERROR(VLOOKUP($E44,'Existing Lighting Schedule'!$A$3:$K$174,11,0),"") -> 0.039 | O44: =H44*N44 -> 3.744 | P44: =J44*O44 -> 6428.448 | Q44: =I44-O44 -> 4.8 | R44: =K44-P44 -> 8241.6 | S44: =0.2304*R44 -> 1898.8646 | T44: =IFERROR(VLOOKUP($L44,'Existing Lighting Schedule'!$G$3:$S$174,13,0),"") -> 287.6 | U44: =H44*T44 -> 27609.6
A45: Ese | B45: M | C45: Interior | D45: Linear Fluorescent 1x4 | E45: F32T8/1-s | F45: Surface | G45: =IFERROR(VLOOKUP($E45,'Existing Lighting Schedule'!$A$3:$K$174,6,0),"") -> 0.031 | H45: 4 | I45: =G45*H45 -> 0.124 | J45: 1717 | K45: =I45*J45 -> 212.908 | L45: =IFERROR(VLOOKUP($E45,'Existing Lighting Schedule'!$A$3:$K$174,7,0),"") -> LED23 | M45: =IFERROR(VLOOKUP($E45,'Existing Lighting Schedule'!$A$3:$K$174,10,0),"") -> LED Surface 4' (e.g. Deco DACH-LED-4-23-40 | N45: =IFERROR(VLOOKUP($E45,'Existing Lighting Schedule'!$A$3:$K$174,11,0),"") -> 0.023 | O45: =H45*N45 -> 0.092 | P45: =J45*O45 -> 157.964 | Q45: =I45-O45 -> 0.032 | R45: =K45-P45 -> 54.944 | S45: =0.2304*R45 -> 12.659098 | T45: =IFERROR(VLOOKUP($L45,'Existing Lighting Schedule'!$G$3:$S$174,13,0),"") -> 251.65 | U45: =H45*T45 -> 1006.6
A46: Ese | B46: M | C46: Interior | D46: Linear Fluorescent 1x4 | E46: F32T8/2-s | F46: Surface | G46: =IFERROR(VLOOKUP($E46,'Existing Lighting Schedule'!$A$3:$K$174,6,0),"") -> 0.059 | H46: 6 | I46: =G46*H46 -> 0.354 | J46: 1717 | K46: =I46*J46 -> 607.818 | L46: =IFERROR(VLOOKUP($E46,'Existing Lighting Schedule'!$A$3:$K$174,7,0),"") -> LED34 | M46: =IFERROR(VLOOKUP($E46,'Existing Lighting Schedule'!$A$3:$K$174,10,0),"") -> LED Surface 1'x4' (e.g. Deco DSW-LED-4-35-40) | N46: =IFERROR(VLOOKUP($E46,'Existing Lighting Schedule'!$A$3:$K$174,11,0),"") -> 0.034 | O46: =H46*N46 -> 0.204 | P46: =J46*O46 -> 350.268 | Q46: =I46-O46 -> 0.15 | R46: =K46-P46 -> 257.55 | S46: =0.2304*R46 -> 59.33952 | T46: =IFERROR(VLOOKUP($L46,'Existing Lighting Schedule'!$G$3:$S$174,13,0),"") -> 377.475 | U46: =H46*T46 -> 2264.85
A47: Ese | B47: M | C47: Interior | D47: Linear Fluorescent 2x4 | E47: F32T8/4 | F47: Recessed | G47: =IFERROR(VLOOKUP($E47,'Existing Lighting Schedule'!$A$3:$K$174,6,0),"") -> 0.112 | H47: 72 | I47: =G47*H47 -> 8.064 | J47: 1717 | K47: =I47*J47 -> 13845.888 | L47: =IFERROR(VLOOKUP($E47,'Existing Lighting Schedule'!$A$3:$K$174,7,0),"") -> LED39 | M47: =IFERROR(VLOOKUP($E47,'Existing Lighting Schedule'!$A$3:$K$174,10,0),"") -> LED Volumetric Kit 2'x4' (e.g. Lithonia 2VTL4-48L-LP840) | N47: =IFERROR(VLOOKUP($E47,'Existing Lighting Schedule'!$A$3:$K$174,11,0),"") -> 0.039 | O47: =H47*N47 -> 2.808 | P47: =J47*O47 -> 4821.336 | Q47: =I47-O47 -> 5.256 | R47: =K47-P47 -> 9024.552 | S47: =0.2304*R47 -> 2079.2568 | T47: =IFERROR(VLOOKUP($L47,'Existing Lighting Schedule'!$G$3:$S$174,13,0),"") -> 287.6 | U47: =H47*T47 -> 20707.2
A48: Ese | B48: SC | C48: Interior | D48: Linear Fluorescent 2x4 | E48: F32T8/2 | F48: Recessed | G48: =IFERROR(VLOOKUP($E48,'Existing Lighting Schedule'!$A$3:$K$174,6,0),"") -> 0.059 | H48: 11 | I48: =G48*H48 -> 0.649 | J48: 1717 | K48: =I48*J48 -> 1114.333 | L48: =IFERROR(VLOOKUP($E48,'Existing Lighting Schedule'!$A$3:$K$174,7,0),"") -> LED26 | M48: =IFERROR(VLOOKUP($E48,'Existing Lighting Schedule'!$A$3:$K$174,10,0),"") -> LED Troffer 2'x4' (e.g. Lithonia 2VTL4-30L-LP840) | N48: =IFERROR(VLOOKUP($E48,'Existing Lighting Schedule'!$A$3:$K$174,11,0),"") -> 0.026 | O48: =H48*N48 -> 0.286 | P48: =J48*O48 -> 491.062 | Q48: =I48-O48 -> 0.363 | R48: =K48-P48 -> 623.271 | S48: =0.2304*R48 -> 143.60164 | T48: =IFERROR(VLOOKUP($L48,'Existing Lighting Schedule'!$G$3:$S$174,13,0),"") -> 287.6 | U48: =H48*T48 -> 3163.6
A49: Ese | B49: SC | C49: Interior | D49: Linear Fluorescent 2x4 | E49: F32T8/3 | F49: Recessed | G49: =IFERROR(VLOOKUP($E49,'Existing Lighting Schedule'!$A$3:$K$174,6,0),"") -> 0.089 | H49: 82 | I49: =G49*H49 -> 7.298 | J49: 1717 | K49: =I49*J49 -> 12530.666 | L49: =IFERROR(VLOOKUP($E49,'Existing Lighting Schedule'!$A$3:$K$174,7,0),"") -> LED39 | M49: =IFERROR(VLOOKUP($E49,'Existing Lighting Schedule'!$A$3:$K$174,10,0),"") -> LED Volumetric Kit 2'x4' (e.g. Lithonia 2VTL4-48L-LP840) | N49: =IFERROR(VLOOKUP($E49,'Existing Lighting Schedule'!$A$3:$K$174,11,0),"") -> 0.039 | O49: =H49*N49 -> 3.198 | P49: =J49*O49 -> 5490.966 | Q49: =I49-O49 -> 4.1 | R49: =K49-P49 -> 7039.7 | S49: =0.2304*R49 -> 1621.9469 | T49: =IFERROR(VLOOKUP($L49,'Existing Lighting Schedule'!$G$3:$S$174,13,0),"") -> 287.6 | U49: =H49*T49 -> 23583.2
A50: Ese | B50: SC | C50: Interior | D50: Linear Fluorescent 1x4 | E50: F32T8/1-s | F50: Surface | G50: =IFERROR(VLOOKUP($E50,'Existing Lighting Schedule'!$A$3:$K$174,6,0),"") -> 0.031 | H50: 28 | I50: =G50*H50 -> 0.868 | J50: 1717 | K50: =I50*J50 -> 1490.356 | L50: =IFERROR(VLOOKUP($E50,'Existing Lighting Schedule'!$A$3:$K$174,7,0),"") -> LED23 | M50: =IFERROR(VLOOKUP($E50,'Existing Lighting Schedule'!$A$3:$K$174,10,0),"") -> LED Surface 4' (e.g. Deco DACH-LED-4-23-40 | N50: =IFERROR(VLOOKUP($E50,'Existing Lighting Schedule'!$A$3:$K$174,11,0),"") -> 0.023 | O50: =H50*N50 -> 0.644 | P50: =J50*O50 -> 1105.748 | Q50: =I50-O50 -> 0.224 | R50: =K50-P50 -> 384.608 | S50: =0.2304*R50 -> 88.613683 | T50: =IFERROR(VLOOKUP($L50,'Existing Lighting Schedule'!$G$3:$S$174,13,0),"") -> 251.65 | U50: =H50*T50 -> 7046.2
A51: Ese | B51: SC | C51: Interior | D51: Linear Fluorescent 2x4 | E51: F32T8/3-s | F51: Surface | G51: =IFERROR(VLOOKUP($E51,'Existing Lighting Schedule'!$A$3:$K$174,6,0),"") -> 0.089 | H51: 1 | I51: =G51*H51 -> 0.089 | J51: 1717 | K51: =I51*J51 -> 152.813 | L51: =IFERROR(VLOOKUP($E51,'Existing Lighting Schedule'!$A$3:$K$174,7,0),"") -> LED32 | M51: =IFERROR(VLOOKUP($E51,'Existing Lighting Schedule'!$A$3:$K$174,10,0),"") -> LED Surface 2'x4' (e.g. Lithonia 2TLX4-40L-A12-LP850) | N51: =IFERROR(VLOOKUP($E51,'Existing Lighting Schedule'!$A$3:$K$174,11,0),"") -> 0.032 | O51: =H51*N51 -> 0.032 | P51: =J51*O51 -> 54.944 | Q51: =I51-O51 -> 0.057 | R51: =K51-P51 -> 97.869 | S51: =0.2304*R51 -> 22.549018 | T51: =IFERROR(VLOOKUP($L51,'Existing Lighting Schedule'!$G$3:$S$174,13,0),"") -> 341.525 | U51: =H51*T51 -> 341.525
A52: Ese | B52: SC | C52: Interior | D52: Linear Fluorescent 2x4 | E52: F32T8/4 | F52: Recessed | G52: =IFERROR(VLOOKUP($E52,'Existing Lighting Schedule'!$A$3:$K$174,6,0),"") -> 0.112 | H52: 30 | I52: =G52*H52 -> 3.36 | J52: 1717 | K52: =I52*J52 -> 5769.12 | L52: =IFERROR(VLOOKUP($E52,'Existing Lighting Schedule'!$A$3:$K$174,7,0),"") -> LED39 | M52: =IFERROR(VLOOKUP($E52,'Existing Lighting Schedule'!$A$3:$K$174,10,0),"") -> LED Volumetric Kit 2'x4' (e.g. Lithonia 2VTL4-48L-LP840) | N52: =IFERROR(VLOOKUP($E52,'Existing Lighting Schedule'!$A$3:$K$174,11,0),"") -> 0.039 | O52: =H52*N52 -> 1.17 | P52: =J52*O52 -> 2008.89 | Q52: =I52-O52 -> 2.19 | R52: =K52-P52 -> 3760.23 | S52: =0.2304*R52 -> 866.35699 | T52: =IFERROR(VLOOKUP($L52,'Existing Lighting Schedule'!$G$3:$S$174,13,0),"") -> 287.6 | U52: =H52*T52 -> 8628
A53: Ese | B53: Gym | C53: Interior | D53: Linear Fluorescent 2x4 | E53: F32T8/4 | F53: Recessed | G53: =IFERROR(VLOOKUP($E53,'Existing Lighting Schedule'!$A$3:$K$174,6,0),"") -> 0.112 | H53: 12 | I53: =G53*H53 -> 1.344 | J53: 1717 | K53: =I53*J53 -> 2307.648 | L53: =IFERROR(VLOOKUP($E53,'Existing Lighting Schedule'!$A$3:$K$174,7,0),"") -> LED39 | M53: =IFERROR(VLOOKUP($E53,'Existing Lighting Schedule'!$A$3:$K$174,10,0),"") -> LED Volumetric Kit 2'x4' (e.g. Lithonia 2VTL4-48L-LP840) | N53: =IFERROR(VLOOKUP($E53,'Existing Lighting Schedule'!$A$3:$K$174,11,0),"") -> 0.039 | O53: =H53*N53 -> 0.468 | P53: =J53*O53 -> 803.556 | Q53: =I53-O53 -> 0.876 | R53: =K53-P53 -> 1504.092 | S53: =0.2304*R53 -> 346.5428 | T53: =IFERROR(VLOOKUP($L53,'Existing Lighting Schedule'!$G$3:$S$174,13,0),"") -> 287.6 | U53: =H53*T53 -> 3451.2
A54: Ese | B54: Gym | C54: Interior | D54: Linear Fluorescent 2x4 | E54: F32T8/3 | F54: Recessed | G54: =IFERROR(VLOOKUP($E54,'Existing Lighting Schedule'!$A$3:$K$174,6,0),"") -> 0.089 | H54: 42 | I54: =G54*H54 -> 3.738 | J54: 1717 | K54: =I54*J54 -> 6418.146 | L54: =IFERROR(VLOOKUP($E54,'Existing Lighting Schedule'!$A$3:$K$174,7,0),"") -> LED39 | M54: =IFERROR(VLOOKUP($E54,'Existing Lighting Schedule'!$A$3:$K$174,10,0),"") -> LED Volumetric Kit 2'x4' (e.g. Lithonia 2VTL4-48L-LP840) | N54: =IFERROR(VLOOKUP($E54,'Existing Lighting Schedule'!$A$3:$K$174,11,0),"") -> 0.039 | O54: =H54*N54 -> 1.638 | P54: =J54*O54 -> 2812.446 | Q54: =I54-O54 -> 2.1 | R54: =K54-P54 -> 3605.7 | S54: =0.2304*R54 -> 830.75328 | T54: =IFERROR(VLOOKUP($L54,'Existing Lighting Schedule'!$G$3:$S$174,13,0),"") -> 287.6 | U54: =H54*T54 -> 12079.2
A55: Ese | B55: Gym | C55: Interior | D55: Linear Fluorescent 1x4 | E55: F32T8/1-s | F55: Surface | G55: =IFERROR(VLOOKUP($E55,'Existing Lighting Schedule'!$A$3:$K$174,6,0),"") -> 0.031 | H55: 3 | I55: =G55*H55 -> 0.093 | J55: 1717 | K55: =I55*J55 -> 159.681 | L55: =IFERROR(VLOOKUP($E55,'Existing Lighting Schedule'!$A$3:$K$174,7,0),"") -> LED23 | M55: =IFERROR(VLOOKUP($E55,'Existing Lighting Schedule'!$A$3:$K$174,10,0),"") -> LED Surface 4' (e.g. Deco DACH-LED-4-23-40 | N55: =IFERROR(VLOOKUP($E55,'Existing Lighting Schedule'!$A$3:$K$174,11,0),"") -> 0.023 | O55: =H55*N55 -> 0.069 | P55: =J55*O55 -> 118.473 | Q55: =I55-O55 -> 0.024 | R55: =K55-P55 -> 41.208 | S55: =0.2304*R55 -> 9.4943232 | T55: =IFERROR(VLOOKUP($L55,'Existing Lighting Schedule'!$G$3:$S$174,13,0),"") -> 251.65 | U55: =H55*T55 -> 754.95
A56: Ese | B56: Gym | C56: Exterior | D56: High Pressure Sodium Wall Pack | E56: HPS70/1 | F56: Wall Pack | G56: =IFERROR(VLOOKUP($E56,'Existing Lighting Schedule'!$A$3:$K$174,6,0),"") -> 0.095 | H56: 8 | I56: =G56*H56 -> 0.76 | J56: 4100 | K56: =I56*J56 -> 3116 | L56: =IFERROR(VLOOKUP($E56,'Existing Lighting Schedule'!$A$3:$K$174,7,0),"") -> LED35/1 | M56: =IFERROR(VLOOKUP($E56,'Existing Lighting Schedule'!$A$3:$K$174,10,0),"") -> LED Wall Pack Fixture (e.g. Lithonia DSXW1-20C-530-40K) | N56: =IFERROR(VLOOKUP($E56,'Existing Lighting Schedule'!$A$3:$K$174,11,0),"") -> 0.035 | O56: =H56*N56 -> 0.28 | P56: =J56*O56 -> 1148 | Q56: 0 | R56: =K56-P56 -> 1968 | S56: =0.2304*R56 -> 453.4272 | T56: =IFERROR(VLOOKUP($L56,'Existing Lighting Schedule'!$G$3:$S$174,13,0),"") -> 1078.5 | U56: =H56*T56 -> 8628
A57: Ese | B57: Gym | C57: Interior | D57: Linear Fluorescent 2x4 | E57: F32T8/6 | F57: Recessed | G57: =IFERROR(VLOOKUP($E57,'Existing Lighting Schedule'!$A$3:$K$174,6,0),"") -> 0.175 | H57: 62 | I57: =G57*H57 -> 10.85 | J57: 1717 | K57: =I57*J57 -> 18629.45 | L57: =IFERROR(VLOOKUP($E57,'Existing Lighting Schedule'!$A$3:$K$174,7,0),"") -> LED59 | M57: =IFERROR(VLOOKUP($E57,'Existing Lighting Schedule'!$A$3:$K$174,10,0),"") -> LED Volumetric Kit 2'x4' (e.g. Lithonia 2VTL4-48L-LP840) | N57: =IFERROR(VLOOKUP($E57,'Existing Lighting Schedule'!$A$3:$K$174,11,0),"") -> 0.039 | O57: =H57*N57 -> 2.418 | P57: =J57*O57 -> 4151.706 | Q57: =I57-O57 -> 8.432 | R57: =K57-P57 -> 14477.744 | S57: =0.2304*R57 -> 3335.6722 | T57: =IFERROR(VLOOKUP($L57,'Existing Lighting Schedule'!$G$3:$S$174,13,0),"") -> 287.6 | U57: =H57*T57 -> 17831.2
A58: Ese | B58: Gym | C58: Interior | D58: Linear Fluorescent 1x4 | E58: F32T8/2-1 | F58: Recessed | G58: =IFERROR(VLOOKUP($E58,'Existing Lighting Schedule'!$A$3:$K$174,6,0),"") -> 0.059 | H58: 12 | I58: =G58*H58 -> 0.708 | J58: 1717 | K58: =I58*J58 -> 1215.636 | L58: =IFERROR(VLOOKUP($E58,'Existing Lighting Schedule'!$A$3:$K$174,7,0),"") -> LED29 | M58: =IFERROR(VLOOKUP($E58,'Existing Lighting Schedule'!$A$3:$K$174,10,0),"") -> LED Troffer 1'x4' (e.g. Lithonia VTL4-30L-LP840) | N58: =IFERROR(VLOOKUP($E58,'Existing Lighting Schedule'!$A$3:$K$174,11,0),"") -> 0.029 | O58: =H58*N58 -> 0.348 | P58: =J58*O58 -> 597.516 | Q58: =I58-O58 -> 0.36 | R58: =K58-P58 -> 618.12 | S58: =0.2304*R58 -> 142.41485 | T58: =IFERROR(VLOOKUP($L58,'Existing Lighting Schedule'!$G$3:$S$174,13,0),"") -> 341.525 | U58: =H58*T58 -> 4098.3
H61: Total kW | I61: =SUBTOTAL(9,I8:I58) -> 91.622 | J61: Total kWh | K61: =SUBTOTAL(9,K8:K58) -> 161663.95 | N61: TOTALS | O61: =SUBTOTAL(9,O8:O58) -> 37.37 | P61: =SUBTOTAL(9,P8:P58) -> 65505.919 | Q61: =SUBTOTAL(9,Q8:Q58) -> 52.99 | R61: =SUBTOTAL(9,R8:R58) -> 96158.03 | S61: =SUBTOTAL(9,S8:S58) -> 22154.81 | U61: =SUBTOTAL(9,U8:U58) -> 315730.88

Sheet Moorpark HS
B2: MOORPARK HIGH SCHOOL
B3: Existing Fixtures | L3: Proposed Fixtures | Q3: Demand Savings (kW/year) | R3: Energy Savings (kWh/year) | S3: Utility Cost Savings (kWh/year) | T3: Unit Fixture Cost | U3: Estimated Total Cost
D4: Fixture Data | I4: Electric Demand (kW) | J4: Annual Hours of Operation | K4: Total Annual Energy Consumption (kWh) | L4: Fixture Code | M4: Fixture Description | N4: Input kW | O4: Electric Demand (kW) | P4: Total Annual Energy Consumption (kWh)
B5: Building | C5: Interior / Exterior | D5: Description | E5: Lamp Type | F5: Mounting | G5: kW | H5: Fixture Qty
A8: Ese | B8: A | C8: Interior | D8: Linear Fluorescent 2x4 | E8: F32T8/3 | F8: Recessed | G8: =IFERROR(VLOOKUP($E8,'Existing Lighting Schedule'!$A$3:$K$174,6,0),"") -> 0.089 | H8: 51 | I8: =G8*H8 -> 4.539 | J8: 1717 | K8: =I8*J8 -> 7793.463 | L8: =IFERROR(VLOOKUP($E8,'Existing Lighting Schedule'!$A$3:$K$174,7,0),"") -> LED39 | M8: =IFERROR(VLOOKUP($E8,'Existing Lighting Schedule'!$A$3:$K$174,10,0),"") -> LED Volumetric Kit 2'x4' (e.g. Lithonia 2VTL4-48L-LP840) | N8: =IFERROR(VLOOKUP($E8,'Existing Lighting Schedule'!$A$3:$K$174,11,0),"") -> 0.039 | O8: =H8*N8 -> 1.989 | P8: =J8*O8 -> 3415.113 | Q8: =I8-O8 -> 2.55 | R8: =K8-P8 -> 4378.35 | S8: =0.1799*R8 -> 787.66516 | T8: =IFERROR(VLOOKUP($L8,'Existing Lighting Schedule'!$G$3:$S$174,13,0),"") -> 287.6 | U8: =H8*T8 -> 14667.6
A9: Ese | B9: A | C9: Interior | D9: Linear Fluorescent 2x4 | E9: F32T8/2 | F9: Recessed | G9: =IFERROR(VLOOKUP($E9,'Existing Lighting Schedule'!$A$3:$K$174,6,0),"") -> 0.059 | H9: 21 | I9: =G9*H9 -> 1.239 | J9: 1717 | K9: =I9*J9 -> 2127.363 | L9: =IFERROR(VLOOKUP($E9,'Existing Lighting Schedule'!$A$3:$K$174,7,0),"") -> LED26 | M9: =IFERROR(VLOOKUP($E9,'Existing Lighting Schedule'!$A$3:$K$174,10,0),"") -> LED Troffer 2'x4' (e.g. Lithonia 2VTL4-30L-LP840) | N9: =IFERROR(VLOOKUP($E9,'Existing Lighting Schedule'!$A$3:$K$174,11,0),"") -> 0.026 | O9: =H9*N9 -> 0.546 | P9: =J9*O9 -> 937.482 | Q9: =I9-O9 -> 0.693 | R9: =K9-P9 -> 1189.881 | S9: =0.1799*R9 -> 214.05959 | T9: =IFERROR(VLOOKUP($L9,'Existing Lighting Schedule'!$G$3:$S$174,13,0),"") -> 287.6 | U9: =H9*T9 -> 6039.6
A10: Ese | B10: A | C10: Interior | D10: Linear Fluorescent 2x4 | E10: F32T8/4-s | F10: Surface | G10: =IFERROR(VLOOKUP($E10,'Existing Lighting Schedule'!$A$3:$K$174,6,0),"") -> 0.112 | H10: 13 | I10: =G10*H10 -> 1.456 | J10: 1717 | K10: =I10*J10 -> 2499.952 | L10: =IFERROR(VLOOKUP($E10,'Existing Lighting Schedule'!$A$3:$K$174,7,0),"") -> LED32 | M10: =IFERROR(VLOOKUP($E10,'Existing Lighting Schedule'!$A$3:$K$174,10,0),"") -> LED Surface 2'x4' (e.g. Lithonia 2TLX4-40L-A12-LP850) | N10: =IFERROR(VLOOKUP($E10,'Existing Lighting Schedule'!$A$3:$K$174,11,0),"") -> 0.032 | O10: =H10*N10 -> 0.416 | P10: =J10*O10 -> 714.272 | Q10: =I10-O10 -> 1.04 | R10: =K10-P10 -> 1785.68 | S10: =0.1799*R10 -> 321.24383 | T10: =IFERROR(VLOOKUP($L10,'Existing Lighting Schedule'!$G$3:$S$174,13,0),"") -> 341.525 | U10: =H10*T10 -> 4439.825
A11: Ese | B11: A | C11: Interior | D11: Linear Fluorescent 2x4 | E11: F32T8/3-s | F11: Surface | G11: =IFERROR(VLOOKUP($E11,'Existing Lighting Schedule'!$A$3:$K$174,6,0),"") -> 0.089 | H11: 12 | I11: =G11*H11 -> 1.068 | J11: 1717 | K11: =I11*J11 -> 1833.756 | L11: =IFERROR(VLOOKUP($E11,'Existing Lighting Schedule'!$A$3:$K$174,7,0),"") -> LED32 | M11: =IFERROR(VLOOKUP($E11,'Existing Lighting Schedule'!$A$3:$K$174,10,0),"") -> LED Surface 2'x4' (e.g. Lithonia 2TLX4-40L-A12-LP850) | N11: =IFERROR(VLOOKUP($E11,'Existing Lighting Schedule'!$A$3:$K$174,11,0),"") -> 0.032 | O11: =H11*N11 -> 0.384 | P11: =J11*O11 -> 659.328 | Q11: =I11-O11 -> 0.684 | R11: =K11-P11 -> 1174.428 | S11: =0.1799*R11 -> 211.2796 | T11: =IFERROR(VLOOKUP($L11,'Existing Lighting Schedule'!$G$3:$S$174,13,0),"") -> 341.525 | U11: =H11*T11 -> 4098.3
A12: Ese | B12: A | C12: Interior | D12: Linear Fluorescent 2x4 | E12: F32T8/2-s2 | F12: Surface | G12: =IFERROR(VLOOKUP($E12,'Existing Lighting Schedule'!$A$3:$K$174,6,0),"") -> 0.059 | H12: 90 | I12: =G12*H12 -> 5.31 | J12: 1717 | K12: =I12*J12 -> 9117.27 | L12: =IFERROR(VLOOKUP($E12,'Existing Lighting Schedule'!$A$3:$K$174,7,0),"") -> LED32 | M12: =IFERROR(VLOOKUP($E12,'Existing Lighting Schedule'!$A$3:$K$174,10,0),"") -> LED Surface 2'x4' (e.g. Lithonia 2TLX4-40L-A12-LP850) | N12: =IFERROR(VLOOKUP($E12,'Existing Lighting Schedule'!$A$3:$K$174,11,0),"") -> 0.032 | O12: =H12*N12 -> 2.88 | P12: =J12*O12 -> 4944.96 | Q12: =I12-O12 -> 2.43 | R12: =K12-P12 -> 4172.31 | S12: =0.1799*R12 -> 750.59857 | T12: =IFERROR(VLOOKUP($L12,'Existing Lighting Schedule'!$G$3:$S$174,13,0),"") -> 341.525 | U12: =H12*T12 -> 30737.25
A13: Ese | B13: A | C13: Interior | D13: Linear Fluorescent 1x4 | E13: F32T8/2-s | F13: Surface | G13: =IFERROR(VLOOKUP($E13,'Existing Lighting Schedule'!$A$3:$K$174,6,0),"") -> 0.059 | H13: 19 | I13: =G13*H13 -> 1.121 | J13: 1717 | K13: =I13*J13 -> 1924.757 | L13: =IFERROR(VLOOKUP($E13,'Existing Lighting Schedule'!$A$3:$K$174,7,0),"") -> LED34 | M13: =IFERROR(VLOOKUP($E13,'Existing Lighting Schedule'!$A$3:$K$174,10,0),"") -> LED Surface 1'x4' (e.g. Deco DSW-LED-4-35-40) | N13: =IFERROR(VLOOKUP($E13,'Existing Lighting Schedule'!$A$3:$K$174,11,0),"") -> 0.034 | O13: =H13*N13 -> 0.646 | P13: =J13*O13 -> 1109.182 | Q13: =I13-O13 -> 0.475 | R13: =K13-P13 -> 815.575 | S13: =0.1799*R13 -> 146.72194 | T13: =IFERROR(VLOOKUP($L13,'Existing Lighting Schedule'!$G$3:$S$174,13,0),"") -> 377.475 | U13: =H13*T13 -> 7172.025
A14: Ese | B14: A | C14: Interior | D14: Linear Fluorescent 1x4 | E14: F32T8/1-s | F14: Surface | G14: =IFERROR(VLOOKUP($E14,'Existing Lighting Schedule'!$A$3:$K$174,6,0),"") -> 0.031 | H14: 42 | I14: =G14*H14 -> 1.302 | J14: 1717 | K14: =I14*J14 -> 2235.534 | L14: =IFERROR(VLOOKUP($E14,'Existing Lighting Schedule'!$A$3:$K$174,7,0),"") -> LED23 | M14: =IFERROR(VLOOKUP($E14,'Existing Lighting Schedule'!$A$3:$K$174,10,0),"") -> LED Surface 4' (e.g. Deco DACH-LED-4-23-40 | N14: =IFERROR(VLOOKUP($E14,'Existing Lighting Schedule'!$A$3:$K$174,11,0),"") -> 0.023 | O14: =H14*N14 -> 0.966 | P14: =J14*O14 -> 1658.622 | Q14: =I14-O14 -> 0.336 | R14: =K14-P14 -> 576.912 | S14: =0.1799*R14 -> 103.78647 | T14: =IFERROR(VLOOKUP($L14,'Existing Lighting Schedule'!$G$3:$S$174,13,0),"") -> 251.65 | U14: =H14*T14 -> 10569.3
A15: Ese | B15: B | C15: Interior | D15: Linear Fluorescent 2x4 | E15: F32T8/3 | F15: Recessed | G15: =IFERROR(VLOOKUP($E15,'Existing Lighting Schedule'!$A$3:$K$174,6,0),"") -> 0.089 | H15: 85 | I15: =G15*H15 -> 7.565 | J15: 1717 | K15: =I15*J15 -> 12989.105 | L15: =IFERROR(VLOOKUP($E15,'Existing Lighting Schedule'!$A$3:$K$174,7,0),"") -> LED39 | M15: =IFERROR(VLOOKUP($E15,'Existing Lighting Schedule'!$A$3:$K$174,10,0),"") -> LED Volumetric Kit 2'x4' (e.g. Lithonia 2VTL4-48L-LP840) | N15: =IFERROR(VLOOKUP($E15,'Existing Lighting Schedule'!$A$3:$K$174,11,0),"") -> 0.039 | O15: =H15*N15 -> 3.315 | P15: =J15*O15 -> 5691.855 | Q15: =I15-O15 -> 4.25 | R15: =K15-P15 -> 7297.25 | S15: =0.1799*R15 -> 1312.7753 | T15: =IFERROR(VLOOKUP($L15,'Existing Lighting Schedule'!$G$3:$S$174,13,0),"") -> 287.6 | U15: =H15*T15 -> 24446
A16: Ese | B16: B | C16: Interior | D16: Linear Fluorescent 2x4 | E16: F32T8/2 | F16: Recessed | G16: =IFERROR(VLOOKUP($E16,'Existing Lighting Schedule'!$A$3:$K$174,6,0),"") -> 0.059 | H16: 21 | I16: =G16*H16 -> 1.239 | J16: 1717 | K16: =I16*J16 -> 2127.363 | L16: =IFERROR(VLOOKUP($E16,'Existing Lighting Schedule'!$A$3:$K$174,7,0),"") -> LED26 | M16: =IFERROR(VLOOKUP($E16,'Existing Lighting Schedule'!$A$3:$K$174,10,0),"") -> LED Troffer 2'x4' (e.g. Lithonia 2VTL4-30L-LP840) | N16: =IFERROR(VLOOKUP($E16,'Existing Lighting Schedule'!$A$3:$K$174,11,0),"") -> 0.026 | O16: =H16*N16 -> 0.546 | P16: =J16*O16 -> 937.482 | Q16: =I16-O16 -> 0.693 | R16: =K16-P16 -> 1189.881 | S16: =0.1799*R16 -> 214.05959 | T16: =IFERROR(VLOOKUP($L16,'Existing Lighting Schedule'!$G$3:$S$174,13,0),"") -> 287.6 | U16: =H16*T16 -> 6039.6
A17: Ese | B17: B | C17: Interior | D17: Linear Fluorescent 2x2 U-tube | E17: FU31T8/2 | F17: Recessed | G17: =IFERROR(VLOOKUP($E17,'Existing Lighting Schedule'!$A$3:$K$174,6,0),"") -> 0.059 | H17: 2 | I17: =G17*H17 -> 0.118 | J17: 1717 | K17: =I17*J17 -> 202.606 | L17: =IFERROR(VLOOKUP($E17,'Existing Lighting Schedule'!$A$3:$K$174,7,0),"") -> LED31 | M17: =IFERROR(VLOOKUP($E17,'Existing Lighting Schedule'!$A$3:$K$174,10,0),"") -> LED Volumetric Kit 2'x2' (e.g. Lithonia 2VTL2-33L-ADP-LP840) | N17: =IFERROR(VLOOKUP($E17,'Existing Lighting Schedule'!$A$3:$K$174,11,0),"") -> 0.031 | O17: =H17*N17 -> 0.062 | P17: =J17*O17 -> 106.454 | Q17: =I17-O17 -> 0.056 | R17: =K17-P17 -> 96.152 | S17: =0.1799*R17 -> 17.297745 | T17: =IFERROR(VLOOKUP($L17,'Existing Lighting Schedule'!$G$3:$S$174,13,0),"") -> 179.75 | U17: =H17*T17 -> 359.5
A18: Ese | B18: B | C18: Interior | D18: Linear Fluorescent 2x4 | E18: F32T8/3-s | F18: Surface | G18: =IFERROR(VLOOKUP($E18,'Existing Lighting Schedule'!$A$3:$K$174,6,0),"") -> 0.089 | H18: 4 | I18: =G18*H18 -> 0.356 | J18: 1717 | K18: =I18*J18 -> 611.252 | L18: =IFERROR(VLOOKUP($E18,'Existing Lighting Schedule'!$A$3:$K$174,7,0),"") -> LED32 | M18: =IFERROR(VLOOKUP($E18,'Existing Lighting Schedule'!$A$3:$K$174,10,0),"") -> LED Surface 2'x4' (e.g. Lithonia 2TLX4-40L-A12-LP850) | N18: =IFERROR(VLOOKUP($E18,'Existing Lighting Schedule'!$A$3:$K$174,11,0),"") -> 0.032 | O18: =H18*N18 -> 0.128 | P18: =J18*O18 -> 219.776 | Q18: =I18-O18 -> 0.228 | R18: =K18-P18 -> 391.476 | S18: =0.1799*R18 -> 70.426532 | T18: =IFERROR(VLOOKUP($L18,'Existing Lighting Schedule'!$G$3:$S$174,13,0),"") -> 341.525 | U18: =H18*T18 -> 1366.1
A19: Ese | B19: B | C19: Interior | D19: Linear Fluorescent 1x4 | E19: F32T8/2-s | F19: Surface | G19: =IFERROR(VLOOKUP($E19,'Existing Lighting Schedule'!$A$3:$K$174,6,0),"") -> 0.059 | H19: 3 | I19: =G19*H19 -> 0.177 | J19: 1717 | K19: =I19*J19 -> 303.909 | L19: =IFERROR(VLOOKUP($E19,'Existing Lighting Schedule'!$A$3:$K$174,7,0),"") -> LED34 | M19: =IFERROR(VLOOKUP($E19,'Existing Lighting Schedule'!$A$3:$K$174,10,0),"") -> LED Surface 1'x4' (e.g. Deco DSW-LED-4-35-40) | N19: =IFERROR(VLOOKUP($E19,'Existing Lighting Schedule'!$A$3:$K$174,11,0),"") -> 0.034 | O19: =H19*N19 -> 0.102 | P19: =J19*O19 -> 175.134 | Q19: =I19-O19 -> 0.075 | R19: =K19-P19 -> 128.775 | S19: =0.1799*R19 -> 23.166622 | T19: =IFERROR(VLOOKUP($L19,'Existing Lighting Schedule'!$G$3:$S$174,13,0),"") -> 377.475 | U19: =H19*T19 -> 1132.425
... A32: Ese | B32: D | C32: Interior | D32: Compact Fluorescent 8" | E32: CFQ17/2 | F32: Recessed | G32: =IFERROR(VLOOKUP($E32,'Existing Lighting Schedule'!$A$3:$K$174,6,0),"") -> 0.048 | H32: 7 | I32: =G32*H32 -> 0.336 | J32: 1717 | K32: =I32*J32 -> 576.912 | L32: =IFERROR(VLOOKUP($E32,'Existing Lighting Schedule'!$A$3:$K$174,7,0),"") -> LED8.5 | M32: =IFERROR(VLOOKUP($E32,'Existing Lighting Schedule'!$A$3:$K$174,10,0),"") -> LED A19 Lamp (e.g. Philips EnduraLED) | N32: =IFERROR(VLOOKUP($E32,'Existing Lighting Schedule'!$A$3:$K$174,11,0),"") -> 0.0085 | O32: =H32*N32 -> 0.0595 | P32: =J32*O32 -> 102.1615 | Q32: =I32-O32 -> 0.2765 | R32: =K32-P32 -> 474.7505 | S32: =0.1799*R32 -> 85.407615 | T32: =IFERROR(VLOOKUP($L32,'Existing Lighting Schedule'!$G$3:$S$174,13,0),"") -> 17.975 | U32: =H32*T32 -> 125.825
A33: Ese | B33: D | C33: Exterior | D33: High Pressure Sodium | E33: HPS70/1 | F33: Wall Pack | G33: =IFERROR(VLOOKUP($E33,'Existing Lighting Schedule'!$A$3:$K$174,6,0),"") -> 0.095 | H33: 23 | I33: =G33*H33 -> 2.185 | J33: 4100 | K33: =I33*J33 -> 8958.5 | L33: =IFERROR(VLOOKUP($E33,'Existing Lighting Schedule'!$A$3:$K$174,7,0),"") -> LED35/1 | M33: =IFERROR(VLOOKUP($E33,'Existing Lighting Schedule'!$A$3:$K$174,10,0),"") -> LED Wall Pack Fixture (e.g. Lithonia DSXW1-20C-530-40K) | N33: =IFERROR(VLOOKUP($E33,'Existing Lighting Schedule'!$A$3:$K$174,11,0),"") -> 0.035 | O33: =H33*N33 -> 0.805 | P33: =J33*O33 -> 3300.5 | Q33: 0 | R33: =K33-P33 -> 5658 | S33: =0.1799*R33 -> 1017.8742 | T33: =IFERROR(VLOOKUP($L33,'Existing Lighting Schedule'!$G$3:$S$174,9,0),"") -> 600 | U33: =H33*T33 -> 13800
A34: Ese | B34: D | C34: Interior | D34: Linear Fluorescent 1x4 | E34: F32T8/2-s | F34: Surface | G34: =IFERROR(VLOOKUP($E34,'Existing Lighting Schedule'!$A$3:$K$174,6,0),"") -> 0.059 | H34: 1 | I34: =G34*H34 -> 0.059 | J34: 1717 | K34: =I34*J34 -> 101.303 | L34: =IFERROR(VLOOKUP($E34,'Existing Lighting Schedule'!$A$3:$K$174,7,0),"") -> LED34 | M34: =IFERROR(VLOOKUP($E34,'Existing Lighting Schedule'!$A$3:$K$174,10,0),"") -> LED Surface 1'x4' (e.g. Deco DSW-LED-4-35-40) | N34: =IFERROR(VLOOKUP($E34,'Existing Lighting Schedule'!$A$3:$K$174,11,0),"") -> 0.034 | O34: =H34*N34 -> 0.034 | P34: =J34*O34 -> 58.378 | Q34: =I34-O34 -> 0.025 | R34: =K34-P34 -> 42.925 | S34: =0.1799*R34 -> 7.7222075 | T34: =IFERROR(VLOOKUP($L34,'Existing Lighting Schedule'!$G$3:$S$174,13,0),"") -> 377.475 | U34: =H34*T34 -> 377.475
A35: Ese | B35: D | C35: Exterior | D35: High Pressure Sodium | E35: HPS150/1 | F35: Wall Pack | G35: =IFERROR(VLOOKUP($E35,'Existing Lighting Schedule'!$A$3:$K$174,6,0),"") -> 0.188 | H35: 15 | I35: =G35*H35 -> 2.82 | J35: 4100 | K35: =I35*J35 -> 11562 | L35: =IFERROR(VLOOKUP($E35,'Existing Lighting Schedule'!$A$3:$K$174,7,0),"") -> LED54/1-WP | M35: =IFERROR(VLOOKUP($E35,'Existing Lighting Schedule'!$A$3:$K$174,10,0),"") -> LED Wall Pack Fixture (e.g. Lithonia DSXW2-30C-530-40K-T3M) | N35: =IFERROR(VLOOKUP($E35,'Existing Lighting Schedule'!$A$3:$K$174,11,0),"") -> 0.054 | O35: =H35*N35 -> 0.81 | P35: =J35*O35 -> 3321 | Q35: 0 | R35: =K35-P35 -> 8241 | S35: =0.1799*R35 -> 1482.5559 | T35: =IFERROR(VLOOKUP($L35,'Existing Lighting Schedule'!$G$3:$S$174,9,0),"") -> 350 | U35: =H35*T35 -> 5250
A36: Ese | B36: D | C36: Exterior | D36: High Pressure Sodium | E36: HPS250/1 | F36: Wall Pack | G36: =IFERROR(VLOOKUP($E36,'Existing Lighting Schedule'!$A$3:$K$174,6,0),"") -> 0.295 | H36: 12 | I36: =G36*H36 -> 3.54 | J36: 4100 | K36: =I36*J36 -> 14514 | L36: =IFERROR(VLOOKUP($E36,'Existing Lighting Schedule'!$A$3:$K$174,7,0),"") -> LED54/1-WP | M36: =IFERROR(VLOOKUP($E36,'Existing Lighting Schedule'!$A$3:$K$174,10,0),"") -> LED Wall Pack Fixture (e.g. Lithonia DSXW2-30C-530-40K-T3M) | N36: =IFERROR(VLOOKUP($E36,'Existing Lighting Schedule'!$A$3:$K$174,11,0),"") -> 0.054 | O36: =H36*N36 -> 0.648 | P36: =J36*O36 -> 2656.8 | Q36: 0 | R36: =K36-P36 -> 11857.2 | S36: =0.1799*R36 -> 2133.1103 | T36: =IFERROR(VLOOKUP($L36,'Existing Lighting Schedule'!$G$3:$S$174,9,0),"") -> 350 | U36: =H36*T36 -> 4200
A37: Ese | B37: E | C37: Interior | D37: Linear Fluorescent 2x4 | E37: F32T8/3 | F37: Recessed | G37: =IFERROR(VLOOKUP($E37,'Existing Lighting Schedule'!$A$3:$K$174,6,0),"") -> 0.089 | H37: 8 | I37: =G37*H37 -> 0.712 | J37: 1717 | K37: =I37*J37 -> 1222.504 | L37: =IFERROR(VLOOKUP($E37,'Existing Lighting Schedule'!$A$3:$K$174,7,0),"") -> LED39 | M37: =IFERROR(VLOOKUP($E37,'Existing Lighting Schedule'!$A$3:$K$174,10,0),"") -> LED Volumetric Kit 2'x4' (e.g. Lithonia 2VTL4-48L-LP840) | N37: =IFERROR(VLOOKUP($E37,'Existing Lighting Schedule'!$A$3:$K$174,11,0),"") -> 0.039 | O37: =H37*N37 -> 0.312 | P37: =J37*O37 -> 535.704 | Q37: =I37-O37 -> 0.4 | R37: =K37-P37 -> 686.8 | S37: =0.1799*R37 -> 123.55532 | T37: =IFERROR(VLOOKUP($L37,'Existing Lighting Schedule'!$G$3:$S$174,13,0),"") -> 287.6 | U37: =H37*T37 -> 2300.8
A38: Ese | B38: E | C38: Interior | D38: Linear Fluorescent 2x4 | E38: F32T8/2 | F38: Recessed | G38: =IFERROR(VLOOKUP($E38,'Existing Lighting Schedule'!$A$3:$K$174,6,0),"") -> 0.059 | H38: 96 | I38: =G38*H38 -> 5.664 | J38: 1717 | K38: =I38*J38 -> 9725.088 | L38: =IFERROR(VLOOKUP($E38,'Existing Lighting Schedule'!$A$3:$K$174,7,0),"") -> LED26 | M38: =IFERROR(VLOOKUP($E38,'Existing Lighting Schedule'!$A$3:$K$174,10,0),"") -> LED Troffer 2'x4' (e.g. Lithonia 2VTL4-30L-LP840) | N38: =IFERROR(VLOOKUP($E38,'Existing Lighting Schedule'!$A$3:$K$174,11,0),"") -> 0.026 | O38: =H38*N38 -> 2.496 | P38: =J38*O38 -> 4285.632 | Q38: =I38-O38 -> 3.168 | R38: =K38-P38 -> 5439.456 | S38: =0.1799*R38 -> 978.55813 | T38: =IFERROR(VLOOKUP($L38,'Existing Lighting Schedule'!$G$3:$S$174,13,0),"") -> 287.6 | U38: =H38*T38 -> 27609.6
A39: Ese | B39: E | C39: Interior | D39: Linear Fluorescent 2x2 U-tube | E39: FU31T8/2 | F39: Recessed | G39: =IFERROR(VLOOKUP($E39,'Existing Lighting Schedule'!$A$3:$K$174,6,0),"") -> 0.059 | H39: 4 | I39: =G39*H39 -> 0.236 | J39: 1717 | K39: =I39*J39 -> 405.212 | L39: =IFERROR(VLOOKUP($E39,'Existing Lighting Schedule'!$A$3:$K$174,7,0),"") -> LED31 | M39: =IFERROR(VLOOKUP($E39,'Existing Lighting Schedule'!$A$3:$K$174,10,0),"") -> LED Volumetric Kit 2'x2' (e.g. Lithonia 2VTL2-33L-ADP-LP840) | N39: =IFERROR(VLOOKUP($E39,'Existing Lighting Schedule'!$A$3:$K$174,11,0),"") -> 0.031 | O39: =H39*N39 -> 0.124 | P39: =J39*O39 -> 212.908 | Q39: =I39-O39 -> 0.112 | R39: =K39-P39 -> 192.304 | S39: =0.1799*R39 -> 34.59549 | T39: =IFERROR(VLOOKUP($L39,'Existing Lighting Schedule'!$G$3:$S$174,13,0),"") -> 179.75 | U39: =H39*T39 -> 719
A40: Ese | B40: E | C40: Interior | D40: Linear Fluorescent 2x4 | E40: F32T8/2-s2 | F40: Surface | G40: =IFERROR(VLOOKUP($E40,'Existing Lighting Schedule'!$A$3:$K$174,6,0),"") -> 0.059 | H40: 2 | I40: =G40*H40 -> 0.118 | J40: 1717 | K40: =I40*J40 -> 202.606 | L40: =IFERROR(VLOOKUP($E40,'Existing Lighting Schedule'!$A$3:$K$174,7,0),"") -> LED32 | M40: =IFERROR(VLOOKUP($E40,'Existing Lighting Schedule'!$A$3:$K$174,10,0),"") -> LED Surface 2'x4' (e.g. Lithonia 2TLX4-40L-A12-LP850) | N40: =IFERROR(VLOOKUP($E40,'Existing Lighting Schedule'!$A$3:$K$174,11,0),"") -> 0.032 | O40: =H40*N40 -> 0.064 | P40: =J40*O40 -> 109.888 | Q40: =I40-O40 -> 0.054 | R40: =K40-P40 -> 92.718 | S40: =0.1799*R40 -> 16.679968 | T40: =IFERROR(VLOOKUP($L40,'Existing Lighting Schedule'!$G$3:$S$174,13,0),"") -> 341.525 | U40: =H40*T40 -> 683.05
A41: Ese | B41: E | C41: Interior | D41: Linear Fluorescent 1x4 | E41: F32T8/2-s | F41: Surface | G41: =IFERROR(VLOOKUP($E41,'Existing Lighting Schedule'!$A$3:$K$174,6,0),"") -> 0.059 | H41: 104 | I41: =G41*H41 -> 6.136 | J41: 1717 | K41: =I41*J41 -> 10535.512 | L41: =IFERROR(VLOOKUP($E41,'Existing Lighting Schedule'!$A$3:$K$174,7,0),"") -> LED34 | M41: =IFERROR(VLOOKUP($E41,'Existing Lighting Schedule'!$A$3:$K$174,10,0),"") -> LED Surface 1'x4' (e.g. Deco DSW-LED-4-35-40) | N41: =IFERROR(VLOOKUP($E41,'Existing Lighting Schedule'!$A$3:$K$174,11,0),"") -> 0.034 | O41: =H41*N41 -> 3.536 | P41: =J41*O41 -> 6071.312 | Q41: =I41-O41 -> 2.6 | R41: =K41-P41 -> 4464.2 | S41: =0.1799*R41 -> 803.10958 | T41: =IFERROR(VLOOKUP($L41,'Existing Lighting Schedule'!$G$3:$S$174,13,0),"") -> 377.475 | U41: =H41*T41 -> 39257.4
A42: Ese | B42: E | C42: Interior | D42: Linear Fluorescent 1x4 | E42: F32T8/1-s | F42: Surface | G42: =IFERROR(VLOOKUP($E42,'Existing Lighting Schedule'!$A$3:$K$174,6,0),"") -> 0.031 | H42: 2 | I42: =G42*H42 -> 0.062 | J42: 1717 | K42: =I42*J42 -> 106.454 | L42: =IFERROR(VLOOKUP($E42,'Existing Lighting Schedule'!$A$3:$K$174,7,0),"") -> LED23 | M42: =IFERROR(VLOOKUP($E42,'Existing Lighting Schedule'!$A$3:$K$174,10,0),"") -> LED Surface 4' (e.g. Deco DACH-LED-4-23-40 | N42: =IFERROR(VLOOKUP($E42,'Existing Lighting Schedule'!$A$3:$K$174,11,0),"") -> 0.023 | O42: =H42*N42 -> 0.046 | P42: =J42*O42 -> 78.982 | Q42: =I42-O42 -> 0.016 | R42: =K42-P42 -> 27.472 | S42: =0.1799*R42 -> 4.9422128 | T42: =IFERROR(VLOOKUP($L42,'Existing Lighting Schedule'!$G$3:$S$174,13,0),"") -> 251.65 | U42: =H42*T42 -> 503.3
A43: Ese | B43: E | C43: Interior | D43: Compact Fluorescent 8" | E43: CFQ17/2 | F43: Recessed | G43: =IFERROR(VLOOKUP($E43,'Existing Lighting Schedule'!$A$3:$K$174,6,0),"") -> 0.048 | H43: 1 | I43: =G43*H43 -> 0.048 | J43: 1717 | K43: =I43*J43 -> 82.416 | L43: =IFERROR(VLOOKUP($E43,'Existing Lighting Schedule'!$A$3:$K$174,7,0),"") -> LED8.5 | M43: =IFERROR(VLOOKUP($E43,'Existing Lighting Schedule'!$A$3:$K$174,10,0),"") -> LED A19 Lamp (e.g. Philips EnduraLED) | N43: =IFERROR(VLOOKUP($E43,'Existing Lighting Schedule'!$A$3:$K$174,11,0),"") -> 0.0085 | O43: =H43*N43 -> 0.0085 | P43: =J43*O43 -> 14.5945 | Q43: =I43-O43 -> 0.0395 | R43: =K43-P43 -> 67.8215 | S43: =0.1799*R43 -> 12.201088 | T43: =IFERROR(VLOOKUP($L43,'Existing Lighting Schedule'!$G$3:$S$174,13,0),"") -> 17.975 | U43: =H43*T43 -> 17.975
A44: Ese | B44: E | C44: Interior | D44: PAR 8" | E44: I36 | F44: Recessed | G44: =IFERROR(VLOOKUP($E44,'Existing Lighting Schedule'!$A$3:$K$174,6,0),"") -> 0.036 | H44: 1 | I44: =G44*H44 -> 0.036 | J44: 1717 | K44: =I44*J44 -> 61.812 | L44: =IFERROR(VLOOKUP($E44,'Existing Lighting Schedule'!$A$3:$K$174,7,0),"") -> LED8.5 | M44: =IFERROR(VLOOKUP($E44,'Existing Lighting Schedule'!$A$3:$K$174,10,0),"") -> LED A19 Lamp (e.g. Philips EnduraLED) | N44: =IFERROR(VLOOKUP($E44,'Existing Lighting Schedule'!$A$3:$K$174,11,0),"") -> 0.0085 | O44: =H44*N44 -> 0.0085 | P44: =J44*O44 -> 14.5945 | Q44: =I44-O44 -> 0.0275 | R44: =K44-P44 -> 47.2175 | S44: =0.1799*R44 -> 8.4944282 | T44: =IFERROR(VLOOKUP($L44,'Existing Lighting Schedule'!$G$3:$S$174,13,0),"") -> 17.975 | U44: =H44*T44 -> 17.975
A45: Ese | B45: E | C45: Exterior | D45: High Pressure Sodium | E45: HPS70/1 | F45: Wall Pack | G45: =IFERROR(VLOOKUP($E45,'Existing Lighting Schedule'!$A$3:$K$174,6,0),"") -> 0.095 | H45: 8 | I45: =G45*H45 -> 0.76 | J45: 4100 | K45: =I45*J45 -> 3116 | L45: =IFERROR(VLOOKUP($E45,'Existing Lighting Schedule'!$A$3:$K$174,7,0),"") -> LED35/1 | M45: =IFERROR(VLOOKUP($E45,'Existing Lighting Schedule'!$A$3:$K$174,10,0),"") -> LED Wall Pack Fixture (e.g. Lithonia DSXW1-20C-530-40K) | N45: =IFERROR(VLOOKUP($E45,'Existing Lighting Schedule'!$A$3:$K$174,11,0),"") -> 0.035 | O45: =H45*N45 -> 0.28 | P45: =J45*O45 -> 1148 | Q45: 0 | R45: =K45-P45 -> 1968 | S45: =0.1799*R45 -> 354.0432 | T45: =IFERROR(VLOOKUP($L45,'Existing Lighting Schedule'!$G$3:$S$174,9,0),"") -> 600 | U45: =H45*T45 -> 4800
A46: Ese | B46: F | C46: Interior | D46: Linear Fluorescent 2x4 | E46: F32T8/3 | F46: Recessed | G46: =IFERROR(VLOOKUP($E46,'Existing Lighting Schedule'!$A$3:$K$174,6,0),"") -> 0.089 | H46: 90 | I46: =G46*H46 -> 8.01 | J46: 1717 | K46: =I46*J46 -> 13753.17 | L46: =IFERROR(VLOOKUP($E46,'Existing Lighting Schedule'!$A$3:$K$174,7,0),"") -> LED39 | M46: =IFERROR(VLOOKUP($E46,'Existing Lighting Schedule'!$A$3:$K$174,10,0),"") -> LED Volumetric Kit 2'x4' (e.g. Lithonia 2VTL4-48L-LP840) | N46: =IFERROR(VLOOKUP($E46,'Existing Lighting Schedule'!$A$3:$K$174,11,0),"") -> 0.039 | O46: =H46*N46 -> 3.51 | P46: =J46*O46 -> 6026.67 | Q46: =I46-O46 -> 4.5 | R46: =K46-P46 -> 7726.5 | S46: =0.1799*R46 -> 1389.9974 | T46: =IFERROR(VLOOKUP($L46,'Existing Lighting Schedule'!$G$3:$S$174,13,0),"") -> 287.6 | U46: =H46*T46 -> 25884
A47: Ese | B47: G | C47: Interior | D47: Linear Fluorescent 2x4 | E47: F32T8/3 | F47: Recessed | G47: =IFERROR(VLOOKUP($E47,'Existing Lighting Schedule'!$A$3:$K$174,6,0),"") -> 0.089 | H47: 90 | I47: =G47*H47 -> 8.01 | J47: 1717 | K47: =I47*J47 -> 13753.17 | L47: =IFERROR(VLOOKUP($E47,'Existing Lighting Schedule'!$A$3:$K$174,7,0),"") -> LED39 | M47: =IFERROR(VLOOKUP($E47,'Existing Lighting Schedule'!$A$3:$K$174,10,0),"") -> LED Volumetric Kit 2'x4' (e.g. Lithonia 2VTL4-48L-LP840) | N47: =IFERROR(VLOOKUP($E47,'Existing Lighting Schedule'!$A$3:$K$174,11,0),"") -> 0.039 | O47: =H47*N47 -> 3.51 | P47: =J47*O47 -> 6026.67 | Q47: =I47-O47 -> 4.5 | R47: =K47-P47 -> 7726.5 | S47: =0.1799*R47 -> 1389.9974 | T47: =IFERROR(VLOOKUP($L47,'Existing Lighting Schedule'!$G$3:$S$174,13,0),"") -> 287.6 | U47: =H47*T47 -> 25884
A48: Ese | B48: H | C48: Interior | D48: Linear Fluorescent 2x4 | E48: F32T8/3 | F48: Recessed | G48: =IFERROR(VLOOKUP($E48,'Existing Lighting Schedule'!$A$3:$K$174,6,0),"") -> 0.089 | H48: 90 | I48: =G48*H48 -> 8.01 | J48: 1717 | K48: =I48*J48 -> 13753.17 | L48: =IFERROR(VLOOKUP($E48,'Existing Lighting Schedule'!$A$3:$K$174,7,0),"") -> LED39 | M48: =IFERROR(VLOOKUP($E48,'Existing Lighting Schedule'!$A$3:$K$174,10,0),"") -> LED Volumetric Kit 2'x4' (e.g. Lithonia 2VTL4-48L-LP840) | N48: =IFERROR(VLOOKUP($E48,'Existing Lighting Schedule'!$A$3:$K$174,11,0),"") -> 0.039 | O48: =H48*N48 -> 3.51 | P48: =J48*O48 -> 6026.67 | Q48: =I48-O48 -> 4.5 | R48: =K48-P48 -> 7726.5 | S48: =0.1799*R48 -> 1389.9974 | T48: =IFERROR(VLOOKUP($L48,'Existing Lighting Schedule'!$G$3:$S$174,13,0),"") -> 287.6 | U48: =H48*T48 -> 25884
A49: Ese | B49: I1 | C49: Exterior | D49: High Pressure Sodium | E49: HPS70/1 | F49: Wall Pack | G49: =IFERROR(VLOOKUP($E49,'Existing Lighting Schedule'!$A$3:$K$174,6,0),"") -> 0.095 | H49: 12 | I49: =G49*H49 -> 1.14 | J49: 4100 | K49: =I49*J49 -> 4674 | L49: =IFERROR(VLOOKUP($E49,'Existing Lighting Schedule'!$A$3:$K$174,7,0),"") -> LED35/1 | M49: =IFERROR(VLOOKUP($E49,'Existing Lighting Schedule'!$A$3:$K$174,10,0),"") -> LED Wall Pack Fixture (e.g. Lithonia DSXW1-20C-530-40K) | N49: =IFERROR(VLOOKUP($E49,'Existing Lighting Schedule'!$A$3:$K$174,11,0),"") -> 0.035 | O49: =H49*N49 -> 0.42 | P49: =J49*O49 -> 1722 | Q49: 0 | R49: =K49-P49 -> 2952 | S49: =0.1799*R49 -> 531.0648 | T49: =IFERROR(VLOOKUP($L49,'Existing Lighting Schedule'!$G$3:$S$174,9,0),"") -> 600 | U49: =H49*T49 -> 7200
A50: Ese | B50: I2 | C50: Exterior | D50: High Pressure Sodium | E50: HPS70/1 | F50: Wall Pack | G50: =IFERROR(VLOOKUP($E50,'Existing Lighting Schedule'!$A$3:$K$174,6,0),"") -> 0.095 | H50: 12 | I50: =G50*H50 -> 1.14 | J50: 4100 | K50: =I50*J50 -> 4674 | L50: =IFERROR(VLOOKUP($E50,'Existing Lighting Schedule'!$A$3:$K$174,7,0),"") -> LED35/1 | M50: =IFERROR(VLOOKUP($E50,'Existing Lighting Schedule'!$A$3:$K$174,10,0),"") -> LED Wall Pack Fixture (e.g. Lithonia DSXW1-20C-530-40K) | N50: =IFERROR(VLOOKUP($E50,'Existing Lighting Schedule'!$A$3:$K$174,11,0),"") -> 0.035 | O50: =H50*N50 -> 0.42 | P50: =J50*O50 -> 1722 | Q50: 0 | R50: =K50-P50 -> 2952 | S50: =0.1799*R50 -> 531.0648 | T50: =IFERROR(VLOOKUP($L50,'Existing Lighting Schedule'!$G$3:$S$174,9,0),"") -> 600 | U50: =H50*T50 -> 7200
A51: Ese | B51: J | C51: Interior | D51: Linear Fluorescent 2x4 | E51: F32T8/3 | F51: Recessed | G51: =IFERROR(VLOOKUP($E51,'Existing Lighting Schedule'!$A$3:$K$174,6,0),"") -> 0.089 | H51: 90 | I51: =G51*H51 -> 8.01 | J51: 1717 | K51: =I51*J51 -> 13753.17 | L51: =IFERROR(VLOOKUP($E51,'Existing Lighting Schedule'!$A$3:$K$174,7,0),"") -> LED39 | M51: =IFERROR(VLOOKUP($E51,'Existing Lighting Schedule'!$A$3:$K$174,10,0),"") -> LED Volumetric Kit 2'x4' (e.g. Lithonia 2VTL4-48L-LP840) | N51: =IFERROR(VLOOKUP($E51,'Existing Lighting Schedule'!$A$3:$K$174,11,0),"") -> 0.039 | O51: =H51*N51 -> 3.51 | P51: =J51*O51 -> 6026.67 | Q51: =I51-O51 -> 4.5 | R51: =K51-P51 -> 7726.5 | S51: =0.1799*R51 -> 1389.9974 | T51: =IFERROR(VLOOKUP($L51,'Existing Lighting Schedule'!$G$3:$S$174,13,0),"") -> 287.6 | U51: =H51*T51 -> 25884
A52: Ese | B52: J | C52: Interior | D52: Linear Fluorescent 2x4 | E52: F32T8/2 | F52: Recessed | G52: =IFERROR(VLOOKUP($E52,'Existing Lighting Schedule'!$A$3:$K$174,6,0),"") -> 0.059 | H52: 33 | I52: =G52*H52 -> 1.947 | J52: 1717 | K52: =I52*J52 -> 3342.999 | L52: =IFERROR(VLOOKUP($E52,'Existing Lighting Schedule'!$A$3:$K$174,7,0),"") -> LED26 | M52: =IFERROR(VLOOKUP($E52,'Existing Lighting Schedule'!$A$3:$K$174,10,0),"") -> LED Troffer 2'x4' (e.g. Lithonia 2VTL4-30L-LP840) | N52: =IFERROR(VLOOKUP($E52,'Existing Lighting Schedule'!$A$3:$K$174,11,0),"") -> 0.026 | O52: =H52*N52 -> 0.858 | P52: =J52*O52 -> 1473.186 | Q52: =I52-O52 -> 1.089 | R52: =K52-P52 -> 1869.813 | S52: =0.1799*R52 -> 336.37936 | T52: =IFERROR(VLOOKUP($L52,'Existing Lighting Schedule'!$G$3:$S$174,13,0),"") -> 287.6 | U52: =H52*T52 -> 9490.8
A53: Ese | B53: J | C53: Interior | D53: Linear Fluorescent 2x4 | E53: F32T8/4-s | F53: Surface | G53: =IFERROR(VLOOKUP($E53,'Existing Lighting Schedule'!$A$3:$K$174,6,0),"") -> 0.112 | H53: 9 | I53: =G53*H53 -> 1.008 | J53: 1717 | K53: =I53*J53 -> 1730.736 | L53: =IFERROR(VLOOKUP($E53,'Existing Lighting Schedule'!$A$3:$K$174,7,0),"") -> LED32 | M53: =IFERROR(VLOOKUP($E53,'Existing Lighting Schedule'!$A$3:$K$174,10,0),"") -> LED Surface 2'x4' (e.g. Lithonia 2TLX4-40L-A12-LP850) | N53: =IFERROR(VLOOKUP($E53,'Existing Lighting Schedule'!$A$3:$K$174,11,0),"") -> 0.032 | O53: =H53*N53 -> 0.288 | P53: =J53*O53 -> 494.496 | Q53: =I53-O53 -> 0.72 | R53: =K53-P53 -> 1236.24 | S53: =0.1799*R53 -> 222.39958 | T53: =IFERROR(VLOOKUP($L53,'Existing Lighting Schedule'!$G$3:$S$174,13,0),"") -> 341.525 | U53: =H53*T53 -> 3073.725
A54: Ese | B54: J | C54: Interior | D54: Linear Fluorescent 2x4 | E54: F32T8/3-s | F54: Surface | G54: =IFERROR(VLOOKUP($E54,'Existing Lighting Schedule'!$A$3:$K$174,6,0),"") -> 0.089 | H54: 6 | I54: =G54*H54 -> 0.534 | J54: 1717 | K54: =I54*J54 -> 916.878 | L54: =IFERROR(VLOOKUP($E54,'Existing Lighting Schedule'!$A$3:$K$174,7,0),"") -> LED32 | M54: =IFERROR(VLOOKUP($E54,'Existing Lighting Schedule'!$A$3:$K$174,10,0),"") -> LED Surface 2'x4' (e.g. Lithonia 2TLX4-40L-A12-LP850) | N54: =IFERROR(VLOOKUP($E54,'Existing Lighting Schedule'!$A$3:$K$174,11,0),"") -> 0.032 | O54: =H54*N54 -> 0.192 | P54: =J54*O54 -> 329.664 | Q54: =I54-O54 -> 0.342 | R54: =K54-P54 -> 587.214 | S54: =0.1799*R54 -> 105.6398 | T54: =IFERROR(VLOOKUP($L54,'Existing Lighting Schedule'!$G$3:$S$174,13,0),"") -> 341.525 | U54: =H54*T54 -> 2049.15
A55: Ese | B55: J | C55: Interior | D55: Linear Fluorescent 1x4 | E55: F32T8/2-s | F55: Surface | G55: =IFERROR(VLOOKUP($E55,'Existing Lighting Schedule'!$A$3:$K$174,6,0),"") -> 0.059 | H55: 126 | I55: =G55*H55 -> 7.434 | J55: 1717 | K55: =I55*J55 -> 12764.178 | L55: =IFERROR(VLOOKUP($E55,'Existing Lighting Schedule'!$A$3:$K$174,7,0),"") -> LED34 | M55: =IFERROR(VLOOKUP($E55,'Existing Lighting Schedule'!$A$3:$K$174,10,0),"") -> LED Surface 1'x4' (e.g. Deco DSW-LED-4-35-40) | N55: =IFERROR(VLOOKUP($E55,'Existing Lighting Schedule'!$A$3:$K$174,11,0),"") -> 0.034 | O55: =H55*N55 -> 4.284 | P55: =J55*O55 -> 7355.628 | Q55: =I55-O55 -> 3.15 | R55: =K55-P55 -> 5408.55 | S55: =0.1799*R55 -> 972.99814 | T55: =IFERROR(VLOOKUP($L55,'Existing Lighting Schedule'!$G$3:$S$174,13,0),"") -> 377.475 | U55: =H55*T55 -> 47561.85
...

Sheet Mountain Meadows ES
B2: MOUNTAIN MEADOWS ES
B3: Existing Fixtures | L3: Proposed Fixtures | Q3: Demand Savings (kW/year) | R3: Energy Savings (kWh/year) | S3: Utility Cost Savings (kWh/year) | T3: Unit Fixture Cost | U3: Estimated Total Cost
D4: Fixture Data | I4: Electric Demand (kW) | J4: Annual Hours of Operation | K4: Total Annual Energy Consumption (kWh) | L4: Fixture Code | M4: Fixture Description | N4: Input kW | O4: Electric Demand (kW) | P4: Total Annual Energy Consumption (kWh)
B5: Building | C5: Interior / Exterior | D5: Description | E5: Lamp Type | F5: Mounting | G5: kW | H5: Fixture Qty
A8: Epr | B8: All | C8: Interior | D8: Linear Fluorescent 2x4 | E8: F32T8/4 | F8: Recessed | G8: =IFERROR(VLOOKUP($E8,'Existing Lighting Schedule'!$A$3:$K$174,6,0),"") -> 0.112 | H8: 287 | I8: =G8*H8 -> 32.144 | J8: 1288 | K8: =I8*J8 -> 41401.472 | L8: =IFERROR(VLOOKUP($E8,'Existing Lighting Schedule'!$A$3:$K$174,7,0),"") -> LED39 | M8: =IFERROR(VLOOKUP($E8,'Existing Lighting Schedule'!$A$3:$K$174,10,0),"") -> LED Volumetric Kit 2'x4' (e.g. Lithonia 2VTL4-48L-LP840) | N8: =IFERROR(VLOOKUP($E8,'Existing Lighting Schedule'!$A$3:$K$174,11,0),"") -> 0.039 | O8: =H8*N8 -> 11.193 | P8: =J8*O8 -> 14416.584 | Q8: =I8-O8 -> 20.951 | R8: =K8-P8 -> 26984.888 | S8: =0.1987*R8 -> 5361.8972 | T8: =IFERROR(VLOOKUP($L8,'Existing Lighting Schedule'!$G$3:$S$174,13,0),"") -> 287.6 | U8: =H8*T8 -> 82541.2
