Workbook

Sheet GF Budget Amds
B1: Fund | C1: FX | D1: Decrease | E1: FX | F1: Increase | G1: Org | H1: Effect on Budget | I1: Reason
A4: 1 | B4: 183 | C4: 52 | D4: 2700 | E4: 36 | F4: 2700 | G4: 1 | I4: Reallocate funds to cover supply costs
A6: 2 | B6: 183 | C6: 0 | D6: 3386 | E6: 36 | F6: 3386 | G6: 999 | I6: Increase budget by amount received for district track fees
A8: 3 | B8: 183 | C8: 0 | D8: 4544 | E8: 36 | F8: 4544 | G8: 999 | I8: Increase budget by amount received for playoff host fees
A10: 4 | B10: 199 | C10: 0 | D10: 188 | E10: 23 | F10: 188 | G10: 1 | I10: To increase the budget by the amount of transcript fees
A11: 14
A13: 15
A15: 16
A16: 17
A18: 18
A20: 19
A23: 20
A25: 21
A27: 22
A29: 23
A31: 5 | B31: 199 | C31: 11 | D31: 1000 | E31: 13 | F31: 1000 | G31: 1 | I31: To reallocate funds to cover employee travel
A33: 6 | B33: 199 | C33: 11 | D33: 2808 | E33: 12 | F33: 2808 | G33: 41 | I33: To reallocate funds to cover library supplies
A35: 7 | B35: 199 | C35: 34 | D35: 2000 | E35: 36 | F35: 2000 | G35: 41 | I35: To reallocate funds to cover student travel
A37: 8 | B37: 199 | C37: 11 | D37: 100 | E37: 31 | F37: 100 | G37: 821 | I37: To reallocate funds to cover counselor travel
A39: 9 | B39: 199 | C39: 21 | D39: 900 | E39: 11 | F39: 900 | G39: 821 | I39: To reallocate funds to cover contracted services
A41: 10 | B41: 199 | C41: 0 | D41: 465427 | E41: 11 | F41: 465427 | G41: 821 | H41: 465427 | I41: Purchase of math textbooks approved by the Board in April
A43: 11 | B43: 199 | C43: 0 | D43: 13000 | E43: 11 | F43: 13000 | G43: 823 | I43: Increase budget by amount received for Tuition Based Pre-K program
A45: 12 | B45: 199 | C45: 11 | D45: 7000 | E45: 53 | F45: 7000 | G45: 826 | I45: Reallocate funds to cover maintenance and repair
A47: 13 | B47: 199 | C47: 11 | D47: 1200 | E47: 21 | F47: 1200 | G47: 821 | I47: Reallocate funds to cover employee travel
C49: Total | D49: =SUM(D3:D48) -> 504253 | F49: =SUM(F3:F48) -> 504253 | H49: =SUM(H3:H48) -> 465427
A51: Board Approval: ___________________________________

Sheet Fund Bal Comp
F1: Little Elm Independent School District | J1: Page 1 of 2
F2: 2014-2015 Fund Balance Comparison
F3: as of March 31, 2015
E5: GENERAL FUND | I5: DEBT SERVICE FUND
E6: 1XX | I6: 511
E7: PROPOSED | I7: PROPOSED
A8: CONTROL | D8: ORIGINAL | E8: AMENDMENTS | F8: AMENDED | H8: CURRENT | I8: AMENDMENTS | J8: AMENDED
A9: CODES | B9: REVENUES | D9: BUDGET | F9: BUDGET | H9: BUDGET | J9: BUDGET
A10: 5700 | B10: LOCAL | D10: 23169774 | E10: =404+13000 -> 13404 | F10: =D10+E10 -> 23183178 | H10: 10557643 | J10: =H10+I10 -> 10557643
A11: 5800 | B11: STATE | D11: 26074068 | F11: =D11+E11 -> 26074068 | H11: 773250 | J11: =H11+I11 -> 773250
A12: 5900 | B12: FEDERAL | D12: 275000 | F12: =D12+E12 -> 275000 | H12: 0 | J12: =H12+I12 -> 0
D13: =SUM(D10:D12) -> 49518842 | E13: =SUM(E10:E12) -> 13404 | F13: =SUM(F10:F12) -> 49532246 | H13: =SUM(H10:H12) -> 11330893 | I13: =SUM(I10:I12) -> 0 | J13: =SUM(J10:J12) -> 11330893
A15: Expenditures
A16: 11 Instruction | D16: 30374851 | E16: =-6794+13000 -> 6206 | F16: =D16+E16 -> 30381057 | H16: 0 | J16: =H16+I16 -> 0
A17: 12 Library Services | D17: 666864 | F17: =D17+E17 -> 666864 | H17: 0 | J17: =H17+I17 -> 0
A18: 13 Staff Development | D18: 532971 | E18: -6100 | F18: =D18+E18 -> 526871 | H18: 0 | J18: =H18+I18 -> 0
A19: 21 Instructional Admin | D19: 632753 | E19: 8330 | F19: =D19+E19 -> 641083 | H19: 0 | J19: =H19+I19 -> 0
A20: 23 Campus Administration | D20: 3171577 | E20: 246 | F20: =D20+E20 -> 3171823 | H20: 0 | J20: =H20+I20 -> 0
A21: 31 Guidance & Counseling | D21: 1684987 | F21: =D21+E21 -> 1684987 | H21: 0 | J21: =H21+I21 -> 0
A22: 32 Attendance & Social Services | D22: 13000 | F22: =D22+E22 -> 13000 | H22: 0 | J22: =H22+I22 -> 0
A23: 33 Health Services | D23: 473366 | F23: =D23+E23 -> 473366 | H23: 0 | J23: =H23+I23 -> 0
A24: 34 Student Transportation | D24: 1548150 | E24: 4000 | F24: =D24+E24 -> 1552150 | H24: 0 | J24: =H24+I24 -> 0
A25: 35 Food Services | D25: 74460 | F25: =D25+E25 -> 74460 | H25: 0 | J25: =H25+I25 -> 0
A26: 36 Co-curricular Activities | D26: 1367666 | E26: 1122 | F26: =D26+E26 -> 1368788 | H26: 0 | J26: =H26+I26 -> 0
A27: 41 General Administration | D27: 1989333 | E27: -1000 | F27: =D27+E27 -> 1988333 | H27: 0 | J27: =H27+I27 -> 0
A28: 51 Plant Maintenance | D28: 5186553 | E28: 20000 | F28: =D28+E28 -> 5206553 | H28: 0 | J28: =H28+I28 -> 0
A29: 52 Security | D29: 482604 | F29: =D29+E29 -> 482604 | H29: 0 | J29: =H29+I29 -> 0
A30: 53 Data Processing | D30: 964241 | E30: 600 | F30: =D30+E30 -> 964841 | H30: 0 | J30: =H30+I30 -> 0
A31: 61 Community Services | D31: 36831 | F31: =D31+E31 -> 36831 | H31: 0 | J31: =H31+I31 -> 0
A32: 71 Debt Services | D32: 850606 | F32: =D32+E32 -> 850606 | H32: 11330893 | J32: =H32+I32 -> 11330893
A33: 81 Facilities | D33: 1156572 | E33: 1123730 | F33: =D33+E33 -> 2280302 | H33: 0 | J33: =H33+I33 -> 0
A34: 95 Payments to JUV Justice Alt | D34: 32000 | F34: =D34+E34 -> 32000 | H34: 0 | J34: =H34+I34 -> 0
A35: 99 Intergovernmental Charges | D35: 245000 | F35: =D35+E35 -> 245000 | H35: 0 | J35: =H35+I35 -> 0
A36: TOTAL EXPENDITURES | D36: =SUM(D16:D35) -> 51484385 | E36: =SUM(E16:E35) -> 1157134 | F36: =SUM(F16:F35) -> 52641519 | H36: =SUM(H15:H35) -> 11330893 | I36: =SUM(I16:I35) -> 0 | J36: =SUM(J15:J35) -> 11330893
A38: 00 Other Resources | F38: =+D38+E38 -> 0 | J38: =+H38+I38 -> 0
A39: 00 Other Uses | J39: =+H39+I39 -> 0
A41: FUND BALANCE 08/31/14 | D41: 21653740 | F41: =D41 -> 21653740 | H41: 3710704 | J41: =H41 -> 3710704
A44: EST FUND BALANCE 03/31/15 | D44: =D13-D36+D38+D41 -> 19688197 | E44: =F44-D44 -> -1143730 | F44: =F13-F36+F38-F39+F41 -> 18544467 | H44: =H13-H32+H38+H39+H41 -> 3710704 | I44: =I13-I32+I38+I39+I41 -> 0 | J44: =J13-J32+J38+J39+J41 -> 3710704
F48: Little Elm Independent School District | J48: Page 2 of 2
F49: =F2 -> 2014-2015 Fund Balance Comparison
...

Sheet Stat of Unaudited
A1: Little Elm Independent School District
A2: Statement of Unaudited Revenues and Expenditures - Budget vs. Actual
A3: As of March 31, 2015
A5: GENERAL FUND
A6: Fund 1XX
D7: 2014-2015 | E7: PERIOD | F7: Y-T-D | G7: VARIANCE | H7: PERCENT | I7: PERCENT
A8: CONTROL | D8: Approved | E8: RECEIPTS/ | F8: RECEIVED/ | G8: FAVORABLE | H8: TO | I8: OF YEAR
A9: CODES | B9: REVENUES | D9: Budget | E9: EXPENDITURES | F9: ENC + EXP | G9: (UNFAVORABLE) | H9: TOTAL | I9: ELAPSED
A10: 5700 | B10: LOCAL | D10: 23183178 | E10: 344794.57 | F10: 24788532 | G10: =F10-D10 -> 1605353.9 | H10: =F10/D10 -> 1.0692465 | I10: =7/12 -> 0.58333333
A11: 5800 | B11: STATE | D11: 26074068 | E11: 444356.93 | F11: 14475216 | G11: =F11-D11 -> -11598852 | H11: =F11/D11 -> 0.55515758 | I11: =I10 -> 0.58333333
A12: 5900 | B12: FEDERAL | D12: 275000 | E12: 441544.52 | F12: 686832.55 | G12: =F12-D12 -> 411832.55 | H12: =F12/D12 -> 2.4975729 | I12: =I10 -> 0.58333333
A13: TOTAL REVENUES | D13: =SUM(D10:D12) -> 49532246 | E13: =SUM(E10:E12) -> 1230696 | F13: =SUM(F10:F12) -> 39950581 | G13: =F13-D13 -> -9581665.1 | H13: =F13/D13 -> 0.80655702 | I13: =I10 -> 0.58333333
B15: EXPENDITURES
A16: 0011 | B16: Instruction | D16: 30381057 | E16: 2613990.6 | F16: =122748.67+20023690.7 -> 20146439 | G16: =D16-F16 -> 10234618 | H16: =F16/D16 -> 0.66312503 | I16: =7/12 -> 0.58333333
A17: 0012 | B17: Library Services | D17: 666864 | E17: 50849.02 | F17: =14201.66+412305.07 -> 426506.73 | G17: =D17-F17 -> 240357.27 | H17: =F17/D17 -> 0.63957078 | I17: =$I$16 -> 0.58333333
A18: 0013 | B18: Curriculum & Staff Development | D18: 526871 | E18: 40365.52 | F18: =17368.33+281706.35 -> 299074.68 | G18: =D18-F18 -> 227796.32 | H18: =F18/D18 -> 0.56764309 | I18: =$I$16 -> 0.58333333
A19: 0021 | B19: Instructional Leadership | D19: 641083 | E19: 73077.52 | F19: =8960.17+349294.57 -> 358254.74 | G19: =D19-F19 -> 282828.26 | H19: =F19/D19 -> 0.55882739 | I19: =$I$16 -> 0.58333333
A20: 0023 | B20: School Leadership | D20: 3171823 | E20: 282321.23 | F20: =14088.94+1964978.93 -> 1979067.9 | G20: =D20-F20 -> 1192755.1 | H20: =F20/D20 -> 0.62395281 | I20: =$I$16 -> 0.58333333
A21: 0031 | B21: Guidance & Counseling | D21: 1684987 | E21: 125810.04 | F21: =20022.25+915265.55 -> 935287.8 | G21: =D21-F21 -> 749699.2 | H21: =F21/D21 -> 0.55507123 | I21: =$I$16 -> 0.58333333
A22: 0032 | B22: Social Work Services | D22: 13000 | E22: 44.34 | F22: 12206.87 | G22: =D22-F22 -> 793.13 | H22: =F22/D22 -> 0.93899 | I22: =$I$16 -> 0.58333333
A23: 0033 | B23: Health Services | D23: 473366 | E23: 41587.82 | F23: =1230.59+319062.91 -> 320293.5 | G23: =D23-F23 -> 153072.5 | H23: =F23/D23 -> 0.67662971 | I23: =$I$16 -> 0.58333333
A24: 0034 | B24: Student Transportation | D24: 1552150 | E24: 15855.74 | F24: =280+737340.91 -> 737620.91 | G24: =D24-F24 -> 814529.09 | H24: =F24/D24 -> 0.47522527 | I24: =$I$16 -> 0.58333333
A25: 0035 | B25: Food Services | D25: 74460 | E25: 6470.9 | F25: 43741.01 | G25: =D25-F25 -> 30718.99 | H25: =F25/D25 -> 0.58744306 | I25: =$I$16 -> 0.58333333
A26: 0036 | B26: Co-curricular Activities | D26: 1368788 | E26: 105208.47 | F26: =22665.02+864486.05 -> 887151.07 | G26: =D26-F26 -> 481636.93 | H26: =F26/D26 -> 0.64812891 | I26: =$I$16 -> 0.58333333
A27: 0041 | B27: General Administration | D27: 1988333 | E27: 174593.44 | F27: =15851.08+1103551.54 -> 1119402.6 | G27: =D27-F27 -> 868930.38 | H27: =F27/D27 -> 0.56298549 | I27: =$I$16 -> 0.58333333
A28: 0051 | B28: Plant Maintenance | D28: 5206553 | E28: 492120.45 | F28: =125121.76+2920542.84 -> 3045664.6 | G28: =D28-F28 -> 2160888.4 | H28: =F28/D28 -> 0.58496756 | I28: =$I$16 -> 0.58333333
A29: 0052 | B29: Security & Monitoring | D29: 482604 | E29: 7797.6 | F29: =189+228998.53 -> 229187.53 | G29: =D29-F29 -> 253416.47 | H29: =F29/D29 -> 0.4748977 | I29: =$I$16 -> 0.58333333
A30: 0053 | B30: Data Processing | D30: 964841 | E30: 45131.41 | F30: =427.91+439048.85 -> 439476.76 | G30: =D30-F30 -> 525364.24 | H30: =F30/D30 -> 0.45549138 | I30: =$I$16 -> 0.58333333
A31: 0061 | B31: Community Service | D31: 36831 | E31: 2999.2 | F31: 21301.32 | G31: =D31-F31 -> 15529.68 | H31: =F31/D31 -> 0.57835302 | I31: =$I$16 -> 0.58333333
A32: 0071 | B32: Debt Services | D32: 850606 | E32: 0 | F32: 649754.93 | G32: =D32-F32 -> 200851.07 | H32: =F32/D32 -> 0.76387297 | I32: =$I$16 -> 0.58333333
A33: 0081 | B33: Facility Acquisition | D33: 2280302 | E33: 390000 | F33: =155379.7+1193528.47 -> 1348908.2 | G33: =D33-F33 -> 931393.83 | H33: =F33/D33 -> 0.59154804 | I33: =$I$16 -> 0.58333333
A34: 0095 | B34: Pmt to Juvenile Justice | D34: 32000 | E34: 5963 | F34: 8900 | G34: =D34-F34 -> 23100 | H34: =F34/D34 -> 0.278125 | I34: =$I$16 -> 0.58333333
A35: 0099 | B35: Intergovernmental Charges | D35: 245000 | E35: 61208.32 | F35: 180633.28 | G35: =D35-F35 -> 64366.72 | H35: =F35/D35 -> 0.73727869 | I35: =$I$16 -> 0.58333333
A36: TOTAL EXPENDITURES | D36: =SUM(D16:D35) -> 52641519 | E36: =SUM(E16:E35) -> 4535394.6 | F36: =SUM(F16:F35) -> 33188874 | G36: =SUM(G16:G35) -> 19452645 | H36: =F36/D36 -> 0.63046953 | I36: =I16 -> 0.58333333
B38: OPERATING TRANSFERS
A39: 7910 | B39: Other Resources | D39: 0 | E39: 0 | F39: 0
A40: 8910 | B40: Other Uses | D40: 0 | E40: 0 | F40: 0
A41: TOTAL OPERATING TRANSFERS | D41: =+D39-D40 -> 0 | E41: =+E39-E40 -> 0 | F41: =+F39-F40 -> 0
A43: 0100 | B43: Fund Balance 08/31/14 | D43: 21653740 | E43: 0 | F43: =D43 -> 21653740
A45: 3000 | B45: Year to Date Fund Bal. (unaudited) | D45: =(D13-D36)+D41+D43 -> 18544467 | F45: =(F13-F36)+F41+F43 -> 28415448

Sheet GO Cash Flow
M1: Little Elm Independent School District
M2: General Operating Cash Flow Statement
M3: FY 2014-2015
C5: September | E5: October | G5: November | I5: December | K5: January | M5: February | O5: March | Q5: April | S5: May | U5: June | W5: July | Y5: August | AB5: TOTAL
C6: Actual | E6: Actual | G6: Actual | I6: Actual | K6: Actual | M6: Actual | O6: Actual | Q6: Actual | S6: Actual | U6: Actual | W6: Actual | Y6: Actual
A7: Beginning Cash Balance in Bank | C7: 15292403 | E7: =+C43 -> 17659567 | G7: =+E43 -> 16415746 | I7: =+G43 -> 16548094 | K7: =+I43 -> 23857097 | M7: =+K43 -> 26090893 | O7: =+M43 -> 25040531 | Q7: 0 | S7: =+Q43 -> 0 | U7: =+S43 -> 0 | W7: =+U43 -> 0 | Y7: =+W43 -> 0 | AB7: =+C7 -> 15292403
A9: RECEIPTS
A10: Tax Collections | C10: 15114.29 | E10: 432947.97 | G10: 1128990.2 | I10: 13614100 | K10: 5696623.7 | M10: 3121729.6 | O10: 279490.73 | Q10: 0 | S10: 0 | U10: 0 | W10: 0 | Y10: 0 | AB10: =SUM(C10:Y10) -> 24288997
A11: Interest | C11: 3792.03 | E11: 4022.02 | G11: 3927.35 | I11: 3991.02 | K11: 7325.33 | M11: 7001.62 | O11: 6885.92 | Q11: 0 | S11: 0 | U11: 0 | W11: 0 | Y11: 0 | AB11: =SUM(C11:Y11) -> 36945.29
A12: Other Local Revenue | C12: 293780.2 | E12: 274476.18 | G12: 111049.9 | I12: 100653.35 | K12: 122059.4 | M12: 63563.85 | O12: 134529.46 | Q12: 0 | S12: 0 | U12: 0 | W12: 0 | Y12: 0 | AB12: =SUM(C12:Y12) -> 1100112.3
A13: State Revenue - Available School | C13: 0 | E13: 0 | G13: 8046 | I13: 185006 | K13: 56167 | M13: 56167 | O13: 263974 | Q13: 0 | S13: 0 | U13: 0 | W13: 0 | Y13: 0 | AB13: =SUM(C13:Y13) -> 569360
A14: State Revenue - Foundation | C14: 4966299 | E14: 4069212 | G14: 2140369 | I14: 0 | K14: 0 | M14: 0 | O14: 0 | Q14: 0 | S14: 0 | U14: 0 | W14: 0 | Y14: 0 | AB14: =SUM(C14:Y14) -> 11175880
A15: State Revenue - Debt Service | C15: 0 | E15: 0 | G15: 877199 | I15: 0 | K15: 0 | M15: 5 | O15: 0 | Q15: 0 | S15: 0 | U15: 0 | W15: 0 | Y15: 0 | AB15: =SUM(C15:Y15) -> 877204
A16: State Revenue - Misc | C16: 0 | E16: 218125.12 | G16: 16972.63 | I16: 0 | K16: 1450 | M16: 0 | O16: 15804.65 | Q16: 0 | S16: 0 | U16: 0 | W16: 0 | Y16: 0 | AB16: =SUM(C16:Y16) -> 252352.4
A17: MAC Receipts/SHARS | C17: 3330.24 | E17: 33370.77 | G17: 22046.87 | I17: 19449.56 | K17: 10518.29 | M17: 26196.3 | O17: 12945.52 | Q17: 0 | S17: 0 | U17: 0 | W17: 0 | Y17: 0 | AB17: =SUM(C17:Y17) -> 127857.55
A18: Federal Program Revenue | C18: 130376 | E18: 144982.06 | G18: 236544.01 | I18: 107554.55 | K18: 105253.36 | M18: 106514.6 | O18: 575783.64 | Q18: 0 | S18: 0 | U18: 0 | W18: 0 | Y18: 0 | AB18: =SUM(C18:Y18) -> 1407008.2
A19: Federal Program Revenue 240 | C19: 48828.49 | E19: 219797.91 | G19: 217550.33 | I19: 153448.43 | K19: 142194.05 | M19: 181930.11 | O19: 186760.65 | Q19: 0 | S19: 0 | U19: 0 | W19: 0 | Y19: 0 | AB19: =SUM(C19:Y19) -> 1150510
A20: Lunch Revenue - local 240 | C20: 144672.97 | E20: 164754.94 | G20: 123867.38 | I20: 99043.81 | K20: 126398.23 | M20: 126139.3 | O20: 133463.92 | Q20: 0 | S20: 0 | U20: 0 | W20: 0 | Y20: 0 | AB20: =SUM(C20:Y20) -> 918340.55
A21: Payroll Deposits | C21: 1200.63 | E21: 310.96 | G21: 1.25 | I21: 1182.62 | K21: 1182.62 | M21: 1086.5 | O21: 1134.6 | Q21: 0 | S21: 0 | U21: 0 | W21: 0 | Y21: 0 | AB21: =SUM(C21:Y21) -> 6099.18
... A24: Transfers from Investment Acct | C24: 2635963.4 | E24: 0 | G24: 0 | I24: 0 | K24: 0 | M24: 0 | O24: 0 | Q24: 0 | S24: 0 | U24: 0 | W24: 0 | Y24: 0 | AB24: =SUM(C24:Y24) -> 2635963.4
A25: Total Revenue | C25: =SUM(C10:C24) -> 8245900.3 | E25: =SUM(E10:E24) -> 5561999.9 | G25: =SUM(G10:G24) -> 4888973.9 | I25: =SUM(I10:I24) -> 14284430 | K25: =SUM(K10:K24) -> 6269172 | M25: =SUM(M10:M24) -> 3690333.9 | O25: =SUM(O10:O24) -> 1610773.1 | Q25: =SUM(Q10:Q24) -> 0 | S25: =SUM(S10:S24) -> 0 | U25: =SUM(U10:U24) -> 0 | W25: =SUM(W10:W24) -> 0 | Y25: =SUM(Y10:Y24) -> 0 | AB25: =SUM(C25:Y25) -> 44551583
A27: DISBURSEMENTS
A28: Payroll Checks | C28: 2254432.5 | E28: 2344373 | G28: 2377809.9 | I28: 2361825 | K28: 2320194.9 | M28: 2367331 | O28: 2398850.3 | Q28: 0 | S28: 0 | U28: 0 | W28: 0 | Y28: 0 | AB28: =SUM(C28:Y28) -> 16424816
A29: Accounts Payable Checks | C29: 2670140.5 | E29: 3529205.8 | G29: 1421458.1 | I29: 2793566.8 | K29: 1112533.7 | M29: 1107717.9 | O29: 811711.17 | Q29: 0 | S29: 0 | U29: 0 | W29: 0 | Y29: 0 | AB29: =SUM(C29:Y29) -> 13446334
A30: TRS Deposit | C30: 631176.25 | E30: 602225.84 | G30: 626885.07 | I30: 614348.82 | K30: 278047 | M30: 934298.45 | O30: 614955.34 | Q30: 0 | S30: 0 | U30: 0 | W30: 0 | Y30: 0 | AB30: =SUM(C30:Y30) -> 4301936.8
A31: IRS Deposit | C31: 322220.93 | E31: 329301.91 | G31: 330180.44 | I31: 328151.72 | K31: 324020.73 | M31: 331084.4 | O31: 331019.86 | Q31: 0 | S31: 0 | U31: 0 | W31: 0 | Y31: 0 | AB31: =SUM(C31:Y31) -> 2295980
A32: Bank Charges/ NSFs/Bk Trans | C32: 766 | E32: 714.39 | G32: 292 | I32: 335 | K32: 580 | M32: 264 | O32: 303 | Q32: 0 | S32: 0 | U32: 0 | W32: 0 | Y32: 0 | AB32: =SUM(C32:Y32) -> 3254.39
A33: Total Expenditures | C33: =SUM(C28:C32) -> 5878736.1 | E33: =SUM(E28:E32) -> 6805820.9 | G33: =SUM(G28:G32) -> 4756625.4 | I33: =SUM(I28:I32) -> 6098227.3 | K33: =SUM(K28:K32) -> 4035376.4 | M33: =SUM(M28:M32) -> 4740695.8 | O33: =SUM(O28:O32) -> 4156839.6 | Q33: =SUM(Q28:Q32) -> 0 | S33: =SUM(S28:S32) -> 0 | U33: =SUM(U28:U32) -> 0 | W33: =SUM(W28:W32) -> 0 | Y33: =SUM(Y28:Y32) -> 0 | AB33: =SUM(C33:Y33) -> 36472322
A35: Cash to TEA | C35: 0 | E35: 0 | G35: 0 | I35: 0 | K35: 0 | M35: 0 | O35: 0 | Q35: 0 | S35: 0 | U35: 0 | W35: 0 | Y35: 0 | AB35: =SUM(C35:Y35) -> 0
A36: Cash Transferred to Debt Service | C36: 0 | E36: 0 | G36: 0 | I36: 877199 | K36: 0 | M36: 0 | O36: 0 | Q36: 0 | S36: 0 | U36: 0 | W36: 0 | Y36: 0 | AB36: =SUM(C36:Y36) -> 877199
A37: Transfers to Investment Accounts | C37: 0 | E37: 0 | G37: 0 | I37: 0 | K37: 0 | M37: 0 | O37: 0 | Q37: 0 | S37: 0 | U37: 0 | W37: 0 | Y37: 0 | AB37: =SUM(C37:Y37) -> 0
A38: Other | C38: 0 | E38: 0 | G38: 0 | I38: 0 | K38: 0 | M38: 0 | O38: 0 | Q38: 0 | S38: 0 | U38: 0 | W38: 0 | Y38: 0 | AB38: =SUM(C38:Y38) -> 0
A39: Total Expenditures & Transfers | C39: =SUM(C35:C38)+C33 -> 5878736.1 | E39: =SUM(E35:E38)+E33 -> 6805820.9 | G39: =SUM(G35:G38)+G33 -> 4756625.4 | I39: =SUM(I35:I38)+I33 -> 6975426.3 | K39: =SUM(K35:K38)+K33 -> 4035376.4 | M39: =SUM(M35:M38)+M33 -> 4740695.8 | O39: =SUM(O35:O38)+O33 -> 4156839.6 | Q39: =SUM(Q35:Q38)+Q33 -> 0 | S39: =SUM(S35:S38)+S33 -> 0 | U39: =SUM(U35:U38)+U33 -> 0 | W39: =SUM(W35:W38)+W33 -> 0 | Y39: =SUM(Y35:Y38)+Y33 -> 0 | AB39: =SUM(C39:Y39) -> 37349521
A41: Net Change in Cash | C41: =+C25-C39 -> 2367164.1 | E41: =+E25-E39 -> -1243820.9 | G41: =+G25-G39 -> 132348.48 | I41: =+I25-I39 -> 7309003.2 | K41: =+K25-K39 -> 2233795.7 | M41: =+M25-M39 -> -1050361.9 | O41: =+O25-O39 -> -2546066.6 | Q41: =+Q25-Q39 -> 0 | S41: =+S25-S39 -> 0 | U41: =+U25-U39 -> 0 | W41: =+W25-W39 -> 0 | Y41: =+Y25-Y39 -> 0 | AB41: =SUM(C41:Y41) -> 7202062.1
A43: Ending Cash Balance in bank | C43: =+C7+C41 -> 17659567 | E43: =+E7+E41 -> 16415746 | G43: =+G7+G41 -> 16548094 | I43: =+I7+I41 -> 23857097 | K43: =+K7+K41 -> 26090893 | M43: =+M7+M41 -> 25040531 | O43: =+O7+O41 -> 22494465 | Q43: =+Q7+Q41 -> 0 | S43: =+S7+S41 -> 0 | U43: =+U7+U41 -> 0 | W43: =+W7+W41 -> 0 | Y43: =+Y7+Y41 -> 0 | AB43: =+AB7+AB41 -> 22494465
A46: Beginning Cash Balance Lone Star | C46: 12161190 | E46: =+C46+C49 -> 12162390 | G46: =+E46+E49 -> 12163563 | I46: =+G46+G49 -> 12164703 | K46: =+I46+I49 -> 12165965 | M46: =+K46+K49 -> 12167234 | O46: =+M46+M49 -> 12168365 | Q46: 0 | S46: 0 | U46: 0 | W46: 0 | Y46: 0 | AB46: =+C46 -> 12161190
A47: Beginning Cash Balance TexStar | C47: 1378761.6 | E47: =+C47+C50 -> 1378797.5 | G47: =+E47+E50 -> 1378842.6 | I47: =+G47+G50 -> 1378886.5 | K47: =+I47+I50 -> 1378945.1 | M47: =+K47+K50 -> 1379008.6 | O47: =+M47+M50 -> 1379066.6 | Q47: 0 | S47: 0 | U47: 0 | W47: 0 | Y47: 0 | AB47: =+C47 -> 1378761.6
A48: Beginning Cash Balance MBIA | C48: 4444599.4 | E48: =+C48+C51+C52 -> 1808832.3 | G48: =+E48+E51 -> 1808978.4 | I48: =+G48+G51 -> 1809119.8 | K48: =+I48+I51 -> 1809265.8 | M48: =+K48+K51 -> 1809426.9 | O48: =+M48+M51 -> 1809573.9 | Q48: 0 | S48: 0 | U48: 0 | W48: 0 | Y48: 0 | AB48: =+C48 -> 4444599.4
A49: Interest Earned Lone Star | C49: 1200.11 | E49: 1172.75 | G49: 1139.83 | I49: 1262.4 | K49: 1269.56 | M49: 1130.09 | O49: 1307.04 | Q49: 0 | S49: 0 | U49: 0 | W49: 0 | Y49: 0 | AB49: =SUM(C49:AA49) -> 8481.78
A50: Interest Earned TexStar | C50: 35.95 | E50: 45.08 | G50: 43.85 | I50: 58.63 | K50: 63.53 | M50: 57.97 | O50: 70.76 | Q50: 0 | S50: 0 | U50: 0 | W50: 0 | Y50: 0 | AB50: =SUM(C50:AA50) -> 375.77
...

Sheet Debt Srv Cash Flow
M1: Little Elm Independent School District
M2: Debt Service Cash Flow Statement
M3: FY 2014-2015
C5: September | E5: October | G5: November | I5: December | K5: January | M5: February | O5: March | Q5: April | S5: May | U5: June | W5: July | Y5: August | AB5: TOTAL
C6: Actual | E6: Actual | G6: Actual | I6: Actual | K6: Actual | M6: Actual | O6: Actual | Q6: Actual | S6: Actual | U6: Actual | W6: Actual | Y6: Actual
A7: Beginning Cash Balance in Bank | C7: 2471571.7 | E7: =+C27 -> 2476984.8 | G7: =+E27 -> 2685867.4 | I7: =+G27 -> 3226763.9 | K7: =+I27 -> 2655693.6 | M7: =+K27 -> 5395579.3 | O7: =+M27 -> 1896175.9 | Q7: 0 | S7: =+Q27 -> 0 | U7: =+S27 -> 0 | W7: =+U27 -> 0 | Y7: =+W27 -> 0 | AB7: =+C7 -> 2471571.7
A9: RECEIPTS
A10: Tax Collections | C10: 7142.78 | E10: 208028.41 | G10: 542320.19 | I10: =7427329.99-877199 -> 6550131 | K10: 2738469 | M10: 1499896 | O10: 134012.5 | Q10: 0 | S10: 0 | U10: 0 | W10: 0 | Y10: 0 | AB10: =SUM(C10:Y10) -> 11680000
A11: Interest | C11: 813.34 | E11: 854.13 | G11: 986.37 | I11: 1599.69 | K11: 1416.67 | M11: 700.62 | O11: 671.2 | Q11: 0 | S11: 0 | U11: 0 | W11: 0 | Y11: 0 | AB11: =SUM(C11:Y11) -> 7042.02
A12: Bond Refunding | C12: 0 | E12: 0 | G12: 0 | I12: 0 | K12: 0 | M12: 0 | O12: 0 | Q12: 0 | S12: 0 | U12: 0 | W12: 0 | Y12: 0 | AB12: =SUM(C12:Y12) -> 0
A13: Transfer from General Operating | C13: 0 | E13: 0 | G13: 0 | I13: 877199 | K13: 0 | M13: 0 | O13: 0 | Q13: 0 | S13: 0 | U13: 0 | W13: 0 | Y13: 0 | AB13: =SUM(C13:Y13) -> 877199
A14: Transfers from Investment Acct | C14: 0 | E14: 0 | G14: 0 | I14: 0 | K14: 0 | M14: 0 | O14: 0 | Q14: 0 | S14: 0 | U14: 0 | W14: 0 | Y14: 0 | AB14: =SUM(C14:Y14) -> 0
A15: Total Revenue | C15: =SUM(C10:C14) -> 7956.12 | E15: =SUM(E10:E14) -> 208882.54 | G15: =SUM(G10:G14) -> 543306.56 | I15: =SUM(I10:I14) -> 7428929.7 | K15: =SUM(K10:K14) -> 2739885.6 | M15: =SUM(M10:M14) -> 1500596.6 | O15: =SUM(O10:O14) -> 134683.7 | Q15: =SUM(Q10:Q14) -> 0 | S15: =SUM(S10:S14) -> 0 | U15: =SUM(U10:U14) -> 0 | W15: =SUM(W10:W14) -> 0 | Y15: =SUM(Y10:Y14) -> 0 | AB15: =SUM(C15:Y15) -> 12564241
A17: DISBURSEMENTS
A18: Bank Charges/ NSFs/Bk Trans | C18: 0 | E18: 0 | G18: 0 | I18: 0 | K18: 0 | M18: 0 | O18: 0 | Q18: 0 | S18: 0 | U18: 0 | W18: 0 | Y18: 0 | AB18: =SUM(C18:Y18) -> 0
A19: Total Expenditures | C19: =SUM(C18:C18) -> 0 | E19: =SUM(E18:E18) -> 0 | G19: =SUM(G18:G18) -> 0 | I19: =SUM(I18:I18) -> 0 | K19: =SUM(K18:K18) -> 0 | M19: =SUM(M18:M18) -> 0 | O19: =SUM(O18:O18) -> 0 | Q19: =SUM(Q18:Q18) -> 0 | S19: =SUM(S18:S18) -> 0 | U19: =SUM(U18:U18) -> 0 | AB19: =SUM(C19:Y19) -> 0
A21: Transfers to Investment Accounts | C21: 0 | E21: 0 | G21: 0 | I21: 8000000 | K21: 0 | M21: 5000000 | O21: 0 | Q21: 0 | S21: 0 | U21: 0 | W21: 0 | Y21: 0 | AB21: =SUM(C21:Y21) -> 13000000
A22: Transfer to General Operating | C22: 2543 | E22: 0 | G22: 2410 | I22: 0 | K22: 0 | M22: 0 | O22: 0 | Q22: 0 | S22: 0 | U22: 0 | W22: 0 | Y22: 0 | AB22: =SUM(C22:Y22) -> 4953
A23: Total Expenditures & Transfers | C23: =SUM(C21:C22)+C19 -> 2543 | E23: =SUM(E21:E22)+E19 -> 0 | G23: =SUM(G21:G22)+G19 -> 2410 | I23: =SUM(I21:I22)+I19 -> 8000000 | K23: =SUM(K21:K22)+K19 -> 0 | M23: =SUM(M21:M22)+M19 -> 5000000 | O23: =SUM(O21:O22)+O19 -> 0 | Q23: =SUM(Q21:Q22)+Q19 -> 0 | S23: =SUM(S21:S22)+S19 -> 0 | U23: =SUM(U21:U22)+U19 -> 0 | W23: =SUM(W21:W22)+W19 -> 0 | Y23: =SUM(Y19:Y22) -> 0 | AB23: =SUM(C23:Y23) -> 13004953
A25: Net Change in Cash | C25: =+C15-C23 -> 5413.12 | E25: =+E15-E23 -> 208882.54 | G25: =+G15-G23 -> 540896.56 | I25: =+I15-I23 -> -571070.32 | K25: =+K15-K23 -> 2739885.6 | M25: =+M15-M23 -> -3499403.4 | O25: =+O15-O23 -> 134683.7 | Q25: =+Q15-Q23 -> 0 | S25: =+S15-S23 -> 0 | U25: =+U15-U23 -> 0 | W25: =+W15-W23 -> 0 | Y25: =+Y15-Y23 -> 0 | AB25: =SUM(C25:Y25) -> -440712.13
A27: Ending Cash Balance in bank | C27: =+C7+C25 -> 2476984.8 | E27: =+E7+E25 -> 2685867.4 | G27: =+G7+G25 -> 3226763.9 | I27: =+I7+I25 -> 2655693.6 | K27: =+K7+K25 -> 5395579.3 | M27: =+M7+M25 -> 1896175.9 | O27: =+O7+O25 -> 2030859.6 | Q27: =+Q7+Q25 -> 0 | S27: =+S7+S25 -> 0 | U27: =+U7+U25 -> 0 | W27: =+W7+W25 -> 0 | Y27: =+Y7+Y25 -> 0 | AB27: =+AB7+AB25 -> 2030859.6
A30: Beginning Cash Balance TexPool | C30: 1240988.2 | E30: =+C30+C31 -> 1241022.1 | G30: =+E30+E31 -> 1241050.3 | I30: =+G30+G31 -> 1241079.4 | K30: =+I30+I31+I32 -> 9241136.5 | M30: =+K30+K31 -> 9241501.4 | O30: =+M34 -> 11448185 | Q30: 0 | S30: =+Q30+Q31 -> 0 | U30: =+S30+S31 -> 0 | W30: =+U30+U31 -> 0 | Y30: =+W30+W31 -> 0 | AB30: =+C30 -> 1240988.2
A31: Interest Earned TexPool | C31: 33.94 | E31: 28.22 | G31: 29.12 | I31: 57.07 | K31: 364.88 | M31: 393.33 | O31: 466.81 | Q31: 0 | S31: 0 | U31: 0 | W31: 0 | Y31: 0 | AB31: =SUM(C31:AA31) -> 1373.37
A32: Transfers in | C32: 0 | E32: 0 | G32: 0 | I32: 8000000 | K32: 0 | M32: 5000000 | O32: 0 | Q32: 0 | S32: 0 | U32: 0 | W32: 0 | Y32: 0 | AB32: =SUM(C32:AA32) -> 13000000
A33: Transfers out | C33: 0 | E33: 0 | G33: 0 | I33: 0 | K33: 0 | M33: -2793710 | O33: 0 | Q33: 0 | S33: 0 | U33: 0 | W33: 0 | Y33: 0 | AB33: =SUM(C33:AA33) -> -2793710
A34: Ending Cash Balance Invested | C34: =SUM(C30:C33) -> 1241022.1 | E34: =SUM(E30:E33) -> 1241050.3 | G34: =SUM(G30:G33) -> 1241079.4 | I34: =SUM(I30:I33) -> 9241136.5 | K34: =SUM(K30:K33) -> 9241501.4 | M34: =SUM(M30:M33) -> 11448185 | O34: =SUM(O30:O33) -> 11448652 | Q34: =SUM(Q30:Q33) -> 0 | S34: =SUM(S30:S33) -> 0 | U34: =SUM(U30:U33) -> 0 | W34: =SUM(W30:W33) -> 0 | Y34: =SUM(Y30:Y33) -> 0 | AB34: =SUM(AB30:AB33) -> 11448652
A36: TOTAL CASH AVAILABLE | C36: =+C27+C34 -> 3718007 | E36: =+E27+E34 -> 3926917.7 | G36: =+G27+G34 -> 4467843.4 | I36: =+I27+I34 -> 11896830 | K36: =+K27+K34 -> 14637081 | M36: =+M27+M34 -> 13344361 | O36: =+O27+O34 -> 13479511 | Q36: =+Q27+Q34 -> 0 | S36: =+S27+S34 -> 0 | U36: =+U27+U34 -> 0 | W36: =+W27+W34 -> 0 | Y36: =+Y27+Y34 -> 0 | AB36: =+AB27+AB34 -> 13479511

Sheet Bank Rec
A1: LITTLE ELM INDEPENDENT SCHOOL DISTRICT
A2: Cash and Investments Reconciliation
A3: as of March 31, 2015
A6: Operating Fund:
A8: Balance per bank | E8: =+'GO Cash Flow'!AB43 -> 22494465
A10: Add: | B10: Texas Class/MBIA | E10: 1809761.8
B11: Lone Star | E11: 12169672
B12: TexStar | E12: 1379137.4
A14: Add: | B14: Deposits in Transit | E14: =11784.69+3226.87 -> 15011.56
B15: Taxes in Transit | E15: 51156.65
A17: Less: | B17: Outstanding Checks/Wires | E17: =-656130.73-1750.18 -> -657880.91
A20: Balance per Books | E20: =SUM(E8:E18) -> 37261323
A24: Interest & Sinking Fund:
A26: Balance per bank | E26: =+'Debt Srv Cash Flow'!AB27 -> 2030859.6
A28: Add: | B28: Texpool | E28: 11448652
A30: Add: | B30: Taxes in Transit | E30: 24578.23
A32: Less: | B32: Outstanding Checks | E32: 0
A34: Balance per Books | E34: =SUM(E26:E32) -> 13504089
A38: Total Balance per Books | E38: =+E20+E34 -> 50765412

Sheet General Fund Invest
A1: LITTLE ELM INDEPENDENT SCHOOL DISTRICT
A2: SUMMARY OF CURRENT INVESTMENTS - BY FUND
A3: MONTH ENDED: March 31, 2015
A6: General Fund 199
A7: PURCHASE | D7: TYPE | F7: BEGINNING | G7: ENDING | H7: AVERAGE | J7: DAYS | K7: YIELD | L7: INTEREST | M7: W/D
A8: /SOLD | B8: TRADE | C8: CUSIP # | D8: OF | E8: PAR | F8: MARKET | G8: MARKET | H8: MONTHLY | I8: BOOK | J8: TO | K8: TO | L8: ACCRUED | M8: FOR
A9: DATE | B9: TICKET # | D9: INVESTMENT | E9: VALUE | F9: VALUE | G9: VALUE | H9: RATE | I9: VALUE | J9: MATURE | K9: MATURE | L9: FOR PERIOD | M9: PERIOD
A11: 42064 | B11: Lone Star | D11: Investment Pool | E11: 12168365 | F11: 1 | G11: 1 | H11: 0 | I11: =+E11 -> 12168365
D12: Investment | E12: 0 | I12: =+I11+E12 -> 12168365
D13: Withdrawal | E13: 0 | I13: =+I12+E13 -> 12168365 | M13: =+E13 -> 0
A14: 42094 | D14: Interest | E14: 1307.04 | H14: 0.0013 | I14: =+I13+E14 -> 12169672 | L14: =+E14 -> 1307.04
E16: =SUM(E11:E14) -> 12169672 | I16: =I14 -> 12169672 | L16: =SUM(L14:L15) -> 1307.04 | M16: =+M13 -> 0
A21: General Fund 199
A22: PURCHASE | D22: TYPE | F22: BEGINNING | G22: ENDING | H22: AVERAGE | J22: DAYS | K22: YIELD | L22: INTEREST | M22: W/D
A23: /SOLD | B23: TRADE | C23: CUSIP # | D23: OF | E23: PAR | F23: MARKET | G23: MARKET | H23: MONTHLY | I23: BOOK | J23: TO | K23: TO | L23: ACCRUED | M23: FOR
A24: DATE | B24: TICKET # | D24: INVESTMENT | E24: VALUE | F24: VALUE | G24: VALUE | H24: RATE | I24: VALUE | J24: MATURE | K24: MATURE | L24: FOR PERIOD | M24: PERIOD
A26: =+A11 -> 42064 | B26: TexSTAR | D26: Investment Pool | E26: 1379066.6 | F26: 1 | G26: 1 | H26: 0 | I26: =E26 -> 1379066.6
D27: Investment | E27: 0 | I27: =+I26+E27 -> 1379066.6
D28: Withdrawal | E28: 0 | I28: =+I27+E28 -> 1379066.6 | M28: =+E28 -> 0
A29: =+A14 -> 42094 | D29: Interest | E29: 70.76 | H29: 0.000604 | I29: =+I28+E29 -> 1379137.4 | L29: =E29 -> 70.76
E31: =E26+E27+E29 -> 1379137.4 | I31: =I29 -> 1379137.4 | L31: =L29 -> 70.76 | M31: =+M28 -> 0
A36: Construction Fund 647
A37: PURCHASE | D37: TYPE | F37: BEGINNING | G37: ENDING | H37: AVERAGE | J37: DAYS | K37: YIELD | L37: INTEREST | M37: W/D
A38: /SOLD | B38: TRADE | C38: CUSIP # | D38: OF | E38: PAR | F38: MARKET | G38: MARKET | H38: MONTHLY | I38: BOOK | J38: TO | K38: TO | L38: ACCRUED | M38: FOR
A39: DATE | B39: TICKET # | D39: INVESTMENT | E39: VALUE | F39: VALUE | G39: VALUE | H39: RATE | I39: VALUE | J39: MATURE | K39: MATURE | L39: FOR PERIOD | M39: PERIOD
A41: =+A11 -> 42064 | B41: MBIA-Texas CLASS | D41: Investment Pool | E41: 1809573.9 | F41: 1 | G41: 1 | H41: 0 | I41: =E41 -> 1809573.9
D42: Investment | E42: 0 | I42: =+I41+E42 -> 1809573.9
D43: Withdrawal | E43: 0 | I43: =+I42+E43 -> 1809573.9 | M43: =+E43 -> 0
A44: =+A14 -> 42094 | D44: Interest | E44: 187.97 | H44: 0.0012 | I44: =+I43+E44 -> 1809761.8 | L44: =E44 -> 187.97
E46: =SUM(E41:E44) -> 1809761.8 | I46: =I44 -> 1809761.8 | L46: =L44 -> 187.97 | M46: =+M43 -> 0

Sheet Debt Srv Fund Invest
A1: LITTLE ELM INDEPENDENT SCHOOL DISTRICT
A2: SUMMARY OF CURRENT INVESTMENTS - BY FUND
A3: MONTH ENDED: March 31, 2015
A6: Debt Service Fund 511
A7: PURCHASE | D7: TYPE | F7: BEGINNING | G7: ENDING | H7: AVERAGE | J7: DAYS | K7: YIELD | L7: INTEREST | M7: W/D
A8: /SOLD | B8: TRADE | C8: CUSIP # | D8: OF | E8: PAR | F8: MARKET | G8: MARKET | H8: MONTHLY | I8: BOOK | J8: TO | K8: TO | L8: ACCRUED | M8: FOR
A9: DATE | B9: TICKET # | D9: INVESTMENT | E9: VALUE | F9: VALUE | G9: VALUE | H9: RATE | I9: VALUE | J9: MATURE | K9: MATURE | L9: FOR PERIOD | M9: PERIOD
A11: 42064 | B11: TexPool | D11: Investment Pool | E11: 11448185 | F11: 1 | G11: 1 | H11: 0 | I11: =+E11 -> 11448185
D12: Investment | E12: 0 | I12: =+I11+E12 -> 11448185
D13: Withdrawal | E13: 0 | I13: =+I12+E13 -> 11448185 | M13: =+E13 -> 0
A14: 42094 | D14: Interest | E14: 466.81 | H14: 0.00048 | I14: =+I13+E14 -> 11448652 | L14: =+E14 -> 466.81
E16: =SUM(E11:E14) -> 11448652 | I16: =I14 -> 11448652 | L16: =SUM(L14:L15) -> 466.81 | M16: =SUM(M12:M15) -> 0

Sheet Rev Exp All Funds
A1: Little Elm Independent School District | O1: Little Elm Independent School District | AC1: Little Elm Independent School District | AQ1: Little Elm Independent School District
A2: Summary of Revenue & Expenditures As Of 03/31/15 | O2: =A2 -> Summary of Revenue & Expenditures As Of 03/31/15 | AC2: =A2 -> Summary of Revenue & Expenditures As Of 03/31/15 | AQ2: =A2 -> Summary of Revenue & Expenditures As Of 03/31/15
A3: Accounting Period: 03 | O3: =A3 -> Accounting Period: 03 | AC3: =O3 -> Accounting Period: 03 | AQ3: =A3 -> Accounting Period: 03
C6: Fund: 1XX | E6: % | F6: Fund: 211 | H6: % | I6: Fund: 224 | K6: % | L6: Fund: 225 | N6: % | Q6: Fund: 244 | S6: % | T6: Fund: 255 | V6: % | W6: Fund: 263 | Y6: % | Z6: Fund 289 | AB6: % | AE6: Fund 397 | AG6: % | AH6: Fund 410 | AJ6: % | AK6: Fund: 240 | AM6: % | AN6: Fund: 511 | AP6: % | AR6: Fund: 647 | AT6: % | AU6: Fund: 720 | AW6: %
C7: General Operating | F7: Title I-A | I7: IDEA-B Formula | L7: IDEA-B Pre-School | Q7: Voc Ed | T7: Title II TPTR | W7: Title III, Part A | Z7: Summer School LEP | AE7: APIB Campus Awards | AH7: Instructional Materials | AK7: Food Service | AN7: Debt Service | AR7: 2012 & 2014 Bonds | AU7: Child Care
F8: Improving Basic | I8: (Spec Ed) | L8: (Spec Ed) | Q8: Basic Grant | W8: LEP/Immigrant
A10: Revenue Budget | C10: 49532246 | E10: 1 | F10: 463976 | H10: 1 | I10: 737203 | K10: 1 | L10: 8977 | N10: 1 | O10: Revenue Budget | Q10: 56530 | S10: 1 | T10: 51268 | V10: 1 | W10: 126410 | Y10: 1 | Z10: 6639 | AB10: 1 | AC10: Revenue Budget | AE10: 0 | AG10: 1 | AH10: 238105 | AJ10: 1 | AK10: 2849784 | AM10: 1 | AN10: 11330893 | AP10: 1 | AQ10: Revenue Budget | AR10: 18180345 | AT10: 1 | AU10: 579032 | AW10: 1
A11: Period Receipts | C11: 1230696 | F11: 56858.85 | I11: 76580.57 | L11: 49.25 | O11: Period Receipts | Q11: 7646.62 | T11: 0 | W11: 6049.35 | Z11: 0 | AC11: Period Receipts | AE11: 0 | AH11: 15804.65 | AK11: 332782.09 | AN11: 139021.22 | AQ11: Period Receipts | AR11: 187.97 | AU11: 50732.41
A12: Revenue Received to Date | C12: 39950581 | E12: =C12/C10 -> 0.80655702 | F12: 181599.26 | H12: =F12/F10 -> 0.39139796 | I12: 444977.93 | K12: =I12/I10 -> 0.60360298 | L12: 1577.76 | N12: =L12/L10 -> 0.17575582 | O12: Revenue Received to Date | Q12: 11494.08 | S12: =Q12/Q10 -> 0.20332708 | T12: 8313.33 | V12: =T12/T10 -> 0.16215437 | W12: 46546 | Y12: =W12/W10 -> 0.36821454 | Z12: 6639 | AC12: Revenue Received to Date | AE12: 0 | AG12: =AE12/AE10 -> #DIV/0! | AH12: 239554.77 | AJ12: =AH12/AH10 -> 1.0060888 | AK12: 2127498.2 | AM12: =AK12/AK10 -> 0.74654717 | AN12: 12589511 | AP12: =AN12/AN10 -> 1.1110784 | AQ12: Revenue Received to Date | AR12: 18193323 | AT12: =AR12/AR10 -> 1.0007139 | AU12: 343196.12 | AW12: =AU12/AU10 -> 0.59270666
A14: Revenues Receivable: | C14: =C10-C12 -> 9581665.1 | E14: =C14/C10 -> 0.19344298 | F14: =F10-F12 -> 282376.74 | H14: =F14/F10 -> 0.60860204 | I14: =I10-I12 -> 292225.07 | K14: =I14/I10 -> 0.39639702 | L14: =L10-L12 -> 7399.24 | N14: =L14/L10 -> 0.82424418 | O14: Revenues Receivable: | Q14: =Q10-Q12 -> 45035.92 | S14: =Q14/Q10 -> 0.79667292 | T14: =T10-T12 -> 42954.67 | V14: =T14/T10 -> 0.83784563 | W14: =W10-W12 -> 79864 | Y14: =W14/W10 -> 0.63178546 | Z14: =Z10-Z12 -> 0 | AC14: Revenues Receivable: | AE14: =AE10-AE12 -> 0 | AJ14: =AH14/AH10 -> 0 | AK14: =IF(AK10-AK12<0,0,AK10-AK12) -> 722285.83 | AL14: ` | AM14: =AK14/AK10 -> 0.25345283 | AN14: =IF(AN10-AN12<0,0,AN10-AN12) -> 0 | AP14: =AN14/AN10 -> 0 | AQ14: Revenues Receivable: | AR14: =IF(AR10-AR12<0,0,AR10-AR12) -> 0 | AT14: =AR14/AR10 -> 0 | AU14: =AU10-AU12 -> 235835.88 | AW14: =AU14/AU10 -> 0.40729334
A17: Expenditure Budget | C17: 52641519 | E17: 1 | F17: 463976 | H17: 1 | I17: 737203 | K17: 1 | L17: 8977 | N17: 1 | O17: Expenditure Budget | Q17: 56530 | S17: 1 | T17: 51268 | V17: 1 | W17: 126410 | Y17: 1 | Z17: 6639 | AB17: 1 | AC17: Expenditure Budget | AE17: 0 | AG17: 1 | AH17: 263030 | AJ17: 1 | AK17: 3143799 | AM17: 1 | AN17: 11330893 | AP17: 1 | AQ17: Expenditure Budget | AR17: 18180345 | AT17: 1 | AU17: 590367 | AW17: 1
A18: Period Expenditures | C18: 4535394.6 | F18: 39746.65 | I18: 65007.75 | L18: 539.35 | O18: Period Expenditures | Q18: 890 | T18: 26706.6 | W18: 10231.36 | Z18: 0 | AC18: Period Expenditures | AE18: 0 | AH18: 0 | AK18: 380223.19 | AN18: 10500 | AQ18: Period Expenditures | AR18: 0 | AU18: 43711.3
A19: Exp./Encumbrances to Date | C19: =518535.08+32670338.68 -> 33188874 | E19: =C19/C17 -> 0.63046953 | F19: =28083.12+221345.91 -> 249429.03 | H19: =F19/F17 -> 0.53759037 | I19: =5630.02+509985.68 -> 515615.7 | K19: =I19/I17 -> 0.6994216 | L19: =130.29+2117.11 -> 2247.4 | N19: =L19/L17 -> 0.2503509 | O19: =A19 -> Exp./Encumbrances to Date | Q19: =24098.11+12384.08 -> 36482.19 | S19: =Q19/Q17 -> 0.64535981 | T19: =2225.14+37219.93 -> 39445.07 | V19: =T19/T17 -> 0.76938968 | W19: =11467.86+56777.36 -> 68245.22 | Y19: =W19/W17 -> 0.539872 | Z19: 0 | AB19: =Z19/Z17 -> 0 | AC19: =A19 -> Exp./Encumbrances to Date | AE19: 0 | AG19: =AE19/AE17 -> #DIV/0! | AH19: =16931.12+222623.65 -> 239554.77 | AJ19: =AH19/AH17 -> 0.91075075 | AK19: =104067.57+1786161.17 -> 1890228.7 | AM19: =AK19/AK17 -> 0.60125623 | AN19: 2806620 | AP19: =AN19/AN17 -> 0.24769628 | AQ19: =+A19 -> Exp./Encumbrances to Date | AR19: 16383562 | AT19: =AR19/AR17 -> 0.9011689 | AU19: =14864.8+346974.31 -> 361839.11 | AW19: =AU19/AU17 -> 0.61290538
A21: Balance to Expend: | C21: =C17-C19 -> 19452645 | E21: =C21/C17 -> 0.36953047 | F21: =F17-F19 -> 214546.97 | H21: =F21/F17 -> 0.46240963 | I21: =I17-I19 -> 221587.3 | K21: =I21/I17 -> 0.3005784 | L21: =L17-L19 -> 6729.6 | N21: =L21/L17 -> 0.7496491 | O21: Balance to Expend: | Q21: =Q17-Q19 -> 20047.81 | S21: =Q21/Q17 -> 0.35464019 | T21: =T17-T19 -> 11822.93 | V21: =T21/T17 -> 0.23061032 | W21: =W17-W19 -> 58164.78 | Y21: =W21/W17 -> 0.460128 | Z21: =Z17-Z19 -> 6639 | AC21: Balance to Expend: | AE21: =AE17-AE19 -> 0 | AH21: =AH17-AH19 -> 23475.23 | AJ21: =AH21/AH17 -> 0.089249249 | AK21: =AK17-AK19 -> 1253570.3 | AM21: =AK21/AK17 -> 0.39874377 | AN21: =AN17-AN19 -> 8524273 | AP21: =AN21/AN17 -> 0.75230372 | AQ21: Balance to Expend: | AR21: =AR17-AR19 -> 1796783.5 | AT21: =AR21/AR17 -> 0.098831098 | AU21: =AU17-AU19 -> 228527.89 | AW21: =AU21/AU17 -> 0.38709462
A23: Actual Revenue Over (Under) | O23: Actual Revenue Over (Under) | AC23: Actual Revenue Over (Under) | AQ23: Actual Revenue Over (Under)
A24: Actual Expenditures & Encumbrances: | C24: =C12-C19 -> 6761707.2 | F24: =F12-F19 -> -67829.77 | I24: =I12-I19 -> -70637.77 | L24: =L12-L19 -> -669.64 | O24: Actual Expenditures: | Q24: =Q12-Q19 -> -24988.11 | T24: =T12-T19 -> -31131.74 | W24: =W12-W19 -> -21699.22 | Z24: =Z12-Z19 -> 6639 | AC24: =A24 -> Actual Expenditures & Encumbrances: | AE24: =AE12-AE19 -> 0 | AH24: =AH12-AH19 -> 0 | AK24: =AK12-AK19 -> 237269.43 | AN24: =AN12-AN19 -> 9782890.6 | AQ24: =+A24 -> Actual Expenditures & Encumbrances: | AR24: =AR12-AR19 -> 1809761.8 | AU24: =AU12-AU19 -> -18642.99
L35: page 1 | Z35: page 2 | AN35: page 3 | BA35: page 4

Sheet Tax Collections
H1: Page 1 | R1: Page 2 | AA1: Page 3
B7: Denton County | K7: Denton County | U7: Denton County
B8: Monthly Collection Status Report | K8: Cumulative Comparative Collection Status Report | U8: Levy Outstanding Status Report
B9: 42078 | K9: 42078 | U9: 42078
B11: Little Elm ISD | K11: Little Elm ISD | U11: Little Elm ISD
N14: Tax Year 2014 | Q14: Tax Year 2013
D15: Collections | F15: Cumulative Total | H15: % of | N15: Collections thru | O15: % of | Q15: Collections thru | R15: % of | Y15: Current Tax Year | AA15: Delinquent Tax Years
D16: Month of March | F16: 10/1/14 thru 03/31/15 | H16: Tax Levy | N16: March 2015 | O16: Tax Levy | Q16: March 2014 | R16: Tax Levy
B17: Current Tax Year Collections | K17: Current Tax Year Collections
U18: Current Month:
B19: Base M&O | D19: 265771.14 | F19: 23953318 | H19: =ROUND((+F19+F20)/F61,6) -> 0.974725 | K19: Base M&O + I&S | N19: =+F19+F20 -> 35469336 | O19: =ROUND(+N19/N61,6) -> 0.974725 | Q19: =20599804.53+9903752.36 -> 30503557 | R19: =+Q19/Q57 -> 0.97616979
B20: Base I&S | D20: 127774.51 | F20: 11516018
B21: Base I&S Bond | D21: 0 | F21: 0
B22: P&I M&O | D22: =3322.53+14072.72+13.09+473.88-23.7 -> 17858.52 | F22: =5427.31+26701.64+13.09+4349.26-217.47+0.32-6.47 -> 36267.68 | K22: P&I M&O + I&S | N22: =+F22+F23 -> 51689.08 | Q22: =8629.41+40416.65+1093.4+4293.16-214.68 -> 54217.94 | U22: Tax Levy Remaining as of 03/01/15 | Y22: 1277835.9 | AA22: 389309.29
B23: P&I I&S | D23: =1592.81+6749.77 -> 8342.58 | F23: =2604.12+12817.28 -> 15421.4
B24: P&I I&S Bond | D24: 0 | F24: 0 | U24: Base M&O + I&S Collections | Y24: 393545.65 | AA24: =397614.45-393545.65 -> 4068.8
B25: Attorney Fee | D25: 2462.65 | F25: 2462.65 | K25: Attorney Fee | N25: =+F25 -> 2462.65 | Q25: 1473.77
U26: Supplement/Adjustments | Y26: 35453.54 | AA26: =397173.35-35453.54 -> 361719.81
B27: Subtotal | D27: =SUM(D19:D26) -> 422209.4 | F27: =SUM(F19:F26) -> 35523488 | H27: =ROUND(+F27/F61,6) -> 0.976213 | K27: Subtotal | N27: =SUM(N19:N26) -> 35523488 | O27: =ROUND(+N27/N61,6) -> 0.976213 | Q27: =SUM(Q19:Q26) -> 30559249 | R27: =+Q27/Q57 -> 0.97795203
U29: Remaining Levy as of 03/31/15 | Y29: =+Y22-Y24+Y26 -> 919743.77 | AA29: =+AA22-AA24+AA26 -> 746960.3
B30: Delinquent TaxYears Collections | K30: Delinquent Tax Years Collections
B32: Base M&O | D32: 2759.37 | F32: 283625.99 | K32: Base M&O + I&S | N32: =+F32+F33 -> 419746.02 | Q32: =96244.84+17251.96-25703.76 -> 87793.04
B33: Base I&S | D33: 1309.43 | F33: 136120.03
B34: Base I&S Bond | D34: 0 | F34: 0
B35: P&I M&O | D35: =630.93+364.83+8.76+16.55-0.83 -> 1020.24 | F35: =36604.05+11213.86+8486.44+57.99+174.81-8.75+0.27-5.39 -> 56523.28 | K35: P&I M&O + I&S | N35: =+F35+F36 -> 83252.84 | Q35: =3174.48+21552.76+10512.14+183.22+26.26+206.36-10.32 -> 35644.9
B36: P&I I&S | D36: =284.26+172.43 -> 456.69 | F36: =17598.13+5084.77+4046.66 -> 26729.56
B37: P&I I&S Bond | D37: 0 | F37: 0
B38: Attorney Fee | D38: 1172.18 | F38: 25295.91 | K38: Attorney Fee | N38: =+F38 -> 25295.91 | Q38: 22711.58
B39: Other* | D39: 0 | F39: 0
B41: Subtotal | D41: =SUM(D32:D40) -> 6717.91 | F41: =SUM(F32:F40) -> 528294.77 | K41: Subtotal | N41: =SUM(N32:N40) -> 528294.77 | Q41: =SUM(Q32:Q40) -> 146149.52 | U41: Cumulative (From 10/01/14 thru 03/31/15)
K44: Combined Current & Delinquent: | U44: Original 2014 Tax Levy (as of 10-1-14) | Y44: 35928566 | AA44: 819897.19
B45: Combined Current & Delinquent:
K46: Base M&O + I&S | N46: =+N19+N32 -> 35889082 | Q46: =+Q19+Q32 -> 30591350 | U46: Base M&O + I&S Collections | Y46: 35469336 | AA46: =35889082.21-35469336.19 -> 419746.02
B47: Base M&O | D47: =+D19+D32 -> 268530.51 | F47: =+F19+F32 -> 24236944
B48: Base I&S | D48: =+D20+D33 -> 129083.94 | F48: =+F20+F33 -> 11652138 | K48: P&I M&O + I&S | N48: =+N22+N35 -> 134941.92 | Q48: =+Q22+Q35 -> 89862.84 | U48: Supplement/Adjustments | Y48: 460514.18 | AA48: =807323.31-460514.18 -> 346809.13
B49: Base I&S Bond | D49: =+D21+D34 -> 0 | F49: =+F21+F34 -> 0
B50: P&I M&O | D50: =+D22+D35 -> 18878.76 | F50: =+F22+F35 -> 92790.96
B51: P&I I&S | D51: =+D23+D36 -> 8799.27 | F51: =+F23+F36 -> 42150.96 | K51: Attorney Fee | N51: =+N25+N38 -> 27758.56 | Q51: =+Q25+Q38 -> 24185.35 | U51: Remaining Levy as of 03/31/15 | Y51: =+Y44-Y46+Y48 -> 919743.77 | AA51: =+AA44-AA46+AA48 -> 746960.3
B52: Attorney Fee | D52: =+D25+D38 -> 3634.83 | F52: =+F25+F38 -> 27758.56 | K52: Other | N52: 0 | Q52: 0
B53: Other* | D53: =+D39 -> 0 | F53: =+F39 -> 0
...

Sheet K-8 STEM Academy 
A1: K-8 STEM ACADEMY
A3: Total Project Authorized by Board of Trustees
B5: Bond Construction Funds | C5: 15000000
B6: Bond Fund with interest est. | C6: =1238071+173 -> 1238244
B7: General Fund Add'l House | C7: 1400000
C8: =+C5+C6+C7 -> 17638244
A12: Expenditures as of 05/01/15
C13: Budget | F13: Expenditures to Date
F14: FY 12-13 | G14: FY 13-14 | I14: FY 14-15
A15: Project Codes | B15: Project | C15: Fund 647 | D15: Fund 199 | E15: Total Project Cost | F15: Fund 647 | G15: Fund 647 | H15: Fund 199 | I15: Fund 647 | J15: Fund 199 | K15: Total | L15: Closeout Not Yet Paid | M15: Available +/- | N15: % of Budget Committed | O15: % of Project Complete
A17: 81-6629-00-999-X99000 | B17: Architect Fees | C17: 788384 | D17: 0 | E17: =+C17+D17 -> 788384 | F17: 622411.52 | G17: 147822.74 | H17: 0 | I17: 0 | J17: 0 | K17: =SUM(F17:J17) -> 770234.26 | L17: 7780.14 | M17: =E17-K17-L17 -> 10369.6 | N17: =K17/E17 -> 0.97697855
A18: 81-6629-01-999-X99000 | B18: Miscellaneous | C18: 75300 | D18: 0 | E18: =+C18+D18 -> 75300 | F18: 58534.77 | G18: =11621.26+427.5 -> 12048.76 | H18: 0 | I18: 773.75 | J18: 0 | K18: =SUM(F18:J18) -> 71357.28 | L18: 0 | M18: =E18-K18-L18 -> 3942.72 | N18: =K18/E18 -> 0.94763984
A19: 81-6629-02-999-X99000 | B19: Technology Design Fees | C19: 24000 | D19: 0 | E19: =+C19+D19 -> 24000 | F19: 0 | G19: 24000 | H19: 0 | I19: 0 | J19: 0 | K19: =SUM(F19:J19) -> 24000 | L19: 0 | M19: =E19-K19-L19 -> 0 | N19: =K19/E19 -> 1
A20: 81-6629-03-999-X99000 | B20: Furnishings Design Fees | C20: 24000 | D20: 0 | E20: =+C20+D20 -> 24000 | F20: 0 | G20: 24000 | H20: 0 | I20: 0 | J20: 0 | K20: =SUM(F20:J20) -> 24000 | L20: 0 | M20: =E20-K20-L20 -> 0 | N20: =K20/E20 -> 1
A21: 81-6629-04-999-X99000 | B21: Construction | C21: =14694470+512863+146376 -> 15353709 | D21: 1400000 | E21: =+C21+D21 -> 16753709 | F21: 0 | G21: =14789295.8-G26-G27 -> 15472666 | H21: 962468.4 | I21: 26141.46 | J21: 210789.54 | K21: =SUM(F21:J21) -> 16672065 | L21: =80549-36942 -> 43607 | M21: =E21-K21-L21 -> 38037 | N21: =K21/E21 -> 0.99512681
A22: 81-6629-05-999-X99000 | B22: Architect Fees 3rd House | C22: 52590 | D22: 0 | E22: =+C22+D22 -> 52590 | F22: 0 | G22: 57764.2 | H22: 0 | I22: 0 | J22: 0 | K22: =SUM(F22:J22) -> 57764.2 | L22: 0 | M22: =E22-K22-L22 -> -5174.2 | N22: =K22/E22 -> 1.0983875
A23: 81-6629-06-999-X99000 | B23: Furnishings | C23: =404500-D23 -> 404500 | D23: 0 | E23: =+C23+D23 -> 404500 | F23: 0 | G23: 385358.19 | H23: 0 | I23: 15002.59 | J23: 0 | K23: =SUM(F23:J23) -> 400360.78 | L23: 0 | M23: =E23-K23-L23 -> 4139.22 | N23: =K23/E23 -> 0.98976707
A24: 81-6629-07-999-X99000 | B24: Technology | C24: 100000 | D24: 0 | E24: =+C24+D24 -> 100000 | F24: 0 | G24: 0 | H24: 0 | I24: 0 | J24: 0 | K24: =SUM(F24:J24) -> 0 | L24: 0 | M24: =E24-K24-L24 -> 100000 | N24: =K24/E24 -> 0
A25: 81-6629-08-999-X99000 | B25: Playground Equipment | C25: 75000 | D25: 0 | E25: 75000 | F25: 0 | G25: 75090.51 | H25: 0 | I25: 0 | J25: 0 | K25: =SUM(F25:J25) -> 75090.51 | L25: 0 | M25: =E25-K25-L25 -> -90.51 | N25: =K25/E25 -> 1.0012068
B26: Child Nutrition Credit | C26: -512863 | D26: 0 | E26: =+C26+D26 -> -512863 | F26: 0 | G26: -498460 | H26: 0 | I26: 0 | J26: 0 | K26: =SUM(F26:J26) -> -498460 | L26: 0 | M26: =E26-K26-L26 -> -14403 | N26: =K26/E26 -> 0.97191648
B27: Tribute Credit | C27: -146376 | D27: 0 | E27: =+C27+D27 -> -146376 | F27: 0 | G27: -184909.8 | H27: 0 | I27: 0 | J27: 0 | K27: =SUM(F27:J27) -> -184909.8 | L27: 0 | M27: =E27-K27-L27 -> 38533.8 | N27: =K27/E27 -> 1.2632522
B29: Total | C29: =SUM(C17:C28) -> 16238244 | D29: =SUM(D17:D28) -> 1400000 | E29: =SUM(E16:E27) -> 17638244 | F29: =SUM(F16:F27) -> 680946.29 | G29: =SUM(G16:G27) -> 15515380 | H29: =SUM(H16:H27) -> 962468.4 | I29: =SUM(I16:I27) -> 41917.8 | J29: =SUM(J16:J27) -> 210789.54 | K29: =SUM(K16:K27) -> 17411502 | L29: =SUM(L16:L27) -> 51387.14 | M29: =SUM(M16:M28) -> 175354.63 | N29: =+K29/E29 -> 0.98714488
E32: =+E29-17638244 -> 0
L38: `

Sheet LMS Renovations 2014
A1: LAKESIDE MIDDLE SCHOOL RENOVATION PROJECT
A3: Total Project Authorized by Board of Trustees
D5: 4700000 | E5: Preliminary
D6: -1043325 | E6: Savings
D7: =D5+D6 -> 3656675
A9: =+'K-8 STEM Academy '!A12 -> Expenditures as of 05/01/15
D11: Expenditures to Date | J11: % of Project Complete
A12: Project Codes | B12: Project | C12: Project Budget | D12: FY 13-14 | E12: FY 14-15 | F12: Total | G12: Less Retainage | H12: Available +/- | I12: % of Budget Committed
A14: 199-81-6629-00-041-499000 | B14: Architect Fees | C14: 212228 | D14: 212228 | F14: =+D14+E14 -> 212228 | H14: =+C14-F14-G14 -> 0 | I14: =+D14/C14 -> 1
A15: 199-81-6629-02-041-499000 | B15: Miscellaneous | C15: 216972 | D15: =136117.27 -> 136117.27 | E15: 28531.93 | F15: =+D15+E15 -> 164649.2 | H15: =+C15-F15-G15 -> 52322.8 | I15: =+D15/C15 -> 0.62734947
A16: 199-81-6629-03-041-499000 | B16: Flooring | C16: 700000 | D16: 672955.75 | F16: =+D16+E16 -> 672955.75 | H16: =+C16-F16-G16 -> 27044.25 | I16: =+D16/C16 -> 0.96136536
A17: 199-81-6629-04-041-499000 | B17: Construction | C17: 2527475 | D17: =2399869.12+87605.88 -> 2487475 | F17: =+D17+E17 -> 2487475 | G17: =38703+1297 -> 40000 | H17: =+C17-F17-G17 -> 0 | I17: =+D17/C17 -> 0.98417393
B24: Total | C24: =SUM(C13:C23) -> 3656675 | D24: =SUM(D13:D23) -> 3508776 | E24: =SUM(E13:E23) -> 28531.93 | F24: =SUM(F13:F23) -> 3537308 | G24: =SUM(G13:G23) -> 40000 | H24: =SUM(H13:H23) -> 79367.05 | I24: =+D24/C24 -> 0.9595537
G33: `

Sheet Roofs
A1: ROOF REPAIRS PROJECT
A3: Total Project Authorized by Board of Trustees | C3: =16024+26874+26874+543400+543400 -> 1156572
A10: =+'K-8 STEM Academy '!A12 -> Expenditures as of 05/01/15
A12: Project Codes | B12: Project | C12: Project Budget | D12: Current Year Expenditures to Date | E12: Less Retainage | F12: Available +/- | G12: % of Budget Committed | H12: % of Project Complete
A14: 199-81-6629-01-001-599000 | B14: Roof - LEHS | C14: 16024 | D14: 15710 | F14: =+C14-D14-E14 -> 314 | G14: =+D14/C14 -> 0.98040439
A15: 199-81-6629-01-103-599000 | B15: Roof - Brent | C15: 26874 | D15: 26347 | F15: =+C15-D15-E15 -> 527 | G15: =+D15/C15 -> 0.98038997
A16: 199-81-6629-01-104-599000 | B16: Roof - Chavez | C16: 26874 | D16: 26347 | F16: =+C16-D16-E16 -> 527 | G16: =+D16/C16 -> 0.98038997
A17: 199-81-6629-01-105-599000 | B17: Roof - Hackberry | C17: 543400 | D17: 506107.75 | F17: =+C17-D17-E17 -> 37292.25 | G17: =+D17/C17 -> 0.93137238
A18: 199-81-6629-01-108-599000 | B18: Roof - Oak Point | C18: 543400 | D18: 532745 | F18: =+C18-D18-E18 -> 10655 | G18: =+D18/C18 -> 0.98039198
B24: Total | C24: =SUM(C14:C23) -> 1156572 | D24: =SUM(D14:D23) -> 1107256.8 | E24: =SUM(E14:E23) -> 0 | F24: =SUM(F14:F23) -> 49315.25 | G24: =+D24/C24 -> 0.95736085
E33: `

Sheet LEHS Classroom Renovations
A1: LITTLE ELM HIGH SCHOOL CLASSROOM RENOVATIONS
A3: Total Project Authorized by Board of Trustees | C3: 373808
A10: =+'K-8 STEM Academy '!A12 -> Expenditures as of 05/01/15
A12: Project Codes | B12: Project | C12: Project Budget | D12: Current Year Expenditures to Date | E12: Less Retainage | F12: Available +/- | G12: % of Budget Committed | H12: % of Project Complete
A14: 199-81-6629-00-001-599001 | B14: LEHS Classrooms - Architect | C14: 40000 | D14: 0 | E14: 0 | F14: =+C14-D14-E14 -> 40000 | G14: =+D14/C14 -> 0
A15: 199-81-6629-01-001-599001 | B15: LEHS Classrooms - Construction | C15: 183808 | D15: 0 | E15: 0 | F15: =+C15-D15-E15 -> 183808 | G15: =+D15/C15 -> 0
A16: 199-81-6629-02-001-599001 | B16: LEHS Classrooms - FF&E | C16: 100000 | D16: 0 | E16: 0 | F16: =+C16-D16-E16 -> 100000 | G16: =+D16/C16 -> 0
A17: 199-81-6629-03-001-599001 | B17: LEHS Classrooms - Shelving | C17: 50000 | D17: 0 | E17: 0 | F17: =+C17-D17-E17 -> 50000 | G17: =+D17/C17 -> 0
B24: Total | C24: =SUM(C14:C23) -> 373808 | D24: =SUM(D14:D23) -> 0 | E24: =SUM(E14:E23) -> 0 | F24: =SUM(F14:F23) -> 373808 | G24: =+D24/C24 -> 0
E33: `

Sheet LEHS LAB Renovations
A1: LITTLE ELM HIGH SCHOOL TRADE & INDUSTRY LAB / CLASSROOM RENOVATIONS
A3: Total Project Authorized by Board of Trustees | C3: 179492
A10: =+'K-8 STEM Academy '!A12 -> Expenditures as of 05/01/15
A12: Project Codes | B12: Project | C12: Project Budget | D12: Current Year Expenditures to Date | E12: Less Retainage | F12: Available +/- | G12: % of Budget Committed | H12: % of Project Complete
A14: 199-81-6629-00-001-599002 | B14: LEHS CTE Lab - Architect | C14: 6502 | D14: 0 | E14: 0 | F14: =+C14-D14-E14 -> 6502 | G14: =+D14/C14 -> 0
A15: 199-81-6629-01-001-599002 | B15: LEHS CTE Lab - Construction | C15: 90791 | D15: 0 | E15: 0 | F15: =+C15-D15-E15 -> 90791 | G15: =+D15/C15 -> 0
A16: 199-81-6629-02-001-599002 | B16: LEHS CTE Lab - FF&E | C16: 82199 | D16: 0 | E16: 0 | F16: =+C16-D16-E16 -> 82199 | G16: =+D16/C16 -> 0
B24: Total | C24: =SUM(C14:C23) -> 179492 | D24: =SUM(D14:D23) -> 0 | E24: =SUM(E14:E23) -> 0 | F24: =SUM(F14:F23) -> 179492 | G24: =+D24/C24 -> 0
E33: `

Sheet Zellars Renovations
A1: ZELLARS RENOVATION PROJECT
A3: Total Project Authorized by Board of Trustees | C3: 25000
A10: =+'K-8 STEM Academy '!A12 -> Expenditures as of 05/01/15
A12: Project Codes | B12: Project | C12: Project Budget | D12: Current Year Expenditures to Date | E12: Less Retainage | F12: Available +/- | G12: % of Budget Committed | H12: % of Project Complete
A14: 199-81-6629-00-999-599003 | B14: Zellars Renovations | C14: 25000 | D14: 25000 | F14: =+C14-D14-E14 -> 0 | G14: =+D14/C14 -> 1
B24: Total | C24: =SUM(C14:C23) -> 25000 | D24: =SUM(D14:D23) -> 25000 | E24: =SUM(E14:E23) -> 0 | F24: =SUM(F14:F23) -> 0 | G24: =+D24/C24 -> 1
E33: `
