Workbook
Name SCHADDRS: #REF!
Name SCHADDRS: #REF!
Name SCHCTY: #REF!
Name SCHCTY: #REF!
Name SCHNMBR: #REF!
Name SCHNMBR: #REF!
Name SCHNME: #REF!
Name SCHNME: #REF!
Name SUPT: #REF!
Name SUPT: #REF!

Sheet Cover
F1: ILLINOIS STATE BOARD OF EDUCATION
F2: School Business Services Division
A3: Accounting Basis: | N3: ='DeficitBudgetSum Calc 19'!C7 & " " -> Balanced budget, no deficit reduction plan is required.
F4: SCHOOL DISTRICT BUDGET FORM *
C5: Cash | F5: July 1, 2019 - June 30, 2020
B6: X | C6: Accrual
C10: Date of Amended Budget:
G11: (MM/DD/YY)
C13: District Name: | G13: Glencoe School District #35
C14: District RCDT No: | G14: 05-016-0350-02
A16: If your FY19 AFR states that you need to do a deficit reduction plan and your FY20 budget is balanced please state the measures you took to have your budget become balanced. (Bckgrnd-Assumpt 25-26)
D24: =G13 -> Glencoe School District #35 | K24: , County of | M24: Cook | Q24: ,
H25: 43647 | M25: 44012 | Q25: .
G27: =D24 -> Glencoe School District #35 | Q27: ,
A28: County of | D28: =M24 -> Cook | G28: ,
K31: 5 | L31: day of | M31: September | O31: , 20 | P31: 19 | Q31: ,
D33: =H25 -> 43647 | I33: =M25 -> 44012 | L33: .
O36: 5
D37: September | G37: 19
D41: ** MEMBERS VOTING YEA: | J41: ** MEMBERS VOTING NAY:
C53: * | D53: Based on the 23 Illinois Administrative Code-Part 100 and inconformity with Section 17-1 of the School Code.
C54: ** | D54: Type in the members who voted "YEA" nor "NAY". Actual school board member signatures are not required for electronic submission.
C56: (1) | D56: A certified copy of this document must be filed with the county clerk within 30 days of adoption as required
D57: by Section 18-50 of the Property Tax Code (35 ILCS 200/18-50).
C58: (2) | D58: Districts are required to submit the adopted/amended budget electronically to ISBE within 30 days of adoption or by October 30,
D59: whichever comes first. Budgets are submitted to School Finance Report (SFR): | L59: https://sec1.isbe.net/attachmgr/default.aspx
D60: The electronic version does not require member signatures, we do not accept PDF copies.
C63: ISBE 50-36 SB2020 | E63: 01/19
C64: =G13 -> Glencoe School District #35
C65: =G14 -> 05-016-0350-02

Sheet BudgetSum 2-3
A1: Begin entering data on EstRev 5-10 and EstExp 11-17 tabs. | C1: (10) | D1: (20) | E1: (30) | F1: (40) | G1: (50) | H1: (60) | I1: (70) | J1: (80) | K1: (90)
A2: Description: Enter Whole Numbers Only | B2: Acct # | C2: Educational | D2: Operations & Maintenance | E2: Debt Service | F2: Transportation | G2: Municipal Retirement/ Social Security | H2: Capital Projects | I2: Working Cash | J2: Tort | K2: Fire Prevention & Safety
A3: ESTIMATED BEGINNING FUND BALANCE July 1, 2019 1 | C3: 30789845 | D3: 1033516 | E3: 763161 | F3: 653163 | G3: 1139398 | H3: 3800970 | I3: 0 | J3: 522744 | K3: 0
A4: RECEIPTS/REVENUES
A5: LOCAL SOURCES | B5: 1000 | C5: ='EstRev 5-10'!C109 -> 23042098 | D5: ='EstRev 5-10'!D109 -> 2725000 | E5: ='EstRev 5-10'!E109 -> 1709870 | F5: ='EstRev 5-10'!F109 -> 680000 | G5: ='EstRev 5-10'!G109 -> 703870 | H5: ='EstRev 5-10'!H109 -> 20000 | I5: ='EstRev 5-10'!I109 -> 0 | J5: ='EstRev 5-10'!J109 -> 220000 | K5: ='EstRev 5-10'!K109 -> 0
A6: FLOW-THROUGH RECEIPTS/REVENUES FROM ONE DISTRICT TO ANOTHER DISTRICT | B6: 2000 | C6: ='EstRev 5-10'!C114 -> 0 | D6: ='EstRev 5-10'!D114 -> 0 | F6: ='EstRev 5-10'!F114 -> 0 | G6: ='EstRev 5-10'!G114 -> 0
A7: STATE SOURCES | B7: 3000 | C7: ='EstRev 5-10'!C169 -> 731086 | D7: ='EstRev 5-10'!D169 -> 0 | E7: ='EstRev 5-10'!E169 -> 0 | F7: ='EstRev 5-10'!F169 -> 150000 | G7: ='EstRev 5-10'!G169 -> 0 | H7: ='EstRev 5-10'!H169 -> 0 | I7: ='EstRev 5-10'!I169 -> 0 | J7: ='EstRev 5-10'!J169 -> 0 | K7: ='EstRev 5-10'!K169 -> 0
A8: FEDERAL SOURCES | B8: 4000 | C8: ='EstRev 5-10'!C266 -> 335000 | D8: ='EstRev 5-10'!D266 -> 0 | E8: ='EstRev 5-10'!E266 -> 0 | F8: ='EstRev 5-10'!F266 -> 0 | G8: ='EstRev 5-10'!G266 -> 0 | H8: ='EstRev 5-10'!H266 -> 0 | I8: ='EstRev 5-10'!I266 -> 0 | J8: ='EstRev 5-10'!J266 -> 0 | K8: ='EstRev 5-10'!K266 -> 0
A9: Total Direct Receipts/Revenues 8 | C9: =SUM(C5:C8) -> 24108184 | D9: =SUM(D5:D8) -> 2725000 | E9: =SUM(E5:E8) -> 1709870 | F9: =SUM(F5:F8) -> 830000 | G9: =SUM(G5:G8) -> 703870 | H9: =SUM(H5:H8) -> 20000 | I9: =SUM(I5:I8) -> 0 | J9: =SUM(J5:J8) -> 220000 | K9: =SUM(K5:K8) -> 0
A10: Receipts/Revenues for "On Behalf" Payments 2 | B10: 3998 | C10: 5000000
A11: Total Receipts/Revenues | C11: =SUM(C9:C10) -> 29108184 | D11: =SUM(D9:D10) -> 2725000 | E11: =SUM(E9:E10) -> 1709870 | F11: =SUM(F9:F10) -> 830000 | G11: =SUM(G9:G10) -> 703870 | H11: =SUM(H9:H10) -> 20000 | I11: =SUM(I9:I10) -> 0 | J11: =SUM(J9:J10) -> 220000 | K11: =SUM(K9:K10) -> 0
A12: DISBURSEMENTS/EXPENDITURES
A13: INSTRUCTION | B13: 1000 | C13: ='EstExp 11-17'!K33 -> 14069138 | G13: ='EstExp 11-17'!K229 -> 342000
A14: SUPPORT SERVICES | B14: 2000 | C14: ='EstExp 11-17'!K74 -> 6407038 | D14: ='EstExp 11-17'!K129 -> 3546528 | F14: ='EstExp 11-17'!K184 -> 777805 | G14: ='EstExp 11-17'!K279 -> 357100 | H14: ='EstExp 11-17'!K303 -> 3800000 | J14: ='EstExp 11-17'!K330 -> 0 | K14: ='EstExp 11-17'!K352 -> 0
A15: COMMUNITY SERVICES | B15: 3000 | C15: ='EstExp 11-17'!K75 -> 150 | D15: ='EstExp 11-17'!K130 -> 0 | F15: ='EstExp 11-17'!K185 -> 0 | G15: ='EstExp 11-17'!K280 -> 0
A16: PAYMENTS TO OTHER DISTRICTS & GOVT UNITS | B16: 4000 | C16: ='EstExp 11-17'!K102 -> 920000 | D16: ='EstExp 11-17'!K139 -> 0 | E16: ='EstExp 11-17'!K160 -> 0 | F16: ='EstExp 11-17'!K196 -> 0 | G16: ='EstExp 11-17'!K285 -> 0 | H16: ='EstExp 11-17'!K310 -> 0 | J16: ='EstExp 11-17'!K334 -> 0 | K16: ='EstExp 11-17'!K357 -> 0
A17: DEBT SERVICES | B17: 5000 | C17: ='EstExp 11-17'!K112 -> 0 | D17: ='EstExp 11-17'!K149 -> 0 | E17: ='EstExp 11-17'!K172 -> 1793013 | F17: ='EstExp 11-17'!K208 -> 0 | G17: ='EstExp 11-17'!K293 -> 0 | J17: ='EstExp 11-17'!K340 -> 0 | K17: ='EstExp 11-17'!K365 -> 0
A18: PROVISION FOR CONTINGENCIES | B18: 6000 | C18: ='EstExp 11-17'!K113 -> 100000 | D18: ='EstExp 11-17'!K150 -> 25000 | E18: ='EstExp 11-17'!K173 -> 0 | F18: ='EstExp 11-17'!K209 -> 0 | G18: ='EstExp 11-17'!K294 -> 0 | H18: ='EstExp 11-17'!K311 -> 0 | J18: ='EstExp 11-17'!K341 -> 0 | K18: ='EstExp 11-17'!K366 -> 0
A19: Total Direct Disbursements/Expenditures 9 | C19: =SUM(C13:C18) -> 21496326 | D19: =SUM(D13:D18) -> 3571528 | E19: =SUM(E13:E18) -> 1793013 | F19: =SUM(F13:F18) -> 777805 | G19: =SUM(G13:G18) -> 699100 | H19: =SUM(H13:H18) -> 3800000 | J19: =SUM(J13:J18) -> 0 | K19: =SUM(K13:K18) -> 0
A20: Disbursements/Expenditures for "On Behalf" Payments 2 | B20: 4180 | C20: =C10 -> 5000000 | D20: =D10 -> 0 | E20: =E10 -> 0 | F20: =F10 -> 0 | G20: =G10 -> 0 | H20: =H10 -> 0 | J20: =J10 -> 0 | K20: =K10 -> 0
A21: Total Disbursements/Expenditures | C21: =SUM(C19:C20) -> 26496326 | D21: =SUM(D19:D20) -> 3571528 | E21: =SUM(E19:E20) -> 1793013 | F21: =SUM(F19:F20) -> 777805 | G21: =SUM(G19:G20) -> 699100 | H21: =SUM(H19:H20) -> 3800000 | J21: =SUM(J19:J20) -> 0 | K21: =SUM(K19:K20) -> 0
A22: Excess of Direct Receipts/Revenues Over (Under) Direct Disbursements/Expenditures | C22: =C9-C19 -> 2611858 | D22: =D9-D19 -> -846528 | E22: =E9-E19 -> -83143 | F22: =F9-F19 -> 52195 | G22: =G9-G19 -> 4770 | H22: =H9-H19 -> -3780000 | I22: =I9-I19 -> 0 | J22: =J9-J19 -> 220000 | K22: =K9-K19 -> 0
A23: OTHER SOURCES/USES OF FUNDS
A24: OTHER SOURCES OF FUNDS (7000)
A25: PERMANENT TRANSFER FROM VARIOUS FUNDS
A26: Abolishment the Working Cash Fund 16 | B26: 7110
A27: Abatement of the Working Cash Fund 16 | B27: 7110
A28: Transfer of Working Cash Fund Interest | B28: 7120
A29: Transfer Among Funds | B29: 7130
A30: Transfer of Interest | B30: 7140
A31: Transfer from Capital Projects Fund to O&M Fund | B31: 7150 | D31: =H54 -> 0
A32: Transfer of Excess Fire Prev & Safety Tax & Interest 3 Proceeds to O&M Fund | B32: 7160 | D32: =K55 -> 0
A33: Transfer of Excess Accumulated Fire Prev & Safety Bond and Int 3a Proceeds to Debt Service Fund | B33: 7170 | E33: =K56 -> 0
A34: SALE OF BONDS (7200)
A35: Principal on Bonds Sold 4 | B35: 7210
A36: Premium on Bonds Sold | B36: 7220
A37: Accrued Interest on Bonds Sold | B37: 7230
A38: Sale or Compensation for Fixed Assets 5 | B38: 7300
A39: Transfer to Debt Service to Pay Principal on Capital Leases | B39: 7400 | E39: =SUM(C57:H60) -> 215000
A40: Transfer to Debt Service Fund to Pay Interest on Capital Leases | B40: 7500 | E40: =SUM(C61:H64) -> 10000
...

Sheet CashSum 4
C1: (10) | D1: (20) | E1: (30) | F1: (40) | G1: (50) | H1: (60) | I1: (70) | J1: (80) | K1: (90)
A2: Description: Enter Whole Numbers Only | B2: Acct # | C2: Educational | D2: Operations & Maintenance | E2: Debt Service | F2: Transportation | G2: Municipal Retirement/ Social Security | H2: Capital Projects | I2: Working Cash | J2: Tort | K2: Fire Prevention & Safety
A3: BEGINNING CASH BALANCE ON HAND July 1, 2019 7 | C3: 30789845 | D3: 1033516 | E3: 763161 | F3: 653163 | G3: 1139398 | H3: 3800970 | I3: 0 | J3: 522744 | K3: 0
A4: Total Direct Receipts & Other Sources 8 | C4: ='BudgetSum 2-3'!C9+'BudgetSum 2-3'!C46 -> 24108184 | D4: ='BudgetSum 2-3'!D9+'BudgetSum 2-3'!D46 -> 2725000 | E4: ='BudgetSum 2-3'!E9+'BudgetSum 2-3'!E46 -> 1934870 | F4: ='BudgetSum 2-3'!F9+'BudgetSum 2-3'!F46 -> 830000 | G4: ='BudgetSum 2-3'!G9+'BudgetSum 2-3'!G46 -> 703870 | H4: ='BudgetSum 2-3'!H9+'BudgetSum 2-3'!H46 -> 20000 | I4: ='BudgetSum 2-3'!I9+'BudgetSum 2-3'!I46 -> 0 | J4: ='BudgetSum 2-3'!J9+'BudgetSum 2-3'!J46 -> 220000 | K4: ='BudgetSum 2-3'!K9+'BudgetSum 2-3'!K46 -> 0
A5: OTHER RECEIPTS
A6: Interfund Loans Payable (Loans from Other Funds) | B6: 411
A7: Interfund Loans Receivable (Repayment of Loans) | B7: 141
A8: Notes and Warrants Payable | B8: 433
A9: Other Current Assets | B9: 199
A10: Total Other Receipts | C10: =SUM(C6:C9) -> 0 | D10: =SUM(D6:D9) -> 0 | E10: =SUM(E6:E9) -> 0 | F10: =SUM(F6:F9) -> 0 | G10: =SUM(G6:G9) -> 0 | H10: =SUM(H6:H9) -> 0 | I10: =SUM(I6:I9) -> 0 | J10: =SUM(J6:J9) -> 0 | K10: =SUM(K6:K9) -> 0
A11: Total Direct Receipts, Other Sources, & Other Receipts | C11: =SUM(C4,C10) -> 24108184 | D11: =SUM(D4,D10) -> 2725000 | E11: =SUM(E4,E10) -> 1934870 | F11: =SUM(F4,F10) -> 830000 | G11: =SUM(G4,G10) -> 703870 | H11: =SUM(H4,H10) -> 20000 | I11: =SUM(I4,I10) -> 0 | J11: =SUM(J4,J10) -> 220000 | K11: =SUM(K4,K10) -> 0
A12: Total Amount Available | C12: =SUM(C3,C11) -> 54898029 | D12: =SUM(D3,D11) -> 3758516 | E12: =SUM(E3,E11) -> 2698031 | F12: =SUM(F3,F11) -> 1483163 | G12: =SUM(G3,G11) -> 1843268 | H12: =SUM(H3,H11) -> 3820970 | I12: =SUM(I3,I11) -> 0 | J12: =SUM(J3,J11) -> 742744 | K12: =SUM(K3,K11) -> 0
A13: Total Direct Disbursements & Other Uses 9 | C13: =SUM('BudgetSum 2-3'!C19,'BudgetSum 2-3'!C79) -> 21721326 | D13: =SUM('BudgetSum 2-3'!D19,'BudgetSum 2-3'!D79) -> 3571528 | E13: =SUM('BudgetSum 2-3'!E19,'BudgetSum 2-3'!E79) -> 1793013 | F13: =SUM('BudgetSum 2-3'!F19,'BudgetSum 2-3'!F79) -> 777805 | G13: =SUM('BudgetSum 2-3'!G19,'BudgetSum 2-3'!G79) -> 699100 | H13: =SUM('BudgetSum 2-3'!H19,'BudgetSum 2-3'!H79) -> 3800000 | I13: =SUM('BudgetSum 2-3'!I19,'BudgetSum 2-3'!I79) -> 0 | J13: =SUM('BudgetSum 2-3'!J19,'BudgetSum 2-3'!J79) -> 0 | K13: =SUM('BudgetSum 2-3'!K19,'BudgetSum 2-3'!K79) -> 0
A14: OTHER DISBURSEMENTS
A15: Interfund Loans Receivable (Loans to Other Funds) 10 | B15: 141
A16: Interfund Loans Payable (Repayment of Loans) | B16: 411
A17: Notes and Warrants Payable | B17: 433
A18: Other Current Liabilities | B18: 499
A19: Total Other Disbursements | C19: =SUM(C15:C18) -> 0 | D19: =SUM(D15:D18) -> 0 | E19: =SUM(E15:E18) -> 0 | F19: =SUM(F15:F18) -> 0 | G19: =SUM(G15:G18) -> 0 | H19: =SUM(H15:H18) -> 0 | I19: =SUM(I15:I18) -> 0 | J19: =SUM(J15:J18) -> 0 | K19: =SUM(K15:K18) -> 0
A20: Total Direct Disbursements, Other Uses, & Other Disbursements | C20: =SUM(C13,C19) -> 21721326 | D20: =SUM(D13,D19) -> 3571528 | E20: =SUM(E13,E19) -> 1793013 | F20: =SUM(F13,F19) -> 777805 | G20: =SUM(G13,G19) -> 699100 | H20: =SUM(H13,H19) -> 3800000 | I20: =SUM(I13,I19) -> 0 | J20: =SUM(J13,J19) -> 0 | K20: =SUM(K13,K19) -> 0
A21: ENDING CASH BALANCE ON HAND June 30, 2020 7 | C21: =SUM(C12-C20) -> 33176703 | D21: =SUM(D12-D20) -> 186988 | E21: =SUM(E12-E20) -> 905018 | F21: =SUM(F12-F20) -> 705358 | G21: =SUM(G12-G20) -> 1144168 | H21: =SUM(H12-H20) -> 20970 | I21: =SUM(I12-I20) -> 0 | J21: =SUM(J12-J20) -> 742744 | K21: =SUM(K12-K20) -> 0

Sheet EstRev 5-10
C1: (10) | D1: (20) | E1: (30) | F1: (40) | G1: (50) | H1: (60) | I1: (70) | J1: (80) | K1: (90)
A2: Description: Enter Whole Numbers Only | B2: Acct # | C2: Educational | D2: Operations & Maintenance | E2: Debt Service | F2: Transportation | G2: Municipal Retirement/ Social Security | H2: Capital Projects | I2: Working Cash | J2: Tort | K2: Fire Prevention & Safety
A3: RECEIPTS/REVENUES FROM LOCAL SOURCES (1000)
A4: AD VALOREM TAXES LEVIED BY LOCAL EDUCATION AGENCY | B4: 1100
A5: Designated Purposes Levies 11 (1110-1120) | B5: ­ | C5: 22003355 | D5: 2440000 | E5: 1704870 | F5: 575000 | G5: 175662 | J5: 220000
A6: Leasing Purposes Levy 12 | B6: 1130
A7: Special Education Purposes Levy | B7: 1140 | C7: 71910
A8: FICA and Medicare Only Levies | B8: 1150 | G8: 470208
A9: Area Vocational Construction Purposes Levy | B9: 1160
A10: Summer School Purposes Levy | B10: 1170
A11: Other Tax Levies (Describe & Itemize) | B11: 1190
A12: Total Ad Valorem Taxes Levied by District | C12: =SUM(C5:C11) -> 22075265 | D12: =SUM(D5:D11) -> 2440000 | E12: =SUM(E5:E11) -> 1704870 | F12: =SUM(F5:F11) -> 575000 | G12: =SUM(G5:G11) -> 645870 | H12: =SUM(H5:H11) -> 0 | I12: =SUM(I5:I11) -> 0 | J12: =SUM(J5:J11) -> 220000 | K12: =SUM(K5:K11) -> 0
A13: PAYMENTS IN LIEU OF TAXES | B13: 1200
A14: Mobile Home Privilege Tax | B14: 1210
A15: Payments from Local Housing Authority | B15: 1220
A16: Corporate Personal Property Replacement Taxes13 | B16: 1230 | D16: 100000 | G16: 48000
A17: Other Payments in Lieu of Taxes (Describe & Itemize) | B17: 1290
A18: Total Payments in Lieu of Taxes | C18: =SUM(C14:C17) -> 0 | D18: =SUM(D14:D17) -> 100000 | E18: =SUM(E14:E17) -> 0 | F18: =SUM(F14:F17) -> 0 | G18: =SUM(G14:G17) -> 48000 | H18: =SUM(H14:H17) -> 0 | I18: =SUM(I14:I17) -> 0 | J18: =SUM(J14:J17) -> 0 | K18: =SUM(K14:K17) -> 0
A19: TUITION | B19: 1300
A20: Regular Tuition from Pupils or Parents (In State) | B20: 1311
A21: Regular Tuition from Other Districts (In State) | B21: 1312
A22: Regular Tuition from Other Sources (In State) | B22: 1313
A23: Regular Tuition from Other Sources (Out of State) | B23: 1314
A24: Summer School Tuition from Pupils or Parents (In State) | B24: 1321 | C24: 45000
A25: Summer School Tuition from Other Districts (In State) | B25: 1322
A26: Summer School Tuition from Other Sources (In State) | B26: 1323
A27: Summer School Tuition from Other Sources (Out of State) | B27: 1324
A28: CTE Tuition from Pupils or Parents (In State) | B28: 1331
A29: CTE Tuition from Other Districts (In State) | B29: 1332
A30: CTE Tuition from Other Sources (In State) | B30: 1333
A31: CTE Tuition from Other Sources (Out of State) | B31: 1334
A32: Special Education Tuition from Pupils or Parents (In State) | B32: 1341
A33: Special Education Tuition from Other Districts (In State) | B33: 1342
A34: Special Education Tuition from Other Sources (In State) | B34: 1343
A35: Special Education Tuition from Other Sources (Out of State) | B35: 1344
A36: Adult Tuition from Pupils or Parents (In State) | B36: 1351
... A39: Adult Tuition from Other Sources (Out of State) | B39: 1354
A40: Total Tuition | C40: =SUM(C20:C39) -> 45000
A41: TRANSPORTATION FEES | B41: 1400
A42: Regular Transportation Fees from Pupils or Parents (In State) | B42: 1411 | F42: 100000
...

Sheet EstExp 11-17
A1: Description: Enter Whole Numbers Only | C1: (100) | D1: (200) | E1: (300) | F1: (400) | G1: (500) | H1: (600) | I1: (700) | J1: (800) | K1: (900)
B2: Funct # | C2: Salaries | D2: Employee Benefits | E2: Purchased Services | F2: Supplies & Materials | G2: Capital Outlay | H2: Other Objects | I2: Non-Capitalized Equipment | J2: Termination Benefits | K2: Total
A3: 10 - EDUCATIONAL FUND (ED)
A4: INSTRUCTION (ED) | B4: 1000
A5: Regular Programs | B5: 1100 | C5: 9385477 | D5: 1370000 | E5: 3500 | F5: 389000 | G5: 315000 | H5: 0 | I5: 0 | J5: 0 | K5: =SUM(C5:J5) -> 11462977
A6: Tuition Payment to Charter Schools | B6: 1115 | K6: =SUM(C6,E6) -> 0
A7: Pre-K Programs | B7: 1125 | K7: =SUM(C7:J7) -> 0
A8: Special Education Programs (Functions 1200 - 1220) | B8: 1200 | C8: 1675089 | D8: 276512 | E8: 185000 | F8: 23000 | G8: 20000 | H8: 500 | K8: =SUM(C8:J8) -> 2180101
A9: Special Education Programs Pre-K | B9: 1225 | K9: =SUM(C9:J9) -> 0
A10: Remedial and Supplemental Programs K-12 | B10: 1250 | C10: 95298 | D10: 5000 | K10: =SUM(C10:J10) -> 100298
A11: Remedial and Supplemental Programs Pre-K | B11: 1275 | K11: =SUM(C11:J11) -> 0
A12: Adult/Continuing Education Programs | B12: 1300 | K12: =SUM(C12:J12) -> 0
A13: CTE Programs | B13: 1400 | K13: =SUM(C13:J13) -> 0
A14: Interscholastic Programs | B14: 1500 | C14: 70000 | D14: 1000 | E14: 10000 | F14: 8000 | K14: =SUM(C14:J14) -> 89000
A15: Summer School Programs | B15: 1600 | C15: 65000 | D15: 1000 | F15: 5000 | K15: =SUM(C15:J15) -> 71000
A16: Gifted Programs | B16: 1650 | C16: 132132 | D16: 18630 | K16: =SUM(C16:J16) -> 150762
A17: Driver's Education Programs | B17: 1700 | K17: =SUM(C17:J17) -> 0
A18: Bilingual Programs | B18: 1800 | K18: =SUM(C18:J18) -> 0
A19: Truant Alternative & Optional Programs | B19: 1900 | C19: 15000 | D19: 0 | E19: 0 | F19: 0 | G19: 0 | H19: 0 | I19: 0 | J19: 0 | K19: =SUM(C19:J19) -> 15000
A20: Pre-K Programs - Private Tuition | B20: 1910 | K20: =SUM(C20:J20) -> 0
A21: Regular K-12 Programs Private Tuition | B21: 1911 | K21: =SUM(C21:J21) -> 0
A22: Special Education Programs K-12 Private Tuition | B22: 1912 | K22: =SUM(C22:J22) -> 0
A23: Special Education Programs Pre-K Tuition | B23: 1913 | K23: =SUM(C23:J23) -> 0
A24: Remedial/Supplemental Programs K-12 Private Tuition | B24: 1914 | K24: =SUM(C24:J24) -> 0
A25: Remedial/Supplemental Programs Pre-K Private Tuition | B25: 1915 | K25: =SUM(C25:J25) -> 0
A26: Adult/Continuing Education Programs Private Tuition | B26: 1916 | K26: =SUM(C26:J26) -> 0
A27: CTE Programs Private Tuition | B27: 1917 | K27: =SUM(C27:J27) -> 0
A28: Interscholastic Programs Private Tuition | B28: 1918 | K28: =SUM(C28:J28) -> 0
A29: Summer School Programs Private Tuition | B29: 1919 | K29: =SUM(C29:J29) -> 0
A30: Gifted Programs Private Tuition | B30: 1920 | K30: =SUM(C30:J30) -> 0
A31: Bilingual Programs Private Tuition | B31: 1921 | K31: =SUM(C31:J31) -> 0
A32: Truants Alternative/Opt Ed Programs Private Tuition | B32: 1922 | K32: =SUM(C32:J32) -> 0
A33: Total Instruction14 | B33: 1000 | C33: =SUM(C5:C32) -> 11437996 | D33: =SUM(D5:D32) -> 1672142 | E33: =SUM(E5:E32) -> 198500 | F33: =SUM(F5:F32) -> 425000 | G33: =SUM(G5:G32) -> 335000 | H33: =SUM(H5:H32) -> 500 | I33: =SUM(I5:I32) -> 0 | J33: =SUM(J5:J32) -> 0 | K33: =SUM(C33:J33) -> 14069138
A34: SUPPORT SERVICES (ED) | B34: 2000
A35: Support Services - Pupil | B35: 2100
A36: Attendance & Social Work Services | B36: 2110 | C36: 563283 | D36: 108000 | E36: 5000 | K36: =SUM(C36:J36) -> 676283
A37: Guidance Services | B37: 2120 | C37: 310460 | D37: 75213 | K37: =SUM(C37:J37) -> 385673
A38: Health Services | B38: 2130 | C38: 192920 | D38: 47500 | E38: 7000 | F38: 13500 | K38: =SUM(C38:J38) -> 260920
A39: Psychological Services | B39: 2140 | C39: 257483 | D39: 20956 | E39: 90000 | F39: 3000 | K39: =SUM(C39:J39) -> 371439
A40: Speech Pathology & Audiology Services | B40: 2150 | C40: 466861 | D40: 87500 | K40: =SUM(C40:J40) -> 554361
...

Sheet Itemize 18
B2: This page is provided for detailed itemizations as requested within the body of the Report.
A5: 1
A6: 2
A7: 3
A8: 4

Sheet DeficitBudgetSum Calc 19
A1: DEFICIT BUDGET SUMMARY INFORMATION - Operating Funds Only
A2: Description | B2: EDUCATIONAL FUND (10) | C2: OPERATIONS & MAINTENANCE FUND (20) | D2: TRANSPORTATION FUND (40) | E2: WORKING CASH FUND (70) | F2: TOTAL
A3: Direct Revenues | B3: ='BudgetSum 2-3'!C9 -> 24108184 | C3: ='BudgetSum 2-3'!D9 -> 2725000 | D3: ='BudgetSum 2-3'!F9 -> 830000 | E3: ='BudgetSum 2-3'!I9 -> 0 | F3: =SUM(B3:E3) -> 27663184
A4: Direct Expenditures | B4: ='BudgetSum 2-3'!C19 -> 21496326 | C4: ='BudgetSum 2-3'!D19 -> 3571528 | D4: ='BudgetSum 2-3'!F19 -> 777805 | F4: =SUM(B4:E4) -> 25845659
A5: Difference | B5: =(B3-B4) -> 2611858 | C5: =(C3-C4) -> -846528 | D5: =(D3-D4) -> 52195 | E5: =(E3-E4) -> 0 | F5: =SUM(F3-F4) -> 1817525
A6: Estimated Fund Balance - June 30, 2020 | B6: ='BudgetSum 2-3'!C81 -> 33176703 | C6: ='BudgetSum 2-3'!D81 -> 186988 | D6: ='BudgetSum 2-3'!F81 -> 705358 | E6: ='BudgetSum 2-3'!I81 -> 0 | F6: =SUM(B6:E6) -> 34069049
C7: =IF(AND(F5<0,F6>=0,ABS(F5*3)>ABS(F6)),A15,IF(AND(F5<0,F6>0,ABS(F5*3)<=ABS(F6)),A16,IF(AND(F5<0,F6<0),A15,IF(F6=0,A18,A17)))) -> Balanced budget, no deficit reduction plan is required.
A8: A deficit reduction plan is required if the local board of education adopts (or amends) the 2019-20 school district budget in which the “operating funds” listed above result in direct revenues (line 9) being less than direct expenditures (line 19) by an amount equal to or greater than one-third (1/3) of the ending fund balance (line 81).
A10: Note: The balance is determined using only the four funds listed above. That is, if the estimated ending fund balance is less than three times the deficit spending, the district must adopt and file with ISBE a deficit reduction plan to balance the shortfall within three years.
A12: The School Code, Section 17-1 (105 ILCS 5/17-1) - If the 2018-2019 Annual Financial Report (AFR) reflects a deficit as defined above (page 36), then the school district shall adopt and submit a deficit reduction plan (found here on page 20-24) to ISBE within 30 days after acceptance of the AFR.
A13: The deficit reduction plan, if required, is developed using ISBE guidelines and format.
A15: Unbalanced budget, a deficit reduction plan must be adopted and submitted concurrently with this budget. This deficit reduction plan must result in a balanced budget by the last year of the attached plan, as adopted by the local board of education. (Tab: Deficit BudgetSum Calc 20) | F15: Deficit reduction plan is required.
A16: Unbalanced budget, however, a deficit reduction plan is not required at this time. | F16: Deficit reduction plan is not required.
A17: Balanced budget, no deficit reduction plan is required. | F17: Congratulations! You have a balanced budget.
A18: To determine if the budget is balanced, complete all pages of the budget first. | F18: Budget form Incomplete.

Sheet DefReductPlan 20-24
C1: DEFICIT REDUCTION PLAN | W1: SUMMARY
C2: ESTIMATED BUDGET | H2: ESTIMATED BUDGET | M2: ESTIMATED BUDGET | R2: ESTIMATED BUDGET | W2: BUDGET ADDENDUM - DEFICIT REDUCTION PLAN
A3: =Cover!G14 -> 05-016-0350-02 | C3: FY2019-2020 | H3: FY2020-2021 | M3: FY2021-2022 | R3: FY2022-2023 | W3: ESTIMATED BUDGET
A4: District Number | W4: Date of Adoption:
A5: =Cover!G13 -> Glencoe School District #35 | Y5: (Enter as MM/DD/YY)
A6: District Name | C6: Educational Fund | D6: Operations & Maintenance Fund | E6: Transportation Fund | F6: Working Cash Fund | G6: Total | H6: Educational Fund | I6: Operations & Maintenance Fund | J6: Transportation Fund | K6: Working Cash Fund | L6: Total | M6: Educational Fund | N6: Operations & Maintenance Fund | O6: Transportation Fund | P6: Working Cash Fund | Q6: Total | R6: Educational Fund | S6: Operations & Maintenance Fund | T6: Transportation Fund | U6: Working Cash Fund | V6: Total | W6: FY2019-2020 | X6: FY2020-2021 | Y6: FY2021-2022 | Z6: FY2022-2023
A7: ESTIMATED BEGINNING FUND BALANCE (must equal prior Ending Fund Balance) | C7: ='BudgetSum 2-3'!C3 -> 30789845 | D7: ='BudgetSum 2-3'!D3 -> 1033516 | E7: ='BudgetSum 2-3'!F3 -> 653163 | F7: ='BudgetSum 2-3'!I3 -> 0 | G7: =SUM(C7:F7) -> 32476524 | H7: =C27 -> 33176703 | I7: =D27 -> 186988 | J7: =E27 -> 705358 | K7: =F27 -> 0 | L7: =SUM(H7:K7) -> 34069049 | M7: =H27 -> 33176703 | N7: =I27 -> 186988 | O7: =J27 -> 705358 | P7: =K27 -> 0 | Q7: =SUM(M7:P7) -> 34069049 | R7: =M27 -> 33176703 | S7: =N27 -> 186988 | T7: =O27 -> 705358 | U7: =P27 -> 0 | V7: =SUM(R7:U7) -> 34069049 | W7: =G7 -> 32476524 | X7: =L7 -> 34069049 | Y7: =Q7 -> 34069049 | Z7: =V7 -> 34069049
A8: RECEIPTS/REVENUES | B8: Acct #
A9: LOCAL SOURCES | B9: 1000 | C9: ='BudgetSum 2-3'!C5 -> 23042098 | D9: ='BudgetSum 2-3'!D5 -> 2725000 | E9: ='BudgetSum 2-3'!F5 -> 680000 | F9: ='BudgetSum 2-3'!I5 -> 0 | G9: =SUM(C9:F9) -> 26447098 | L9: =SUM(H9:K9) -> 0 | Q9: =SUM(M9:P9) -> 0 | V9: =SUM(R9:U9) -> 0 | W9: =G9 -> 26447098 | X9: =L9 -> 0 | Y9: =Q9 -> 0 | Z9: =V9 -> 0
A10: FLOW-THROUGH RECEIPTS/REVENUES FROM ONE DISTRICT TO ANOTHER DISTRICT | B10: 2000 | C10: ='BudgetSum 2-3'!C6 -> 0 | D10: ='BudgetSum 2-3'!D6 -> 0 | E10: ='BudgetSum 2-3'!F6 -> 0 | G10: =SUM(C10:F10) -> 0 | L10: =SUM(H10:K10) -> 0 | Q10: =SUM(M10:P10) -> 0 | V10: =SUM(R10:U10) -> 0 | W10: =G10 -> 0 | X10: =L10 -> 0 | Y10: =Q10 -> 0 | Z10: =V10 -> 0
A11: STATE SOURCES | B11: 3000 | C11: ='BudgetSum 2-3'!C7 -> 731086 | D11: ='BudgetSum 2-3'!D7 -> 0 | E11: ='BudgetSum 2-3'!F7 -> 150000 | F11: ='BudgetSum 2-3'!I7 -> 0 | G11: =SUM(C11:F11) -> 881086 | L11: =SUM(H11:K11) -> 0 | Q11: =SUM(M11:P11) -> 0 | V11: =SUM(R11:U11) -> 0 | W11: =G11 -> 881086 | X11: =L11 -> 0 | Y11: =Q11 -> 0 | Z11: =V11 -> 0
A12: FEDERAL SOURCES | B12: 4000 | C12: ='BudgetSum 2-3'!C8 -> 335000 | D12: ='BudgetSum 2-3'!D8 -> 0 | E12: ='BudgetSum 2-3'!F8 -> 0 | F12: ='BudgetSum 2-3'!I8 -> 0 | G12: =SUM(C12:F12) -> 335000 | L12: =SUM(H12:K12) -> 0 | Q12: =SUM(M12:P12) -> 0 | V12: =SUM(R12:U12) -> 0 | W12: =G12 -> 335000 | X12: =L12 -> 0 | Y12: =Q12 -> 0 | Z12: =V12 -> 0
A13: Total Receipts/Revenues | C13: =SUM(C9:C12) -> 24108184 | D13: =SUM(D9:D12) -> 2725000 | E13: =SUM(E9:E12) -> 830000 | F13: =SUM(F9:F12) -> 0 | G13: =SUM(C13:F13) -> 27663184 | H13: =SUM(H9:H12) -> 0 | I13: =SUM(I9:I12) -> 0 | J13: =SUM(J9:J12) -> 0 | K13: =SUM(K9:K12) -> 0 | L13: =SUM(H13:K13) -> 0 | M13: =SUM(M9:M12) -> 0 | N13: =SUM(N9:N12) -> 0 | O13: =SUM(O9:O12) -> 0 | P13: =SUM(P9:P12) -> 0 | Q13: =SUM(M13:P13) -> 0 | R13: =SUM(R9:R12) -> 0 | S13: =SUM(S9:S12) -> 0 | T13: =SUM(T9:T12) -> 0 | U13: =SUM(U9:U12) -> 0 | V13: =SUM(R13:U13) -> 0 | W13: =G13 -> 27663184 | X13: =L13 -> 0 | Y13: =Q13 -> 0 | Z13: =V13 -> 0
A14: DISBURSEMENTS/EXPENDITURES | B14: Funct #
A15: INSTRUCTION | B15: 1000 | C15: ='BudgetSum 2-3'!C13 -> 14069138 | G15: =SUM(C15:F15) -> 14069138 | L15: =SUM(H15:K15) -> 0 | Q15: =SUM(M15:P15) -> 0 | V15: =SUM(R15:U15) -> 0 | W15: =G15 -> 14069138 | X15: =L15 -> 0 | Y15: =Q15 -> 0 | Z15: =V15 -> 0
A16: SUPPORT SERVICES | B16: 2000 | C16: ='BudgetSum 2-3'!C14 -> 6407038 | D16: ='BudgetSum 2-3'!D14 -> 3546528 | E16: ='BudgetSum 2-3'!F14 -> 777805 | G16: =SUM(C16:F16) -> 10731371 | L16: =SUM(H16:K16) -> 0 | Q16: =SUM(M16:P16) -> 0 | V16: =SUM(R16:U16) -> 0 | W16: =G16 -> 10731371 | X16: =L16 -> 0 | Y16: =Q16 -> 0 | Z16: =V16 -> 0
A17: COMMUNITY SERVICES | B17: 3000 | C17: ='BudgetSum 2-3'!C15 -> 150 | D17: ='BudgetSum 2-3'!D15 -> 0 | E17: ='BudgetSum 2-3'!F15 -> 0 | G17: =SUM(C17:F17) -> 150 | L17: =SUM(H17:K17) -> 0 | Q17: =SUM(M17:P17) -> 0 | V17: =SUM(R17:U17) -> 0 | W17: =G17 -> 150 | X17: =L17 -> 0 | Y17: =Q17 -> 0 | Z17: =V17 -> 0
A18: PAYMENTS TO OTHER DISTRICTS & GOVT. UNITS | B18: 4000 | C18: ='BudgetSum 2-3'!C16 -> 920000 | D18: ='BudgetSum 2-3'!D16 -> 0 | E18: ='BudgetSum 2-3'!F16 -> 0 | G18: =SUM(C18:F18) -> 920000 | L18: =SUM(H18:K18) -> 0 | Q18: =SUM(M18:P18) -> 0 | V18: =SUM(R18:U18) -> 0 | W18: =G18 -> 920000 | X18: =L18 -> 0 | Y18: =Q18 -> 0 | Z18: =V18 -> 0
A19: DEBT SERVICES | B19: 5000 | C19: ='BudgetSum 2-3'!C17 -> 0 | D19: ='BudgetSum 2-3'!D17 -> 0 | E19: ='BudgetSum 2-3'!F17 -> 0 | G19: =SUM(C19:F19) -> 0 | L19: =SUM(H19:K19) -> 0 | Q19: =SUM(M19:P19) -> 0 | V19: =SUM(R19:U19) -> 0 | W19: =G19 -> 0 | X19: =L19 -> 0 | Y19: =Q19 -> 0 | Z19: =V19 -> 0
A20: PROVISION FOR CONTINGENCIES | B20: 6000 | C20: ='BudgetSum 2-3'!C18 -> 100000 | D20: ='BudgetSum 2-3'!D18 -> 25000 | E20: ='BudgetSum 2-3'!F18 -> 0 | G20: =SUM(C20:F20) -> 125000 | L20: =SUM(H20:K20) -> 0 | Q20: =SUM(M20:P20) -> 0 | V20: =SUM(R20:U20) -> 0 | W20: =G20 -> 125000 | X20: =L20 -> 0 | Y20: =Q20 -> 0 | Z20: =V20 -> 0
A21: Total Disbursements/Expenditures | C21: =SUM(C15:C20) -> 21496326 | D21: =SUM(D15:D20) -> 3571528 | E21: =SUM(E15:E20) -> 777805 | G21: =SUM(C21:F21) -> 25845659 | H21: =SUM(H15:H20) -> 0 | I21: =SUM(I15:I20) -> 0 | J21: =SUM(J15:J20) -> 0 | L21: =SUM(H21:K21) -> 0 | M21: =SUM(M15:M20) -> 0 | N21: =SUM(N15:N20) -> 0 | O21: =SUM(O15:O20) -> 0 | Q21: =SUM(M21:P21) -> 0 | R21: =SUM(R15:R20) -> 0 | S21: =SUM(S15:S20) -> 0 | T21: =SUM(T15:T20) -> 0 | V21: =SUM(R21:U21) -> 0 | W21: =G21 -> 25845659 | X21: =L21 -> 0 | Y21: =Q21 -> 0 | Z21: =V21 -> 0
A22: Excess of Receipts/Revenue Over/(Under) Disbursements/Expenditures | C22: =SUM(C13-C21) -> 2611858 | D22: =SUM(D13-D21) -> -846528 | E22: =SUM(E13-E21) -> 52195 | F22: =SUM(F13-F21) -> 0 | G22: =G13-G21 -> 1817525 | H22: =SUM(H13-H21) -> 0 | I22: =SUM(I13-I21) -> 0 | J22: =SUM(J13-J21) -> 0 | K22: =SUM(K13-K21) -> 0 | L22: =SUM(H22:K22) -> 0 | M22: =SUM(M13-M21) -> 0 | N22: =SUM(N13-N21) -> 0 | O22: =SUM(O13-O21) -> 0 | P22: =SUM(P13-P21) -> 0 | Q22: =SUM(M22:P22) -> 0 | R22: =SUM(R13-R21) -> 0 | S22: =SUM(S13-S21) -> 0 | T22: =SUM(T13-T21) -> 0 | U22: =SUM(U13-U21) -> 0 | V22: =SUM(R22:U22) -> 0 | W22: =G22 -> 1817525 | X22: =L22 -> 0 | Y22: =Q22 -> 0 | Z22: =V22 -> 0
A23: OTHER SOURCES/USES OF FUNDS
A24: OTHER SOURCES OF FUNDS (7000) | C24: ='BudgetSum 2-3'!C46 -> 0 | D24: ='BudgetSum 2-3'!D46 -> 0 | E24: ='BudgetSum 2-3'!F46 -> 0 | F24: ='BudgetSum 2-3'!I46 -> 0 | G24: =SUM(C24:F24) -> 0 | L24: =SUM(H24:K24) -> 0 | Q24: =SUM(M24:P24) -> 0 | V24: =SUM(R24:U24) -> 0 | W24: =G24 -> 0 | X24: =L24 -> 0 | Y24: =Q24 -> 0 | Z24: =V24 -> 0
A25: OTHER USES OF FUNDS (8000) | C25: ='BudgetSum 2-3'!C79 -> 225000 | D25: ='BudgetSum 2-3'!D79 -> 0 | E25: ='BudgetSum 2-3'!F79 -> 0 | F25: ='BudgetSum 2-3'!I79 -> 0 | G25: =SUM(C25:F25) -> 225000 | L25: =SUM(H25:K25) -> 0 | Q25: =SUM(M25:P25) -> 0 | V25: =SUM(R25:U25) -> 0 | W25: =G25 -> 225000 | X25: =L25 -> 0 | Y25: =Q25 -> 0 | Z25: =V25 -> 0
A26: TOTAL OTHER SOURCES/USES OF FUNDS | C26: =SUM(C24-C25) -> -225000 | D26: =SUM(D24-D25) -> 0 | E26: =SUM(E24-E25) -> 0 | F26: =SUM(F24-F25) -> 0 | G26: =SUM(G24-G25) -> -225000 | H26: =SUM(H24-H25) -> 0 | I26: =SUM(I24-I25) -> 0 | J26: =SUM(J24-J25) -> 0 | K26: =SUM(K24-K25) -> 0 | L26: =SUM(H26:K26) -> 0 | M26: =SUM(M24-M25) -> 0 | N26: =SUM(N24-N25) -> 0 | O26: =SUM(O24-O25) -> 0 | P26: =SUM(P24-P25) -> 0 | Q26: =SUM(M26:P26) -> 0 | R26: =SUM(R24-R25) -> 0 | S26: =SUM(S24-S25) -> 0 | T26: =SUM(T24-T25) -> 0 | U26: =SUM(U24-U25) -> 0 | V26: =SUM(R26:U26) -> 0 | W26: =G26 -> -225000 | X26: =L26 -> 0 | Y26: =Q26 -> 0 | Z26: =V26 -> 0
A27: ESTIMATED ENDING FUND BALANCE | C27: =C7+C22+C26 -> 33176703 | D27: =D7+D22+D26 -> 186988 | E27: =E7+E22+E26 -> 705358 | F27: =F7+F22+F26 -> 0 | G27: =G7+G22+G26 -> 34069049 | H27: =H7+H22+H26 -> 33176703 | I27: =I7+I22+I26 -> 186988 | J27: =J7+J22+J26 -> 705358 | K27: =K7+K22+K26 -> 0 | L27: =SUM(H27:K27) -> 34069049 | M27: =M7+M22+M26 -> 33176703 | N27: =N7+N22+N26 -> 186988 | O27: =O7+O22+O26 -> 705358 | P27: =P7+P22+P26 -> 0 | Q27: =Q7+Q22+Q26 -> 34069049 | R27: =R7+R22+R26 -> 33176703 | S27: =S7+S22+S26 -> 186988 | T27: =T7+T22+T26 -> 705358 | ... V27: =V7+V22+V26 -> 34069049 | W27: =G27 -> 34069049 | X27: =L27 -> 34069049 | Y27: =Q27 -> 34069049 | Z27: =V27 -> 34069049

Sheet Bckgrnd-Assumpt 25-26
B1: Deficit Reduction Plan-Background/Assumptions
B2: Fiscal Year 2019-2020 through Fiscal Year 2022-2023
B4: =Cover!G13&" "&Cover!G14 -> Glencoe School District #35 05-016-0350-02
B5: Please complete the following schedule and include a brief description to identify any areas of the budget that will be impacted from one year to the next. If the deficit reduction plan relies upon new local revenues, identify contingencies for further budget reductions which will be enacted in the event those new revenues are not available.
A8: 1 | B8: Background and Narrative of Budget Reductions:
A11: 2 | B11: Assumptions Used in the Deficit Reduction Plan:
B14: - EBF and Estimated New Tier Funding:
B17: - Equal Assessed Valuation and Tax Rates:
B20: - Employee Salaries and Benefits:
B23: - Short and Long Term Borrowing:
B26: - Educational Impact:
B29: - Other Assumptions:
B32: - Has the district considered shared services or outsourcing (Ex: Transportation, Insurance) If yes please explain:

Sheet AC 27
A2: ESTIMATED LIMITATION OF ADMINISTRATIVE COSTS
A3: (For Local Use Only)
A4: This is an estimated Limitation of Administrative Costs Worksheet only and will not be accepted for Official Submission of the Limitation of
A5: Administrative Costs Worksheet.
A7: The worksheet is intended for use during the budgeting process to estimate the district's percent increase of FY2020 budgeted expenditures over FY2019 actual expenditures.
A8: Budget information is copied to this page. Insert the prior year estimated actual expenditures to compute the estimated percentage increase (decrease).
A10: The official Limitation of Administrative Costs Worksheet is attached to the end of the Annual | H10: An official Limitation of Administrative Costs Worksheet can
A11: Financial Report (ISBE Form 50-35) and may be submitted in conjunction with that report. | H11: also be found on the ISBE website at:
H12: Limitation of Administrative Costs
A14: ESTIMATED LIMITATION OF ADMINISTRATIVE COSTS WORKSHEET | G14: School District Name: | H14: =Cover!G13 -> Glencoe School District #35
G15: RCDT Number: | H15: =Cover!G14 -> 05-016-0350-02
A16: (Section 17-1.5 of the School Code)
E17: Estimated Actual Expenditures, Fiscal Year 2019 | H17: Budgeted Expenditures, Fiscal Year 2020
E18: (10) | F18: (20) | H18: (10) | I18: (20)
A19: Description (Enter Whole Numbers Only) | D19: Funct # | E19: Educational Fund | F19: Operations & Maintenance Fund | G19: Total | H19: Educational Fund | I19: Operations & Maintenance Fund | J19: Total
B20: 1 | C20: Executive Administration Services | D20: 2320 | E20: 366120.89 | G20: =SUM(E20:F20) -> 366120.89 | H20: ='EstExp 11-17'!K50 -> 395240 | J20: =SUM(H20:I20) -> 395240
B21: 2 | C21: Special Area Administration Services | D21: 2330 | E21: 0 | G21: =SUM(E21:F21) -> 0 | H21: ='EstExp 11-17'!K51 -> 0 | J21: =SUM(H21:I21) -> 0
B22: 3 | C22: Other Support Services - School Administration | D22: 2490 | E22: 0 | G22: =SUM(E22:F22) -> 0 | H22: ='EstExp 11-17'!K56 -> 0 | J22: =SUM(H22:I22) -> 0
B23: 4 | C23: Direction of Business Support Services | D23: 2510 | E23: 168461.87 | F23: 136395.96 | G23: =SUM(E23:F23) -> 304857.83 | H23: ='EstExp 11-17'!K59 -> 179060 | I23: ='EstExp 11-17'!K122 -> 143528 | J23: =SUM(H23:I23) -> 322588
B24: 5 | C24: Internal Services | D24: 2570 | E24: 39539.84 | G24: =SUM(E24:F24) -> 39539.84 | H24: ='EstExp 11-17'!K64 -> 35000 | J24: =SUM(H24:I24) -> 35000
B25: 6 | C25: Direction of Central Support Services | D25: 2610 | E25: 71751.76 | G25: =SUM(E25:F25) -> 71751.76 | H25: ='EstExp 11-17'!K67 -> 53000 | J25: =SUM(H25:I25) -> 53000
B26: 7 | C26: Deduct - Early Retirement or other pension obligations required by state law and include above | E26: 0 | G26: =SUM(E26:F26) -> 0 | J26: =SUM(H26:I26) -> 0
B27: 8 | C27: Totals | E27: =SUM(E20:E25)-E26 -> 645874.36 | F27: =SUM(F20:F25)-F26 -> 136395.96 | G27: =SUM(G20:G25)-G26 -> 782270.32 | H27: =SUM(H20:H25)-H26 -> 662300 | I27: =SUM(I20:I25)-I26 -> 143528 | J27: =SUM(J20:J25)-J26 -> 805828
B28: 9 | C28: Estimated Percent Increase (Decrease) for FY2020 (Budgeted) over FY2019 (Actual) | J28: =IF(AND(G27>0,J27>0),(((J27-G27)/G27)),"Enter Actual Data!") -> 0.030114501

Sheet VendContract 28
A1: REPORTING OF PUBLIC VENDOR CONTRACTS OF $1,000 OR MORE
A2: In accordance with the School Code, Section 10-20.21, all school districts are required to file a report listing ‘vendor contracts’ as an attachment to their budget. In this context, the term "vendor contracts" refers to "all contracts and agreements that pertain to goods and services that were intended to generate additional revenue and other remunerations for the school district in excess of $1,000, including without limitation vending machine contracts, sports and other attire, class rings, and photographic services. The report is to list information regarding such contracts for the fiscal year immediately preceding the fiscal year of the budget. All such contracts executed on or after July 1, 2007 must be approved by the school board.
A3: See: School Code, Section 10-20.21 - Contracts
A4: (Sheet is unprotected and can be re-formatted as needed, but must be used for submission)
A5: Name of Vendor | B5: Product or Service Provided | C5: Net Revenue | D5: Non-Monetary Remuneration | E5: Purpose of Proceeds | F5: Distribution Method and Recipient of Non-Monetary Remunerations Distributed

Sheet EBFSpendingPlan
A1: Evidence-Based Funding (EBF) Spending Plan - OPTIONAL
B2: This portion of the budget template is NOT REQUIRED for approval or submission of the FY20 budget.
B3: This portion of the budget template is designed to prompt thinking related to the upcoming EBF Spending Plan, which must be submitted through IWAS by September 30, 2019. The IWAS system will open for plan submission in late summer 2020. Filling out this budget template tab does NOT fulfill the requirement to submit an EBF Spending Plan through IWAS. This budget template tab will NOT pre-populate into IWAS for official EBF Spending Plan submission.
B4: When school systems coordinate their resources in service of common goals grounded in vision and data, great things for students are possible. The EBF Spending Plan asks about your intended use of one major resource: money. Specifically, it focuses on your intended use of new Evidence-Based Funding (EBF) dollars (also called “Tier Funding” or “Additional State Assistance”) and your intended use of all dollars for specific student groups. Money alone may not drive continuous improvement in a district or school; however, telling the story of where and why you choose to direct dollars is an important signal of what matters to your community.
B5: FY20 is a refinement year in which ISBE will actively seek feedback on the EBF Spending Plan and collaboratively refine it for FY21 and beyond. All school districts* are required to complete a spending plan, but they will not be published publicly. ISBE may report statewide data in aggregate. Any individual school district* may choose to share their data with their communities. ISBE divisions may also refer to individual school district submissions* when supporting districts.* Feedback on how to make the EBF Spending Plan more useful and effective for school districts* is welcome. As a first opportunity for feedback, please see the survey questions at the end of this sheet. | I5: * - EBF state statute requires that all "Organizational Units" complete an annual spending plan. "Organizational Units" includes not only school districts but also laboratory schools, Regional Offices of Education, and Intermediate Service Centers. Although this EBF Spending Plan refers explicitly to school districts, its content should be understood as applying to the laboratory schools, Regional Offices of Education, and Intermediate Service Centers as well. | Q5: * - Laboratory schools, Regional Offices of Education, and Intermediate Service Centers are included here in addition to "school districts." State-authorized charter schools are NOT included here.
A7: Part I – What effects on student outcomes do you anticipate as a result of your EBF investments and other focused efforts?
A8: Context | B8: Although money alone may not drive continuous improvement in a school district or a school, investing it intentionally and leading with clear goals can maximize its impact.
A9: Practice Answer | B9: 1) Mark with an X how the school district* intends to achieve student growth in FY20. | I9: * - School districts, laboratory schools, Regional Offices of Education, and Intermediate Service Centers (see previous note)
B10: Focus increased time and attention on specified populations (please list)
B11: Increase the ratio of educators and/or specifically high-quality educators dedicated to specific populations (please list) as compared to previous years
B12: Increase number and/or quality of professional development opportunities
B13: Improve programs, curriculum, and/or learning tools
B14: Invest in facilities, maintenance, infrastructure, and operations
B15: Increase number and/or quality of community, parent, and family engagement opportunities
B16: Other (please list)
A17: Practice Answer | B17: 2) Mark with an X the State Board of Education goals (listed as of June 2019) on which your school district* intends to make progress in FY20. | I17: * - School districts, laboratory schools, Regional Offices of Education, and Intermediate Service Centers
B18: All kindergartners are assessed for readiness.
B19: > 90% of third-grade students are reading at or above grade level.
B20: > 90% of fifth-grade students meet or exceed expectations in mathematics.
B21: > 90% ninth-grade students are on track to graduate with their cohort.
B22: > 90% of students graduate from high school ready for college and career.
B23: All students are supported by highly prepared and effective teachers and school leaders.
B24: Every school offers a safe and healthy learning environment for all students.
A25: Practice Answer | B25: 3) OPTIONAL - Further describe how your school district* will achieve student growth and ISBE goals | I25: * - School districts, laboratory schools, Regional Offices of Education, and Intermediate Service Centers
A26: Part II – What will you do with your EBF Tier Funding? Why?
A27: Context | B27: EBF funding comes from the state in a series of disbursements. Most of the sum total of these disbursements is an allocation equal to what school districts* received last year: the EBF Base Funding Minimum (BFM). On top of the BFM and making up the other part of the sum total EBF disbursement, school districts* also receive a new allocation, called EBF Tier Funding. | I27: * - School districts, laboratory schools, Regional Offices of Education, and Intermediate Service Centers
A28: What is coming in IWAS? | B28: The EBF Spending Plan application in IWAS will ask every school district* to indicate on what categories the district* intends to spend EBF BFM dollars and EBF Tier Funding. School districts* will use 4) and 5) key data points to 6) and 7) inform new selections for use of EBF Tier Funding. School districts* will be able to verify or adjust their selections for 8) use of FY20 BFM dollars using their entries from last year. Finally, school districts* will indicate the effect of increased funding on 9) total FTEs in the district*. The IWAS application will be pre-populated with FY20 amounts for both EBF BFM and EBF Tier Funding for each individual school district.* For this working document, school districts* may look up their FY20 allocations at https://www.isbe.net/_layouts/Download.aspx?SourceUrl=/Documents/FY20-EBF-Quick-Facts.xlsx
A29: Practice Answer | B29: 4) Mark with an X the data sources the school district* team is reviewing in determining how to best allocate the school district's* new Evidence-Based Funding. School districts* may consult the same data sources used in their Consolidated District Plan needs assessment (www.isbe.net/ileplan). | I29: * - School districts, laboratory schools, Regional Offices of Education, and Intermediate Service Centers
B30: School and/or school district* report card(s)
B31: Five Essentials Survey
B32: Student achievement data (disaggregated by student groups)
B33: Current recruitment and retention efforts and effectiveness data
B34: Professional development plan(s)
B35: School improvement plan(s)
B36: Title I plan(s)
B37: ED School Climate Survey (EDSCLS)
B38: CDC School Health Index
B39: National School Climate Center
B40: ASCD School Improvement Tool
B41: Illinois Quality Framework and Illinois Quality Framework Supporting Rubric
...

Sheet Ref 29
B1: Reference Description
A3: 1 | B3: Each fund balance should correspond to the fund balance reflected on the books as of June 30th - Balance Sheet Accounts #720 and #730 (audit figures, if available).
A5: 2 | B5: Accounting and Financial Reporting for Certain Grants and Other Financial Assistance. The "On-Behalf" Payments should only be reflected on this page (Budget Summary, Lines 10 and 20).
A7: 3 | B7: Requires the secretary of the school board to notify the county clerk (within 30 days of the transfer approval) to abate an equal amount of taxes to be next extended. See Sec. 10-22.14 & 17-2.11.
A8: 3a | B8: Requires notification to the county clerk to abate an equal amount from taxes next extended. See section 10-22.14
A9: 4 | B9: Principal on Bonds Sold:
B10: (1) Funding Bonds are to be entered in the fund or funds in which the liability occurs.
B11: (2) Refunding Bonds can be entered in the Debt Services Fund only.
B12: (3) Building Bonds can be entered in the Capital Projects Fund only.
B13: (4) Fire Prevention and Safety Bonds can be entered in the Fire Prevention & Safety Fund only.
A15: 5 | B15: The proceeds from the sale of school sites, buildings, or other real estate shall be used first to pay the principal and interest on any outstanding bonds on the property being sold, and after all such bonds have been retired, the remaining proceeds from the sale next shall be used by the school board to meet any urgent district needs as determined under Sections 2-3.12 and 17-2.11 of the School Code. Once these issues have been addressed, any remaining proceeds may be used for any other authorized purpose and for deposit into any district fund.
A17: 6 | B17: The School Code, Section 10-22.44 prohibits the transfer of interest earned on the investment of "any funds for purposes of Illinois Municipal Retirement under the Pension Code." This prohibition does not include funds for Social Security and Medicare-only purposes. For additional requirements on interest earnings, see 23 Illinois Administrative Code, Part 100, Section 100.50.
A19: 7 | B19: Cash plus investments must be greater than or equal to zero.
A21: 8 | B21: For cash basis budgets, this total will equal the Budget Summary - Total Direct Receipts/Revenues (Line 9) plus Total Other Sources of Funds (Line 46).
A23: 9 | B23: For cash basis budgets, this total will equal the Budget Summary - Total Direct Disbursements/Expenditures (Line 19) plus Total Other Uses of Funds (Line 79).
A25: 10 | B25: Working Cash Fund loans may be made to any district fund for which taxes are levied (Section 20-5 of the School Code).
A27: 11 | B27: Include revenue accounts 1110 through 1115, 1117,1118 & 1120.
A29: 12 | B29: The School Code Section 17-2.2c. Tax for leasing educational facilities or computer technology or both, and for temporary relocation expense purposes.
A31: 13 | B31: Corporate personal property replacement tax revenue must be first applied to the Municipal Retirement/Social Security Fund to replace tax revenue lost due to the abolition of the corporate personal property tax (30 ILCS 115/12). This provision does not apply to taxes levied for Medicare-Only purposes.
A33: 14 | B33: Only tuition payments made to private facilities. See Functions 4200 or 4400 for estimated public facility disbursements/expenditures.
A35: 15 | B35: Payment towards the retirement of lease/purchase agreements or bonded/other indebtedness (principal only) otherwise reported within the fund - e.g.: alternate revenue bonds. (Describe & Itemize)
A37: 16 | B37: Only abolishment of Working Cash Fund must transfer its funds directly to the Educational Fund upon adoption of a resolution and
B38: at the close of the current school Year (see 105 ILCS 5/20-8 for further explanation)
B39: Only abatement of working cash fund can transfer its funds to any fund in most need of money
B40: (see 105 ILCS 5/20-10 for further explanation)

Sheet Balancing
A1: CHECK FOR ERRORS
A2: This worksheet checks various cells to assure that selected items are in balance.
A3: Out-of-balance conditions are accompanied by an error message.
A4: Errors must be corrected before the budget is finalized and submitted to ISBE.
B5: Budget Item References | C5: Message
B6: Is Deficit Reduction Plan Required? | C6: =IF(AND('DeficitBudgetSum Calc 19'!F5<0,'DeficitBudgetSum Calc 19'!F6>=0,ABS('DeficitBudgetSum Calc 19'!F5*3)>ABS('DeficitBudgetSum Calc 19'!F6)),'DeficitBudgetSum Calc 19'!F15,IF(AND('DeficitBudgetSum Calc 19'!F5<0,'DeficitBudgetSum Calc 19'!F6>0,ABS('DeficitBudgetSum Calc 19'!F5*3)<=ABS('DeficitBudgetSum Calc 19'!F6)),'DeficitBudgetSum Calc 19'!F16,IF(AND('DeficitBudgetSum Calc 19'!F5<0,'DeficitBudgetSum Calc 19'!F6<0),'DeficitBudgetSum Calc 19'!F15,IF('DeficitBudgetSum Calc 19'!F6=0,'DeficitBudgetSum Calc 19'!F18,'DeficitBudgetSum Calc 19'!F17)))) -> Congratulations! You have a balanced budget.
B7: If required, is Deficit Reduction Plan Completed (Page: DefReductPlan 20-24)? | C7: =IF(AND(C6='DeficitBudgetSum Calc 19'!F15,'DefReductPlan 20-24'!Z22>0),"Budget Plan Completed",IF(AND(C6='DeficitBudgetSum Calc 19'!F15,'DefReductPlan 20-24'!Z22=0),"Please complete the deficit reduction plan prior to submission.",""))
A8: 1 | B8: Cover Page - CASH or ACCRUAL
B9: Check one type of Accounting Basis used on the Cover sheet. | C9: =IF(Cover!B5="X","CASH",IF(Cover!B6="X","ACCRUAL ","PLEASE CHECK AN ACCOUNTING BASIS.")) -> ACCRUAL
A10: 2 | B10: Budget Summary: Other Sources (Page BudgetSum 2-3 - Acct 7000), must equal Other Uses (BudgetSum 2-3 - Acct. 8000).
B11: Estimated Beginning Fund Balance July,1 2019 for all Funds (Cells C3 - K3) (Line must have a number or zero. Do not leave blank.) | C11: =IF(AND(ISNUMBER('BudgetSum 2-3'!C3),ISNUMBER('BudgetSum 2-3'!D3),ISNUMBER('BudgetSum 2-3'!E3),ISNUMBER('BudgetSum 2-3'!F3),ISNUMBER('BudgetSum 2-3'!G3),ISNUMBER('BudgetSum 2-3'!H3),ISNUMBER('BudgetSum 2-3'!I3),ISNUMBER('BudgetSum 2-3'!J3),ISNUMBER('BudgetSum 2-3'!K3)),"OK","CHECK ERROR- IF ZERO, ENTER NUMER 0 ") -> OK
B12: Transfer Among Funds (Funds 10, 20, 40 - Acct 7130 - Cells C29, D29, F29), must equal (Funds 10, 20 & 40 - Acct 8130 - Cells C52, D52, F52). | C12: =IF(SUM('BudgetSum 2-3'!C29:D29,'BudgetSum 2-3'!F29)<>SUM('BudgetSum 2-3'!C52:D52,'BudgetSum 2-3'!F52),"Check Error!","OK") -> OK
B13: Transfer of Interest (Funds 10 thru 90 - Acct 7140 - Cells C30:K30), must equal (Funds 10 thru 60, & 80 - Acct 8140 - Cells C53:H53, J53). | C13: =IF(SUM('BudgetSum 2-3'!C30:K30)<>SUM('BudgetSum 2-3'!C53:J53),"Check Error!","OK") -> OK
B14: Transfer to Debt Service to Pay Principal on Capital Leases (Fund 30 - Acct 7400 - Cell E39) must equal (Funds 10, 20 & 60 - Acct 8400 Cells C57:H60). | C14: =IF(('BudgetSum 2-3'!E39)<>SUM('BudgetSum 2-3'!C57:H60),"Check Error!","OK") -> OK
B15: Transfer to Debt Service to Pay Interest on Capital Leases (Fund 30 - Acct 7500 - Cell E40) must equal (Funds 10, 20 & 60 - Acct 8500 - Cells C61:H64). | C15: =IF(('BudgetSum 2-3'!E40)<>SUM('BudgetSum 2-3'!C61:H64),"Check Error!","OK") -> OK
B16: Transfer to Debt Service Fund to Pay Principal on Revenue Bonds (Fund 30 - Acct 7600 - Cell E41) must equal (Funds 10 & 20 - Acct 8600 - Cells C65:D68). | C16: =IF(('BudgetSum 2-3'!E41)<>SUM('BudgetSum 2-3'!C65:D68),"Check Error!","OK") -> OK
B17: Transfer to Debt Service to Pay Interest on Revenue Bonds (Fund 30 - Acct 7700 - Cell E42) must equal (Funds 10 & 20 - Acct 8700 - Cells C69:D72). | C17: =IF(('BudgetSum 2-3'!E42)<>SUM('BudgetSum 2-3'!C69:D72),"Check Error!","OK") -> OK
B18: Transfer to Capital Projects Fund (Fund 60 - Acct 7800 - Cell H43) must equal (Fund 10 & 20, Acct 8800 - Cells C73:D76). | C18: =IF(('BudgetSum 2-3'!H43)<>SUM('BudgetSum 2-3'!C73:D76),"Check Error!","OK") -> OK
A19: 3 | B19: Summary of Cash Transactions: Beginning Cash Balance on Hand July 1, 2019, (CashSum 4, All Funds), cannot be negative.
B20: Educational (Fund 10 - Cell C3) | C20: =IF('CashSum 4'!$C$3<0,"Check Error","OK") -> OK
B21: Operations & Maintenance (Fund 20 - Cell D3) | C21: =IF('CashSum 4'!$D$3<0,"Check Error","OK") -> OK
B22: Debt Service (Fund 30 - Cell E3) | C22: =IF('CashSum 4'!$E$3<0,"Check Error","OK") -> OK
B23: Transportation (Fund 40 - Cell F3) | C23: =IF('CashSum 4'!$F$3<0,"Check Error","OK") -> OK
B24: Municipal Retirement/Social Security (Fund 50 - Cell G3) | C24: =IF('CashSum 4'!$G$3<0,"Check Error","OK") -> OK
B25: Capital Projects (Fund 60 - Cell H3) | C25: =IF('CashSum 4'!$H$3<0,"Check Error","OK") -> OK
B26: Working Cash (Fund 70 - Cell I3) | C26: =IF('CashSum 4'!$I$3<0,"Check Error","OK") -> OK
B27: Tort (Fund 80 - Cell J3) | C27: =IF('CashSum 4'!$J$3<0,"Check Error","OK") -> OK
B28: Fire Prevention & Safety (Fund 90 - Cell K3) | C28: =IF('CashSum 4'!$K$3<0,"Check Error","OK") -> OK
A29: 4 | B29: Summary of Cash Transactions: Ending Cash Balance on Hand June 30, 2020, (Page CashSum 4 - All Funds), cannot be negative.
B30: Educational (Fund 10 - Cell C21) | C30: =IF('CashSum 4'!$C$21<0,"Check Error!","OK") -> OK
B31: Operations & Maintenance (Fund 20 - Cell D21) | C31: =IF('CashSum 4'!$D$21<0,"Check Error!","OK") -> OK
B32: Debt Service (Fund 30 - Cell E21) | C32: =IF('CashSum 4'!$E$21<0,"Check Error!","OK") -> OK
B33: Transportation (Fund 40 - F21) | C33: =IF('CashSum 4'!$F$21<0,"Check Error!","OK") -> OK
B34: Municipal Retirement/Social Security (Fund 50 - Cell G21) | C34: =IF('CashSum 4'!$G$21<0,"Check Error!","OK") -> OK
B35: Capital Projects (Fund 60 - H21) | C35: =IF('CashSum 4'!$H$21<0,"Check Error!","OK") -> OK
B36: Working Cash (Fund 70 - Cell I21) | C36: =IF('CashSum 4'!$I$21<0,"Check Error!","OK") -> OK
B37: Tort (Fund 80 - Cell J21) | C37: =IF('CashSum 4'!$J$21<0,"Check Error!","OK") -> OK
B38: Fire Prevention & Safety (Fund 90 - Cell K21) | C38: =IF('CashSum 4'!$K$21<0,"Check Error!","OK") -> OK
A39: 5 | B39: Summary of Cash Transactions: Other Receipts, (Page CashSum 4), must equal Other Disbursements, (Page CashSum 4).
B40: Interfund Loans Payable (Funds 10:60, 80, 90 - Acct 411 - Cells C6:H6, J6:K6) must equal Interfund Loans Receivable (Funds 10:20, 40, 70 - Acct 141 - Cells C15:D15, F15, I15). | C40: =IF(SUM('CashSum 4'!C6:K6)<>SUM('CashSum 4'!C15:K15),"Check Error!","OK") -> OK
...

Sheet B20
A1: School District Name | B1: =Cover!G13 -> Glencoe School District #35
A2: School District ID | B2: =Cover!G14 -> 05-016-0350-02
A3: School District/Joint Agreement | B3: S
A4: Accounting Basis | B4: =Balancing!C9 -> ACCRUAL
A5: 1 | B5: ='BudgetSum 2-3'!C18 -> 100000 | C5: =A5-B5 -> -99999
A6: 2 | B6: ='BudgetSum 2-3'!D18 -> 25000 | C6: =A6-B6 -> -24998
A7: 3 | B7: ='BudgetSum 2-3'!E18 -> 0 | C7: =A7-B7 -> 3
A8: 4 | B8: ='BudgetSum 2-3'!F18 -> 0 | C8: =A8-B8 -> 4
A9: 5 | B9: ='BudgetSum 2-3'!G18 -> 0 | C9: =A9-B9 -> 5
A10: 6 | B10: ='BudgetSum 2-3'!H18 -> 0 | C10: =A10-B10 -> 6
A11: 7 | B11: ='BudgetSum 2-3'!K18 -> 0 | C11: =A11-B11 -> 7
A12: 8 | B12: ='CashSum 4'!C4 -> 24108184 | C12: =A12-B12 -> -24108176
A13: 9 | B13: ='CashSum 4'!C7 -> 0 | C13: =A13-B13 -> 9
A14: 10 | B14: ='CashSum 4'!C10 -> 0 | C14: =A14-B14 -> 10
A15: 11 | B15: ='CashSum 4'!C11 -> 24108184 | C15: =A15-B15 -> -24108173
A16: 12 | B16: ='CashSum 4'!C12 -> 54898029 | C16: =A16-B16 -> -54898017
A17: 13 | B17: ='CashSum 4'!C13 -> 21721326 | C17: =A17-B17 -> -21721313
A18: 14 | B18: ='CashSum 4'!C15 -> 0 | C18: =A18-B18 -> 14
A19: 15 | B19: ='CashSum 4'!C16 -> 0 | C19: =A19-B19 -> 15
A20: 16 | D20: Close 2008
A21: 17 | B21: ='CashSum 4'!C17 -> 0 | C21: =A21-B21 -> 17
A22: 18 | B22: ='CashSum 4'!C8 -> 0 | C22: =A22-B22 -> 18
A23: 19 | D23: Close 2008
A24: 20 | D24: Close 2008
A25: 21 | B25: ='CashSum 4'!C18 -> 0 | C25: =A25-B25 -> 21
A26: 22 | B26: ='CashSum 4'!C19 -> 0 | C26: =A26-B26 -> 22
A27: 23 | B27: ='CashSum 4'!C20 -> 21721326 | C27: =A27-B27 -> -21721303
A28: 24 | B28: ='CashSum 4'!C21 -> 33176703 | C28: =A28-B28 -> -33176679
A29: 25 | B29: ='CashSum 4'!D4 -> 2725000 | C29: =A29-B29 -> -2724975
A30: 26 | B30: ='CashSum 4'!D7 -> 0 | C30: =A30-B30 -> 26
A31: 27 | B31: ='CashSum 4'!D10 -> 0 | C31: =A31-B31 -> 27
A32: 28 | B32: ='CashSum 4'!D11 -> 2725000 | C32: =A32-B32 -> -2724972
A33: 29 | B33: ='CashSum 4'!D12 -> 3758516 | C33: =A33-B33 -> -3758487
A34: 30 | B34: ='CashSum 4'!D13 -> 3571528 | C34: =A34-B34 -> -3571498
A35: 31 | B35: ='CashSum 4'!D15 -> 0 | C35: =A35-B35 -> 31
A36: 32 | B36: ='CashSum 4'!D16 -> 0 | C36: =A36-B36 -> 32
A37: 33 | D37: Close 2008
A38: 34 | B38: ='CashSum 4'!D17 -> 0 | C38: =A38-B38 -> 34
A39: 35 | D39: Close 2008
A40: 36 | D40: Close 2008
...
