Workbook

Sheet ASA1
A1: This page must be sent to ISBE | G1: Note: For submitting to ISBE, the "Statement of Affairs" can
A2: and retained within the district/joint agreement | D2: ILLINOIS STATE BOARD OF EDUCATION | G2: be submitted as one file to avoid separating worksheets.
A3: administrative office for public inspection. | D3: School Business Services
D4: (217)785-8779
A5: ANNUAL STATEMENT OF AFFAIRS FOR THE FISCAL YEAR ENDING
D6: 44012
A7: (Section 10-17 of the School Code)
B9: SCHOOL DISTRICT/JOINT AGREEMENT NAME: | C9: Glencoe School District #35 | H9: DISTRICT TYPE
B10: RCDT NUMBER: | C10: 05-016-0350-02 | H10: Elementary | I10: X
B11: ADDRESS: | C11: 620 Greenwood Ave, Glencoe IL 60022 | H11: High School
B12: COUNTY: | C12: Cook | H12: Unit
B13: NAME OF NEWSPAPER WHERE PUBLISHED: | C13: Pioneer Press
F15: ASSURANCE
D16: YES | E16: X | F16: The statement of affairs has been made available in the main administrative office of the school district/joint agreement and the required Annual Statement of Affairs Summary has been published in accordance with Section 10-17 of the School Code.
B19: CAPITAL ASSETS | D19: VALUE | F19: SIZE OF DISTRICT IN SQUARE MILES | H19: 4
B20: WORKS OF ART & HISTORICAL TREASURES | D20: 0 | F20: NUMBER OF ATTENDANCE CENTERS | H20: 3
B21: LAND | D21: 1331833 | F21: 9 MONTH AVERAGE DAILY ATTENDANCE | H21: 1127
B22: BUILDING & BUILDING IMPROVEMENTS | D22: 40719486 | F22: NUMBER OF CERTIFICATED EMPLOYEES
B23: SITE IMPROVMENTS & INFRASTRUCTURE | D23: 0 | F23: FULL-TIME | H23: 135
B24: CAPITALIZED EQUIPMENT | D24: 7026061 | F24: PART-TIME | H24: 8
B25: CONSTRUCTION IN PROGRESS | D25: 983007 | F25: NUMBER OF NON-CERTIFICATED EMPLOYEES
B26: Total | D26: =SUM(D20:D25) -> 50060387 | F26: FULL-TIME | H26: 59
F27: PART-TIME | H27: 20
B28: NUMBER OF PUPILS ENROLLED PER GRADE | F28: TAX RATE BY FUND (IN %)
B29: PRE-KINDERGARTEN | D29: 16 | F29: EDUCATIONAL | H29: 2.5363
B30: KINDERGARTEN | D30: 124 | F30: OPERATIONS & MAINTENANCE | H30: 0.2736
B31: FIRST | D31: 112 | F31: BOND & INTEREST | H31: 0.1867
B32: SECOND | D32: 136 | F32: TRANSPORTATION | H32: 0.0671
B33: THIRD | D33: 127 | F33: MUNICIPAL RETIREMENT | H33: 0.0206
B34: FOURTH | D34: 158 | F34: SOCIAL SECURITY | H34: 0.0523
B35: FIFTH | D35: 141 | F35: WORKING CASH | H35: 0
B36: SIXTH | D36: 119 | F36: FIRE PREVENTION & SAFETY | H36: 0
B37: SEVENTH | D37: 157 | F37: TORT IMMUNITY | H37: 0.0177
B38: EIGHTH | D38: 118 | F38: CAPITAL PROJECTS | H38: 0
B39: SPECIAL | F39: SPECIAL EDUCATION | H39: 0.008
B40: Total Elementary | D40: =SUM(D29:D39) -> 1208 | F40: LEASING | H40: 0
B41: NINTH | F41: OTHER | H41: 0
B42: TENTH | F42: OTHER | H42: 0
B43: ELEVENTH | F43: DISTRICT EQUALIZED ASSESSED VALUATION (EAV) | H43: 892812017
B44: TWELFTH | F44: EQUALIZED ASSESSED VALUATION PER ADA PUPIL | H44: =(H43/H21) -> 792202.32 | J44: =MID(C10,10,1) -> 5
...

Sheet ASA2
A1: STATEMENT OF ASSETS AND LIABILITIES
A2: AS OF JUNE 30, 2020
C4: (10) | D4: (20) | E4: (30) | F4: (40) | G4: (50) | H4: (60) | I4: (70) | J4: (80) | K4: (90)
A5: Description | B5: Acct No | C5: Educational | D5: Operations & Maintenance | E5: Debt Service | F5: Transportation | G5: Municipal Retirement & Social Security | H5: Capital Projects | I5: Working Cash | J5: Tort | K5: Fire Prevention & Safety
A6: CURRENT ASSETS (100)
A7: Cash (Accounts 111 thru 115) | C7: 29822653 | D7: 580525 | E7: 485544 | F7: 824822 | G7: 1184315 | H7: 4269933 | I7: 0 | J7: 489429
A8: Investments | B8: 120 | C8: 0 | D8: 0 | E8: 0 | F8: 0 | G8: 0 | H8: 0 | I8: 0 | J8: 0
A9: Taxes Receivable | B9: 130 | C9: 10979952 | D9: 1181013 | E9: 632882 | F9: 289641 | G9: 314732 | H9: 0 | I9: 0 | J9: 76152
A10: Interfund Receivables | B10: 140 | C10: 0 | D10: 0 | E10: 0 | F10: 0 | G10: 0 | H10: 0 | I10: 0 | J10: 0
A11: Intergovernmental Accounts Receivable | B11: 150 | C11: 164215 | D11: 0 | E11: 0 | F11: 33008 | G11: 0 | H11: 0 | I11: 0 | J11: 0
A12: Other Receivables | B12: 160 | C12: 151689 | D12: 34134 | E12: 2908 | F12: 4143 | G12: 6111 | H12: 19538 | I12: 0 | J12: 3339
A13: Inventory | B13: 170 | C13: 0 | D13: 0 | E13: 0 | F13: 0 | G13: 0 | H13: 0 | I13: 0 | J13: 0
A14: Prepaid Items | B14: 180 | C14: 0 | D14: 0 | E14: 0 | F14: 0 | G14: 0 | H14: 0 | I14: 0 | J14: 0
A15: Other Current Assets | B15: 190 | C15: 0 | D15: 0 | E15: 0 | F15: 0 | G15: 0 | H15: 0 | I15: 0 | J15: 0
A16: Total Current Assets | C16: =SUM(C7:C15) -> 41118509 | D16: =SUM(D7:D15) -> 1795672 | E16: =SUM(E7:E15) -> 1121334 | F16: =SUM(F7:F15) -> 1151614 | G16: =SUM(G7:G15) -> 1505158 | H16: =SUM(H7:H15) -> 4289471 | I16: =SUM(I7:I15) -> 0 | J16: =SUM(J7:J15) -> 568920 | K16: =SUM(K7:K15) -> 0
A17: CURRENT LIABILITIES (400)
A18: Interfund Payables | B18: 410 | C18: 0 | D18: 0 | E18: 0 | F18: 0 | G18: 0 | H18: 0 | J18: 0
A19: Intergovernmental Accounts Payable | B19: 420 | C19: 0 | D19: 0 | E19: 0 | F19: 0 | G19: 0 | H19: 0 | I19: 0 | J19: 0
A20: Other Payable | B20: 430 | C20: 52951 | D20: 28190 | E20: 0 | F20: 0 | G20: 0 | H20: 41805 | I20: 0 | J20: 0
A21: Contracts Payable | B21: 440 | C21: 0 | D21: 0 | E21: 0 | F21: 0 | G21: 0 | H21: 0 | I21: 0 | J21: 0
A22: Loans Payable | B22: 460 | C22: 0 | D22: 0 | E22: 0 | F22: 0 | G22: 0 | H22: 0 | I22: 0 | J22: 0
A23: Salaries & Benefits Payable | B23: 470 | C23: 0 | D23: 1226 | E23: 0 | F23: 0 | G23: 0 | H23: 0 | I23: 0 | J23: 0
A24: Payroll Deductions & Withholdings | B24: 480 | C24: 77610 | D24: 757 | E24: 0 | F24: -7312 | G24: -11867 | H24: 0 | I24: 0 | J24: 0
A25: Deferred Revenues & Other Current Liabilities | B25: 490 | C25: 11027631 | D25: 1182750 | E25: 633834 | F25: 301014 | G25: 316733 | H25: 6340 | I25: 0 | J25: 79251
A26: Due to Activity Fund Organizations | B26: 493 | C26: 0 | D26: 0 | E26: 0 | F26: 0 | G26: 0 | H26: 0 | I26: 0 | J26: 9
A27: Total Current Liabilities | C27: =SUM(C18:C26) -> 11158192 | D27: =SUM(D18:D26) -> 1212923 | E27: =SUM(E18:E26) -> 633834 | F27: =SUM(F18:F26) -> 293702 | G27: =SUM(G18:G26) -> 304866 | H27: =SUM(H18:H26) -> 48145 | I27: =SUM(I18:I26) -> 0 | J27: =SUM(J18:J26) -> 79260 | K27: =SUM(K18:K26) -> 0
A28: LONG-TERM LIABILITIES (500)
A29: Long-Term Debt Payable | B29: 511
A30: Total Liabilities | C30: =SUM(C27:C29) -> 11158192 | D30: =SUM(D27:D29) -> 1212923 | E30: =SUM(E27:E29) -> 633834 | F30: =SUM(F27:F29) -> 293702 | G30: =SUM(G27:G29) -> 304866 | H30: =SUM(H27:H29) -> 48145 | I30: =I27 -> 0 | J30: =SUM(J27:J29) -> 79260 | K30: =SUM(K27:K29) -> 0
A31: Reserved Fund Balance | B31: 714 | C31: 0 | D31: 0 | E31: 0 | F31: 0 | G31: 0 | H31: 4236586 | I31: 0 | J31: 489669
A32: Unreserved Fund Balance | B32: 730 | C32: 29960317 | D32: 582749 | E32: 487500 | F32: 857912 | G32: 1200292 | H32: 4560 | I32: 0 | J32: 0
A33: Investments in General Fixed Assets
A34: Total Liabilities and Fund Balances | C34: =SUM(C30:C32) -> 41118509 | D34: =SUM(D30:D32) -> 1795672 | E34: =SUM(E30:E32) -> 1121334 | F34: =SUM(F30:F32) -> 1151614 | G34: =SUM(G30:G32) -> 1505158 | H34: =SUM(H30:H32) -> 4289291 | I34: =SUM(I30:I32) -> 0 | J34: =SUM(J30:J32) -> 568929 | K34: =SUM(K30:K32) -> 0

Sheet ASA3
A1: STATEMENT OF REVENUES RECEIVED/REVENUES, EXPENDITURES DISBURSED/EXPENDITURES, OTHER SOURCES/USES
A2: AND CHANGES IN FUND BALANCE - FOR YEAR ENDING JUNE 30, 2020
C4: (10) | D4: (20) | E4: (30) | F4: (40) | G4: (50) | H4: (60) | I4: (70) | J4: (80) | K4: (90)
A5: Description | B5: Acct No | C5: Educational | D5: Operations & Maintenance | E5: Debt Service | F5: Transportation | G5: Municipal Retirement & Social Security | H5: Capital Projects | I5: Working Cash | J5: Tort | K5: Fire Prevention & Safety
A6: RECEIPTS/REVENUES
A7: Local Sources | B7: 1000 | C7: 24041610 | D7: 2838063 | E7: 1496452 | F7: 712279 | G7: 733144 | H7: 68559 | I7: 0 | J7: 173037 | K7: 0
A8: Flow-Through Received/Revenue from One District to Another District | B8: 2000 | C8: 0 | D8: 0 | F8: 0 | G8: 0
A9: State Sources | B9: 3000 | C9: 750737 | D9: 0 | E9: 0 | F9: 133516 | G9: 0 | H9: 0 | I9: 0 | J9: 0 | K9: 0
A10: Federal Sources | B10: 4000 | C10: 356504 | D10: 0 | E10: 0 | F10: 0 | G10: 0 | H10: 0 | I10: 0 | J10: 0 | K10: 0
A11: Total Direct Receipts/Revenues | C11: =SUM(C7:C10) -> 25148851 | D11: =SUM(D7:D10) -> 2838063 | E11: =SUM(E7:E10) -> 1496452 | F11: =SUM(F7:F10) -> 845795 | G11: =G7+G8+G9+G10 -> 733144 | H11: =SUM(H7:H10) -> 68559 | I11: =SUM(I7:I10) -> 0 | J11: =SUM(J7:J10) -> 173037 | K11: =SUM(K7:K10) -> 0
A12: Rec./Rev. for "On Behalf" Payments | B12: 3998 | C12: 6313901 | D12: 0 | E12: 0 | F12: 0 | G12: 0 | H12: 0 | J12: 0 | K12: 0
A13: Total Receipts/Revenues | C13: =C11+C12 -> 31462752 | D13: =D11+D12 -> 2838063 | E13: =E11+E12 -> 1496452 | F13: =F11+F12 -> 845795 | G13: =G11+G12 -> 733144 | H13: =H11+H12 -> 68559 | I13: =I11+I12 -> 0 | J13: =J11+J12 -> 173037 | K13: =K11+K12 -> 0
A14: DISBURSEMENTS/EXPENDITURES
A15: Instruction | B15: 1000 | C15: 13644336 | G15: 332456
A16: Support Services | B16: 2000 | C16: 6056645 | D16: 2763775 | F16: 767789 | G16: 320561 | H16: 4358695 | J16: 136387 | K16: 0
A17: Community Services | B17: 3000 | C17: 0 | D17: 0 | F17: 0 | G17: 0
A18: Payments to Other Districts & Govt Units | B18: 4000 | C18: 729758 | D18: 0 | E18: 0 | F18: 0 | G18: 0 | H18: 0 | J18: 0 | K18: 0
A19: Debt Services | B19: 5000 | C19: 0 | D19: 0 | E19: 13981168 | F19: 0 | G19: 0 | J19: 0 | K19: 0
A20: Total Direct Disbursements/Expenditures | C20: =SUM(C15:C19) -> 20430739 | D20: =SUM(D15:D19) -> 2763775 | E20: =SUM(E15:E19) -> 13981168 | F20: =SUM(F15:F19) -> 767789 | G20: =SUM(G15:G19) -> 653017 | H20: =SUM(H15:H19) -> 4358695 | J20: =SUM(J15:J19) -> 136387 | K20: =SUM(K15:K19) -> 0
A21: Disb./Expend. for "On Behalf" Payments | B21: 4180 | C21: =C12 -> 6313901 | D21: =D12 -> 0 | E21: =E12 -> 0 | F21: =F12 -> 0 | G21: =G12 -> 0 | H21: =H12 -> 0 | J21: =J12 -> 0 | K21: =K12 -> 0
A22: Total Disbursements/Expenditures | C22: =C20+C21 -> 26744640 | D22: =D20+D21 -> 2763775 | E22: =E20+E21 -> 13981168 | F22: =F20+F21 -> 767789 | G22: =G20+G21 -> 653017 | H22: =H20+H21 -> 4358695 | J22: =J20+J21 -> 136387 | K22: =K20+K21 -> 0
A23: Excess of Direct Receipts/Revenues Over (Under) Direct Disbursements/Expenditures | C23: =C11-C20 -> 4718112 | D23: =D11-D20 -> 74288 | E23: =E11-E20 -> -12484716 | F23: =F11-F20 -> 78006 | G23: =G11-G20 -> 80127 | H23: =H11-H20 -> -4290136 | I23: =I11 -> 0 | J23: =J11-J20 -> 36650 | K23: =K11-K20 -> 0
A24: Other Sources of Funds | B24: 7000 | C24: 0 | D24: 0 | E24: 11878173 | F24: 0 | G24: 0 | H24: 5000000 | I24: 0 | J24: 0 | K24: 0
A25: Other Uses of Funds | B25: 8000 | C25: 5179734 | D25: 0 | E25: 0 | F25: 0 | G25: 0 | H25: 0 | I25: 0 | J25: 0 | K25: 0
A26: Total Other Sources/Uses of Funds | C26: =C24-C25 -> -5179734 | D26: =D24-D25 -> 0 | E26: =E24-E25 -> 11878173 | F26: =F24-F25 -> 0 | G26: =G24-G25 -> 0 | H26: =H24-H25 -> 5000000 | I26: =I24-I25 -> 0 | J26: =J24-J25 -> 0 | K26: =K24-K25 -> 0
A27: Excess of Receipts/Revenues & Other Sources of Funds (Over/Under) Expenditures/Disbursements & Other Uses of Funds | C27: =C23+C26 -> -461622 | D27: =D23+D26 -> 74288 | E27: =E23+E26 -> -606543 | F27: =F23+F26 -> 78006 | G27: =G23+G26 -> 80127 | H27: =H23+H26 -> 709864 | I27: =I23+I26 -> 0 | J27: =J23+J26 -> 36650 | K27: =K23+K26 -> 0
A28: Beginning Fund Balances - July 1, 2019 | C28: 30421939 | D28: 508461 | E28: 1094043 | F28: 779906 | G28: 1120165 | H28: 3531282 | I28: 0 | J28: 453019 | K28: 0
A29: Other Changes in Fund Balances Increases (Decreases) | C29: 0 | D29: 0 | E29: 0 | F29: 0 | G29: 0 | H29: 0 | I29: 0 | J29: 0 | K29: 0
A30: Ending Fund Balances June 30, 2020 | C30: =SUM(C27:C29) -> 29960317 | D30: =SUM(D27:D29) -> 582749 | E30: =SUM(E27:E29) -> 487500 | F30: =SUM(F27:F29) -> 857912 | G30: =SUM(G27:G29) -> 1200292 | H30: =SUM(H27:H29) -> 4241146 | I30: =SUM(I27:I29) -> 0 | J30: =SUM(J27:J29) -> 489669 | K30: =SUM(K27:K29) -> 0

Sheet PublishedSum 4
A1: ANNUAL STATEMENT OF AFFAIRS SUMMARY FOR FISCAL YEAR ENDING JUNE 30, 2020
B3: The summary must be published in the local newspaper.
B5: Copies of the detailed Annual Statement of Affairs for the Fiscal Year Ending June 30, 2020 will be available for public inspection in the school district/joint agreement administrative office by December 1, annually. Individuals wanting to review this Annual Statement of Affairs should contact:
B6: ='ASA1'!C9 -> Glencoe School District #35 | E6: 620 Greenwood Ave | I6: 8478357800 | K6: 8-4
B7: School District/Joint Agreement Name | E7: Address | I7: Telephone | K7: Office Hours
B8: Also by January 15, annually the detailed Annual Statement of Affairs for the Fiscal Year Ending June 30, 2020, will be posted on the Illinois State Board of Education's website@ www.isbe.net.
B10: SUMMARY: The following is the Annual Statement of Affairs Summary that is required to be published by the school district/joint agreement for the past fiscal year.
B12: Statement of Operations as of June 30, 2020
E13: Educational | F13: Operations & Maintenance | G13: Debt Services | H13: Transportation | I13: Municipal Retirement/Social Security | J13: Capital Projects | K13: Working Cash | L13: Tort | M13: Fire Prevention & Safety
B14: Local Sources | D14: 1000 | E14: =('ASA3'!C7) -> 24041610 | F14: =('ASA3'!D7) -> 2838063 | G14: =('ASA3'!E7) -> 1496452 | H14: =('ASA3'!F7) -> 712279 | I14: =('ASA3'!G7) -> 733144 | J14: =('ASA3'!H7) -> 68559 | K14: =('ASA3'!I7) -> 0 | L14: =('ASA3'!J7) -> 173037 | M14: =('ASA3'!K7) -> 0
B15: Flow-Through Receipts/Revenues from One District to Another District | D15: 2000 | E15: =('ASA3'!C8) -> 0 | F15: =('ASA3'!D8) -> 0 | H15: =('ASA3'!F8) -> 0 | I15: =('ASA3'!G8) -> 0
B16: State Sources | D16: 3000 | E16: =('ASA3'!C9) -> 750737 | F16: =('ASA3'!D9) -> 0 | G16: =('ASA3'!E9) -> 0 | H16: =('ASA3'!F9) -> 133516 | I16: =('ASA3'!G9) -> 0 | J16: =('ASA3'!H9) -> 0 | K16: =('ASA3'!I9) -> 0 | L16: =('ASA3'!J9) -> 0 | M16: =('ASA3'!K9) -> 0
B17: Federal Sources | D17: 4000 | E17: =('ASA3'!C10) -> 356504 | F17: =('ASA3'!D10) -> 0 | G17: =('ASA3'!E10) -> 0 | H17: =('ASA3'!F10) -> 0 | I17: =('ASA3'!G10) -> 0 | J17: =('ASA3'!H10) -> 0 | K17: =('ASA3'!I10) -> 0 | L17: =('ASA3'!J10) -> 0 | M17: =('ASA3'!K10) -> 0
B18: Total Direct Receipts/Revenues | E18: =('ASA3'!C11) -> 25148851 | F18: =('ASA3'!D11) -> 2838063 | G18: =('ASA3'!E11) -> 1496452 | H18: =('ASA3'!F11) -> 845795 | I18: =('ASA3'!G11) -> 733144 | J18: =('ASA3'!H11) -> 68559 | K18: =('ASA3'!I11) -> 0 | L18: =('ASA3'!J11) -> 173037 | M18: =('ASA3'!K11) -> 0
B19: Total Direct Disbursements/Expenditures | E19: ='ASA3'!C20 -> 20430739 | F19: ='ASA3'!D20 -> 2763775 | G19: ='ASA3'!E20 -> 13981168 | H19: ='ASA3'!F20 -> 767789 | I19: ='ASA3'!G20 -> 653017 | J19: ='ASA3'!H20 -> 4358695 | L19: ='ASA3'!J20 -> 136387 | M19: ='ASA3'!K20 -> 0
B20: Other Sources/Uses of Funds | E20: ='ASA3'!C26 -> -5179734 | F20: ='ASA3'!D26 -> 0 | G20: ='ASA3'!E26 -> 11878173 | H20: ='ASA3'!F26 -> 0 | I20: ='ASA3'!G26 -> 0 | J20: ='ASA3'!H26 -> 5000000 | K20: ='ASA3'!I26 -> 0 | L20: ='ASA3'!J26 -> 0 | M20: ='ASA3'!K26 -> 0
B21: ='ASA3'!A28 -> Beginning Fund Balances - July 1, 2019 | E21: ='ASA3'!C28 -> 30421939 | F21: ='ASA3'!D28 -> 508461 | G21: ='ASA3'!E28 -> 1094043 | H21: ='ASA3'!F28 -> 779906 | I21: ='ASA3'!G28 -> 1120165 | J21: ='ASA3'!H28 -> 3531282 | K21: ='ASA3'!I28 -> 0 | L21: ='ASA3'!J28 -> 453019 | M21: ='ASA3'!K28 -> 0
B22: Other Changes in Fund Balances | E22: ='ASA3'!C29 -> 0 | F22: ='ASA3'!D29 -> 0 | G22: ='ASA3'!E29 -> 0 | H22: ='ASA3'!F29 -> 0 | I22: ='ASA3'!G29 -> 0 | J22: ='ASA3'!H29 -> 0 | K22: ='ASA3'!I29 -> 0 | L22: ='ASA3'!J29 -> 0 | M22: ='ASA3'!K29 -> 0
B23: ='ASA3'!A30 -> Ending Fund Balances June 30, 2020 | E23: =SUM(E18,E20,E21,E22)-E19 -> 29960317 | F23: ='ASA3'!D30 -> 582749 | G23: ='ASA3'!E30 -> 487500 | H23: ='ASA3'!F30 -> 857912 | I23: ='ASA3'!G30 -> 1200292 | J23: ='ASA3'!H30 -> 4241146 | K23: ='ASA3'!I30 -> 0 | L23: ='ASA3'!J30 -> 489669 | M23: ='ASA3'!K30 -> 0

Sheet Salary Sched 5
A1: SALARY SCHEDULE OF GROSS PAYMENTS FOR CERTIFICATED PERSONNEL AND NON-CERTIFICATED PERSONNEL
B3: This listing must be published in the local newspaper, sent to ISBE, and retained
B4: within your district/joint agreement administrative office for public inspection.
B6: ='ASA1'!C9 -> Glencoe School District #35
B7: ='ASA1'!C10 -> 05-016-0350-02
B9: GROSS PAYMENT FOR CERTIFIDE PERSONNEL
B12: Salary Range: Less Than $25,000 | C12: Salary Range: $25,000 - $39,999 | D12: Salary Range: $40,000 - $59,999 | E12: Salary Range: 60,000 - $89,999 | F12: Salary Range: $90,000 and over
B13: Linda Armiros | C13: Diana E Thompson | D13: Jennifer L Ciliak | E13: Nelly R Adelard | F13: Chelsea Alsberg
B14: Lisa C Lesniak | D14: Colleen Mladic | E14: Olivia L. Baad | F14: Mark Barry
B15: Jane A McShane | D15: Laura J. Rose | E15: Elizabeth Gapen Bertoni | F15: Andrew Bauhs
B16: Veronica L Moskow | D16: Alyson M Spagnoli | E16: Dana Marie Creer | F16: Kirsten Branstrom
B17: Dawn M Conroy | D17: Brittany Eikleberry | E17: Erica de Muir | F17: Mary Campbell
B18: Kristine M McCargar | D18: Erin R Nathan | E18: Julia Eidelman | F18: Kyle Colborn
B19: Catherine Morris | D19: Natalie N Shadel | E19: Andrea M Freeman | F19: Neil Couturier
E20: Caitlin M Gonka | F20: Jean Dalleska
E21: Christy M Helkowski | F21: Claire M DeHorn
E22: Andrea Hogan | F22: Clair F Durkes
E23: Bridget D Joyce | F23: Jason Edelheit
E24: Mary P Kelly | F24: William F Ferguson
E25: Amy E Langendorf | F25: Eileen Flershem
E26: Annette McBride | F26: Gina MG Furner
E27: Megan D Michna | F27: Shelly Gavenda
E28: Julie Pappas | F28: Dina M Georgas Eshoo
E29: Nicholas A Paustian | F29: Michelle Gonzalez
E30: Courtney M Quinn | F30: Sally Greenwood
E31: Michelle A Raclaw | F31: Catherine R Hutmacher
... E52: Talia S Nathan | F52: Erica C Zuhr
F53: Benjamin D Baird
F54: Heather Bauer
F55: Claire Berkoff
F56: Michele Byrne
F57: Kristen Cimino
F58: Katrina M Corvo
F59: Theresa Dabney
F60: Jacob L Darcy
F61: Jennifer Dierolf
F62: Kiimberly Dwan-Collins
F63: Katharine L Fanning
F64: Natalie E Flanigan
... F91: Kelly A Zonghetti
...

Sheet Paym 6 (over $2,500)
A1: Payments over $2,500, excluding wages and salaries.
A2: This listing must be published in the local newspaper, sent to ISBE, and
A3: retained within your district/joint agreement administrative office for public inspection
A5: ='ASA1'!C9 -> Glencoe School District #35
A6: ='ASA1'!C10 -> 05-016-0350-02
A7: Person, Firm, or Corporation | B7: Aggregate Amount | D7: Person, Firm, or Corporation | E7: Aggregate Amount
A8: Local Shirt Company | B8: 10732.5 | D8: Benjamin D Baird | E8: 9625.52
A9: LOWERY MCDONNELL COMPANY | B9: 7630.02 | D9: Baker Tilly Virchow Krause, LLP. | E9: 52025
A10: William V. MacGill & Company | B10: 8364.77 | D10: Belfor USA Group | E10: 4095.16
A11: Manfredini Landscaping & Design | B11: 81456 | D11: Claire Berkoff | E11: 2500
A12: Marla's Brown Bag Lunch | B12: 5187.9 | D12: Steven Best | E12: 32000
A13: May Decorating II, Inc. | B13: 54194 | D13: Blackboard, Inc. | E13: 3823.82
A14: MBMD Strategic Consultants LLC. | B14: 35750 | D14: Gary Blau | E14: 2820
A15: Annette McBride | B15: 3657.53 | D15: Blick Art Materials | E15: 9392.52
A16: MCGRAW-HILL SCHOOL EDUCATION HOLDIN | B16: 8341.77 | D16: BMO Corporate Mastercard - P-cards | E16: 34506.99
A17: McKibben Demographic Research, LLC. | B17: 3000 | D17: The Book Stall | E17: 8961.58
A18: McWilliams Electric Co., Inc. | B18: 251767.83 | D18: BrainPOP LLC. | E18: 3445
A19: Megan D Michna | B19: 4200 | D19: B.R. Sports Ltd. | E19: 4192
... A125: AT&T Mobility | B125: 17925.23 | D125: Little Keswick School, LLC. | E125: 30948

Sheet Paym 7 ($1000 to $2500)
A1: PAYMENTS TO PERSON, FIRM, OR CORPORATION OF $1,000 TO $2,500
B3: This listing must be sent to ISBE, and retained within your
B4: district/jointagreement administrative office for public inspection.
B6: ='ASA1'!C9 -> Glencoe School District #35
B7: ='ASA1'!C10 -> 05-016-0350-02
B9: Payments of $1,000 to $2,500, excluding wages and salaries
B11: Person, Firm, or Corporation | C11: Aggregate Amount | E11: Person, Firm, or Corporation | F11: Aggregate Amount
B12: ACP, LLC. | C12: 1845.9 | E12: Marquee Event Rentals | F12: 1073.19
B13: ADA Tennis Co. | C13: 1095.74 | E13: MDC Wallcoverings | F13: 1686.58
B14: Adler Planetarium & Astronomy Museu | C14: 1016 | E14: MIDWEST PRINCIPALS' CENTER | F14: 1005
B15: Alpha Prime Communications | C15: 1788.25 | E15: Midwest Motorcoach | F15: 2400
B16: Anderson Lock | C16: 1186.84 | E16: Monster Entertainment | F16: 1200
B17: Associated Property Counselors, Ltd | C17: 2219.27 | E17: Moving Minds | F17: 1050.95
B18: Olivia L. Baad | C18: 2470 | E18: Melody T Mullenix | F18: 2500
B19: Christina L Benetatos | C19: 2400 | E19: Mystery Science Inc. | F19: 1998
B20: Claire Berkoff | C20: 2500 | E20: N2Y | F20: 2045.69
B21: Kirsten Branstrom | C21: 2453.56 | E21: Nearpod Inc. | F21: 1500
B22: Bureau of Education & Research | C22: 2190 | E22: Nevco Scoreboard Company | F22: 2209
B23: Michele Byrne | C23: 1800 | E23: New Hope Foundation | F23: 2178
... B64: Erin R Loescher | C64: 1346.69 | E64: WORKS International, Inc. | F64: 1995

Sheet Paym 8 ($500 to $999)
A1: PAYMENTS TO PERSON, FIRM, OR CORPORATION OF $500 TO $999
B3: This listing must be retained within your district/joint agreement
B4: administrative office for public inspection.
B6: ='ASA1'!C9 -> Glencoe School District #35
B7: ='ASA1'!C10 -> 05-016-0350-02
B9: Payments of $500 to $999, excluding wages and salaries.
B11: Person, Firm, or Corporation | C11: Aggregate Amount | D11: Person, Firm, or Corporation | E11: Aggregate Amount
B12: A Celebration Authority | C12: 750 | D12: McLennan Center for Youth | E12: 500
B13: Absolute Fire Protection Inc. | C13: 951.74 | D13: MHS | E13: 732.5
B14: American Cancer Society | C14: 560 | D14: MID-CENTRAL PRINTING & MAILING | E14: 965
B15: American Red Cross | C15: 500 | D15: Patricia H Milner | E15: 635
B16: Appliance Service Center | C16: 661.56 | D16: NCPERS LIFE INSURANCE | E16: 960
B17: Atlas Restoration, LLC. | C17: 800 | D17: Opportunity Secure Data Destruction | E17: 573.5
B18: B&H Photo-Video, Inc. | C18: 919.75 | D18: Jill M Patterson | E18: 646.03
B19: Baudville | C19: 722.65 | D19: PREUSS, LES | E19: 550
B20: Margaret Boyer | C20: 878 | D20: RUSH NEUROBEHAVIORAL CENTER | E20: 600
B21: Brookes Publishing Co. | C21: 621.44 | D21: Safeguard Business Systems | E21: 818
B22: CBC Restaurant Corp. | C22: 920.6 | D22: SALZMAN, LISA | E22: 589.49
B23: CHICAGO BOTANIC GARDEN | C23: 840 | D23: SCHOOL HEALTH CORPORATION | E23: 909
... B42: Kara McDowell | C42: 500 | D42: WORLD BOOK INC. | E42: 878.85

Sheet 9 Contracts Exceeding 25,000
A1: REPORT ON CONTRACTS EXCEEDING $25,000 AWARDED DURING FY2020
A4: In conformity with sub-section (c) of Section 10-20.44 of the School Code [105 ILCS 5/10-20.44], the following information is required to be submitted in conjunction with submission of the Annual Statement of Affairs [105 ILCS 5/10-17].
A6: INSTRUCTIONS: Double click attached document "Contracts Exceeding $25,000 Guidance" (pdf) below for additional guidance and definitions.
A8: ITEM 1. – Count only contracts where the consideration exceeds $25,000 over the life of the contract and that were awarded during FY2020 and record the number below in the space provided. Do not include: (1) multi-year contracts awarded prior to FY2020; (2) collective bargaining agreements with district employee groups; and (3) personal services contracts with individual district employees.
A10: ITEM 2. – Aggregate the value of consideration of all contracts included in item 1 and record the dollar amount below in the space provided.
A12: ITEM 3. - Count only contracts where the consideration exceeds $25,000 over the life of the contract that were awarded during FY2020 to minority, female, disabled or local contractors and record the number below in the space provided. Do not include: (1) multi-year contracts awarded prior to FY2020; (2) collective bargaining agreements with district employee groups; and (3) personal services contracts with individual district employees.
A14: ITEM 4. – Aggregate the value of consideration of all contracts included in item 3 and record the dollar amount below in the space provided.
A16: 1. Total number of all contracts awarded by the school district: | B16: 23
B17: (Enter Number Above)
A18: 2. Total value of all contracts awarded: | B18: 5302949.6
B19: (Enter $ Amount Above)
A20: 3. Total number of contracts awarded to minority owned businesses, female owned businesses, businesses owned by persons with disabilities, and locally owned businesses: | B20: 1
B21: (Enter Number Above)
A22: 4. Total value of contracts awarded to minority owned businesses, female owned businesses, businesses owned by person with disabilities, and locally owned businesses: | B22: 35750
B23: (Enter $ Amount Above)
