{"text_format":"1","workbook":"xlsx","n_sheets":11,"sheets":["Initial Observation","2A","2B","2C","2D","2E","3A","3B","3C","3D","3E"],"not_rendered":{"charts":0,"images":0,"macros":1,"external_links":0,"defined_names":11,"comments":0,"pivot_tables":0},"unopened":[],"bounds":{"document_bytes":16777216,"sheet_cells":100000,"rows_first":2000,"rows_last":500,"rows_between":2000,"halvings":0,"cell_chars":16384,"cell_head_chars":4096},"cells_cut":0,"cells_raw":0,"read":"whole","date_system":"1900"}

{"sheet":"Initial Observation","index":0,"n_rows":4,"n_cols":12,"rows_kept":4,"cut":false,"hidden":false,"merged":[[0,8,3,8],[0,9,3,9],[0,11,3,11],[0,2,3,2],[0,3,3,3],[0,4,3,4],[0,5,3,5],[0,7,3,7],[0,6,3,6],[0,10,3,10]]}
[null,"Teacher Name:","2A Create Enviro. of Respect/Rapport","2B Estab. Culture of Learning","2C Managing Library Procedures","2D Managing Student Behaviors","2E Organizing Physical Space","3A Communicateing Clearly/Accurately","3B Questioning/Research Tech.","3C Engaging Students in Learning","3D Assessment in Instruction","3E Demon. Flexability/Responsiveness"]
[null,"Date:"]
[null,"Number of Students:"]
[null,"Evidence"]

{"sheet":"2A","index":1,"n_rows":270,"n_cols":3,"rows_kept":270,"cut":false,"hidden":false,"merged":[[0,2,3,2]]}
[null,{"$f":"'Initial Observation'!B1","v":"Teacher Name:"},"2A Create Enviro. of Respect/Rapport"]
[null,{"$f":"'Initial Observation'!B2","v":"Date:"}]
[null,{"$f":"'Initial Observation'!B3","v":"Number of Students:"}]
[null,"Evidence"]
[{"$f":"'Initial Observation'!A5","v":"00:00:00"},{"$f":"IF('Initial Observation'!B5=\"\",\"\",'Initial Observation'!B5)","v":""},{"$f":"IF('Initial Observation'!C5=\"\",\"\",\"X\")","v":""}]
[{"$f":"'Initial Observation'!A6","v":"00:00:00"},{"$f":"IF('Initial Observation'!B6=\"\",\"\",'Initial Observation'!B6)","v":""},{"$f":"IF('Initial Observation'!C6=\"\",\"\",\"X\")","v":""}]
[{"$f":"'Initial Observation'!A7","v":"00:00:00"},{"$f":"IF('Initial Observation'!B7=\"\",\"\",'Initial Observation'!B7)","v":""},{"$f":"IF('Initial Observation'!C7=\"\",\"\",\"X\")","v":""}]
[{"$f":"'Initial Observation'!A8","v":"00:00:00"},{"$f":"IF('Initial Observation'!B8=\"\",\"\",'Initial Observation'!B8)","v":""},{"$f":"IF('Initial Observation'!C8=\"\",\"\",\"X\")","v":""}]
[{"$f":"'Initial Observation'!A9","v":"00:00:00"},{"$f":"IF('Initial Observation'!B9=\"\",\"\",'Initial Observation'!B9)","v":""},{"$f":"IF('Initial Observation'!C9=\"\",\"\",\"X\")","v":""}]
[{"$f":"'Initial Observation'!A10","v":"00:00:00"},{"$f":"IF('Initial Observation'!B10=\"\",\"\",'Initial Observation'!B10)","v":""},{"$f":"IF('Initial Observation'!C10=\"\",\"\",\"X\")","v":""}]
[{"$f":"'Initial Observation'!A11","v":"00:00:00"},{"$f":"IF('Initial Observation'!B11=\"\",\"\",'Initial Observation'!B11)","v":""},{"$f":"IF('Initial Observation'!C11=\"\",\"\",\"X\")","v":""}]
[{"$f":"'Initial Observation'!A12","v":"00:00:00"},{"$f":"IF('Initial Observation'!B12=\"\",\"\",'Initial Observation'!B12)","v":""},{"$f":"IF('Initial Observation'!C12=\"\",\"\",\"X\")","v":""}]
[{"$f":"'Initial Observation'!A13","v":"00:00:00"},{"$f":"IF('Initial Observation'!B13=\"\",\"\",'Initial Observation'!B13)","v":""},{"$f":"IF('Initial Observation'!C13=\"\",\"\",\"X\")","v":""}]
[{"$f":"'Initial Observation'!A14","v":"00:00:00"},{"$f":"IF('Initial Observation'!B14=\"\",\"\",'Initial Observation'!B14)","v":""},{"$f":"IF('Initial Observation'!C14=\"\",\"\",\"X\")","v":""}]
[{"$f":"'Initial Observation'!A15","v":"00:00:00"},{"$f":"IF('Initial Observation'!B15=\"\",\"\",'Initial Observation'!B15)","v":""},{"$f":"IF('Initial Observation'!C15=\"\",\"\",\"X\")","v":""}]
[{"$f":"'Initial Observation'!A16","v":"00:00:00"},{"$f":"IF('Initial Observation'!B16=\"\",\"\",'Initial Observation'!B16)","v":""},{"$f":"IF('Initial Observation'!C16=\"\",\"\",\"X\")","v":""}]
[{"$f":"'Initial Observation'!A17","v":"00:00:00"},{"$f":"IF('Initial Observation'!B17=\"\",\"\",'Initial Observation'!B17)","v":""},{"$f":"IF('Initial Observation'!C17=\"\",\"\",\"X\")","v":""}]
[{"$f":"'Initial Observation'!A18","v":"00:00:00"},{"$f":"IF('Initial Observation'!B18=\"\",\"\",'Initial Observation'!B18)","v":""},{"$f":"IF('Initial Observation'!C18=\"\",\"\",\"X\")","v":""}]
[{"$f":"'Initial Observation'!A19","v":"00:00:00"},{"$f":"IF('Initial Observation'!B19=\"\",\"\",'Initial Observation'!B19)","v":""},{"$f":"IF('Initial Observation'!C19=\"\",\"\",\"X\")","v":""}]
[{"$f":"'Initial Observation'!A20","v":"00:00:00"},{"$f":"IF('Initial Observation'!B20=\"\",\"\",'Initial Observation'!B20)","v":""},{"$f":"IF('Initial Observation'!C20=\"\",\"\",\"X\")","v":""}]
[{"$f":"'Initial Observation'!A21","v":"00:00:00"},{"$f":"IF('Initial Observation'!B21=\"\",\"\",'Initial Observation'!B21)","v":""},{"$f":"IF('Initial Observation'!C21=\"\",\"\",\"X\")","v":""}]
[{"$f":"'Initial Observation'!A22","v":"00:00:00"},{"$f":"IF('Initial Observation'!B22=\"\",\"\",'Initial Observation'!B22)","v":""},{"$f":"IF('Initial Observation'!C22=\"\",\"\",\"X\")","v":""}]
[{"$f":"'Initial Observation'!A23","v":"00:00:00"},{"$f":"IF('Initial Observation'!B23=\"\",\"\",'Initial Observation'!B23)","v":""},{"$f":"IF('Initial Observation'!C23=\"\",\"\",\"X\")","v":""}]
[{"$f":"'Initial Observation'!A24","v":"00:00:00"},{"$f":"IF('Initial Observation'!B24=\"\",\"\",'Initial Observation'!B24)","v":""},{"$f":"IF('Initial Observation'!C24=\"\",\"\",\"X\")","v":""}]
[{"$f":"'Initial Observation'!A25","v":"00:00:00"},{"$f":"IF('Initial Observation'!B25=\"\",\"\",'Initial Observation'!B25)","v":""},{"$f":"IF('Initial Observation'!C25=\"\",\"\",\"X\")","v":""}]
[{"$f":"'Initial Observation'!A26","v":"00:00:00"},{"$f":"IF('Initial Observation'!B26=\"\",\"\",'Initial Observation'!B26)","v":""},{"$f":"IF('Initial Observation'!C26=\"\",\"\",\"X\")","v":""}]
[{"$f":"'Initial Observation'!A27","v":"00:00:00"},{"$f":"IF('Initial Observation'!B27=\"\",\"\",'Initial Observation'!B27)","v":""},{"$f":"IF('Initial Observation'!C27=\"\",\"\",\"X\")","v":""}]
[{"$f":"'Initial Observation'!A28","v":"00:00:00"},{"$f":"IF('Initial Observation'!B28=\"\",\"\",'Initial Observation'!B28)","v":""},{"$f":"IF('Initial Observation'!C28=\"\",\"\",\"X\")","v":""}]
[{"$f":"'Initial Observation'!A29","v":"00:00:00"},{"$f":"IF('Initial Observation'!B29=\"\",\"\",'Initial Observation'!B29)","v":""},{"$f":"IF('Initial Observation'!C29=\"\",\"\",\"X\")","v":""}]
[{"$f":"'Initial Observation'!A30","v":"00:00:00"},{"$f":"IF('Initial Observation'!B30=\"\",\"\",'Initial Observation'!B30)","v":""},{"$f":"IF('Initial Observation'!C30=\"\",\"\",\"X\")","v":""}]
[{"$f":"'Initial Observation'!A31","v":"00:00:00"},{"$f":"IF('Initial Observation'!B31=\"\",\"\",'Initial Observation'!B31)","v":""},{"$f":"IF('Initial Observation'!C31=\"\",\"\",\"X\")","v":""}]
[{"$f":"'Initial Observation'!A32","v":"00:00:00"},{"$f":"IF('Initial Observation'!B32=\"\",\"\",'Initial Observation'!B32)","v":""},{"$f":"IF('Initial Observation'!C32=\"\",\"\",\"X\")","v":""}]
[{"$f":"'Initial Observation'!A33","v":"00:00:00"},{"$f":"IF('Initial Observation'!B33=\"\",\"\",'Initial Observation'!B33)","v":""},{"$f":"IF('Initial Observation'!C33=\"\",\"\",\"X\")","v":""}]
[{"$f":"'Initial Observation'!A34","v":"00:00:00"},{"$f":"IF('Initial Observation'!B34=\"\",\"\",'Initial Observation'!B34)","v":""},{"$f":"IF('Initial Observation'!C34=\"\",\"\",\"X\")","v":""}]
[{"$f":"'Initial Observation'!A35","v":"00:00:00"},{"$f":"IF('Initial Observation'!B35=\"\",\"\",'Initial Observation'!B35)","v":""},{"$f":"IF('Initial Observation'!C35=\"\",\"\",\"X\")","v":""}]
[{"$f":"'Initial Observation'!A36","v":"00:00:00"},{"$f":"IF('Initial Observation'!B36=\"\",\"\",'Initial Observation'!B36)","v":""},{"$f":"IF('Initial Observation'!C36=\"\",\"\",\"X\")","v":""}]
[{"$f":"'Initial Observation'!A37","v":"00:00:00"},{"$f":"IF('Initial Observation'!B37=\"\",\"\",'Initial Observation'!B37)","v":""},{"$f":"IF('Initial Observation'!C37=\"\",\"\",\"X\")","v":""}]
[{"$f":"'Initial Observation'!A38","v":"00:00:00"},{"$f":"IF('Initial Observation'!B38=\"\",\"\",'Initial Observation'!B38)","v":""},{"$f":"IF('Initial Observation'!C38=\"\",\"\",\"X\")","v":""}]
[{"$f":"'Initial Observation'!A39","v":"00:00:00"},{"$f":"IF('Initial Observation'!B39=\"\",\"\",'Initial Observation'!B39)","v":""},{"$f":"IF('Initial Observation'!C39=\"\",\"\",\"X\")","v":""}]
[{"$f":"'Initial Observation'!A40","v":"00:00:00"},{"$f":"IF('Initial Observation'!B40=\"\",\"\",'Initial Observation'!B40)","v":""},{"$f":"IF('Initial Observation'!C40=\"\",\"\",\"X\")","v":""}]
[{"$f":"'Initial Observation'!A41","v":"00:00:00"},{"$f":"IF('Initial Observation'!B41=\"\",\"\",'Initial Observation'!B41)","v":""},{"$f":"IF('Initial Observation'!C41=\"\",\"\",\"X\")","v":""}]
[{"$f":"'Initial Observation'!A42","v":"00:00:00"},{"$f":"IF('Initial Observation'!B42=\"\",\"\",'Initial Observation'!B42)","v":""},{"$f":"IF('Initial Observation'!C42=\"\",\"\",\"X\")","v":""}]
[{"$f":"'Initial Observation'!A43","v":"00:00:00"},{"$f":"IF('Initial Observation'!B43=\"\",\"\",'Initial Observation'!B43)","v":""},{"$f":"IF('Initial Observation'!C43=\"\",\"\",\"X\")","v":""}]
[{"$f":"'Initial Observation'!A44","v":"00:00:00"},{"$f":"IF('Initial Observation'!B44=\"\",\"\",'Initial Observation'!B44)","v":""},{"$f":"IF('Initial Observation'!C44=\"\",\"\",\"X\")","v":""}]
[{"$f":"'Initial Observation'!A45","v":"00:00:00"},{"$f":"IF('Initial Observation'!B45=\"\",\"\",'Initial Observation'!B45)","v":""},{"$f":"IF('Initial Observation'!C45=\"\",\"\",\"X\")","v":""}]
[{"$f":"'Initial Observation'!A46","v":"00:00:00"},{"$f":"IF('Initial Observation'!B46=\"\",\"\",'Initial Observation'!B46)","v":""},{"$f":"IF('Initial Observation'!C46=\"\",\"\",\"X\")","v":""}]
[{"$f":"'Initial Observation'!A47","v":"00:00:00"},{"$f":"IF('Initial Observation'!B47=\"\",\"\",'Initial Observation'!B47)","v":""},{"$f":"IF('Initial Observation'!C47=\"\",\"\",\"X\")","v":""}]
[{"$f":"'Initial Observation'!A48","v":"00:00:00"},{"$f":"IF('Initial Observation'!B48=\"\",\"\",'Initial Observation'!B48)","v":""},{"$f":"IF('Initial Observation'!C48=\"\",\"\",\"X\")","v":""}]
[{"$f":"'Initial Observation'!A49","v":"00:00:00"},{"$f":"IF('Initial Observation'!B49=\"\",\"\",'Initial Observation'!B49)","v":""},{"$f":"IF('Initial Observation'!C49=\"\",\"\",\"X\")","v":""}]
[{"$f":"'Initial Observation'!A50","v":"00:00:00"},{"$f":"IF('Initial Observation'!B50=\"\",\"\",'Initial Observation'!B50)","v":""},{"$f":"IF('Initial Observation'!C50=\"\",\"\",\"X\")","v":""}]
[{"$f":"'Initial Observation'!A51","v":"00:00:00"},{"$f":"IF('Initial Observation'!B51=\"\",\"\",'Initial Observation'!B51)","v":""},{"$f":"IF('Initial Observation'!C51=\"\",\"\",\"X\")","v":""}]
[{"$f":"'Initial Observation'!A52","v":"00:00:00"},{"$f":"IF('Initial Observation'!B52=\"\",\"\",'Initial Observation'!B52)","v":""},{"$f":"IF('Initial Observation'!C52=\"\",\"\",\"X\")","v":""}]
[{"$f":"'Initial Observation'!A53","v":"00:00:00"},{"$f":"IF('Initial Observation'!B53=\"\",\"\",'Initial Observation'!B53)","v":""},{"$f":"IF('Initial Observation'!C53=\"\",\"\",\"X\")","v":""}]
[{"$f":"'Initial Observation'!A54","v":"00:00:00"},{"$f":"IF('Initial Observation'!B54=\"\",\"\",'Initial Observation'!B54)","v":""},{"$f":"IF('Initial Observation'!C54=\"\",\"\",\"X\")","v":""}]
[{"$f":"'Initial Observation'!A55","v":"00:00:00"},{"$f":"IF('Initial Observation'!B55=\"\",\"\",'Initial Observation'!B55)","v":""},{"$f":"IF('Initial Observation'!C55=\"\",\"\",\"X\")","v":""}]
[{"$f":"'Initial Observation'!A56","v":"00:00:00"},{"$f":"IF('Initial Observation'!B56=\"\",\"\",'Initial Observation'!B56)","v":""},{"$f":"IF('Initial Observation'!C56=\"\",\"\",\"X\")","v":""}]
[{"$f":"'Initial Observation'!A57","v":"00:00:00"},{"$f":"IF('Initial Observation'!B57=\"\",\"\",'Initial Observation'!B57)","v":""},{"$f":"IF('Initial Observation'!C57=\"\",\"\",\"X\")","v":""}]
[{"$f":"'Initial Observation'!A58","v":"00:00:00"},{"$f":"IF('Initial Observation'!B58=\"\",\"\",'Initial Observation'!B58)","v":""},{"$f":"IF('Initial Observation'!C58=\"\",\"\",\"X\")","v":""}]
[{"$f":"'Initial Observation'!A59","v":"00:00:00"},{"$f":"IF('Initial Observation'!B59=\"\",\"\",'Initial Observation'!B59)","v":""},{"$f":"IF('Initial Observation'!C59=\"\",\"\",\"X\")","v":""}]
[{"$f":"'Initial Observation'!A60","v":"00:00:00"},{"$f":"IF('Initial Observation'!B60=\"\",\"\",'Initial Observation'!B60)","v":""},{"$f":"IF('Initial Observation'!C60=\"\",\"\",\"X\")","v":""}]
[{"$f":"'Initial Observation'!A61","v":"00:00:00"},{"$f":"IF('Initial Observation'!B61=\"\",\"\",'Initial Observation'!B61)","v":""},{"$f":"IF('Initial Observation'!C61=\"\",\"\",\"X\")","v":""}]
[{"$f":"'Initial Observation'!A62","v":"00:00:00"},{"$f":"IF('Initial Observation'!B62=\"\",\"\",'Initial Observation'!B62)","v":""},{"$f":"IF('Initial Observation'!C62=\"\",\"\",\"X\")","v":""}]
[{"$f":"'Initial Observation'!A63","v":"00:00:00"},{"$f":"IF('Initial Observation'!B63=\"\",\"\",'Initial Observation'!B63)","v":""},{"$f":"IF('Initial Observation'!C63=\"\",\"\",\"X\")","v":""}]
[{"$f":"'Initial Observation'!A64","v":"00:00:00"},{"$f":"IF('Initial Observation'!B64=\"\",\"\",'Initial Observation'!B64)","v":""},{"$f":"IF('Initial Observation'!C64=\"\",\"\",\"X\")","v":""}]
[{"$f":"'Initial Observation'!A65","v":"00:00:00"},{"$f":"IF('Initial Observation'!B65=\"\",\"\",'Initial Observation'!B65)","v":""},{"$f":"IF('Initial Observation'!C65=\"\",\"\",\"X\")","v":""}]
[{"$f":"'Initial Observation'!A66","v":"00:00:00"},{"$f":"IF('Initial Observation'!B66=\"\",\"\",'Initial Observation'!B66)","v":""},{"$f":"IF('Initial Observation'!C66=\"\",\"\",\"X\")","v":""}]
[{"$f":"'Initial Observation'!A67","v":"00:00:00"},{"$f":"IF('Initial Observation'!B67=\"\",\"\",'Initial Observation'!B67)","v":""},{"$f":"IF('Initial Observation'!C67=\"\",\"\",\"X\")","v":""}]
[{"$f":"'Initial Observation'!A68","v":"00:00:00"},{"$f":"IF('Initial Observation'!B68=\"\",\"\",'Initial Observation'!B68)","v":""},{"$f":"IF('Initial Observation'!C68=\"\",\"\",\"X\")","v":""}]
[{"$f":"'Initial Observation'!A69","v":"00:00:00"},{"$f":"IF('Initial Observation'!B69=\"\",\"\",'Initial Observation'!B69)","v":""},{"$f":"IF('Initial Observation'!C69=\"\",\"\",\"X\")","v":""}]
[{"$f":"'Initial Observation'!A70","v":"00:00:00"},{"$f":"IF('Initial Observation'!B70=\"\",\"\",'Initial Observation'!B70)","v":""},{"$f":"IF('Initial Observation'!C70=\"\",\"\",\"X\")","v":""}]
[{"$f":"'Initial Observation'!A71","v":"00:00:00"},{"$f":"IF('Initial Observation'!B71=\"\",\"\",'Initial Observation'!B71)","v":""},{"$f":"IF('Initial Observation'!C71=\"\",\"\",\"X\")","v":""}]
[{"$f":"'Initial Observation'!A72","v":"00:00:00"},{"$f":"IF('Initial Observation'!B72=\"\",\"\",'Initial Observation'!B72)","v":""},{"$f":"IF('Initial Observation'!C72=\"\",\"\",\"X\")","v":""}]
[{"$f":"'Initial Observation'!A73","v":"00:00:00"},{"$f":"IF('Initial Observation'!B73=\"\",\"\",'Initial Observation'!B73)","v":""},{"$f":"IF('Initial Observation'!C73=\"\",\"\",\"X\")","v":""}]
[{"$f":"'Initial Observation'!A74","v":"00:00:00"},{"$f":"IF('Initial Observation'!B74=\"\",\"\",'Initial Observation'!B74)","v":""},{"$f":"IF('Initial Observation'!C74=\"\",\"\",\"X\")","v":""}]
[{"$f":"'Initial Observation'!A75","v":"00:00:00"},{"$f":"IF('Initial Observation'!B75=\"\",\"\",'Initial Observation'!B75)","v":""},{"$f":"IF('Initial Observation'!C75=\"\",\"\",\"X\")","v":""}]
[{"$f":"'Initial Observation'!A76","v":"00:00:00"},{"$f":"IF('Initial Observation'!B76=\"\",\"\",'Initial Observation'!B76)","v":""},{"$f":"IF('Initial Observation'!C76=\"\",\"\",\"X\")","v":""}]
[{"$f":"'Initial Observation'!A77","v":"00:00:00"},{"$f":"IF('Initial Observation'!B77=\"\",\"\",'Initial Observation'!B77)","v":""},{"$f":"IF('Initial Observation'!C77=\"\",\"\",\"X\")","v":""}]
[{"$f":"'Initial Observation'!A78","v":"00:00:00"},{"$f":"IF('Initial Observation'!B78=\"\",\"\",'Initial Observation'!B78)","v":""},{"$f":"IF('Initial Observation'!C78=\"\",\"\",\"X\")","v":""}]
[{"$f":"'Initial Observation'!A79","v":"00:00:00"},{"$f":"IF('Initial Observation'!B79=\"\",\"\",'Initial Observation'!B79)","v":""},{"$f":"IF('Initial Observation'!C79=\"\",\"\",\"X\")","v":""}]
[{"$f":"'Initial Observation'!A80","v":"00:00:00"},{"$f":"IF('Initial Observation'!B80=\"\",\"\",'Initial Observation'!B80)","v":""},{"$f":"IF('Initial Observation'!C80=\"\",\"\",\"X\")","v":""}]
[{"$f":"'Initial Observation'!A81","v":"00:00:00"},{"$f":"IF('Initial Observation'!B81=\"\",\"\",'Initial Observation'!B81)","v":""},{"$f":"IF('Initial Observation'!C81=\"\",\"\",\"X\")","v":""}]
[{"$f":"'Initial Observation'!A82","v":"00:00:00"},{"$f":"IF('Initial Observation'!B82=\"\",\"\",'Initial Observation'!B82)","v":""},{"$f":"IF('Initial Observation'!C82=\"\",\"\",\"X\")","v":""}]
[{"$f":"'Initial Observation'!A83","v":"00:00:00"},{"$f":"IF('Initial Observation'!B83=\"\",\"\",'Initial Observation'!B83)","v":""},{"$f":"IF('Initial Observation'!C83=\"\",\"\",\"X\")","v":""}]
[{"$f":"'Initial Observation'!A84","v":"00:00:00"},{"$f":"IF('Initial Observation'!B84=\"\",\"\",'Initial Observation'!B84)","v":""},{"$f":"IF('Initial Observation'!C84=\"\",\"\",\"X\")","v":""}]
[{"$f":"'Initial Observation'!A85","v":"00:00:00"},{"$f":"IF('Initial Observation'!B85=\"\",\"\",'Initial Observation'!B85)","v":""},{"$f":"IF('Initial Observation'!C85=\"\",\"\",\"X\")","v":""}]
[{"$f":"'Initial Observation'!A86","v":"00:00:00"},{"$f":"IF('Initial Observation'!B86=\"\",\"\",'Initial Observation'!B86)","v":""},{"$f":"IF('Initial Observation'!C86=\"\",\"\",\"X\")","v":""}]
[{"$f":"'Initial Observation'!A87","v":"00:00:00"},{"$f":"IF('Initial Observation'!B87=\"\",\"\",'Initial Observation'!B87)","v":""},{"$f":"IF('Initial Observation'!C87=\"\",\"\",\"X\")","v":""}]
[{"$f":"'Initial Observation'!A88","v":"00:00:00"},{"$f":"IF('Initial Observation'!B88=\"\",\"\",'Initial Observation'!B88)","v":""},{"$f":"IF('Initial Observation'!C88=\"\",\"\",\"X\")","v":""}]
[{"$f":"'Initial Observation'!A89","v":"00:00:00"},{"$f":"IF('Initial Observation'!B89=\"\",\"\",'Initial Observation'!B89)","v":""},{"$f":"IF('Initial Observation'!C89=\"\",\"\",\"X\")","v":""}]
[{"$f":"'Initial Observation'!A90","v":"00:00:00"},{"$f":"IF('Initial Observation'!B90=\"\",\"\",'Initial Observation'!B90)","v":""},{"$f":"IF('Initial Observation'!C90=\"\",\"\",\"X\")","v":""}]
[{"$f":"'Initial Observation'!A91","v":"00:00:00"},{"$f":"IF('Initial Observation'!B91=\"\",\"\",'Initial Observation'!B91)","v":""},{"$f":"IF('Initial Observation'!C91=\"\",\"\",\"X\")","v":""}]
[{"$f":"'Initial Observation'!A92","v":"00:00:00"},{"$f":"IF('Initial Observation'!B92=\"\",\"\",'Initial Observation'!B92)","v":""},{"$f":"IF('Initial Observation'!C92=\"\",\"\",\"X\")","v":""}]
[{"$f":"'Initial Observation'!A93","v":"00:00:00"},{"$f":"IF('Initial Observation'!B93=\"\",\"\",'Initial Observation'!B93)","v":""},{"$f":"IF('Initial Observation'!C93=\"\",\"\",\"X\")","v":""}]
[{"$f":"'Initial Observation'!A94","v":"00:00:00"},{"$f":"IF('Initial Observation'!B94=\"\",\"\",'Initial Observation'!B94)","v":""},{"$f":"IF('Initial Observation'!C94=\"\",\"\",\"X\")","v":""}]
[{"$f":"'Initial Observation'!A95","v":"00:00:00"},{"$f":"IF('Initial Observation'!B95=\"\",\"\",'Initial Observation'!B95)","v":""},{"$f":"IF('Initial Observation'!C95=\"\",\"\",\"X\")","v":""}]
[{"$f":"'Initial Observation'!A96","v":"00:00:00"},{"$f":"IF('Initial Observation'!B96=\"\",\"\",'Initial Observation'!B96)","v":""},{"$f":"IF('Initial Observation'!C96=\"\",\"\",\"X\")","v":""}]
[{"$f":"'Initial Observation'!A97","v":"00:00:00"},{"$f":"IF('Initial Observation'!B97=\"\",\"\",'Initial Observation'!B97)","v":""},{"$f":"IF('Initial Observation'!C97=\"\",\"\",\"X\")","v":""}]
[{"$f":"'Initial Observation'!A98","v":"00:00:00"},{"$f":"IF('Initial Observation'!B98=\"\",\"\",'Initial Observation'!B98)","v":""},{"$f":"IF('Initial Observation'!C98=\"\",\"\",\"X\")","v":""}]
[{"$f":"'Initial Observation'!A99","v":"00:00:00"},{"$f":"IF('Initial Observation'!B99=\"\",\"\",'Initial Observation'!B99)","v":""},{"$f":"IF('Initial Observation'!C99=\"\",\"\",\"X\")","v":""}]
[{"$f":"'Initial Observation'!A100","v":"00:00:00"},{"$f":"IF('Initial Observation'!B100=\"\",\"\",'Initial Observation'!B100)","v":""},{"$f":"IF('Initial Observation'!C100=\"\",\"\",\"X\")","v":""}]
[{"$f":"'Initial Observation'!A101","v":"00:00:00"},{"$f":"IF('Initial Observation'!B101=\"\",\"\",'Initial Observation'!B101)","v":""},{"$f":"IF('Initial Observation'!C101=\"\",\"\",\"X\")","v":""}]
[{"$f":"'Initial Observation'!A102","v":"00:00:00"},{"$f":"IF('Initial Observation'!B102=\"\",\"\",'Initial Observation'!B102)","v":""},{"$f":"IF('Initial Observation'!C102=\"\",\"\",\"X\")","v":""}]
[{"$f":"'Initial Observation'!A103","v":"00:00:00"},{"$f":"IF('Initial Observation'!B103=\"\",\"\",'Initial Observation'!B103)","v":""},{"$f":"IF('Initial Observation'!C103=\"\",\"\",\"X\")","v":""}]
[{"$f":"'Initial Observation'!A104","v":"00:00:00"},{"$f":"IF('Initial Observation'!B104=\"\",\"\",'Initial Observation'!B104)","v":""},{"$f":"IF('Initial Observation'!C104=\"\",\"\",\"X\")","v":""}]
[{"$f":"'Initial Observation'!A105","v":"00:00:00"},{"$f":"IF('Initial Observation'!B105=\"\",\"\",'Initial Observation'!B105)","v":""},{"$f":"IF('Initial Observation'!C105=\"\",\"\",\"X\")","v":""}]
[{"$f":"'Initial Observation'!A106","v":"00:00:00"},{"$f":"IF('Initial Observation'!B106=\"\",\"\",'Initial Observation'!B106)","v":""},{"$f":"IF('Initial Observation'!C106=\"\",\"\",\"X\")","v":""}]
[{"$f":"'Initial Observation'!A107","v":"00:00:00"},{"$f":"IF('Initial Observation'!B107=\"\",\"\",'Initial Observation'!B107)","v":""},{"$f":"IF('Initial Observation'!C107=\"\",\"\",\"X\")","v":""}]
[{"$f":"'Initial Observation'!A108","v":"00:00:00"},{"$f":"IF('Initial Observation'!B108=\"\",\"\",'Initial Observation'!B108)","v":""},{"$f":"IF('Initial Observation'!C108=\"\",\"\",\"X\")","v":""}]
[{"$f":"'Initial Observation'!A109","v":"00:00:00"},{"$f":"IF('Initial Observation'!B109=\"\",\"\",'Initial Observation'!B109)","v":""},{"$f":"IF('Initial Observation'!C109=\"\",\"\",\"X\")","v":""}]
[{"$f":"'Initial Observation'!A110","v":"00:00:00"},{"$f":"IF('Initial Observation'!B110=\"\",\"\",'Initial Observation'!B110)","v":""},{"$f":"IF('Initial Observation'!C110=\"\",\"\",\"X\")","v":""}]
[{"$f":"'Initial Observation'!A111","v":"00:00:00"},{"$f":"IF('Initial Observation'!B111=\"\",\"\",'Initial Observation'!B111)","v":""},{"$f":"IF('Initial Observation'!C111=\"\",\"\",\"X\")","v":""}]
[{"$f":"'Initial Observation'!A112","v":"00:00:00"},{"$f":"IF('Initial Observation'!B112=\"\",\"\",'Initial Observation'!B112)","v":""},{"$f":"IF('Initial Observation'!C112=\"\",\"\",\"X\")","v":""}]
[{"$f":"'Initial Observation'!A113","v":"00:00:00"},{"$f":"IF('Initial Observation'!B113=\"\",\"\",'Initial Observation'!B113)","v":""},{"$f":"IF('Initial Observation'!C113=\"\",\"\",\"X\")","v":""}]
[{"$f":"'Initial Observation'!A114","v":"00:00:00"},{"$f":"IF('Initial Observation'!B114=\"\",\"\",'Initial Observation'!B114)","v":""},{"$f":"IF('Initial Observation'!C114=\"\",\"\",\"X\")","v":""}]
[{"$f":"'Initial Observation'!A115","v":"00:00:00"},{"$f":"IF('Initial Observation'!B115=\"\",\"\",'Initial Observation'!B115)","v":""},{"$f":"IF('Initial Observation'!C115=\"\",\"\",\"X\")","v":""}]
[{"$f":"'Initial Observation'!A116","v":"00:00:00"},{"$f":"IF('Initial Observation'!B116=\"\",\"\",'Initial Observation'!B116)","v":""},{"$f":"IF('Initial Observation'!C116=\"\",\"\",\"X\")","v":""}]
[{"$f":"'Initial Observation'!A117","v":"00:00:00"},{"$f":"IF('Initial Observation'!B117=\"\",\"\",'Initial Observation'!B117)","v":""},{"$f":"IF('Initial Observation'!C117=\"\",\"\",\"X\")","v":""}]
[{"$f":"'Initial Observation'!A118","v":"00:00:00"},{"$f":"IF('Initial Observation'!B118=\"\",\"\",'Initial Observation'!B118)","v":""},{"$f":"IF('Initial Observation'!C118=\"\",\"\",\"X\")","v":""}]
[{"$f":"'Initial Observation'!A119","v":"00:00:00"},{"$f":"IF('Initial Observation'!B119=\"\",\"\",'Initial Observation'!B119)","v":""},{"$f":"IF('Initial Observation'!C119=\"\",\"\",\"X\")","v":""}]
[{"$f":"'Initial Observation'!A120","v":"00:00:00"},{"$f":"IF('Initial Observation'!B120=\"\",\"\",'Initial Observation'!B120)","v":""},{"$f":"IF('Initial Observation'!C120=\"\",\"\",\"X\")","v":""}]
[{"$f":"'Initial Observation'!A121","v":"00:00:00"},{"$f":"IF('Initial Observation'!B121=\"\",\"\",'Initial Observation'!B121)","v":""},{"$f":"IF('Initial Observation'!C121=\"\",\"\",\"X\")","v":""}]
[{"$f":"'Initial Observation'!A122","v":"00:00:00"},{"$f":"IF('Initial Observation'!B122=\"\",\"\",'Initial Observation'!B122)","v":""},{"$f":"IF('Initial Observation'!C122=\"\",\"\",\"X\")","v":""}]
[{"$f":"'Initial Observation'!A123","v":"00:00:00"},{"$f":"IF('Initial Observation'!B123=\"\",\"\",'Initial Observation'!B123)","v":""},{"$f":"IF('Initial Observation'!C123=\"\",\"\",\"X\")","v":""}]
[{"$f":"'Initial Observation'!A124","v":"00:00:00"},{"$f":"IF('Initial Observation'!B124=\"\",\"\",'Initial Observation'!B124)","v":""},{"$f":"IF('Initial Observation'!C124=\"\",\"\",\"X\")","v":""}]
[{"$f":"'Initial Observation'!A125","v":"00:00:00"},{"$f":"IF('Initial Observation'!B125=\"\",\"\",'Initial Observation'!B125)","v":""},{"$f":"IF('Initial Observation'!C125=\"\",\"\",\"X\")","v":""}]
[{"$f":"'Initial Observation'!A126","v":"00:00:00"},{"$f":"IF('Initial Observation'!B126=\"\",\"\",'Initial Observation'!B126)","v":""},{"$f":"IF('Initial Observation'!C126=\"\",\"\",\"X\")","v":""}]
[{"$f":"'Initial Observation'!A127","v":"00:00:00"},{"$f":"IF('Initial Observation'!B127=\"\",\"\",'Initial Observation'!B127)","v":""},{"$f":"IF('Initial Observation'!C127=\"\",\"\",\"X\")","v":""}]
[{"$f":"'Initial Observation'!A128","v":"00:00:00"},{"$f":"IF('Initial Observation'!B128=\"\",\"\",'Initial Observation'!B128)","v":""},{"$f":"IF('Initial Observation'!C128=\"\",\"\",\"X\")","v":""}]
[{"$f":"'Initial Observation'!A129","v":"00:00:00"},{"$f":"IF('Initial Observation'!B129=\"\",\"\",'Initial Observation'!B129)","v":""},{"$f":"IF('Initial Observation'!C129=\"\",\"\",\"X\")","v":""}]
[{"$f":"'Initial Observation'!A130","v":"00:00:00"},{"$f":"IF('Initial Observation'!B130=\"\",\"\",'Initial Observation'!B130)","v":""},{"$f":"IF('Initial Observation'!C130=\"\",\"\",\"X\")","v":""}]
[{"$f":"'Initial Observation'!A131","v":"00:00:00"},{"$f":"IF('Initial Observation'!B131=\"\",\"\",'Initial Observation'!B131)","v":""},{"$f":"IF('Initial Observation'!C131=\"\",\"\",\"X\")","v":""}]
[{"$f":"'Initial Observation'!A132","v":"00:00:00"},{"$f":"IF('Initial Observation'!B132=\"\",\"\",'Initial Observation'!B132)","v":""},{"$f":"IF('Initial Observation'!C132=\"\",\"\",\"X\")","v":""}]
[{"$f":"'Initial Observation'!A133","v":"00:00:00"},{"$f":"IF('Initial Observation'!B133=\"\",\"\",'Initial Observation'!B133)","v":""},{"$f":"IF('Initial Observation'!C133=\"\",\"\",\"X\")","v":""}]
[{"$f":"'Initial Observation'!A134","v":"00:00:00"},{"$f":"IF('Initial Observation'!B134=\"\",\"\",'Initial Observation'!B134)","v":""},{"$f":"IF('Initial Observation'!C134=\"\",\"\",\"X\")","v":""}]
[{"$f":"'Initial Observation'!A135","v":"00:00:00"},{"$f":"IF('Initial Observation'!B135=\"\",\"\",'Initial Observation'!B135)","v":""},{"$f":"IF('Initial Observation'!C135=\"\",\"\",\"X\")","v":""}]
[{"$f":"'Initial Observation'!A136","v":"00:00:00"},{"$f":"IF('Initial Observation'!B136=\"\",\"\",'Initial Observation'!B136)","v":""},{"$f":"IF('Initial Observation'!C136=\"\",\"\",\"X\")","v":""}]
[{"$f":"'Initial Observation'!A137","v":"00:00:00"},{"$f":"IF('Initial Observation'!B137=\"\",\"\",'Initial Observation'!B137)","v":""},{"$f":"IF('Initial Observation'!C137=\"\",\"\",\"X\")","v":""}]
[{"$f":"'Initial Observation'!A138","v":"00:00:00"},{"$f":"IF('Initial Observation'!B138=\"\",\"\",'Initial Observation'!B138)","v":""},{"$f":"IF('Initial Observation'!C138=\"\",\"\",\"X\")","v":""}]
[{"$f":"'Initial Observation'!A139","v":"00:00:00"},{"$f":"IF('Initial Observation'!B139=\"\",\"\",'Initial Observation'!B139)","v":""},{"$f":"IF('Initial Observation'!C139=\"\",\"\",\"X\")","v":""}]
[{"$f":"'Initial Observation'!A140","v":"00:00:00"},{"$f":"IF('Initial Observation'!B140=\"\",\"\",'Initial Observation'!B140)","v":""},{"$f":"IF('Initial Observation'!C140=\"\",\"\",\"X\")","v":""}]
[{"$f":"'Initial Observation'!A141","v":"00:00:00"},{"$f":"IF('Initial Observation'!B141=\"\",\"\",'Initial Observation'!B141)","v":""},{"$f":"IF('Initial Observation'!C141=\"\",\"\",\"X\")","v":""}]
[{"$f":"'Initial Observation'!A142","v":"00:00:00"},{"$f":"IF('Initial Observation'!B142=\"\",\"\",'Initial Observation'!B142)","v":""},{"$f":"IF('Initial Observation'!C142=\"\",\"\",\"X\")","v":""}]
[{"$f":"'Initial Observation'!A143","v":"00:00:00"},{"$f":"IF('Initial Observation'!B143=\"\",\"\",'Initial Observation'!B143)","v":""},{"$f":"IF('Initial Observation'!C143=\"\",\"\",\"X\")","v":""}]
[{"$f":"'Initial Observation'!A144","v":"00:00:00"},{"$f":"IF('Initial Observation'!B144=\"\",\"\",'Initial Observation'!B144)","v":""},{"$f":"IF('Initial Observation'!C144=\"\",\"\",\"X\")","v":""}]
[{"$f":"'Initial Observation'!A145","v":"00:00:00"},{"$f":"IF('Initial Observation'!B145=\"\",\"\",'Initial Observation'!B145)","v":""},{"$f":"IF('Initial Observation'!C145=\"\",\"\",\"X\")","v":""}]
[{"$f":"'Initial Observation'!A146","v":"00:00:00"},{"$f":"IF('Initial Observation'!B146=\"\",\"\",'Initial Observation'!B146)","v":""},{"$f":"IF('Initial Observation'!C146=\"\",\"\",\"X\")","v":""}]
[{"$f":"'Initial Observation'!A147","v":"00:00:00"},{"$f":"IF('Initial Observation'!B147=\"\",\"\",'Initial Observation'!B147)","v":""},{"$f":"IF('Initial Observation'!C147=\"\",\"\",\"X\")","v":""}]
[{"$f":"'Initial Observation'!A148","v":"00:00:00"},{"$f":"IF('Initial Observation'!B148=\"\",\"\",'Initial Observation'!B148)","v":""},{"$f":"IF('Initial Observation'!C148=\"\",\"\",\"X\")","v":""}]
[{"$f":"'Initial Observation'!A149","v":"00:00:00"},{"$f":"IF('Initial Observation'!B149=\"\",\"\",'Initial Observation'!B149)","v":""},{"$f":"IF('Initial Observation'!C149=\"\",\"\",\"X\")","v":""}]
[{"$f":"'Initial Observation'!A150","v":"00:00:00"},{"$f":"IF('Initial Observation'!B150=\"\",\"\",'Initial Observation'!B150)","v":""},{"$f":"IF('Initial Observation'!C150=\"\",\"\",\"X\")","v":""}]
[{"$f":"'Initial Observation'!A151","v":"00:00:00"},{"$f":"IF('Initial Observation'!B151=\"\",\"\",'Initial Observation'!B151)","v":""},{"$f":"IF('Initial Observation'!C151=\"\",\"\",\"X\")","v":""}]
[{"$f":"'Initial Observation'!A152","v":"00:00:00"},{"$f":"IF('Initial Observation'!B152=\"\",\"\",'Initial Observation'!B152)","v":""},{"$f":"IF('Initial Observation'!C152=\"\",\"\",\"X\")","v":""}]
[{"$f":"'Initial Observation'!A153","v":"00:00:00"},{"$f":"IF('Initial Observation'!B153=\"\",\"\",'Initial Observation'!B153)","v":""},{"$f":"IF('Initial Observation'!C153=\"\",\"\",\"X\")","v":""}]
[{"$f":"'Initial Observation'!A154","v":"00:00:00"},{"$f":"IF('Initial Observation'!B154=\"\",\"\",'Initial Observation'!B154)","v":""},{"$f":"IF('Initial Observation'!C154=\"\",\"\",\"X\")","v":""}]
[{"$f":"'Initial Observation'!A155","v":"00:00:00"},{"$f":"IF('Initial Observation'!B155=\"\",\"\",'Initial Observation'!B155)","v":""},{"$f":"IF('Initial Observation'!C155=\"\",\"\",\"X\")","v":""}]
[{"$f":"'Initial Observation'!A156","v":"00:00:00"},{"$f":"IF('Initial Observation'!B156=\"\",\"\",'Initial Observation'!B156)","v":""},{"$f":"IF('Initial Observation'!C156=\"\",\"\",\"X\")","v":""}]
[{"$f":"'Initial Observation'!A157","v":"00:00:00"},{"$f":"IF('Initial Observation'!B157=\"\",\"\",'Initial Observation'!B157)","v":""},{"$f":"IF('Initial Observation'!C157=\"\",\"\",\"X\")","v":""}]
[{"$f":"'Initial Observation'!A158","v":"00:00:00"},{"$f":"IF('Initial Observation'!B158=\"\",\"\",'Initial Observation'!B158)","v":""},{"$f":"IF('Initial Observation'!C158=\"\",\"\",\"X\")","v":""}]
[{"$f":"'Initial Observation'!A159","v":"00:00:00"},{"$f":"IF('Initial Observation'!B159=\"\",\"\",'Initial Observation'!B159)","v":""},{"$f":"IF('Initial Observation'!C159=\"\",\"\",\"X\")","v":""}]
[{"$f":"'Initial Observation'!A160","v":"00:00:00"},{"$f":"IF('Initial Observation'!B160=\"\",\"\",'Initial Observation'!B160)","v":""},{"$f":"IF('Initial Observation'!C160=\"\",\"\",\"X\")","v":""}]
[{"$f":"'Initial Observation'!A161","v":"00:00:00"},{"$f":"IF('Initial Observation'!B161=\"\",\"\",'Initial Observation'!B161)","v":""},{"$f":"IF('Initial Observation'!C161=\"\",\"\",\"X\")","v":""}]
[{"$f":"'Initial Observation'!A162","v":"00:00:00"},{"$f":"IF('Initial Observation'!B162=\"\",\"\",'Initial Observation'!B162)","v":""},{"$f":"IF('Initial Observation'!C162=\"\",\"\",\"X\")","v":""}]
[{"$f":"'Initial Observation'!A163","v":"00:00:00"},{"$f":"IF('Initial Observation'!B163=\"\",\"\",'Initial Observation'!B163)","v":""},{"$f":"IF('Initial Observation'!C163=\"\",\"\",\"X\")","v":""}]
[{"$f":"'Initial Observation'!A164","v":"00:00:00"},{"$f":"IF('Initial Observation'!B164=\"\",\"\",'Initial Observation'!B164)","v":""},{"$f":"IF('Initial Observation'!C164=\"\",\"\",\"X\")","v":""}]
[{"$f":"'Initial Observation'!A165","v":"00:00:00"},{"$f":"IF('Initial Observation'!B165=\"\",\"\",'Initial Observation'!B165)","v":""},{"$f":"IF('Initial Observation'!C165=\"\",\"\",\"X\")","v":""}]
[{"$f":"'Initial Observation'!A166","v":"00:00:00"},{"$f":"IF('Initial Observation'!B166=\"\",\"\",'Initial Observation'!B166)","v":""},{"$f":"IF('Initial Observation'!C166=\"\",\"\",\"X\")","v":""}]
[{"$f":"'Initial Observation'!A167","v":"00:00:00"},{"$f":"IF('Initial Observation'!B167=\"\",\"\",'Initial Observation'!B167)","v":""},{"$f":"IF('Initial Observation'!C167=\"\",\"\",\"X\")","v":""}]
[{"$f":"'Initial Observation'!A168","v":"00:00:00"},{"$f":"IF('Initial Observation'!B168=\"\",\"\",'Initial Observation'!B168)","v":""},{"$f":"IF('Initial Observation'!C168=\"\",\"\",\"X\")","v":""}]
[{"$f":"'Initial Observation'!A169","v":"00:00:00"},{"$f":"IF('Initial Observation'!B169=\"\",\"\",'Initial Observation'!B169)","v":""},{"$f":"IF('Initial Observation'!C169=\"\",\"\",\"X\")","v":""}]
[{"$f":"'Initial Observation'!A170","v":"00:00:00"},{"$f":"IF('Initial Observation'!B170=\"\",\"\",'Initial Observation'!B170)","v":""},{"$f":"IF('Initial Observation'!C170=\"\",\"\",\"X\")","v":""}]
[{"$f":"'Initial Observation'!A171","v":"00:00:00"},{"$f":"IF('Initial Observation'!B171=\"\",\"\",'Initial Observation'!B171)","v":""},{"$f":"IF('Initial Observation'!C171=\"\",\"\",\"X\")","v":""}]
[{"$f":"'Initial Observation'!A172","v":"00:00:00"},{"$f":"IF('Initial Observation'!B172=\"\",\"\",'Initial Observation'!B172)","v":""},{"$f":"IF('Initial Observation'!C172=\"\",\"\",\"X\")","v":""}]
[{"$f":"'Initial Observation'!A173","v":"00:00:00"},{"$f":"IF('Initial Observation'!B173=\"\",\"\",'Initial Observation'!B173)","v":""},{"$f":"IF('Initial Observation'!C173=\"\",\"\",\"X\")","v":""}]
[{"$f":"'Initial Observation'!A174","v":"00:00:00"},{"$f":"IF('Initial Observation'!B174=\"\",\"\",'Initial Observation'!B174)","v":""},{"$f":"IF('Initial Observation'!C174=\"\",\"\",\"X\")","v":""}]
[{"$f":"'Initial Observation'!A175","v":"00:00:00"},{"$f":"IF('Initial Observation'!B175=\"\",\"\",'Initial Observation'!B175)","v":""},{"$f":"IF('Initial Observation'!C175=\"\",\"\",\"X\")","v":""}]
[{"$f":"'Initial Observation'!A176","v":"00:00:00"},{"$f":"IF('Initial Observation'!B176=\"\",\"\",'Initial Observation'!B176)","v":""},{"$f":"IF('Initial Observation'!C176=\"\",\"\",\"X\")","v":""}]
[{"$f":"'Initial Observation'!A177","v":"00:00:00"},{"$f":"IF('Initial Observation'!B177=\"\",\"\",'Initial Observation'!B177)","v":""},{"$f":"IF('Initial Observation'!C177=\"\",\"\",\"X\")","v":""}]
[{"$f":"'Initial Observation'!A178","v":"00:00:00"},{"$f":"IF('Initial Observation'!B178=\"\",\"\",'Initial Observation'!B178)","v":""},{"$f":"IF('Initial Observation'!C178=\"\",\"\",\"X\")","v":""}]
[{"$f":"'Initial Observation'!A179","v":"00:00:00"},{"$f":"IF('Initial Observation'!B179=\"\",\"\",'Initial Observation'!B179)","v":""},{"$f":"IF('Initial Observation'!C179=\"\",\"\",\"X\")","v":""}]
[{"$f":"'Initial Observation'!A180","v":"00:00:00"},{"$f":"IF('Initial Observation'!B180=\"\",\"\",'Initial Observation'!B180)","v":""},{"$f":"IF('Initial Observation'!C180=\"\",\"\",\"X\")","v":""}]
[{"$f":"'Initial Observation'!A181","v":"00:00:00"},{"$f":"IF('Initial Observation'!B181=\"\",\"\",'Initial Observation'!B181)","v":""},{"$f":"IF('Initial Observation'!C181=\"\",\"\",\"X\")","v":""}]
[{"$f":"'Initial Observation'!A182","v":"00:00:00"},{"$f":"IF('Initial Observation'!B182=\"\",\"\",'Initial Observation'!B182)","v":""},{"$f":"IF('Initial Observation'!C182=\"\",\"\",\"X\")","v":""}]
[{"$f":"'Initial Observation'!A183","v":"00:00:00"},{"$f":"IF('Initial Observation'!B183=\"\",\"\",'Initial Observation'!B183)","v":""},{"$f":"IF('Initial Observation'!C183=\"\",\"\",\"X\")","v":""}]
[{"$f":"'Initial Observation'!A184","v":"00:00:00"},{"$f":"IF('Initial Observation'!B184=\"\",\"\",'Initial Observation'!B184)","v":""},{"$f":"IF('Initial Observation'!C184=\"\",\"\",\"X\")","v":""}]
[{"$f":"'Initial Observation'!A185","v":"00:00:00"},{"$f":"IF('Initial Observation'!B185=\"\",\"\",'Initial Observation'!B185)","v":""},{"$f":"IF('Initial Observation'!C185=\"\",\"\",\"X\")","v":""}]
[{"$f":"'Initial Observation'!A186","v":"00:00:00"},{"$f":"IF('Initial Observation'!B186=\"\",\"\",'Initial Observation'!B186)","v":""},{"$f":"IF('Initial Observation'!C186=\"\",\"\",\"X\")","v":""}]
[{"$f":"'Initial Observation'!A187","v":"00:00:00"},{"$f":"IF('Initial Observation'!B187=\"\",\"\",'Initial Observation'!B187)","v":""},{"$f":"IF('Initial Observation'!C187=\"\",\"\",\"X\")","v":""}]
[{"$f":"'Initial Observation'!A188","v":"00:00:00"},{"$f":"IF('Initial Observation'!B188=\"\",\"\",'Initial Observation'!B188)","v":""},{"$f":"IF('Initial Observation'!C188=\"\",\"\",\"X\")","v":""}]
[{"$f":"'Initial Observation'!A189","v":"00:00:00"},{"$f":"IF('Initial Observation'!B189=\"\",\"\",'Initial Observation'!B189)","v":""},{"$f":"IF('Initial Observation'!C189=\"\",\"\",\"X\")","v":""}]
[{"$f":"'Initial Observation'!A190","v":"00:00:00"},{"$f":"IF('Initial Observation'!B190=\"\",\"\",'Initial Observation'!B190)","v":""},{"$f":"IF('Initial Observation'!C190=\"\",\"\",\"X\")","v":""}]
[{"$f":"'Initial Observation'!A191","v":"00:00:00"},{"$f":"IF('Initial Observation'!B191=\"\",\"\",'Initial Observation'!B191)","v":""},{"$f":"IF('Initial Observation'!C191=\"\",\"\",\"X\")","v":""}]
[{"$f":"'Initial Observation'!A192","v":"00:00:00"},{"$f":"IF('Initial Observation'!B192=\"\",\"\",'Initial Observation'!B192)","v":""},{"$f":"IF('Initial Observation'!C192=\"\",\"\",\"X\")","v":""}]
[{"$f":"'Initial Observation'!A193","v":"00:00:00"},{"$f":"IF('Initial Observation'!B193=\"\",\"\",'Initial Observation'!B193)","v":""},{"$f":"IF('Initial Observation'!C193=\"\",\"\",\"X\")","v":""}]
[{"$f":"'Initial Observation'!A194","v":"00:00:00"},{"$f":"IF('Initial Observation'!B194=\"\",\"\",'Initial Observation'!B194)","v":""},{"$f":"IF('Initial Observation'!C194=\"\",\"\",\"X\")","v":""}]
[{"$f":"'Initial Observation'!A195","v":"00:00:00"},{"$f":"IF('Initial Observation'!B195=\"\",\"\",'Initial Observation'!B195)","v":""},{"$f":"IF('Initial Observation'!C195=\"\",\"\",\"X\")","v":""}]
[{"$f":"'Initial Observation'!A196","v":"00:00:00"},{"$f":"IF('Initial Observation'!B196=\"\",\"\",'Initial Observation'!B196)","v":""},{"$f":"IF('Initial Observation'!C196=\"\",\"\",\"X\")","v":""}]
[{"$f":"'Initial Observation'!A197","v":"00:00:00"},{"$f":"IF('Initial Observation'!B197=\"\",\"\",'Initial Observation'!B197)","v":""},{"$f":"IF('Initial Observation'!C197=\"\",\"\",\"X\")","v":""}]
[{"$f":"'Initial Observation'!A198","v":"00:00:00"},{"$f":"IF('Initial Observation'!B198=\"\",\"\",'Initial Observation'!B198)","v":""},{"$f":"IF('Initial Observation'!C198=\"\",\"\",\"X\")","v":""}]
[{"$f":"'Initial Observation'!A199","v":"00:00:00"},{"$f":"IF('Initial Observation'!B199=\"\",\"\",'Initial Observation'!B199)","v":""},{"$f":"IF('Initial Observation'!C199=\"\",\"\",\"X\")","v":""}]
[{"$f":"'Initial Observation'!A200","v":"00:00:00"},{"$f":"IF('Initial Observation'!B200=\"\",\"\",'Initial Observation'!B200)","v":""},{"$f":"IF('Initial Observation'!C200=\"\",\"\",\"X\")","v":""}]
[{"$f":"'Initial Observation'!A201","v":"00:00:00"},{"$f":"IF('Initial Observation'!B201=\"\",\"\",'Initial Observation'!B201)","v":""},{"$f":"IF('Initial Observation'!C201=\"\",\"\",\"X\")","v":""}]
[{"$f":"'Initial Observation'!A202","v":"00:00:00"},{"$f":"IF('Initial Observation'!B202=\"\",\"\",'Initial Observation'!B202)","v":""},{"$f":"IF('Initial Observation'!C202=\"\",\"\",\"X\")","v":""}]
[{"$f":"'Initial Observation'!A203","v":"00:00:00"},{"$f":"IF('Initial Observation'!B203=\"\",\"\",'Initial Observation'!B203)","v":""},{"$f":"IF('Initial Observation'!C203=\"\",\"\",\"X\")","v":""}]
[{"$f":"'Initial Observation'!A204","v":"00:00:00"},{"$f":"IF('Initial Observation'!B204=\"\",\"\",'Initial Observation'!B204)","v":""},{"$f":"IF('Initial Observation'!C204=\"\",\"\",\"X\")","v":""}]
[{"$f":"'Initial Observation'!A205","v":"00:00:00"},{"$f":"IF('Initial Observation'!B205=\"\",\"\",'Initial Observation'!B205)","v":""},{"$f":"IF('Initial Observation'!C205=\"\",\"\",\"X\")","v":""}]
[{"$f":"'Initial Observation'!A206","v":"00:00:00"},{"$f":"IF('Initial Observation'!B206=\"\",\"\",'Initial Observation'!B206)","v":""},{"$f":"IF('Initial Observation'!C206=\"\",\"\",\"X\")","v":""}]
[{"$f":"'Initial Observation'!A207","v":"00:00:00"},{"$f":"IF('Initial Observation'!B207=\"\",\"\",'Initial Observation'!B207)","v":""},{"$f":"IF('Initial Observation'!C207=\"\",\"\",\"X\")","v":""}]
[{"$f":"'Initial Observation'!A208","v":"00:00:00"},{"$f":"IF('Initial Observation'!B208=\"\",\"\",'Initial Observation'!B208)","v":""},{"$f":"IF('Initial Observation'!C208=\"\",\"\",\"X\")","v":""}]
[{"$f":"'Initial Observation'!A209","v":"00:00:00"},{"$f":"IF('Initial Observation'!B209=\"\",\"\",'Initial Observation'!B209)","v":""},{"$f":"IF('Initial Observation'!C209=\"\",\"\",\"X\")","v":""}]
[{"$f":"'Initial Observation'!A210","v":"00:00:00"},{"$f":"IF('Initial Observation'!B210=\"\",\"\",'Initial Observation'!B210)","v":""},{"$f":"IF('Initial Observation'!C210=\"\",\"\",\"X\")","v":""}]
[{"$f":"'Initial Observation'!A211","v":"00:00:00"},{"$f":"IF('Initial Observation'!B211=\"\",\"\",'Initial Observation'!B211)","v":""},{"$f":"IF('Initial Observation'!C211=\"\",\"\",\"X\")","v":""}]
[{"$f":"'Initial Observation'!A212","v":"00:00:00"},{"$f":"IF('Initial Observation'!B212=\"\",\"\",'Initial Observation'!B212)","v":""},{"$f":"IF('Initial Observation'!C212=\"\",\"\",\"X\")","v":""}]
[{"$f":"'Initial Observation'!A213","v":"00:00:00"},{"$f":"IF('Initial Observation'!B213=\"\",\"\",'Initial Observation'!B213)","v":""},{"$f":"IF('Initial Observation'!C213=\"\",\"\",\"X\")","v":""}]
[{"$f":"'Initial Observation'!A214","v":"00:00:00"},{"$f":"IF('Initial Observation'!B214=\"\",\"\",'Initial Observation'!B214)","v":""},{"$f":"IF('Initial Observation'!C214=\"\",\"\",\"X\")","v":""}]
[{"$f":"'Initial Observation'!A215","v":"00:00:00"},{"$f":"IF('Initial Observation'!B215=\"\",\"\",'Initial Observation'!B215)","v":""},{"$f":"IF('Initial Observation'!C215=\"\",\"\",\"X\")","v":""}]
[{"$f":"'Initial Observation'!A216","v":"00:00:00"},{"$f":"IF('Initial Observation'!B216=\"\",\"\",'Initial Observation'!B216)","v":""},{"$f":"IF('Initial Observation'!C216=\"\",\"\",\"X\")","v":""}]
[{"$f":"'Initial Observation'!A217","v":"00:00:00"},{"$f":"IF('Initial Observation'!B217=\"\",\"\",'Initial Observation'!B217)","v":""},{"$f":"IF('Initial Observation'!C217=\"\",\"\",\"X\")","v":""}]
[{"$f":"'Initial Observation'!A218","v":"00:00:00"},{"$f":"IF('Initial Observation'!B218=\"\",\"\",'Initial Observation'!B218)","v":""},{"$f":"IF('Initial Observation'!C218=\"\",\"\",\"X\")","v":""}]
[{"$f":"'Initial Observation'!A219","v":"00:00:00"},{"$f":"IF('Initial Observation'!B219=\"\",\"\",'Initial Observation'!B219)","v":""},{"$f":"IF('Initial Observation'!C219=\"\",\"\",\"X\")","v":""}]
[{"$f":"'Initial Observation'!A220","v":"00:00:00"},{"$f":"IF('Initial Observation'!B220=\"\",\"\",'Initial Observation'!B220)","v":""},{"$f":"IF('Initial Observation'!C220=\"\",\"\",\"X\")","v":""}]
[{"$f":"'Initial Observation'!A221","v":"00:00:00"},{"$f":"IF('Initial Observation'!B221=\"\",\"\",'Initial Observation'!B221)","v":""},{"$f":"IF('Initial Observation'!C221=\"\",\"\",\"X\")","v":""}]
[{"$f":"'Initial Observation'!A222","v":"00:00:00"},{"$f":"IF('Initial Observation'!B222=\"\",\"\",'Initial Observation'!B222)","v":""},{"$f":"IF('Initial Observation'!C222=\"\",\"\",\"X\")","v":""}]
[{"$f":"'Initial Observation'!A223","v":"00:00:00"},{"$f":"IF('Initial Observation'!B223=\"\",\"\",'Initial Observation'!B223)","v":""},{"$f":"IF('Initial Observation'!C223=\"\",\"\",\"X\")","v":""}]
[{"$f":"'Initial Observation'!A224","v":"00:00:00"},{"$f":"IF('Initial Observation'!B224=\"\",\"\",'Initial Observation'!B224)","v":""},{"$f":"IF('Initial Observation'!C224=\"\",\"\",\"X\")","v":""}]
[{"$f":"'Initial Observation'!A225","v":"00:00:00"},{"$f":"IF('Initial Observation'!B225=\"\",\"\",'Initial Observation'!B225)","v":""},{"$f":"IF('Initial Observation'!C225=\"\",\"\",\"X\")","v":""}]
[{"$f":"'Initial Observation'!A226","v":"00:00:00"},{"$f":"IF('Initial Observation'!B226=\"\",\"\",'Initial Observation'!B226)","v":""},{"$f":"IF('Initial Observation'!C226=\"\",\"\",\"X\")","v":""}]
[{"$f":"'Initial Observation'!A227","v":"00:00:00"},{"$f":"IF('Initial Observation'!B227=\"\",\"\",'Initial Observation'!B227)","v":""},{"$f":"IF('Initial Observation'!C227=\"\",\"\",\"X\")","v":""}]
[{"$f":"'Initial Observation'!A228","v":"00:00:00"},{"$f":"IF('Initial Observation'!B228=\"\",\"\",'Initial Observation'!B228)","v":""},{"$f":"IF('Initial Observation'!C228=\"\",\"\",\"X\")","v":""}]
[{"$f":"'Initial Observation'!A229","v":"00:00:00"},{"$f":"IF('Initial Observation'!B229=\"\",\"\",'Initial Observation'!B229)","v":""},{"$f":"IF('Initial Observation'!C229=\"\",\"\",\"X\")","v":""}]
[{"$f":"'Initial Observation'!A230","v":"00:00:00"},{"$f":"IF('Initial Observation'!B230=\"\",\"\",'Initial Observation'!B230)","v":""},{"$f":"IF('Initial Observation'!C230=\"\",\"\",\"X\")","v":""}]
[{"$f":"'Initial Observation'!A231","v":"00:00:00"},{"$f":"IF('Initial Observation'!B231=\"\",\"\",'Initial Observation'!B231)","v":""},{"$f":"IF('Initial Observation'!C231=\"\",\"\",\"X\")","v":""}]
[{"$f":"'Initial Observation'!A232","v":"00:00:00"},{"$f":"IF('Initial Observation'!B232=\"\",\"\",'Initial Observation'!B232)","v":""},{"$f":"IF('Initial Observation'!C232=\"\",\"\",\"X\")","v":""}]
[{"$f":"'Initial Observation'!A233","v":"00:00:00"},{"$f":"IF('Initial Observation'!B233=\"\",\"\",'Initial Observation'!B233)","v":""},{"$f":"IF('Initial Observation'!C233=\"\",\"\",\"X\")","v":""}]
[{"$f":"'Initial Observation'!A234","v":"00:00:00"},{"$f":"IF('Initial Observation'!B234=\"\",\"\",'Initial Observation'!B234)","v":""},{"$f":"IF('Initial Observation'!C234=\"\",\"\",\"X\")","v":""}]
[{"$f":"'Initial Observation'!A235","v":"00:00:00"},{"$f":"IF('Initial Observation'!B235=\"\",\"\",'Initial Observation'!B235)","v":""},{"$f":"IF('Initial Observation'!C235=\"\",\"\",\"X\")","v":""}]
[{"$f":"'Initial Observation'!A236","v":"00:00:00"},{"$f":"IF('Initial Observation'!B236=\"\",\"\",'Initial Observation'!B236)","v":""},{"$f":"IF('Initial Observation'!C236=\"\",\"\",\"X\")","v":""}]
[{"$f":"'Initial Observation'!A237","v":"00:00:00"},{"$f":"IF('Initial Observation'!B237=\"\",\"\",'Initial Observation'!B237)","v":""},{"$f":"IF('Initial Observation'!C237=\"\",\"\",\"X\")","v":""}]
[{"$f":"'Initial Observation'!A238","v":"00:00:00"},{"$f":"IF('Initial Observation'!B238=\"\",\"\",'Initial Observation'!B238)","v":""},{"$f":"IF('Initial Observation'!C238=\"\",\"\",\"X\")","v":""}]
[{"$f":"'Initial Observation'!A239","v":"00:00:00"},{"$f":"IF('Initial Observation'!B239=\"\",\"\",'Initial Observation'!B239)","v":""},{"$f":"IF('Initial Observation'!C239=\"\",\"\",\"X\")","v":""}]
[{"$f":"'Initial Observation'!A240","v":"00:00:00"},{"$f":"IF('Initial Observation'!B240=\"\",\"\",'Initial Observation'!B240)","v":""},{"$f":"IF('Initial Observation'!C240=\"\",\"\",\"X\")","v":""}]
[{"$f":"'Initial Observation'!A241","v":"00:00:00"},{"$f":"IF('Initial Observation'!B241=\"\",\"\",'Initial Observation'!B241)","v":""},{"$f":"IF('Initial Observation'!C241=\"\",\"\",\"X\")","v":""}]
[{"$f":"'Initial Observation'!A242","v":"00:00:00"},{"$f":"IF('Initial Observation'!B242=\"\",\"\",'Initial Observation'!B242)","v":""},{"$f":"IF('Initial Observation'!C242=\"\",\"\",\"X\")","v":""}]
[{"$f":"'Initial Observation'!A243","v":"00:00:00"},{"$f":"IF('Initial Observation'!B243=\"\",\"\",'Initial Observation'!B243)","v":""},{"$f":"IF('Initial Observation'!C243=\"\",\"\",\"X\")","v":""}]
[{"$f":"'Initial Observation'!A244","v":"00:00:00"},{"$f":"IF('Initial Observation'!B244=\"\",\"\",'Initial Observation'!B244)","v":""},{"$f":"IF('Initial Observation'!C244=\"\",\"\",\"X\")","v":""}]
[{"$f":"'Initial Observation'!A245","v":"00:00:00"},{"$f":"IF('Initial Observation'!B245=\"\",\"\",'Initial Observation'!B245)","v":""},{"$f":"IF('Initial Observation'!C245=\"\",\"\",\"X\")","v":""}]
[{"$f":"'Initial Observation'!A246","v":"00:00:00"},{"$f":"IF('Initial Observation'!B246=\"\",\"\",'Initial Observation'!B246)","v":""},{"$f":"IF('Initial Observation'!C246=\"\",\"\",\"X\")","v":""}]
[{"$f":"'Initial Observation'!A247","v":"00:00:00"},{"$f":"IF('Initial Observation'!B247=\"\",\"\",'Initial Observation'!B247)","v":""},{"$f":"IF('Initial Observation'!C247=\"\",\"\",\"X\")","v":""}]
[{"$f":"'Initial Observation'!A248","v":"00:00:00"},{"$f":"IF('Initial Observation'!B248=\"\",\"\",'Initial Observation'!B248)","v":""},{"$f":"IF('Initial Observation'!C248=\"\",\"\",\"X\")","v":""}]
[{"$f":"'Initial Observation'!A249","v":"00:00:00"},{"$f":"IF('Initial Observation'!B249=\"\",\"\",'Initial Observation'!B249)","v":""},{"$f":"IF('Initial Observation'!C249=\"\",\"\",\"X\")","v":""}]
[{"$f":"'Initial Observation'!A250","v":"00:00:00"},{"$f":"IF('Initial Observation'!B250=\"\",\"\",'Initial Observation'!B250)","v":""},{"$f":"IF('Initial Observation'!C250=\"\",\"\",\"X\")","v":""}]
[{"$f":"'Initial Observation'!A251","v":"00:00:00"},{"$f":"IF('Initial Observation'!B251=\"\",\"\",'Initial Observation'!B251)","v":""},{"$f":"IF('Initial Observation'!C251=\"\",\"\",\"X\")","v":""}]
[{"$f":"'Initial Observation'!A252","v":"00:00:00"},{"$f":"IF('Initial Observation'!B252=\"\",\"\",'Initial Observation'!B252)","v":""},{"$f":"IF('Initial Observation'!C252=\"\",\"\",\"X\")","v":""}]
[{"$f":"'Initial Observation'!A253","v":"00:00:00"},{"$f":"IF('Initial Observation'!B253=\"\",\"\",'Initial Observation'!B253)","v":""},{"$f":"IF('Initial Observation'!C253=\"\",\"\",\"X\")","v":""}]
[{"$f":"'Initial Observation'!A254","v":"00:00:00"},{"$f":"IF('Initial Observation'!B254=\"\",\"\",'Initial Observation'!B254)","v":""},{"$f":"IF('Initial Observation'!C254=\"\",\"\",\"X\")","v":""}]
[{"$f":"'Initial Observation'!A255","v":"00:00:00"},{"$f":"IF('Initial Observation'!B255=\"\",\"\",'Initial Observation'!B255)","v":""},{"$f":"IF('Initial Observation'!C255=\"\",\"\",\"X\")","v":""}]
[{"$f":"'Initial Observation'!A256","v":"00:00:00"},{"$f":"IF('Initial Observation'!B256=\"\",\"\",'Initial Observation'!B256)","v":""},{"$f":"IF('Initial Observation'!C256=\"\",\"\",\"X\")","v":""}]
[{"$f":"'Initial Observation'!A257","v":"00:00:00"},{"$f":"IF('Initial Observation'!B257=\"\",\"\",'Initial Observation'!B257)","v":""},{"$f":"IF('Initial Observation'!C257=\"\",\"\",\"X\")","v":""}]
[{"$f":"'Initial Observation'!A258","v":"00:00:00"},{"$f":"IF('Initial Observation'!B258=\"\",\"\",'Initial Observation'!B258)","v":""},{"$f":"IF('Initial Observation'!C258=\"\",\"\",\"X\")","v":""}]
[{"$f":"'Initial Observation'!A259","v":"00:00:00"},{"$f":"IF('Initial Observation'!B259=\"\",\"\",'Initial Observation'!B259)","v":""},{"$f":"IF('Initial Observation'!C259=\"\",\"\",\"X\")","v":""}]
[{"$f":"'Initial Observation'!A260","v":"00:00:00"},{"$f":"IF('Initial Observation'!B260=\"\",\"\",'Initial Observation'!B260)","v":""},{"$f":"IF('Initial Observation'!C260=\"\",\"\",\"X\")","v":""}]
[{"$f":"'Initial Observation'!A261","v":"00:00:00"},{"$f":"IF('Initial Observation'!B261=\"\",\"\",'Initial Observation'!B261)","v":""},{"$f":"IF('Initial Observation'!C261=\"\",\"\",\"X\")","v":""}]
[{"$f":"'Initial Observation'!A262","v":"00:00:00"},{"$f":"IF('Initial Observation'!B262=\"\",\"\",'Initial Observation'!B262)","v":""},{"$f":"IF('Initial Observation'!C262=\"\",\"\",\"X\")","v":""}]
[{"$f":"'Initial Observation'!A263","v":"00:00:00"},{"$f":"IF('Initial Observation'!B263=\"\",\"\",'Initial Observation'!B263)","v":""},{"$f":"IF('Initial Observation'!C263=\"\",\"\",\"X\")","v":""}]
[{"$f":"'Initial Observation'!A264","v":"00:00:00"},{"$f":"IF('Initial Observation'!B264=\"\",\"\",'Initial Observation'!B264)","v":""},{"$f":"IF('Initial Observation'!C264=\"\",\"\",\"X\")","v":""}]
[{"$f":"'Initial Observation'!A265","v":"00:00:00"},{"$f":"IF('Initial Observation'!B265=\"\",\"\",'Initial Observation'!B265)","v":""},{"$f":"IF('Initial Observation'!C265=\"\",\"\",\"X\")","v":""}]
[{"$f":"'Initial Observation'!A266","v":"00:00:00"},{"$f":"IF('Initial Observation'!B266=\"\",\"\",'Initial Observation'!B266)","v":""},{"$f":"IF('Initial Observation'!C266=\"\",\"\",\"X\")","v":""}]
[{"$f":"'Initial Observation'!A267","v":"00:00:00"},{"$f":"IF('Initial Observation'!B267=\"\",\"\",'Initial Observation'!B267)","v":""},{"$f":"IF('Initial Observation'!C267=\"\",\"\",\"X\")","v":""}]
[{"$f":"'Initial Observation'!A268","v":"00:00:00"},{"$f":"IF('Initial Observation'!B268=\"\",\"\",'Initial Observation'!B268)","v":""},{"$f":"IF('Initial Observation'!C268=\"\",\"\",\"X\")","v":""}]
[{"$f":"'Initial Observation'!A269","v":"00:00:00"},{"$f":"IF('Initial Observation'!B269=\"\",\"\",'Initial Observation'!B269)","v":""},{"$f":"IF('Initial Observation'!C269=\"\",\"\",\"X\")","v":""}]
[{"$f":"'Initial Observation'!A270","v":"00:00:00"},{"$f":"IF('Initial Observation'!B270=\"\",\"\",'Initial Observation'!B270)","v":""},{"$f":"IF('Initial Observation'!C270=\"\",\"\",\"X\")","v":""}]

{"sheet":"2B","index":2,"n_rows":270,"n_cols":3,"rows_kept":270,"cut":false,"hidden":false,"merged":[[0,2,3,2]]}
[null,{"$f":"'Initial Observation'!B1","v":"Teacher Name:"},"2B Estab. Culture of Learning"]
[null,{"$f":"'Initial Observation'!B2","v":"Date:"}]
[null,{"$f":"'Initial Observation'!B3","v":"Number of Students:"}]
[null,"Evidence"]
[{"$f":"'Initial Observation'!A5","v":"00:00:00"},{"$f":"IF('Initial Observation'!B5=\"\",\"\",'Initial Observation'!B5)","v":""},{"$f":"IF('Initial Observation'!D5=\"\",\"\",\"X\")","v":""}]
[{"$f":"'Initial Observation'!A6","v":"00:00:00"},{"$f":"IF('Initial Observation'!B6=\"\",\"\",'Initial Observation'!B6)","v":""},{"$f":"IF('Initial Observation'!D6=\"\",\"\",\"X\")","v":""}]
[{"$f":"'Initial Observation'!A7","v":"00:00:00"},{"$f":"IF('Initial Observation'!B7=\"\",\"\",'Initial Observation'!B7)","v":""},{"$f":"IF('Initial Observation'!D7=\"\",\"\",\"X\")","v":""}]
[{"$f":"'Initial Observation'!A8","v":"00:00:00"},{"$f":"IF('Initial Observation'!B8=\"\",\"\",'Initial Observation'!B8)","v":""},{"$f":"IF('Initial Observation'!D8=\"\",\"\",\"X\")","v":""}]
[{"$f":"'Initial Observation'!A9","v":"00:00:00"},{"$f":"IF('Initial Observation'!B9=\"\",\"\",'Initial Observation'!B9)","v":""},{"$f":"IF('Initial Observation'!D9=\"\",\"\",\"X\")","v":""}]
[{"$f":"'Initial Observation'!A10","v":"00:00:00"},{"$f":"IF('Initial Observation'!B10=\"\",\"\",'Initial Observation'!B10)","v":""},{"$f":"IF('Initial Observation'!D10=\"\",\"\",\"X\")","v":""}]
[{"$f":"'Initial Observation'!A11","v":"00:00:00"},{"$f":"IF('Initial Observation'!B11=\"\",\"\",'Initial Observation'!B11)","v":""},{"$f":"IF('Initial Observation'!D11=\"\",\"\",\"X\")","v":""}]
[{"$f":"'Initial Observation'!A12","v":"00:00:00"},{"$f":"IF('Initial Observation'!B12=\"\",\"\",'Initial Observation'!B12)","v":""},{"$f":"IF('Initial Observation'!D12=\"\",\"\",\"X\")","v":""}]
[{"$f":"'Initial Observation'!A13","v":"00:00:00"},{"$f":"IF('Initial Observation'!B13=\"\",\"\",'Initial Observation'!B13)","v":""},{"$f":"IF('Initial Observation'!D13=\"\",\"\",\"X\")","v":""}]
[{"$f":"'Initial Observation'!A14","v":"00:00:00"},{"$f":"IF('Initial Observation'!B14=\"\",\"\",'Initial Observation'!B14)","v":""},{"$f":"IF('Initial Observation'!D14=\"\",\"\",\"X\")","v":""}]
[{"$f":"'Initial Observation'!A15","v":"00:00:00"},{"$f":"IF('Initial Observation'!B15=\"\",\"\",'Initial Observation'!B15)","v":""},{"$f":"IF('Initial Observation'!D15=\"\",\"\",\"X\")","v":""}]
[{"$f":"'Initial Observation'!A16","v":"00:00:00"},{"$f":"IF('Initial Observation'!B16=\"\",\"\",'Initial Observation'!B16)","v":""},{"$f":"IF('Initial Observation'!D16=\"\",\"\",\"X\")","v":""}]
[{"$f":"'Initial Observation'!A17","v":"00:00:00"},{"$f":"IF('Initial Observation'!B17=\"\",\"\",'Initial Observation'!B17)","v":""},{"$f":"IF('Initial Observation'!D17=\"\",\"\",\"X\")","v":""}]
[{"$f":"'Initial Observation'!A18","v":"00:00:00"},{"$f":"IF('Initial Observation'!B18=\"\",\"\",'Initial Observation'!B18)","v":""},{"$f":"IF('Initial Observation'!D18=\"\",\"\",\"X\")","v":""}]
[{"$f":"'Initial Observation'!A19","v":"00:00:00"},{"$f":"IF('Initial Observation'!B19=\"\",\"\",'Initial Observation'!B19)","v":""},{"$f":"IF('Initial Observation'!D19=\"\",\"\",\"X\")","v":""}]
[{"$f":"'Initial Observation'!A20","v":"00:00:00"},{"$f":"IF('Initial Observation'!B20=\"\",\"\",'Initial Observation'!B20)","v":""},{"$f":"IF('Initial Observation'!D20=\"\",\"\",\"X\")","v":""}]
[{"$f":"'Initial Observation'!A21","v":"00:00:00"},{"$f":"IF('Initial Observation'!B21=\"\",\"\",'Initial Observation'!B21)","v":""},{"$f":"IF('Initial Observation'!D21=\"\",\"\",\"X\")","v":""}]
[{"$f":"'Initial Observation'!A22","v":"00:00:00"},{"$f":"IF('Initial Observation'!B22=\"\",\"\",'Initial Observation'!B22)","v":""},{"$f":"IF('Initial Observation'!D22=\"\",\"\",\"X\")","v":""}]
[{"$f":"'Initial Observation'!A23","v":"00:00:00"},{"$f":"IF('Initial Observation'!B23=\"\",\"\",'Initial Observation'!B23)","v":""},{"$f":"IF('Initial Observation'!D23=\"\",\"\",\"X\")","v":""}]
[{"$f":"'Initial Observation'!A24","v":"00:00:00"},{"$f":"IF('Initial Observation'!B24=\"\",\"\",'Initial Observation'!B24)","v":""},{"$f":"IF('Initial Observation'!D24=\"\",\"\",\"X\")","v":""}]
[{"$f":"'Initial Observation'!A25","v":"00:00:00"},{"$f":"IF('Initial Observation'!B25=\"\",\"\",'Initial Observation'!B25)","v":""},{"$f":"IF('Initial Observation'!D25=\"\",\"\",\"X\")","v":""}]
[{"$f":"'Initial Observation'!A26","v":"00:00:00"},{"$f":"IF('Initial Observation'!B26=\"\",\"\",'Initial Observation'!B26)","v":""},{"$f":"IF('Initial Observation'!D26=\"\",\"\",\"X\")","v":""}]
[{"$f":"'Initial Observation'!A27","v":"00:00:00"},{"$f":"IF('Initial Observation'!B27=\"\",\"\",'Initial Observation'!B27)","v":""},{"$f":"IF('Initial Observation'!D27=\"\",\"\",\"X\")","v":""}]
[{"$f":"'Initial Observation'!A28","v":"00:00:00"},{"$f":"IF('Initial Observation'!B28=\"\",\"\",'Initial Observation'!B28)","v":""},{"$f":"IF('Initial Observation'!D28=\"\",\"\",\"X\")","v":""}]
[{"$f":"'Initial Observation'!A29","v":"00:00:00"},{"$f":"IF('Initial Observation'!B29=\"\",\"\",'Initial Observation'!B29)","v":""},{"$f":"IF('Initial Observation'!D29=\"\",\"\",\"X\")","v":""}]
[{"$f":"'Initial Observation'!A30","v":"00:00:00"},{"$f":"IF('Initial Observation'!B30=\"\",\"\",'Initial Observation'!B30)","v":""},{"$f":"IF('Initial Observation'!D30=\"\",\"\",\"X\")","v":""}]
[{"$f":"'Initial Observation'!A31","v":"00:00:00"},{"$f":"IF('Initial Observation'!B31=\"\",\"\",'Initial Observation'!B31)","v":""},{"$f":"IF('Initial Observation'!D31=\"\",\"\",\"X\")","v":""}]
[{"$f":"'Initial Observation'!A32","v":"00:00:00"},{"$f":"IF('Initial Observation'!B32=\"\",\"\",'Initial Observation'!B32)","v":""},{"$f":"IF('Initial Observation'!D32=\"\",\"\",\"X\")","v":""}]
[{"$f":"'Initial Observation'!A33","v":"00:00:00"},{"$f":"IF('Initial Observation'!B33=\"\",\"\",'Initial Observation'!B33)","v":""},{"$f":"IF('Initial Observation'!D33=\"\",\"\",\"X\")","v":""}]
[{"$f":"'Initial Observation'!A34","v":"00:00:00"},{"$f":"IF('Initial Observation'!B34=\"\",\"\",'Initial Observation'!B34)","v":""},{"$f":"IF('Initial Observation'!D34=\"\",\"\",\"X\")","v":""}]
[{"$f":"'Initial Observation'!A35","v":"00:00:00"},{"$f":"IF('Initial Observation'!B35=\"\",\"\",'Initial Observation'!B35)","v":""},{"$f":"IF('Initial Observation'!D35=\"\",\"\",\"X\")","v":""}]
[{"$f":"'Initial Observation'!A36","v":"00:00:00"},{"$f":"IF('Initial Observation'!B36=\"\",\"\",'Initial Observation'!B36)","v":""},{"$f":"IF('Initial Observation'!D36=\"\",\"\",\"X\")","v":""}]
[{"$f":"'Initial Observation'!A37","v":"00:00:00"},{"$f":"IF('Initial Observation'!B37=\"\",\"\",'Initial Observation'!B37)","v":""},{"$f":"IF('Initial Observation'!D37=\"\",\"\",\"X\")","v":""}]
[{"$f":"'Initial Observation'!A38","v":"00:00:00"},{"$f":"IF('Initial Observation'!B38=\"\",\"\",'Initial Observation'!B38)","v":""},{"$f":"IF('Initial Observation'!D38=\"\",\"\",\"X\")","v":""}]
[{"$f":"'Initial Observation'!A39","v":"00:00:00"},{"$f":"IF('Initial Observation'!B39=\"\",\"\",'Initial Observation'!B39)","v":""},{"$f":"IF('Initial Observation'!D39=\"\",\"\",\"X\")","v":""}]
[{"$f":"'Initial Observation'!A40","v":"00:00:00"},{"$f":"IF('Initial Observation'!B40=\"\",\"\",'Initial Observation'!B40)","v":""},{"$f":"IF('Initial Observation'!D40=\"\",\"\",\"X\")","v":""}]
[{"$f":"'Initial Observation'!A41","v":"00:00:00"},{"$f":"IF('Initial Observation'!B41=\"\",\"\",'Initial Observation'!B41)","v":""},{"$f":"IF('Initial Observation'!D41=\"\",\"\",\"X\")","v":""}]
[{"$f":"'Initial Observation'!A42","v":"00:00:00"},{"$f":"IF('Initial Observation'!B42=\"\",\"\",'Initial Observation'!B42)","v":""},{"$f":"IF('Initial Observation'!D42=\"\",\"\",\"X\")","v":""}]
[{"$f":"'Initial Observation'!A43","v":"00:00:00"},{"$f":"IF('Initial Observation'!B43=\"\",\"\",'Initial Observation'!B43)","v":""},{"$f":"IF('Initial Observation'!D43=\"\",\"\",\"X\")","v":""}]
[{"$f":"'Initial Observation'!A44","v":"00:00:00"},{"$f":"IF('Initial Observation'!B44=\"\",\"\",'Initial Observation'!B44)","v":""},{"$f":"IF('Initial Observation'!D44=\"\",\"\",\"X\")","v":""}]
[{"$f":"'Initial Observation'!A45","v":"00:00:00"},{"$f":"IF('Initial Observation'!B45=\"\",\"\",'Initial Observation'!B45)","v":""},{"$f":"IF('Initial Observation'!D45=\"\",\"\",\"X\")","v":""}]
[{"$f":"'Initial Observation'!A46","v":"00:00:00"},{"$f":"IF('Initial Observation'!B46=\"\",\"\",'Initial Observation'!B46)","v":""},{"$f":"IF('Initial Observation'!D46=\"\",\"\",\"X\")","v":""}]
[{"$f":"'Initial Observation'!A47","v":"00:00:00"},{"$f":"IF('Initial Observation'!B47=\"\",\"\",'Initial Observation'!B47)","v":""},{"$f":"IF('Initial Observation'!D47=\"\",\"\",\"X\")","v":""}]
[{"$f":"'Initial Observation'!A48","v":"00:00:00"},{"$f":"IF('Initial Observation'!B48=\"\",\"\",'Initial Observation'!B48)","v":""},{"$f":"IF('Initial Observation'!D48=\"\",\"\",\"X\")","v":""}]
[{"$f":"'Initial Observation'!A49","v":"00:00:00"},{"$f":"IF('Initial Observation'!B49=\"\",\"\",'Initial Observation'!B49)","v":""},{"$f":"IF('Initial Observation'!D49=\"\",\"\",\"X\")","v":""}]
[{"$f":"'Initial Observation'!A50","v":"00:00:00"},{"$f":"IF('Initial Observation'!B50=\"\",\"\",'Initial Observation'!B50)","v":""},{"$f":"IF('Initial Observation'!D50=\"\",\"\",\"X\")","v":""}]
[{"$f":"'Initial Observation'!A51","v":"00:00:00"},{"$f":"IF('Initial Observation'!B51=\"\",\"\",'Initial Observation'!B51)","v":""},{"$f":"IF('Initial Observation'!D51=\"\",\"\",\"X\")","v":""}]
[{"$f":"'Initial Observation'!A52","v":"00:00:00"},{"$f":"IF('Initial Observation'!B52=\"\",\"\",'Initial Observation'!B52)","v":""},{"$f":"IF('Initial Observation'!D52=\"\",\"\",\"X\")","v":""}]
[{"$f":"'Initial Observation'!A53","v":"00:00:00"},{"$f":"IF('Initial Observation'!B53=\"\",\"\",'Initial Observation'!B53)","v":""},{"$f":"IF('Initial Observation'!D53=\"\",\"\",\"X\")","v":""}]
[{"$f":"'Initial Observation'!A54","v":"00:00:00"},{"$f":"IF('Initial Observation'!B54=\"\",\"\",'Initial Observation'!B54)","v":""},{"$f":"IF('Initial Observation'!D54=\"\",\"\",\"X\")","v":""}]
[{"$f":"'Initial Observation'!A55","v":"00:00:00"},{"$f":"IF('Initial Observation'!B55=\"\",\"\",'Initial Observation'!B55)","v":""},{"$f":"IF('Initial Observation'!D55=\"\",\"\",\"X\")","v":""}]
[{"$f":"'Initial Observation'!A56","v":"00:00:00"},{"$f":"IF('Initial Observation'!B56=\"\",\"\",'Initial Observation'!B56)","v":""},{"$f":"IF('Initial Observation'!D56=\"\",\"\",\"X\")","v":""}]
[{"$f":"'Initial Observation'!A57","v":"00:00:00"},{"$f":"IF('Initial Observation'!B57=\"\",\"\",'Initial Observation'!B57)","v":""},{"$f":"IF('Initial Observation'!D57=\"\",\"\",\"X\")","v":""}]
[{"$f":"'Initial Observation'!A58","v":"00:00:00"},{"$f":"IF('Initial Observation'!B58=\"\",\"\",'Initial Observation'!B58)","v":""},{"$f":"IF('Initial Observation'!D58=\"\",\"\",\"X\")","v":""}]
[{"$f":"'Initial Observation'!A59","v":"00:00:00"},{"$f":"IF('Initial Observation'!B59=\"\",\"\",'Initial Observation'!B59)","v":""},{"$f":"IF('Initial Observation'!D59=\"\",\"\",\"X\")","v":""}]
[{"$f":"'Initial Observation'!A60","v":"00:00:00"},{"$f":"IF('Initial Observation'!B60=\"\",\"\",'Initial Observation'!B60)","v":""},{"$f":"IF('Initial Observation'!D60=\"\",\"\",\"X\")","v":""}]
[{"$f":"'Initial Observation'!A61","v":"00:00:00"},{"$f":"IF('Initial Observation'!B61=\"\",\"\",'Initial Observation'!B61)","v":""},{"$f":"IF('Initial Observation'!D61=\"\",\"\",\"X\")","v":""}]
[{"$f":"'Initial Observation'!A62","v":"00:00:00"},{"$f":"IF('Initial Observation'!B62=\"\",\"\",'Initial Observation'!B62)","v":""},{"$f":"IF('Initial Observation'!D62=\"\",\"\",\"X\")","v":""}]
[{"$f":"'Initial Observation'!A63","v":"00:00:00"},{"$f":"IF('Initial Observation'!B63=\"\",\"\",'Initial Observation'!B63)","v":""},{"$f":"IF('Initial Observation'!D63=\"\",\"\",\"X\")","v":""}]
[{"$f":"'Initial Observation'!A64","v":"00:00:00"},{"$f":"IF('Initial Observation'!B64=\"\",\"\",'Initial Observation'!B64)","v":""},{"$f":"IF('Initial Observation'!D64=\"\",\"\",\"X\")","v":""}]
[{"$f":"'Initial Observation'!A65","v":"00:00:00"},{"$f":"IF('Initial Observation'!B65=\"\",\"\",'Initial Observation'!B65)","v":""},{"$f":"IF('Initial Observation'!D65=\"\",\"\",\"X\")","v":""}]
[{"$f":"'Initial Observation'!A66","v":"00:00:00"},{"$f":"IF('Initial Observation'!B66=\"\",\"\",'Initial Observation'!B66)","v":""},{"$f":"IF('Initial Observation'!D66=\"\",\"\",\"X\")","v":""}]
[{"$f":"'Initial Observation'!A67","v":"00:00:00"},{"$f":"IF('Initial Observation'!B67=\"\",\"\",'Initial Observation'!B67)","v":""},{"$f":"IF('Initial Observation'!D67=\"\",\"\",\"X\")","v":""}]
[{"$f":"'Initial Observation'!A68","v":"00:00:00"},{"$f":"IF('Initial Observation'!B68=\"\",\"\",'Initial Observation'!B68)","v":""},{"$f":"IF('Initial Observation'!D68=\"\",\"\",\"X\")","v":""}]
[{"$f":"'Initial Observation'!A69","v":"00:00:00"},{"$f":"IF('Initial Observation'!B69=\"\",\"\",'Initial Observation'!B69)","v":""},{"$f":"IF('Initial Observation'!D69=\"\",\"\",\"X\")","v":""}]
[{"$f":"'Initial Observation'!A70","v":"00:00:00"},{"$f":"IF('Initial Observation'!B70=\"\",\"\",'Initial Observation'!B70)","v":""},{"$f":"IF('Initial Observation'!D70=\"\",\"\",\"X\")","v":""}]
[{"$f":"'Initial Observation'!A71","v":"00:00:00"},{"$f":"IF('Initial Observation'!B71=\"\",\"\",'Initial Observation'!B71)","v":""},{"$f":"IF('Initial Observation'!D71=\"\",\"\",\"X\")","v":""}]
[{"$f":"'Initial Observation'!A72","v":"00:00:00"},{"$f":"IF('Initial Observation'!B72=\"\",\"\",'Initial Observation'!B72)","v":""},{"$f":"IF('Initial Observation'!D72=\"\",\"\",\"X\")","v":""}]
[{"$f":"'Initial Observation'!A73","v":"00:00:00"},{"$f":"IF('Initial Observation'!B73=\"\",\"\",'Initial Observation'!B73)","v":""},{"$f":"IF('Initial Observation'!D73=\"\",\"\",\"X\")","v":""}]
[{"$f":"'Initial Observation'!A74","v":"00:00:00"},{"$f":"IF('Initial Observation'!B74=\"\",\"\",'Initial Observation'!B74)","v":""},{"$f":"IF('Initial Observation'!D74=\"\",\"\",\"X\")","v":""}]
[{"$f":"'Initial Observation'!A75","v":"00:00:00"},{"$f":"IF('Initial Observation'!B75=\"\",\"\",'Initial Observation'!B75)","v":""},{"$f":"IF('Initial Observation'!D75=\"\",\"\",\"X\")","v":""}]
[{"$f":"'Initial Observation'!A76","v":"00:00:00"},{"$f":"IF('Initial Observation'!B76=\"\",\"\",'Initial Observation'!B76)","v":""},{"$f":"IF('Initial Observation'!D76=\"\",\"\",\"X\")","v":""}]
[{"$f":"'Initial Observation'!A77","v":"00:00:00"},{"$f":"IF('Initial Observation'!B77=\"\",\"\",'Initial Observation'!B77)","v":""},{"$f":"IF('Initial Observation'!D77=\"\",\"\",\"X\")","v":""}]
[{"$f":"'Initial Observation'!A78","v":"00:00:00"},{"$f":"IF('Initial Observation'!B78=\"\",\"\",'Initial Observation'!B78)","v":""},{"$f":"IF('Initial Observation'!D78=\"\",\"\",\"X\")","v":""}]
[{"$f":"'Initial Observation'!A79","v":"00:00:00"},{"$f":"IF('Initial Observation'!B79=\"\",\"\",'Initial Observation'!B79)","v":""},{"$f":"IF('Initial Observation'!D79=\"\",\"\",\"X\")","v":""}]
[{"$f":"'Initial Observation'!A80","v":"00:00:00"},{"$f":"IF('Initial Observation'!B80=\"\",\"\",'Initial Observation'!B80)","v":""},{"$f":"IF('Initial Observation'!D80=\"\",\"\",\"X\")","v":""}]
[{"$f":"'Initial Observation'!A81","v":"00:00:00"},{"$f":"IF('Initial Observation'!B81=\"\",\"\",'Initial Observation'!B81)","v":""},{"$f":"IF('Initial Observation'!D81=\"\",\"\",\"X\")","v":""}]
[{"$f":"'Initial Observation'!A82","v":"00:00:00"},{"$f":"IF('Initial Observation'!B82=\"\",\"\",'Initial Observation'!B82)","v":""},{"$f":"IF('Initial Observation'!D82=\"\",\"\",\"X\")","v":""}]
[{"$f":"'Initial Observation'!A83","v":"00:00:00"},{"$f":"IF('Initial Observation'!B83=\"\",\"\",'Initial Observation'!B83)","v":""},{"$f":"IF('Initial Observation'!D83=\"\",\"\",\"X\")","v":""}]
[{"$f":"'Initial Observation'!A84","v":"00:00:00"},{"$f":"IF('Initial Observation'!B84=\"\",\"\",'Initial Observation'!B84)","v":""},{"$f":"IF('Initial Observation'!D84=\"\",\"\",\"X\")","v":""}]
[{"$f":"'Initial Observation'!A85","v":"00:00:00"},{"$f":"IF('Initial Observation'!B85=\"\",\"\",'Initial Observation'!B85)","v":""},{"$f":"IF('Initial Observation'!D85=\"\",\"\",\"X\")","v":""}]
[{"$f":"'Initial Observation'!A86","v":"00:00:00"},{"$f":"IF('Initial Observation'!B86=\"\",\"\",'Initial Observation'!B86)","v":""},{"$f":"IF('Initial Observation'!D86=\"\",\"\",\"X\")","v":""}]
[{"$f":"'Initial Observation'!A87","v":"00:00:00"},{"$f":"IF('Initial Observation'!B87=\"\",\"\",'Initial Observation'!B87)","v":""},{"$f":"IF('Initial Observation'!D87=\"\",\"\",\"X\")","v":""}]
[{"$f":"'Initial Observation'!A88","v":"00:00:00"},{"$f":"IF('Initial Observation'!B88=\"\",\"\",'Initial Observation'!B88)","v":""},{"$f":"IF('Initial Observation'!D88=\"\",\"\",\"X\")","v":""}]
[{"$f":"'Initial Observation'!A89","v":"00:00:00"},{"$f":"IF('Initial Observation'!B89=\"\",\"\",'Initial Observation'!B89)","v":""},{"$f":"IF('Initial Observation'!D89=\"\",\"\",\"X\")","v":""}]
[{"$f":"'Initial Observation'!A90","v":"00:00:00"},{"$f":"IF('Initial Observation'!B90=\"\",\"\",'Initial Observation'!B90)","v":""},{"$f":"IF('Initial Observation'!D90=\"\",\"\",\"X\")","v":""}]
[{"$f":"'Initial Observation'!A91","v":"00:00:00"},{"$f":"IF('Initial Observation'!B91=\"\",\"\",'Initial Observation'!B91)","v":""},{"$f":"IF('Initial Observation'!D91=\"\",\"\",\"X\")","v":""}]
[{"$f":"'Initial Observation'!A92","v":"00:00:00"},{"$f":"IF('Initial Observation'!B92=\"\",\"\",'Initial Observation'!B92)","v":""},{"$f":"IF('Initial Observation'!D92=\"\",\"\",\"X\")","v":""}]
[{"$f":"'Initial Observation'!A93","v":"00:00:00"},{"$f":"IF('Initial Observation'!B93=\"\",\"\",'Initial Observation'!B93)","v":""},{"$f":"IF('Initial Observation'!D93=\"\",\"\",\"X\")","v":""}]
[{"$f":"'Initial Observation'!A94","v":"00:00:00"},{"$f":"IF('Initial Observation'!B94=\"\",\"\",'Initial Observation'!B94)","v":""},{"$f":"IF('Initial Observation'!D94=\"\",\"\",\"X\")","v":""}]
[{"$f":"'Initial Observation'!A95","v":"00:00:00"},{"$f":"IF('Initial Observation'!B95=\"\",\"\",'Initial Observation'!B95)","v":""},{"$f":"IF('Initial Observation'!D95=\"\",\"\",\"X\")","v":""}]
[{"$f":"'Initial Observation'!A96","v":"00:00:00"},{"$f":"IF('Initial Observation'!B96=\"\",\"\",'Initial Observation'!B96)","v":""},{"$f":"IF('Initial Observation'!D96=\"\",\"\",\"X\")","v":""}]
[{"$f":"'Initial Observation'!A97","v":"00:00:00"},{"$f":"IF('Initial Observation'!B97=\"\",\"\",'Initial Observation'!B97)","v":""},{"$f":"IF('Initial Observation'!D97=\"\",\"\",\"X\")","v":""}]
[{"$f":"'Initial Observation'!A98","v":"00:00:00"},{"$f":"IF('Initial Observation'!B98=\"\",\"\",'Initial Observation'!B98)","v":""},{"$f":"IF('Initial Observation'!D98=\"\",\"\",\"X\")","v":""}]
[{"$f":"'Initial Observation'!A99","v":"00:00:00"},{"$f":"IF('Initial Observation'!B99=\"\",\"\",'Initial Observation'!B99)","v":""},{"$f":"IF('Initial Observation'!D99=\"\",\"\",\"X\")","v":""}]
[{"$f":"'Initial Observation'!A100","v":"00:00:00"},{"$f":"IF('Initial Observation'!B100=\"\",\"\",'Initial Observation'!B100)","v":""},{"$f":"IF('Initial Observation'!D100=\"\",\"\",\"X\")","v":""}]
[{"$f":"'Initial Observation'!A101","v":"00:00:00"},{"$f":"IF('Initial Observation'!B101=\"\",\"\",'Initial Observation'!B101)","v":""},{"$f":"IF('Initial Observation'!D101=\"\",\"\",\"X\")","v":""}]
[{"$f":"'Initial Observation'!A102","v":"00:00:00"},{"$f":"IF('Initial Observation'!B102=\"\",\"\",'Initial Observation'!B102)","v":""},{"$f":"IF('Initial Observation'!D102=\"\",\"\",\"X\")","v":""}]
[{"$f":"'Initial Observation'!A103","v":"00:00:00"},{"$f":"IF('Initial Observation'!B103=\"\",\"\",'Initial Observation'!B103)","v":""},{"$f":"IF('Initial Observation'!D103=\"\",\"\",\"X\")","v":""}]
[{"$f":"'Initial Observation'!A104","v":"00:00:00"},{"$f":"IF('Initial Observation'!B104=\"\",\"\",'Initial Observation'!B104)","v":""},{"$f":"IF('Initial Observation'!D104=\"\",\"\",\"X\")","v":""}]
[{"$f":"'Initial Observation'!A105","v":"00:00:00"},{"$f":"IF('Initial Observation'!B105=\"\",\"\",'Initial Observation'!B105)","v":""},{"$f":"IF('Initial Observation'!D105=\"\",\"\",\"X\")","v":""}]
[{"$f":"'Initial Observation'!A106","v":"00:00:00"},{"$f":"IF('Initial Observation'!B106=\"\",\"\",'Initial Observation'!B106)","v":""},{"$f":"IF('Initial Observation'!D106=\"\",\"\",\"X\")","v":""}]
[{"$f":"'Initial Observation'!A107","v":"00:00:00"},{"$f":"IF('Initial Observation'!B107=\"\",\"\",'Initial Observation'!B107)","v":""},{"$f":"IF('Initial Observation'!D107=\"\",\"\",\"X\")","v":""}]
[{"$f":"'Initial Observation'!A108","v":"00:00:00"},{"$f":"IF('Initial Observation'!B108=\"\",\"\",'Initial Observation'!B108)","v":""},{"$f":"IF('Initial Observation'!D108=\"\",\"\",\"X\")","v":""}]
[{"$f":"'Initial Observation'!A109","v":"00:00:00"},{"$f":"IF('Initial Observation'!B109=\"\",\"\",'Initial Observation'!B109)","v":""},{"$f":"IF('Initial Observation'!D109=\"\",\"\",\"X\")","v":""}]
[{"$f":"'Initial Observation'!A110","v":"00:00:00"},{"$f":"IF('Initial Observation'!B110=\"\",\"\",'Initial Observation'!B110)","v":""},{"$f":"IF('Initial Observation'!D110=\"\",\"\",\"X\")","v":""}]
[{"$f":"'Initial Observation'!A111","v":"00:00:00"},{"$f":"IF('Initial Observation'!B111=\"\",\"\",'Initial Observation'!B111)","v":""},{"$f":"IF('Initial Observation'!D111=\"\",\"\",\"X\")","v":""}]
[{"$f":"'Initial Observation'!A112","v":"00:00:00"},{"$f":"IF('Initial Observation'!B112=\"\",\"\",'Initial Observation'!B112)","v":""},{"$f":"IF('Initial Observation'!D112=\"\",\"\",\"X\")","v":""}]
[{"$f":"'Initial Observation'!A113","v":"00:00:00"},{"$f":"IF('Initial Observation'!B113=\"\",\"\",'Initial Observation'!B113)","v":""},{"$f":"IF('Initial Observation'!D113=\"\",\"\",\"X\")","v":""}]
[{"$f":"'Initial Observation'!A114","v":"00:00:00"},{"$f":"IF('Initial Observation'!B114=\"\",\"\",'Initial Observation'!B114)","v":""},{"$f":"IF('Initial Observation'!D114=\"\",\"\",\"X\")","v":""}]
[{"$f":"'Initial Observation'!A115","v":"00:00:00"},{"$f":"IF('Initial Observation'!B115=\"\",\"\",'Initial Observation'!B115)","v":""},{"$f":"IF('Initial Observation'!D115=\"\",\"\",\"X\")","v":""}]
[{"$f":"'Initial Observation'!A116","v":"00:00:00"},{"$f":"IF('Initial Observation'!B116=\"\",\"\",'Initial Observation'!B116)","v":""},{"$f":"IF('Initial Observation'!D116=\"\",\"\",\"X\")","v":""}]
[{"$f":"'Initial Observation'!A117","v":"00:00:00"},{"$f":"IF('Initial Observation'!B117=\"\",\"\",'Initial Observation'!B117)","v":""},{"$f":"IF('Initial Observation'!D117=\"\",\"\",\"X\")","v":""}]
[{"$f":"'Initial Observation'!A118","v":"00:00:00"},{"$f":"IF('Initial Observation'!B118=\"\",\"\",'Initial Observation'!B118)","v":""},{"$f":"IF('Initial Observation'!D118=\"\",\"\",\"X\")","v":""}]
[{"$f":"'Initial Observation'!A119","v":"00:00:00"},{"$f":"IF('Initial Observation'!B119=\"\",\"\",'Initial Observation'!B119)","v":""},{"$f":"IF('Initial Observation'!D119=\"\",\"\",\"X\")","v":""}]
[{"$f":"'Initial Observation'!A120","v":"00:00:00"},{"$f":"IF('Initial Observation'!B120=\"\",\"\",'Initial Observation'!B120)","v":""},{"$f":"IF('Initial Observation'!D120=\"\",\"\",\"X\")","v":""}]
[{"$f":"'Initial Observation'!A121","v":"00:00:00"},{"$f":"IF('Initial Observation'!B121=\"\",\"\",'Initial Observation'!B121)","v":""},{"$f":"IF('Initial Observation'!D121=\"\",\"\",\"X\")","v":""}]
[{"$f":"'Initial Observation'!A122","v":"00:00:00"},{"$f":"IF('Initial Observation'!B122=\"\",\"\",'Initial Observation'!B122)","v":""},{"$f":"IF('Initial Observation'!D122=\"\",\"\",\"X\")","v":""}]
[{"$f":"'Initial Observation'!A123","v":"00:00:00"},{"$f":"IF('Initial Observation'!B123=\"\",\"\",'Initial Observation'!B123)","v":""},{"$f":"IF('Initial Observation'!D123=\"\",\"\",\"X\")","v":""}]
[{"$f":"'Initial Observation'!A124","v":"00:00:00"},{"$f":"IF('Initial Observation'!B124=\"\",\"\",'Initial Observation'!B124)","v":""},{"$f":"IF('Initial Observation'!D124=\"\",\"\",\"X\")","v":""}]
[{"$f":"'Initial Observation'!A125","v":"00:00:00"},{"$f":"IF('Initial Observation'!B125=\"\",\"\",'Initial Observation'!B125)","v":""},{"$f":"IF('Initial Observation'!D125=\"\",\"\",\"X\")","v":""}]
[{"$f":"'Initial Observation'!A126","v":"00:00:00"},{"$f":"IF('Initial Observation'!B126=\"\",\"\",'Initial Observation'!B126)","v":""},{"$f":"IF('Initial Observation'!D126=\"\",\"\",\"X\")","v":""}]
[{"$f":"'Initial Observation'!A127","v":"00:00:00"},{"$f":"IF('Initial Observation'!B127=\"\",\"\",'Initial Observation'!B127)","v":""},{"$f":"IF('Initial Observation'!D127=\"\",\"\",\"X\")","v":""}]
[{"$f":"'Initial Observation'!A128","v":"00:00:00"},{"$f":"IF('Initial Observation'!B128=\"\",\"\",'Initial Observation'!B128)","v":""},{"$f":"IF('Initial Observation'!D128=\"\",\"\",\"X\")","v":""}]
[{"$f":"'Initial Observation'!A129","v":"00:00:00"},{"$f":"IF('Initial Observation'!B129=\"\",\"\",'Initial Observation'!B129)","v":""},{"$f":"IF('Initial Observation'!D129=\"\",\"\",\"X\")","v":""}]
[{"$f":"'Initial Observation'!A130","v":"00:00:00"},{"$f":"IF('Initial Observation'!B130=\"\",\"\",'Initial Observation'!B130)","v":""},{"$f":"IF('Initial Observation'!D130=\"\",\"\",\"X\")","v":""}]
[{"$f":"'Initial Observation'!A131","v":"00:00:00"},{"$f":"IF('Initial Observation'!B131=\"\",\"\",'Initial Observation'!B131)","v":""},{"$f":"IF('Initial Observation'!D131=\"\",\"\",\"X\")","v":""}]
[{"$f":"'Initial Observation'!A132","v":"00:00:00"},{"$f":"IF('Initial Observation'!B132=\"\",\"\",'Initial Observation'!B132)","v":""},{"$f":"IF('Initial Observation'!D132=\"\",\"\",\"X\")","v":""}]
[{"$f":"'Initial Observation'!A133","v":"00:00:00"},{"$f":"IF('Initial Observation'!B133=\"\",\"\",'Initial Observation'!B133)","v":""},{"$f":"IF('Initial Observation'!D133=\"\",\"\",\"X\")","v":""}]
[{"$f":"'Initial Observation'!A134","v":"00:00:00"},{"$f":"IF('Initial Observation'!B134=\"\",\"\",'Initial Observation'!B134)","v":""},{"$f":"IF('Initial Observation'!D134=\"\",\"\",\"X\")","v":""}]
[{"$f":"'Initial Observation'!A135","v":"00:00:00"},{"$f":"IF('Initial Observation'!B135=\"\",\"\",'Initial Observation'!B135)","v":""},{"$f":"IF('Initial Observation'!D135=\"\",\"\",\"X\")","v":""}]
[{"$f":"'Initial Observation'!A136","v":"00:00:00"},{"$f":"IF('Initial Observation'!B136=\"\",\"\",'Initial Observation'!B136)","v":""},{"$f":"IF('Initial Observation'!D136=\"\",\"\",\"X\")","v":""}]
[{"$f":"'Initial Observation'!A137","v":"00:00:00"},{"$f":"IF('Initial Observation'!B137=\"\",\"\",'Initial Observation'!B137)","v":""},{"$f":"IF('Initial Observation'!D137=\"\",\"\",\"X\")","v":""}]
[{"$f":"'Initial Observation'!A138","v":"00:00:00"},{"$f":"IF('Initial Observation'!B138=\"\",\"\",'Initial Observation'!B138)","v":""},{"$f":"IF('Initial Observation'!D138=\"\",\"\",\"X\")","v":""}]
[{"$f":"'Initial Observation'!A139","v":"00:00:00"},{"$f":"IF('Initial Observation'!B139=\"\",\"\",'Initial Observation'!B139)","v":""},{"$f":"IF('Initial Observation'!D139=\"\",\"\",\"X\")","v":""}]
[{"$f":"'Initial Observation'!A140","v":"00:00:00"},{"$f":"IF('Initial Observation'!B140=\"\",\"\",'Initial Observation'!B140)","v":""},{"$f":"IF('Initial Observation'!D140=\"\",\"\",\"X\")","v":""}]
[{"$f":"'Initial Observation'!A141","v":"00:00:00"},{"$f":"IF('Initial Observation'!B141=\"\",\"\",'Initial Observation'!B141)","v":""},{"$f":"IF('Initial Observation'!D141=\"\",\"\",\"X\")","v":""}]
[{"$f":"'Initial Observation'!A142","v":"00:00:00"},{"$f":"IF('Initial Observation'!B142=\"\",\"\",'Initial Observation'!B142)","v":""},{"$f":"IF('Initial Observation'!D142=\"\",\"\",\"X\")","v":""}]
[{"$f":"'Initial Observation'!A143","v":"00:00:00"},{"$f":"IF('Initial Observation'!B143=\"\",\"\",'Initial Observation'!B143)","v":""},{"$f":"IF('Initial Observation'!D143=\"\",\"\",\"X\")","v":""}]
[{"$f":"'Initial Observation'!A144","v":"00:00:00"},{"$f":"IF('Initial Observation'!B144=\"\",\"\",'Initial Observation'!B144)","v":""},{"$f":"IF('Initial Observation'!D144=\"\",\"\",\"X\")","v":""}]
[{"$f":"'Initial Observation'!A145","v":"00:00:00"},{"$f":"IF('Initial Observation'!B145=\"\",\"\",'Initial Observation'!B145)","v":""},{"$f":"IF('Initial Observation'!D145=\"\",\"\",\"X\")","v":""}]
[{"$f":"'Initial Observation'!A146","v":"00:00:00"},{"$f":"IF('Initial Observation'!B146=\"\",\"\",'Initial Observation'!B146)","v":""},{"$f":"IF('Initial Observation'!D146=\"\",\"\",\"X\")","v":""}]
[{"$f":"'Initial Observation'!A147","v":"00:00:00"},{"$f":"IF('Initial Observation'!B147=\"\",\"\",'Initial Observation'!B147)","v":""},{"$f":"IF('Initial Observation'!D147=\"\",\"\",\"X\")","v":""}]
[{"$f":"'Initial Observation'!A148","v":"00:00:00"},{"$f":"IF('Initial Observation'!B148=\"\",\"\",'Initial Observation'!B148)","v":""},{"$f":"IF('Initial Observation'!D148=\"\",\"\",\"X\")","v":""}]
[{"$f":"'Initial Observation'!A149","v":"00:00:00"},{"$f":"IF('Initial Observation'!B149=\"\",\"\",'Initial Observation'!B149)","v":""},{"$f":"IF('Initial Observation'!D149=\"\",\"\",\"X\")","v":""}]
[{"$f":"'Initial Observation'!A150","v":"00:00:00"},{"$f":"IF('Initial Observation'!B150=\"\",\"\",'Initial Observation'!B150)","v":""},{"$f":"IF('Initial Observation'!D150=\"\",\"\",\"X\")","v":""}]
[{"$f":"'Initial Observation'!A151","v":"00:00:00"},{"$f":"IF('Initial Observation'!B151=\"\",\"\",'Initial Observation'!B151)","v":""},{"$f":"IF('Initial Observation'!D151=\"\",\"\",\"X\")","v":""}]
[{"$f":"'Initial Observation'!A152","v":"00:00:00"},{"$f":"IF('Initial Observation'!B152=\"\",\"\",'Initial Observation'!B152)","v":""},{"$f":"IF('Initial Observation'!D152=\"\",\"\",\"X\")","v":""}]
[{"$f":"'Initial Observation'!A153","v":"00:00:00"},{"$f":"IF('Initial Observation'!B153=\"\",\"\",'Initial Observation'!B153)","v":""},{"$f":"IF('Initial Observation'!D153=\"\",\"\",\"X\")","v":""}]
[{"$f":"'Initial Observation'!A154","v":"00:00:00"},{"$f":"IF('Initial Observation'!B154=\"\",\"\",'Initial Observation'!B154)","v":""},{"$f":"IF('Initial Observation'!D154=\"\",\"\",\"X\")","v":""}]
[{"$f":"'Initial Observation'!A155","v":"00:00:00"},{"$f":"IF('Initial Observation'!B155=\"\",\"\",'Initial Observation'!B155)","v":""},{"$f":"IF('Initial Observation'!D155=\"\",\"\",\"X\")","v":""}]
[{"$f":"'Initial Observation'!A156","v":"00:00:00"},{"$f":"IF('Initial Observation'!B156=\"\",\"\",'Initial Observation'!B156)","v":""},{"$f":"IF('Initial Observation'!D156=\"\",\"\",\"X\")","v":""}]
[{"$f":"'Initial Observation'!A157","v":"00:00:00"},{"$f":"IF('Initial Observation'!B157=\"\",\"\",'Initial Observation'!B157)","v":""},{"$f":"IF('Initial Observation'!D157=\"\",\"\",\"X\")","v":""}]
[{"$f":"'Initial Observation'!A158","v":"00:00:00"},{"$f":"IF('Initial Observation'!B158=\"\",\"\",'Initial Observation'!B158)","v":""},{"$f":"IF('Initial Observation'!D158=\"\",\"\",\"X\")","v":""}]
[{"$f":"'Initial Observation'!A159","v":"00:00:00"},{"$f":"IF('Initial Observation'!B159=\"\",\"\",'Initial Observation'!B159)","v":""},{"$f":"IF('Initial Observation'!D159=\"\",\"\",\"X\")","v":""}]
[{"$f":"'Initial Observation'!A160","v":"00:00:00"},{"$f":"IF('Initial Observation'!B160=\"\",\"\",'Initial Observation'!B160)","v":""},{"$f":"IF('Initial Observation'!D160=\"\",\"\",\"X\")","v":""}]
[{"$f":"'Initial Observation'!A161","v":"00:00:00"},{"$f":"IF('Initial Observation'!B161=\"\",\"\",'Initial Observation'!B161)","v":""},{"$f":"IF('Initial Observation'!D161=\"\",\"\",\"X\")","v":""}]
[{"$f":"'Initial Observation'!A162","v":"00:00:00"},{"$f":"IF('Initial Observation'!B162=\"\",\"\",'Initial Observation'!B162)","v":""},{"$f":"IF('Initial Observation'!D162=\"\",\"\",\"X\")","v":""}]
[{"$f":"'Initial Observation'!A163","v":"00:00:00"},{"$f":"IF('Initial Observation'!B163=\"\",\"\",'Initial Observation'!B163)","v":""},{"$f":"IF('Initial Observation'!D163=\"\",\"\",\"X\")","v":""}]
[{"$f":"'Initial Observation'!A164","v":"00:00:00"},{"$f":"IF('Initial Observation'!B164=\"\",\"\",'Initial Observation'!B164)","v":""},{"$f":"IF('Initial Observation'!D164=\"\",\"\",\"X\")","v":""}]
[{"$f":"'Initial Observation'!A165","v":"00:00:00"},{"$f":"IF('Initial Observation'!B165=\"\",\"\",'Initial Observation'!B165)","v":""},{"$f":"IF('Initial Observation'!D165=\"\",\"\",\"X\")","v":""}]
[{"$f":"'Initial Observation'!A166","v":"00:00:00"},{"$f":"IF('Initial Observation'!B166=\"\",\"\",'Initial Observation'!B166)","v":""},{"$f":"IF('Initial Observation'!D166=\"\",\"\",\"X\")","v":""}]
[{"$f":"'Initial Observation'!A167","v":"00:00:00"},{"$f":"IF('Initial Observation'!B167=\"\",\"\",'Initial Observation'!B167)","v":""},{"$f":"IF('Initial Observation'!D167=\"\",\"\",\"X\")","v":""}]
[{"$f":"'Initial Observation'!A168","v":"00:00:00"},{"$f":"IF('Initial Observation'!B168=\"\",\"\",'Initial Observation'!B168)","v":""},{"$f":"IF('Initial Observation'!D168=\"\",\"\",\"X\")","v":""}]
[{"$f":"'Initial Observation'!A169","v":"00:00:00"},{"$f":"IF('Initial Observation'!B169=\"\",\"\",'Initial Observation'!B169)","v":""},{"$f":"IF('Initial Observation'!D169=\"\",\"\",\"X\")","v":""}]
[{"$f":"'Initial Observation'!A170","v":"00:00:00"},{"$f":"IF('Initial Observation'!B170=\"\",\"\",'Initial Observation'!B170)","v":""},{"$f":"IF('Initial Observation'!D170=\"\",\"\",\"X\")","v":""}]
[{"$f":"'Initial Observation'!A171","v":"00:00:00"},{"$f":"IF('Initial Observation'!B171=\"\",\"\",'Initial Observation'!B171)","v":""},{"$f":"IF('Initial Observation'!D171=\"\",\"\",\"X\")","v":""}]
[{"$f":"'Initial Observation'!A172","v":"00:00:00"},{"$f":"IF('Initial Observation'!B172=\"\",\"\",'Initial Observation'!B172)","v":""},{"$f":"IF('Initial Observation'!D172=\"\",\"\",\"X\")","v":""}]
[{"$f":"'Initial Observation'!A173","v":"00:00:00"},{"$f":"IF('Initial Observation'!B173=\"\",\"\",'Initial Observation'!B173)","v":""},{"$f":"IF('Initial Observation'!D173=\"\",\"\",\"X\")","v":""}]
[{"$f":"'Initial Observation'!A174","v":"00:00:00"},{"$f":"IF('Initial Observation'!B174=\"\",\"\",'Initial Observation'!B174)","v":""},{"$f":"IF('Initial Observation'!D174=\"\",\"\",\"X\")","v":""}]
[{"$f":"'Initial Observation'!A175","v":"00:00:00"},{"$f":"IF('Initial Observation'!B175=\"\",\"\",'Initial Observation'!B175)","v":""},{"$f":"IF('Initial Observation'!D175=\"\",\"\",\"X\")","v":""}]
[{"$f":"'Initial Observation'!A176","v":"00:00:00"},{"$f":"IF('Initial Observation'!B176=\"\",\"\",'Initial Observation'!B176)","v":""},{"$f":"IF('Initial Observation'!D176=\"\",\"\",\"X\")","v":""}]
[{"$f":"'Initial Observation'!A177","v":"00:00:00"},{"$f":"IF('Initial Observation'!B177=\"\",\"\",'Initial Observation'!B177)","v":""},{"$f":"IF('Initial Observation'!D177=\"\",\"\",\"X\")","v":""}]
[{"$f":"'Initial Observation'!A178","v":"00:00:00"},{"$f":"IF('Initial Observation'!B178=\"\",\"\",'Initial Observation'!B178)","v":""},{"$f":"IF('Initial Observation'!D178=\"\",\"\",\"X\")","v":""}]
[{"$f":"'Initial Observation'!A179","v":"00:00:00"},{"$f":"IF('Initial Observation'!B179=\"\",\"\",'Initial Observation'!B179)","v":""},{"$f":"IF('Initial Observation'!D179=\"\",\"\",\"X\")","v":""}]
[{"$f":"'Initial Observation'!A180","v":"00:00:00"},{"$f":"IF('Initial Observation'!B180=\"\",\"\",'Initial Observation'!B180)","v":""},{"$f":"IF('Initial Observation'!D180=\"\",\"\",\"X\")","v":""}]
[{"$f":"'Initial Observation'!A181","v":"00:00:00"},{"$f":"IF('Initial Observation'!B181=\"\",\"\",'Initial Observation'!B181)","v":""},{"$f":"IF('Initial Observation'!D181=\"\",\"\",\"X\")","v":""}]
[{"$f":"'Initial Observation'!A182","v":"00:00:00"},{"$f":"IF('Initial Observation'!B182=\"\",\"\",'Initial Observation'!B182)","v":""},{"$f":"IF('Initial Observation'!D182=\"\",\"\",\"X\")","v":""}]
[{"$f":"'Initial Observation'!A183","v":"00:00:00"},{"$f":"IF('Initial Observation'!B183=\"\",\"\",'Initial Observation'!B183)","v":""},{"$f":"IF('Initial Observation'!D183=\"\",\"\",\"X\")","v":""}]
[{"$f":"'Initial Observation'!A184","v":"00:00:00"},{"$f":"IF('Initial Observation'!B184=\"\",\"\",'Initial Observation'!B184)","v":""},{"$f":"IF('Initial Observation'!D184=\"\",\"\",\"X\")","v":""}]
[{"$f":"'Initial Observation'!A185","v":"00:00:00"},{"$f":"IF('Initial Observation'!B185=\"\",\"\",'Initial Observation'!B185)","v":""},{"$f":"IF('Initial Observation'!D185=\"\",\"\",\"X\")","v":""}]
[{"$f":"'Initial Observation'!A186","v":"00:00:00"},{"$f":"IF('Initial Observation'!B186=\"\",\"\",'Initial Observation'!B186)","v":""},{"$f":"IF('Initial Observation'!D186=\"\",\"\",\"X\")","v":""}]
[{"$f":"'Initial Observation'!A187","v":"00:00:00"},{"$f":"IF('Initial Observation'!B187=\"\",\"\",'Initial Observation'!B187)","v":""},{"$f":"IF('Initial Observation'!D187=\"\",\"\",\"X\")","v":""}]
[{"$f":"'Initial Observation'!A188","v":"00:00:00"},{"$f":"IF('Initial Observation'!B188=\"\",\"\",'Initial Observation'!B188)","v":""},{"$f":"IF('Initial Observation'!D188=\"\",\"\",\"X\")","v":""}]
[{"$f":"'Initial Observation'!A189","v":"00:00:00"},{"$f":"IF('Initial Observation'!B189=\"\",\"\",'Initial Observation'!B189)","v":""},{"$f":"IF('Initial Observation'!D189=\"\",\"\",\"X\")","v":""}]
[{"$f":"'Initial Observation'!A190","v":"00:00:00"},{"$f":"IF('Initial Observation'!B190=\"\",\"\",'Initial Observation'!B190)","v":""},{"$f":"IF('Initial Observation'!D190=\"\",\"\",\"X\")","v":""}]
[{"$f":"'Initial Observation'!A191","v":"00:00:00"},{"$f":"IF('Initial Observation'!B191=\"\",\"\",'Initial Observation'!B191)","v":""},{"$f":"IF('Initial Observation'!D191=\"\",\"\",\"X\")","v":""}]
[{"$f":"'Initial Observation'!A192","v":"00:00:00"},{"$f":"IF('Initial Observation'!B192=\"\",\"\",'Initial Observation'!B192)","v":""},{"$f":"IF('Initial Observation'!D192=\"\",\"\",\"X\")","v":""}]
[{"$f":"'Initial Observation'!A193","v":"00:00:00"},{"$f":"IF('Initial Observation'!B193=\"\",\"\",'Initial Observation'!B193)","v":""},{"$f":"IF('Initial Observation'!D193=\"\",\"\",\"X\")","v":""}]
[{"$f":"'Initial Observation'!A194","v":"00:00:00"},{"$f":"IF('Initial Observation'!B194=\"\",\"\",'Initial Observation'!B194)","v":""},{"$f":"IF('Initial Observation'!D194=\"\",\"\",\"X\")","v":""}]
[{"$f":"'Initial Observation'!A195","v":"00:00:00"},{"$f":"IF('Initial Observation'!B195=\"\",\"\",'Initial Observation'!B195)","v":""},{"$f":"IF('Initial Observation'!D195=\"\",\"\",\"X\")","v":""}]
[{"$f":"'Initial Observation'!A196","v":"00:00:00"},{"$f":"IF('Initial Observation'!B196=\"\",\"\",'Initial Observation'!B196)","v":""},{"$f":"IF('Initial Observation'!D196=\"\",\"\",\"X\")","v":""}]
[{"$f":"'Initial Observation'!A197","v":"00:00:00"},{"$f":"IF('Initial Observation'!B197=\"\",\"\",'Initial Observation'!B197)","v":""},{"$f":"IF('Initial Observation'!D197=\"\",\"\",\"X\")","v":""}]
[{"$f":"'Initial Observation'!A198","v":"00:00:00"},{"$f":"IF('Initial Observation'!B198=\"\",\"\",'Initial Observation'!B198)","v":""},{"$f":"IF('Initial Observation'!D198=\"\",\"\",\"X\")","v":""}]
[{"$f":"'Initial Observation'!A199","v":"00:00:00"},{"$f":"IF('Initial Observation'!B199=\"\",\"\",'Initial Observation'!B199)","v":""},{"$f":"IF('Initial Observation'!D199=\"\",\"\",\"X\")","v":""}]
[{"$f":"'Initial Observation'!A200","v":"00:00:00"},{"$f":"IF('Initial Observation'!B200=\"\",\"\",'Initial Observation'!B200)","v":""},{"$f":"IF('Initial Observation'!D200=\"\",\"\",\"X\")","v":""}]
[{"$f":"'Initial Observation'!A201","v":"00:00:00"},{"$f":"IF('Initial Observation'!B201=\"\",\"\",'Initial Observation'!B201)","v":""},{"$f":"IF('Initial Observation'!D201=\"\",\"\",\"X\")","v":""}]
[{"$f":"'Initial Observation'!A202","v":"00:00:00"},{"$f":"IF('Initial Observation'!B202=\"\",\"\",'Initial Observation'!B202)","v":""},{"$f":"IF('Initial Observation'!D202=\"\",\"\",\"X\")","v":""}]
[{"$f":"'Initial Observation'!A203","v":"00:00:00"},{"$f":"IF('Initial Observation'!B203=\"\",\"\",'Initial Observation'!B203)","v":""},{"$f":"IF('Initial Observation'!D203=\"\",\"\",\"X\")","v":""}]
[{"$f":"'Initial Observation'!A204","v":"00:00:00"},{"$f":"IF('Initial Observation'!B204=\"\",\"\",'Initial Observation'!B204)","v":""},{"$f":"IF('Initial Observation'!D204=\"\",\"\",\"X\")","v":""}]
[{"$f":"'Initial Observation'!A205","v":"00:00:00"},{"$f":"IF('Initial Observation'!B205=\"\",\"\",'Initial Observation'!B205)","v":""},{"$f":"IF('Initial Observation'!D205=\"\",\"\",\"X\")","v":""}]
[{"$f":"'Initial Observation'!A206","v":"00:00:00"},{"$f":"IF('Initial Observation'!B206=\"\",\"\",'Initial Observation'!B206)","v":""},{"$f":"IF('Initial Observation'!D206=\"\",\"\",\"X\")","v":""}]
[{"$f":"'Initial Observation'!A207","v":"00:00:00"},{"$f":"IF('Initial Observation'!B207=\"\",\"\",'Initial Observation'!B207)","v":""},{"$f":"IF('Initial Observation'!D207=\"\",\"\",\"X\")","v":""}]
[{"$f":"'Initial Observation'!A208","v":"00:00:00"},{"$f":"IF('Initial Observation'!B208=\"\",\"\",'Initial Observation'!B208)","v":""},{"$f":"IF('Initial Observation'!D208=\"\",\"\",\"X\")","v":""}]
[{"$f":"'Initial Observation'!A209","v":"00:00:00"},{"$f":"IF('Initial Observation'!B209=\"\",\"\",'Initial Observation'!B209)","v":""},{"$f":"IF('Initial Observation'!D209=\"\",\"\",\"X\")","v":""}]
[{"$f":"'Initial Observation'!A210","v":"00:00:00"},{"$f":"IF('Initial Observation'!B210=\"\",\"\",'Initial Observation'!B210)","v":""},{"$f":"IF('Initial Observation'!D210=\"\",\"\",\"X\")","v":""}]
[{"$f":"'Initial Observation'!A211","v":"00:00:00"},{"$f":"IF('Initial Observation'!B211=\"\",\"\",'Initial Observation'!B211)","v":""},{"$f":"IF('Initial Observation'!D211=\"\",\"\",\"X\")","v":""}]
[{"$f":"'Initial Observation'!A212","v":"00:00:00"},{"$f":"IF('Initial Observation'!B212=\"\",\"\",'Initial Observation'!B212)","v":""},{"$f":"IF('Initial Observation'!D212=\"\",\"\",\"X\")","v":""}]
[{"$f":"'Initial Observation'!A213","v":"00:00:00"},{"$f":"IF('Initial Observation'!B213=\"\",\"\",'Initial Observation'!B213)","v":""},{"$f":"IF('Initial Observation'!D213=\"\",\"\",\"X\")","v":""}]
[{"$f":"'Initial Observation'!A214","v":"00:00:00"},{"$f":"IF('Initial Observation'!B214=\"\",\"\",'Initial Observation'!B214)","v":""},{"$f":"IF('Initial Observation'!D214=\"\",\"\",\"X\")","v":""}]
[{"$f":"'Initial Observation'!A215","v":"00:00:00"},{"$f":"IF('Initial Observation'!B215=\"\",\"\",'Initial Observation'!B215)","v":""},{"$f":"IF('Initial Observation'!D215=\"\",\"\",\"X\")","v":""}]
[{"$f":"'Initial Observation'!A216","v":"00:00:00"},{"$f":"IF('Initial Observation'!B216=\"\",\"\",'Initial Observation'!B216)","v":""},{"$f":"IF('Initial Observation'!D216=\"\",\"\",\"X\")","v":""}]
[{"$f":"'Initial Observation'!A217","v":"00:00:00"},{"$f":"IF('Initial Observation'!B217=\"\",\"\",'Initial Observation'!B217)","v":""},{"$f":"IF('Initial Observation'!D217=\"\",\"\",\"X\")","v":""}]
[{"$f":"'Initial Observation'!A218","v":"00:00:00"},{"$f":"IF('Initial Observation'!B218=\"\",\"\",'Initial Observation'!B218)","v":""},{"$f":"IF('Initial Observation'!D218=\"\",\"\",\"X\")","v":""}]
[{"$f":"'Initial Observation'!A219","v":"00:00:00"},{"$f":"IF('Initial Observation'!B219=\"\",\"\",'Initial Observation'!B219)","v":""},{"$f":"IF('Initial Observation'!D219=\"\",\"\",\"X\")","v":""}]
[{"$f":"'Initial Observation'!A220","v":"00:00:00"},{"$f":"IF('Initial Observation'!B220=\"\",\"\",'Initial Observation'!B220)","v":""},{"$f":"IF('Initial Observation'!D220=\"\",\"\",\"X\")","v":""}]
[{"$f":"'Initial Observation'!A221","v":"00:00:00"},{"$f":"IF('Initial Observation'!B221=\"\",\"\",'Initial Observation'!B221)","v":""},{"$f":"IF('Initial Observation'!D221=\"\",\"\",\"X\")","v":""}]
[{"$f":"'Initial Observation'!A222","v":"00:00:00"},{"$f":"IF('Initial Observation'!B222=\"\",\"\",'Initial Observation'!B222)","v":""},{"$f":"IF('Initial Observation'!D222=\"\",\"\",\"X\")","v":""}]
[{"$f":"'Initial Observation'!A223","v":"00:00:00"},{"$f":"IF('Initial Observation'!B223=\"\",\"\",'Initial Observation'!B223)","v":""},{"$f":"IF('Initial Observation'!D223=\"\",\"\",\"X\")","v":""}]
[{"$f":"'Initial Observation'!A224","v":"00:00:00"},{"$f":"IF('Initial Observation'!B224=\"\",\"\",'Initial Observation'!B224)","v":""},{"$f":"IF('Initial Observation'!D224=\"\",\"\",\"X\")","v":""}]
[{"$f":"'Initial Observation'!A225","v":"00:00:00"},{"$f":"IF('Initial Observation'!B225=\"\",\"\",'Initial Observation'!B225)","v":""},{"$f":"IF('Initial Observation'!D225=\"\",\"\",\"X\")","v":""}]
[{"$f":"'Initial Observation'!A226","v":"00:00:00"},{"$f":"IF('Initial Observation'!B226=\"\",\"\",'Initial Observation'!B226)","v":""},{"$f":"IF('Initial Observation'!D226=\"\",\"\",\"X\")","v":""}]
[{"$f":"'Initial Observation'!A227","v":"00:00:00"},{"$f":"IF('Initial Observation'!B227=\"\",\"\",'Initial Observation'!B227)","v":""},{"$f":"IF('Initial Observation'!D227=\"\",\"\",\"X\")","v":""}]
[{"$f":"'Initial Observation'!A228","v":"00:00:00"},{"$f":"IF('Initial Observation'!B228=\"\",\"\",'Initial Observation'!B228)","v":""},{"$f":"IF('Initial Observation'!D228=\"\",\"\",\"X\")","v":""}]
[{"$f":"'Initial Observation'!A229","v":"00:00:00"},{"$f":"IF('Initial Observation'!B229=\"\",\"\",'Initial Observation'!B229)","v":""},{"$f":"IF('Initial Observation'!D229=\"\",\"\",\"X\")","v":""}]
[{"$f":"'Initial Observation'!A230","v":"00:00:00"},{"$f":"IF('Initial Observation'!B230=\"\",\"\",'Initial Observation'!B230)","v":""},{"$f":"IF('Initial Observation'!D230=\"\",\"\",\"X\")","v":""}]
[{"$f":"'Initial Observation'!A231","v":"00:00:00"},{"$f":"IF('Initial Observation'!B231=\"\",\"\",'Initial Observation'!B231)","v":""},{"$f":"IF('Initial Observation'!D231=\"\",\"\",\"X\")","v":""}]
[{"$f":"'Initial Observation'!A232","v":"00:00:00"},{"$f":"IF('Initial Observation'!B232=\"\",\"\",'Initial Observation'!B232)","v":""},{"$f":"IF('Initial Observation'!D232=\"\",\"\",\"X\")","v":""}]
[{"$f":"'Initial Observation'!A233","v":"00:00:00"},{"$f":"IF('Initial Observation'!B233=\"\",\"\",'Initial Observation'!B233)","v":""},{"$f":"IF('Initial Observation'!D233=\"\",\"\",\"X\")","v":""}]
[{"$f":"'Initial Observation'!A234","v":"00:00:00"},{"$f":"IF('Initial Observation'!B234=\"\",\"\",'Initial Observation'!B234)","v":""},{"$f":"IF('Initial Observation'!D234=\"\",\"\",\"X\")","v":""}]
[{"$f":"'Initial Observation'!A235","v":"00:00:00"},{"$f":"IF('Initial Observation'!B235=\"\",\"\",'Initial Observation'!B235)","v":""},{"$f":"IF('Initial Observation'!D235=\"\",\"\",\"X\")","v":""}]
[{"$f":"'Initial Observation'!A236","v":"00:00:00"},{"$f":"IF('Initial Observation'!B236=\"\",\"\",'Initial Observation'!B236)","v":""},{"$f":"IF('Initial Observation'!D236=\"\",\"\",\"X\")","v":""}]
[{"$f":"'Initial Observation'!A237","v":"00:00:00"},{"$f":"IF('Initial Observation'!B237=\"\",\"\",'Initial Observation'!B237)","v":""},{"$f":"IF('Initial Observation'!D237=\"\",\"\",\"X\")","v":""}]
[{"$f":"'Initial Observation'!A238","v":"00:00:00"},{"$f":"IF('Initial Observation'!B238=\"\",\"\",'Initial Observation'!B238)","v":""},{"$f":"IF('Initial Observation'!D238=\"\",\"\",\"X\")","v":""}]
[{"$f":"'Initial Observation'!A239","v":"00:00:00"},{"$f":"IF('Initial Observation'!B239=\"\",\"\",'Initial Observation'!B239)","v":""},{"$f":"IF('Initial Observation'!D239=\"\",\"\",\"X\")","v":""}]
[{"$f":"'Initial Observation'!A240","v":"00:00:00"},{"$f":"IF('Initial Observation'!B240=\"\",\"\",'Initial Observation'!B240)","v":""},{"$f":"IF('Initial Observation'!D240=\"\",\"\",\"X\")","v":""}]
[{"$f":"'Initial Observation'!A241","v":"00:00:00"},{"$f":"IF('Initial Observation'!B241=\"\",\"\",'Initial Observation'!B241)","v":""},{"$f":"IF('Initial Observation'!D241=\"\",\"\",\"X\")","v":""}]
[{"$f":"'Initial Observation'!A242","v":"00:00:00"},{"$f":"IF('Initial Observation'!B242=\"\",\"\",'Initial Observation'!B242)","v":""},{"$f":"IF('Initial Observation'!D242=\"\",\"\",\"X\")","v":""}]
[{"$f":"'Initial Observation'!A243","v":"00:00:00"},{"$f":"IF('Initial Observation'!B243=\"\",\"\",'Initial Observation'!B243)","v":""},{"$f":"IF('Initial Observation'!D243=\"\",\"\",\"X\")","v":""}]
[{"$f":"'Initial Observation'!A244","v":"00:00:00"},{"$f":"IF('Initial Observation'!B244=\"\",\"\",'Initial Observation'!B244)","v":""},{"$f":"IF('Initial Observation'!D244=\"\",\"\",\"X\")","v":""}]
[{"$f":"'Initial Observation'!A245","v":"00:00:00"},{"$f":"IF('Initial Observation'!B245=\"\",\"\",'Initial Observation'!B245)","v":""},{"$f":"IF('Initial Observation'!D245=\"\",\"\",\"X\")","v":""}]
[{"$f":"'Initial Observation'!A246","v":"00:00:00"},{"$f":"IF('Initial Observation'!B246=\"\",\"\",'Initial Observation'!B246)","v":""},{"$f":"IF('Initial Observation'!D246=\"\",\"\",\"X\")","v":""}]
[{"$f":"'Initial Observation'!A247","v":"00:00:00"},{"$f":"IF('Initial Observation'!B247=\"\",\"\",'Initial Observation'!B247)","v":""},{"$f":"IF('Initial Observation'!D247=\"\",\"\",\"X\")","v":""}]
[{"$f":"'Initial Observation'!A248","v":"00:00:00"},{"$f":"IF('Initial Observation'!B248=\"\",\"\",'Initial Observation'!B248)","v":""},{"$f":"IF('Initial Observation'!D248=\"\",\"\",\"X\")","v":""}]
[{"$f":"'Initial Observation'!A249","v":"00:00:00"},{"$f":"IF('Initial Observation'!B249=\"\",\"\",'Initial Observation'!B249)","v":""},{"$f":"IF('Initial Observation'!D249=\"\",\"\",\"X\")","v":""}]
[{"$f":"'Initial Observation'!A250","v":"00:00:00"},{"$f":"IF('Initial Observation'!B250=\"\",\"\",'Initial Observation'!B250)","v":""},{"$f":"IF('Initial Observation'!D250=\"\",\"\",\"X\")","v":""}]
[{"$f":"'Initial Observation'!A251","v":"00:00:00"},{"$f":"IF('Initial Observation'!B251=\"\",\"\",'Initial Observation'!B251)","v":""},{"$f":"IF('Initial Observation'!D251=\"\",\"\",\"X\")","v":""}]
[{"$f":"'Initial Observation'!A252","v":"00:00:00"},{"$f":"IF('Initial Observation'!B252=\"\",\"\",'Initial Observation'!B252)","v":""},{"$f":"IF('Initial Observation'!D252=\"\",\"\",\"X\")","v":""}]
[{"$f":"'Initial Observation'!A253","v":"00:00:00"},{"$f":"IF('Initial Observation'!B253=\"\",\"\",'Initial Observation'!B253)","v":""},{"$f":"IF('Initial Observation'!D253=\"\",\"\",\"X\")","v":""}]
[{"$f":"'Initial Observation'!A254","v":"00:00:00"},{"$f":"IF('Initial Observation'!B254=\"\",\"\",'Initial Observation'!B254)","v":""},{"$f":"IF('Initial Observation'!D254=\"\",\"\",\"X\")","v":""}]
[{"$f":"'Initial Observation'!A255","v":"00:00:00"},{"$f":"IF('Initial Observation'!B255=\"\",\"\",'Initial Observation'!B255)","v":""},{"$f":"IF('Initial Observation'!D255=\"\",\"\",\"X\")","v":""}]
[{"$f":"'Initial Observation'!A256","v":"00:00:00"},{"$f":"IF('Initial Observation'!B256=\"\",\"\",'Initial Observation'!B256)","v":""},{"$f":"IF('Initial Observation'!D256=\"\",\"\",\"X\")","v":""}]
[{"$f":"'Initial Observation'!A257","v":"00:00:00"},{"$f":"IF('Initial Observation'!B257=\"\",\"\",'Initial Observation'!B257)","v":""},{"$f":"IF('Initial Observation'!D257=\"\",\"\",\"X\")","v":""}]
[{"$f":"'Initial Observation'!A258","v":"00:00:00"},{"$f":"IF('Initial Observation'!B258=\"\",\"\",'Initial Observation'!B258)","v":""},{"$f":"IF('Initial Observation'!D258=\"\",\"\",\"X\")","v":""}]
[{"$f":"'Initial Observation'!A259","v":"00:00:00"},{"$f":"IF('Initial Observation'!B259=\"\",\"\",'Initial Observation'!B259)","v":""},{"$f":"IF('Initial Observation'!D259=\"\",\"\",\"X\")","v":""}]
[{"$f":"'Initial Observation'!A260","v":"00:00:00"},{"$f":"IF('Initial Observation'!B260=\"\",\"\",'Initial Observation'!B260)","v":""},{"$f":"IF('Initial Observation'!D260=\"\",\"\",\"X\")","v":""}]
[{"$f":"'Initial Observation'!A261","v":"00:00:00"},{"$f":"IF('Initial Observation'!B261=\"\",\"\",'Initial Observation'!B261)","v":""},{"$f":"IF('Initial Observation'!D261=\"\",\"\",\"X\")","v":""}]
[{"$f":"'Initial Observation'!A262","v":"00:00:00"},{"$f":"IF('Initial Observation'!B262=\"\",\"\",'Initial Observation'!B262)","v":""},{"$f":"IF('Initial Observation'!D262=\"\",\"\",\"X\")","v":""}]
[{"$f":"'Initial Observation'!A263","v":"00:00:00"},{"$f":"IF('Initial Observation'!B263=\"\",\"\",'Initial Observation'!B263)","v":""},{"$f":"IF('Initial Observation'!D263=\"\",\"\",\"X\")","v":""}]
[{"$f":"'Initial Observation'!A264","v":"00:00:00"},{"$f":"IF('Initial Observation'!B264=\"\",\"\",'Initial Observation'!B264)","v":""},{"$f":"IF('Initial Observation'!D264=\"\",\"\",\"X\")","v":""}]
[{"$f":"'Initial Observation'!A265","v":"00:00:00"},{"$f":"IF('Initial Observation'!B265=\"\",\"\",'Initial Observation'!B265)","v":""},{"$f":"IF('Initial Observation'!D265=\"\",\"\",\"X\")","v":""}]
[{"$f":"'Initial Observation'!A266","v":"00:00:00"},{"$f":"IF('Initial Observation'!B266=\"\",\"\",'Initial Observation'!B266)","v":""},{"$f":"IF('Initial Observation'!D266=\"\",\"\",\"X\")","v":""}]
[{"$f":"'Initial Observation'!A267","v":"00:00:00"},{"$f":"IF('Initial Observation'!B267=\"\",\"\",'Initial Observation'!B267)","v":""},{"$f":"IF('Initial Observation'!D267=\"\",\"\",\"X\")","v":""}]
[{"$f":"'Initial Observation'!A268","v":"00:00:00"},{"$f":"IF('Initial Observation'!B268=\"\",\"\",'Initial Observation'!B268)","v":""},{"$f":"IF('Initial Observation'!D268=\"\",\"\",\"X\")","v":""}]
[{"$f":"'Initial Observation'!A269","v":"00:00:00"},{"$f":"IF('Initial Observation'!B269=\"\",\"\",'Initial Observation'!B269)","v":""},{"$f":"IF('Initial Observation'!D269=\"\",\"\",\"X\")","v":""}]
[{"$f":"'Initial Observation'!A270","v":"00:00:00"},{"$f":"IF('Initial Observation'!B270=\"\",\"\",'Initial Observation'!B270)","v":""},{"$f":"IF('Initial Observation'!D270=\"\",\"\",\"X\")","v":""}]

{"sheet":"2C","index":3,"n_rows":270,"n_cols":3,"rows_kept":270,"cut":false,"hidden":false,"merged":[[0,2,3,2]]}
[null,{"$f":"'Initial Observation'!B1","v":"Teacher Name:"},"2C Managing Library Procedures"]
[null,{"$f":"'Initial Observation'!B2","v":"Date:"}]
[null,{"$f":"'Initial Observation'!B3","v":"Number of Students:"}]
[null,"Evidence"]
[{"$f":"'Initial Observation'!A5","v":"00:00:00"},{"$f":"IF('Initial Observation'!B5=\"\",\"\",'Initial Observation'!B5)","v":""},{"$f":"IF('Initial Observation'!E5=\"\",\"\",\"X\")","v":""}]
[{"$f":"'Initial Observation'!A6","v":"00:00:00"},{"$f":"IF('Initial Observation'!B6=\"\",\"\",'Initial Observation'!B6)","v":""},{"$f":"IF('Initial Observation'!E6=\"\",\"\",\"X\")","v":""}]
[{"$f":"'Initial Observation'!A7","v":"00:00:00"},{"$f":"IF('Initial Observation'!B7=\"\",\"\",'Initial Observation'!B7)","v":""},{"$f":"IF('Initial Observation'!E7=\"\",\"\",\"X\")","v":""}]
[{"$f":"'Initial Observation'!A8","v":"00:00:00"},{"$f":"IF('Initial Observation'!B8=\"\",\"\",'Initial Observation'!B8)","v":""},{"$f":"IF('Initial Observation'!E8=\"\",\"\",\"X\")","v":""}]
[{"$f":"'Initial Observation'!A9","v":"00:00:00"},{"$f":"IF('Initial Observation'!B9=\"\",\"\",'Initial Observation'!B9)","v":""},{"$f":"IF('Initial Observation'!E9=\"\",\"\",\"X\")","v":""}]
[{"$f":"'Initial Observation'!A10","v":"00:00:00"},{"$f":"IF('Initial Observation'!B10=\"\",\"\",'Initial Observation'!B10)","v":""},{"$f":"IF('Initial Observation'!E10=\"\",\"\",\"X\")","v":""}]
[{"$f":"'Initial Observation'!A11","v":"00:00:00"},{"$f":"IF('Initial Observation'!B11=\"\",\"\",'Initial Observation'!B11)","v":""},{"$f":"IF('Initial Observation'!E11=\"\",\"\",\"X\")","v":""}]
[{"$f":"'Initial Observation'!A12","v":"00:00:00"},{"$f":"IF('Initial Observation'!B12=\"\",\"\",'Initial Observation'!B12)","v":""},{"$f":"IF('Initial Observation'!E12=\"\",\"\",\"X\")","v":""}]
[{"$f":"'Initial Observation'!A13","v":"00:00:00"},{"$f":"IF('Initial Observation'!B13=\"\",\"\",'Initial Observation'!B13)","v":""},{"$f":"IF('Initial Observation'!E13=\"\",\"\",\"X\")","v":""}]
[{"$f":"'Initial Observation'!A14","v":"00:00:00"},{"$f":"IF('Initial Observation'!B14=\"\",\"\",'Initial Observation'!B14)","v":""},{"$f":"IF('Initial Observation'!E14=\"\",\"\",\"X\")","v":""}]
[{"$f":"'Initial Observation'!A15","v":"00:00:00"},{"$f":"IF('Initial Observation'!B15=\"\",\"\",'Initial Observation'!B15)","v":""},{"$f":"IF('Initial Observation'!E15=\"\",\"\",\"X\")","v":""}]
[{"$f":"'Initial Observation'!A16","v":"00:00:00"},{"$f":"IF('Initial Observation'!B16=\"\",\"\",'Initial Observation'!B16)","v":""},{"$f":"IF('Initial Observation'!E16=\"\",\"\",\"X\")","v":""}]
[{"$f":"'Initial Observation'!A17","v":"00:00:00"},{"$f":"IF('Initial Observation'!B17=\"\",\"\",'Initial Observation'!B17)","v":""},{"$f":"IF('Initial Observation'!E17=\"\",\"\",\"X\")","v":""}]
[{"$f":"'Initial Observation'!A18","v":"00:00:00"},{"$f":"IF('Initial Observation'!B18=\"\",\"\",'Initial Observation'!B18)","v":""},{"$f":"IF('Initial Observation'!E18=\"\",\"\",\"X\")","v":""}]
[{"$f":"'Initial Observation'!A19","v":"00:00:00"},{"$f":"IF('Initial Observation'!B19=\"\",\"\",'Initial Observation'!B19)","v":""},{"$f":"IF('Initial Observation'!E19=\"\",\"\",\"X\")","v":""}]
[{"$f":"'Initial Observation'!A20","v":"00:00:00"},{"$f":"IF('Initial Observation'!B20=\"\",\"\",'Initial Observation'!B20)","v":""},{"$f":"IF('Initial Observation'!E20=\"\",\"\",\"X\")","v":""}]
[{"$f":"'Initial Observation'!A21","v":"00:00:00"},{"$f":"IF('Initial Observation'!B21=\"\",\"\",'Initial Observation'!B21)","v":""},{"$f":"IF('Initial Observation'!E21=\"\",\"\",\"X\")","v":""}]
[{"$f":"'Initial Observation'!A22","v":"00:00:00"},{"$f":"IF('Initial Observation'!B22=\"\",\"\",'Initial Observation'!B22)","v":""},{"$f":"IF('Initial Observation'!E22=\"\",\"\",\"X\")","v":""}]
[{"$f":"'Initial Observation'!A23","v":"00:00:00"},{"$f":"IF('Initial Observation'!B23=\"\",\"\",'Initial Observation'!B23)","v":""},{"$f":"IF('Initial Observation'!E23=\"\",\"\",\"X\")","v":""}]
[{"$f":"'Initial Observation'!A24","v":"00:00:00"},{"$f":"IF('Initial Observation'!B24=\"\",\"\",'Initial Observation'!B24)","v":""},{"$f":"IF('Initial Observation'!E24=\"\",\"\",\"X\")","v":""}]
[{"$f":"'Initial Observation'!A25","v":"00:00:00"},{"$f":"IF('Initial Observation'!B25=\"\",\"\",'Initial Observation'!B25)","v":""},{"$f":"IF('Initial Observation'!E25=\"\",\"\",\"X\")","v":""}]
[{"$f":"'Initial Observation'!A26","v":"00:00:00"},{"$f":"IF('Initial Observation'!B26=\"\",\"\",'Initial Observation'!B26)","v":""},{"$f":"IF('Initial Observation'!E26=\"\",\"\",\"X\")","v":""}]
[{"$f":"'Initial Observation'!A27","v":"00:00:00"},{"$f":"IF('Initial Observation'!B27=\"\",\"\",'Initial Observation'!B27)","v":""},{"$f":"IF('Initial Observation'!E27=\"\",\"\",\"X\")","v":""}]
[{"$f":"'Initial Observation'!A28","v":"00:00:00"},{"$f":"IF('Initial Observation'!B28=\"\",\"\",'Initial Observation'!B28)","v":""},{"$f":"IF('Initial Observation'!E28=\"\",\"\",\"X\")","v":""}]
[{"$f":"'Initial Observation'!A29","v":"00:00:00"},{"$f":"IF('Initial Observation'!B29=\"\",\"\",'Initial Observation'!B29)","v":""},{"$f":"IF('Initial Observation'!E29=\"\",\"\",\"X\")","v":""}]
[{"$f":"'Initial Observation'!A30","v":"00:00:00"},{"$f":"IF('Initial Observation'!B30=\"\",\"\",'Initial Observation'!B30)","v":""},{"$f":"IF('Initial Observation'!E30=\"\",\"\",\"X\")","v":""}]
[{"$f":"'Initial Observation'!A31","v":"00:00:00"},{"$f":"IF('Initial Observation'!B31=\"\",\"\",'Initial Observation'!B31)","v":""},{"$f":"IF('Initial Observation'!E31=\"\",\"\",\"X\")","v":""}]
[{"$f":"'Initial Observation'!A32","v":"00:00:00"},{"$f":"IF('Initial Observation'!B32=\"\",\"\",'Initial Observation'!B32)","v":""},{"$f":"IF('Initial Observation'!E32=\"\",\"\",\"X\")","v":""}]
[{"$f":"'Initial Observation'!A33","v":"00:00:00"},{"$f":"IF('Initial Observation'!B33=\"\",\"\",'Initial Observation'!B33)","v":""},{"$f":"IF('Initial Observation'!E33=\"\",\"\",\"X\")","v":""}]
[{"$f":"'Initial Observation'!A34","v":"00:00:00"},{"$f":"IF('Initial Observation'!B34=\"\",\"\",'Initial Observation'!B34)","v":""},{"$f":"IF('Initial Observation'!E34=\"\",\"\",\"X\")","v":""}]
[{"$f":"'Initial Observation'!A35","v":"00:00:00"},{"$f":"IF('Initial Observation'!B35=\"\",\"\",'Initial Observation'!B35)","v":""},{"$f":"IF('Initial Observation'!E35=\"\",\"\",\"X\")","v":""}]
[{"$f":"'Initial Observation'!A36","v":"00:00:00"},{"$f":"IF('Initial Observation'!B36=\"\",\"\",'Initial Observation'!B36)","v":""},{"$f":"IF('Initial Observation'!E36=\"\",\"\",\"X\")","v":""}]
[{"$f":"'Initial Observation'!A37","v":"00:00:00"},{"$f":"IF('Initial Observation'!B37=\"\",\"\",'Initial Observation'!B37)","v":""},{"$f":"IF('Initial Observation'!E37=\"\",\"\",\"X\")","v":""}]
[{"$f":"'Initial Observation'!A38","v":"00:00:00"},{"$f":"IF('Initial Observation'!B38=\"\",\"\",'Initial Observation'!B38)","v":""},{"$f":"IF('Initial Observation'!E38=\"\",\"\",\"X\")","v":""}]
[{"$f":"'Initial Observation'!A39","v":"00:00:00"},{"$f":"IF('Initial Observation'!B39=\"\",\"\",'Initial Observation'!B39)","v":""},{"$f":"IF('Initial Observation'!E39=\"\",\"\",\"X\")","v":""}]
[{"$f":"'Initial Observation'!A40","v":"00:00:00"},{"$f":"IF('Initial Observation'!B40=\"\",\"\",'Initial Observation'!B40)","v":""},{"$f":"IF('Initial Observation'!E40=\"\",\"\",\"X\")","v":""}]
[{"$f":"'Initial Observation'!A41","v":"00:00:00"},{"$f":"IF('Initial Observation'!B41=\"\",\"\",'Initial Observation'!B41)","v":""},{"$f":"IF('Initial Observation'!E41=\"\",\"\",\"X\")","v":""}]
[{"$f":"'Initial Observation'!A42","v":"00:00:00"},{"$f":"IF('Initial Observation'!B42=\"\",\"\",'Initial Observation'!B42)","v":""},{"$f":"IF('Initial Observation'!E42=\"\",\"\",\"X\")","v":""}]
[{"$f":"'Initial Observation'!A43","v":"00:00:00"},{"$f":"IF('Initial Observation'!B43=\"\",\"\",'Initial Observation'!B43)","v":""},{"$f":"IF('Initial Observation'!E43=\"\",\"\",\"X\")","v":""}]
[{"$f":"'Initial Observation'!A44","v":"00:00:00"},{"$f":"IF('Initial Observation'!B44=\"\",\"\",'Initial Observation'!B44)","v":""},{"$f":"IF('Initial Observation'!E44=\"\",\"\",\"X\")","v":""}]
[{"$f":"'Initial Observation'!A45","v":"00:00:00"},{"$f":"IF('Initial Observation'!B45=\"\",\"\",'Initial Observation'!B45)","v":""},{"$f":"IF('Initial Observation'!E45=\"\",\"\",\"X\")","v":""}]
[{"$f":"'Initial Observation'!A46","v":"00:00:00"},{"$f":"IF('Initial Observation'!B46=\"\",\"\",'Initial Observation'!B46)","v":""},{"$f":"IF('Initial Observation'!E46=\"\",\"\",\"X\")","v":""}]
[{"$f":"'Initial Observation'!A47","v":"00:00:00"},{"$f":"IF('Initial Observation'!B47=\"\",\"\",'Initial Observation'!B47)","v":""},{"$f":"IF('Initial Observation'!E47=\"\",\"\",\"X\")","v":""}]
[{"$f":"'Initial Observation'!A48","v":"00:00:00"},{"$f":"IF('Initial Observation'!B48=\"\",\"\",'Initial Observation'!B48)","v":""},{"$f":"IF('Initial Observation'!E48=\"\",\"\",\"X\")","v":""}]
[{"$f":"'Initial Observation'!A49","v":"00:00:00"},{"$f":"IF('Initial Observation'!B49=\"\",\"\",'Initial Observation'!B49)","v":""},{"$f":"IF('Initial Observation'!E49=\"\",\"\",\"X\")","v":""}]
[{"$f":"'Initial Observation'!A50","v":"00:00:00"},{"$f":"IF('Initial Observation'!B50=\"\",\"\",'Initial Observation'!B50)","v":""},{"$f":"IF('Initial Observation'!E50=\"\",\"\",\"X\")","v":""}]
[{"$f":"'Initial Observation'!A51","v":"00:00:00"},{"$f":"IF('Initial Observation'!B51=\"\",\"\",'Initial Observation'!B51)","v":""},{"$f":"IF('Initial Observation'!E51=\"\",\"\",\"X\")","v":""}]
[{"$f":"'Initial Observation'!A52","v":"00:00:00"},{"$f":"IF('Initial Observation'!B52=\"\",\"\",'Initial Observation'!B52)","v":""},{"$f":"IF('Initial Observation'!E52=\"\",\"\",\"X\")","v":""}]
[{"$f":"'Initial Observation'!A53","v":"00:00:00"},{"$f":"IF('Initial Observation'!B53=\"\",\"\",'Initial Observation'!B53)","v":""},{"$f":"IF('Initial Observation'!E53=\"\",\"\",\"X\")","v":""}]
[{"$f":"'Initial Observation'!A54","v":"00:00:00"},{"$f":"IF('Initial Observation'!B54=\"\",\"\",'Initial Observation'!B54)","v":""},{"$f":"IF('Initial Observation'!E54=\"\",\"\",\"X\")","v":""}]
[{"$f":"'Initial Observation'!A55","v":"00:00:00"},{"$f":"IF('Initial Observation'!B55=\"\",\"\",'Initial Observation'!B55)","v":""},{"$f":"IF('Initial Observation'!E55=\"\",\"\",\"X\")","v":""}]
[{"$f":"'Initial Observation'!A56","v":"00:00:00"},{"$f":"IF('Initial Observation'!B56=\"\",\"\",'Initial Observation'!B56)","v":""},{"$f":"IF('Initial Observation'!E56=\"\",\"\",\"X\")","v":""}]
[{"$f":"'Initial Observation'!A57","v":"00:00:00"},{"$f":"IF('Initial Observation'!B57=\"\",\"\",'Initial Observation'!B57)","v":""},{"$f":"IF('Initial Observation'!E57=\"\",\"\",\"X\")","v":""}]
[{"$f":"'Initial Observation'!A58","v":"00:00:00"},{"$f":"IF('Initial Observation'!B58=\"\",\"\",'Initial Observation'!B58)","v":""},{"$f":"IF('Initial Observation'!E58=\"\",\"\",\"X\")","v":""}]
[{"$f":"'Initial Observation'!A59","v":"00:00:00"},{"$f":"IF('Initial Observation'!B59=\"\",\"\",'Initial Observation'!B59)","v":""},{"$f":"IF('Initial Observation'!E59=\"\",\"\",\"X\")","v":""}]
[{"$f":"'Initial Observation'!A60","v":"00:00:00"},{"$f":"IF('Initial Observation'!B60=\"\",\"\",'Initial Observation'!B60)","v":""},{"$f":"IF('Initial Observation'!E60=\"\",\"\",\"X\")","v":""}]
[{"$f":"'Initial Observation'!A61","v":"00:00:00"},{"$f":"IF('Initial Observation'!B61=\"\",\"\",'Initial Observation'!B61)","v":""},{"$f":"IF('Initial Observation'!E61=\"\",\"\",\"X\")","v":""}]
[{"$f":"'Initial Observation'!A62","v":"00:00:00"},{"$f":"IF('Initial Observation'!B62=\"\",\"\",'Initial Observation'!B62)","v":""},{"$f":"IF('Initial Observation'!E62=\"\",\"\",\"X\")","v":""}]
[{"$f":"'Initial Observation'!A63","v":"00:00:00"},{"$f":"IF('Initial Observation'!B63=\"\",\"\",'Initial Observation'!B63)","v":""},{"$f":"IF('Initial Observation'!E63=\"\",\"\",\"X\")","v":""}]
[{"$f":"'Initial Observation'!A64","v":"00:00:00"},{"$f":"IF('Initial Observation'!B64=\"\",\"\",'Initial Observation'!B64)","v":""},{"$f":"IF('Initial Observation'!E64=\"\",\"\",\"X\")","v":""}]
[{"$f":"'Initial Observation'!A65","v":"00:00:00"},{"$f":"IF('Initial Observation'!B65=\"\",\"\",'Initial Observation'!B65)","v":""},{"$f":"IF('Initial Observation'!E65=\"\",\"\",\"X\")","v":""}]
[{"$f":"'Initial Observation'!A66","v":"00:00:00"},{"$f":"IF('Initial Observation'!B66=\"\",\"\",'Initial Observation'!B66)","v":""},{"$f":"IF('Initial Observation'!E66=\"\",\"\",\"X\")","v":""}]
[{"$f":"'Initial Observation'!A67","v":"00:00:00"},{"$f":"IF('Initial Observation'!B67=\"\",\"\",'Initial Observation'!B67)","v":""},{"$f":"IF('Initial Observation'!E67=\"\",\"\",\"X\")","v":""}]
[{"$f":"'Initial Observation'!A68","v":"00:00:00"},{"$f":"IF('Initial Observation'!B68=\"\",\"\",'Initial Observation'!B68)","v":""},{"$f":"IF('Initial Observation'!E68=\"\",\"\",\"X\")","v":""}]
[{"$f":"'Initial Observation'!A69","v":"00:00:00"},{"$f":"IF('Initial Observation'!B69=\"\",\"\",'Initial Observation'!B69)","v":""},{"$f":"IF('Initial Observation'!E69=\"\",\"\",\"X\")","v":""}]
[{"$f":"'Initial Observation'!A70","v":"00:00:00"},{"$f":"IF('Initial Observation'!B70=\"\",\"\",'Initial Observation'!B70)","v":""},{"$f":"IF('Initial Observation'!E70=\"\",\"\",\"X\")","v":""}]
[{"$f":"'Initial Observation'!A71","v":"00:00:00"},{"$f":"IF('Initial Observation'!B71=\"\",\"\",'Initial Observation'!B71)","v":""},{"$f":"IF('Initial Observation'!E71=\"\",\"\",\"X\")","v":""}]
[{"$f":"'Initial Observation'!A72","v":"00:00:00"},{"$f":"IF('Initial Observation'!B72=\"\",\"\",'Initial Observation'!B72)","v":""},{"$f":"IF('Initial Observation'!E72=\"\",\"\",\"X\")","v":""}]
[{"$f":"'Initial Observation'!A73","v":"00:00:00"},{"$f":"IF('Initial Observation'!B73=\"\",\"\",'Initial Observation'!B73)","v":""},{"$f":"IF('Initial Observation'!E73=\"\",\"\",\"X\")","v":""}]
[{"$f":"'Initial Observation'!A74","v":"00:00:00"},{"$f":"IF('Initial Observation'!B74=\"\",\"\",'Initial Observation'!B74)","v":""},{"$f":"IF('Initial Observation'!E74=\"\",\"\",\"X\")","v":""}]
[{"$f":"'Initial Observation'!A75","v":"00:00:00"},{"$f":"IF('Initial Observation'!B75=\"\",\"\",'Initial Observation'!B75)","v":""},{"$f":"IF('Initial Observation'!E75=\"\",\"\",\"X\")","v":""}]
[{"$f":"'Initial Observation'!A76","v":"00:00:00"},{"$f":"IF('Initial Observation'!B76=\"\",\"\",'Initial Observation'!B76)","v":""},{"$f":"IF('Initial Observation'!E76=\"\",\"\",\"X\")","v":""}]
[{"$f":"'Initial Observation'!A77","v":"00:00:00"},{"$f":"IF('Initial Observation'!B77=\"\",\"\",'Initial Observation'!B77)","v":""},{"$f":"IF('Initial Observation'!E77=\"\",\"\",\"X\")","v":""}]
[{"$f":"'Initial Observation'!A78","v":"00:00:00"},{"$f":"IF('Initial Observation'!B78=\"\",\"\",'Initial Observation'!B78)","v":""},{"$f":"IF('Initial Observation'!E78=\"\",\"\",\"X\")","v":""}]
[{"$f":"'Initial Observation'!A79","v":"00:00:00"},{"$f":"IF('Initial Observation'!B79=\"\",\"\",'Initial Observation'!B79)","v":""},{"$f":"IF('Initial Observation'!E79=\"\",\"\",\"X\")","v":""}]
[{"$f":"'Initial Observation'!A80","v":"00:00:00"},{"$f":"IF('Initial Observation'!B80=\"\",\"\",'Initial Observation'!B80)","v":""},{"$f":"IF('Initial Observation'!E80=\"\",\"\",\"X\")","v":""}]
[{"$f":"'Initial Observation'!A81","v":"00:00:00"},{"$f":"IF('Initial Observation'!B81=\"\",\"\",'Initial Observation'!B81)","v":""},{"$f":"IF('Initial Observation'!E81=\"\",\"\",\"X\")","v":""}]
[{"$f":"'Initial Observation'!A82","v":"00:00:00"},{"$f":"IF('Initial Observation'!B82=\"\",\"\",'Initial Observation'!B82)","v":""},{"$f":"IF('Initial Observation'!E82=\"\",\"\",\"X\")","v":""}]
[{"$f":"'Initial Observation'!A83","v":"00:00:00"},{"$f":"IF('Initial Observation'!B83=\"\",\"\",'Initial Observation'!B83)","v":""},{"$f":"IF('Initial Observation'!E83=\"\",\"\",\"X\")","v":""}]
[{"$f":"'Initial Observation'!A84","v":"00:00:00"},{"$f":"IF('Initial Observation'!B84=\"\",\"\",'Initial Observation'!B84)","v":""},{"$f":"IF('Initial Observation'!E84=\"\",\"\",\"X\")","v":""}]
[{"$f":"'Initial Observation'!A85","v":"00:00:00"},{"$f":"IF('Initial Observation'!B85=\"\",\"\",'Initial Observation'!B85)","v":""},{"$f":"IF('Initial Observation'!E85=\"\",\"\",\"X\")","v":""}]
[{"$f":"'Initial Observation'!A86","v":"00:00:00"},{"$f":"IF('Initial Observation'!B86=\"\",\"\",'Initial Observation'!B86)","v":""},{"$f":"IF('Initial Observation'!E86=\"\",\"\",\"X\")","v":""}]
[{"$f":"'Initial Observation'!A87","v":"00:00:00"},{"$f":"IF('Initial Observation'!B87=\"\",\"\",'Initial Observation'!B87)","v":""},{"$f":"IF('Initial Observation'!E87=\"\",\"\",\"X\")","v":""}]
[{"$f":"'Initial Observation'!A88","v":"00:00:00"},{"$f":"IF('Initial Observation'!B88=\"\",\"\",'Initial Observation'!B88)","v":""},{"$f":"IF('Initial Observation'!E88=\"\",\"\",\"X\")","v":""}]
[{"$f":"'Initial Observation'!A89","v":"00:00:00"},{"$f":"IF('Initial Observation'!B89=\"\",\"\",'Initial Observation'!B89)","v":""},{"$f":"IF('Initial Observation'!E89=\"\",\"\",\"X\")","v":""}]
[{"$f":"'Initial Observation'!A90","v":"00:00:00"},{"$f":"IF('Initial Observation'!B90=\"\",\"\",'Initial Observation'!B90)","v":""},{"$f":"IF('Initial Observation'!E90=\"\",\"\",\"X\")","v":""}]
[{"$f":"'Initial Observation'!A91","v":"00:00:00"},{"$f":"IF('Initial Observation'!B91=\"\",\"\",'Initial Observation'!B91)","v":""},{"$f":"IF('Initial Observation'!E91=\"\",\"\",\"X\")","v":""}]
[{"$f":"'Initial Observation'!A92","v":"00:00:00"},{"$f":"IF('Initial Observation'!B92=\"\",\"\",'Initial Observation'!B92)","v":""},{"$f":"IF('Initial Observation'!E92=\"\",\"\",\"X\")","v":""}]
[{"$f":"'Initial Observation'!A93","v":"00:00:00"},{"$f":"IF('Initial Observation'!B93=\"\",\"\",'Initial Observation'!B93)","v":""},{"$f":"IF('Initial Observation'!E93=\"\",\"\",\"X\")","v":""}]
[{"$f":"'Initial Observation'!A94","v":"00:00:00"},{"$f":"IF('Initial Observation'!B94=\"\",\"\",'Initial Observation'!B94)","v":""},{"$f":"IF('Initial Observation'!E94=\"\",\"\",\"X\")","v":""}]
[{"$f":"'Initial Observation'!A95","v":"00:00:00"},{"$f":"IF('Initial Observation'!B95=\"\",\"\",'Initial Observation'!B95)","v":""},{"$f":"IF('Initial Observation'!E95=\"\",\"\",\"X\")","v":""}]
[{"$f":"'Initial Observation'!A96","v":"00:00:00"},{"$f":"IF('Initial Observation'!B96=\"\",\"\",'Initial Observation'!B96)","v":""},{"$f":"IF('Initial Observation'!E96=\"\",\"\",\"X\")","v":""}]
[{"$f":"'Initial Observation'!A97","v":"00:00:00"},{"$f":"IF('Initial Observation'!B97=\"\",\"\",'Initial Observation'!B97)","v":""},{"$f":"IF('Initial Observation'!E97=\"\",\"\",\"X\")","v":""}]
[{"$f":"'Initial Observation'!A98","v":"00:00:00"},{"$f":"IF('Initial Observation'!B98=\"\",\"\",'Initial Observation'!B98)","v":""},{"$f":"IF('Initial Observation'!E98=\"\",\"\",\"X\")","v":""}]
[{"$f":"'Initial Observation'!A99","v":"00:00:00"},{"$f":"IF('Initial Observation'!B99=\"\",\"\",'Initial Observation'!B99)","v":""},{"$f":"IF('Initial Observation'!E99=\"\",\"\",\"X\")","v":""}]
[{"$f":"'Initial Observation'!A100","v":"00:00:00"},{"$f":"IF('Initial Observation'!B100=\"\",\"\",'Initial Observation'!B100)","v":""},{"$f":"IF('Initial Observation'!E100=\"\",\"\",\"X\")","v":""}]
[{"$f":"'Initial Observation'!A101","v":"00:00:00"},{"$f":"IF('Initial Observation'!B101=\"\",\"\",'Initial Observation'!B101)","v":""},{"$f":"IF('Initial Observation'!E101=\"\",\"\",\"X\")","v":""}]
[{"$f":"'Initial Observation'!A102","v":"00:00:00"},{"$f":"IF('Initial Observation'!B102=\"\",\"\",'Initial Observation'!B102)","v":""},{"$f":"IF('Initial Observation'!E102=\"\",\"\",\"X\")","v":""}]
[{"$f":"'Initial Observation'!A103","v":"00:00:00"},{"$f":"IF('Initial Observation'!B103=\"\",\"\",'Initial Observation'!B103)","v":""},{"$f":"IF('Initial Observation'!E103=\"\",\"\",\"X\")","v":""}]
[{"$f":"'Initial Observation'!A104","v":"00:00:00"},{"$f":"IF('Initial Observation'!B104=\"\",\"\",'Initial Observation'!B104)","v":""},{"$f":"IF('Initial Observation'!E104=\"\",\"\",\"X\")","v":""}]
[{"$f":"'Initial Observation'!A105","v":"00:00:00"},{"$f":"IF('Initial Observation'!B105=\"\",\"\",'Initial Observation'!B105)","v":""},{"$f":"IF('Initial Observation'!E105=\"\",\"\",\"X\")","v":""}]
[{"$f":"'Initial Observation'!A106","v":"00:00:00"},{"$f":"IF('Initial Observation'!B106=\"\",\"\",'Initial Observation'!B106)","v":""},{"$f":"IF('Initial Observation'!E106=\"\",\"\",\"X\")","v":""}]
[{"$f":"'Initial Observation'!A107","v":"00:00:00"},{"$f":"IF('Initial Observation'!B107=\"\",\"\",'Initial Observation'!B107)","v":""},{"$f":"IF('Initial Observation'!E107=\"\",\"\",\"X\")","v":""}]
[{"$f":"'Initial Observation'!A108","v":"00:00:00"},{"$f":"IF('Initial Observation'!B108=\"\",\"\",'Initial Observation'!B108)","v":""},{"$f":"IF('Initial Observation'!E108=\"\",\"\",\"X\")","v":""}]
[{"$f":"'Initial Observation'!A109","v":"00:00:00"},{"$f":"IF('Initial Observation'!B109=\"\",\"\",'Initial Observation'!B109)","v":""},{"$f":"IF('Initial Observation'!E109=\"\",\"\",\"X\")","v":""}]
[{"$f":"'Initial Observation'!A110","v":"00:00:00"},{"$f":"IF('Initial Observation'!B110=\"\",\"\",'Initial Observation'!B110)","v":""},{"$f":"IF('Initial Observation'!E110=\"\",\"\",\"X\")","v":""}]
[{"$f":"'Initial Observation'!A111","v":"00:00:00"},{"$f":"IF('Initial Observation'!B111=\"\",\"\",'Initial Observation'!B111)","v":""},{"$f":"IF('Initial Observation'!E111=\"\",\"\",\"X\")","v":""}]
[{"$f":"'Initial Observation'!A112","v":"00:00:00"},{"$f":"IF('Initial Observation'!B112=\"\",\"\",'Initial Observation'!B112)","v":""},{"$f":"IF('Initial Observation'!E112=\"\",\"\",\"X\")","v":""}]
[{"$f":"'Initial Observation'!A113","v":"00:00:00"},{"$f":"IF('Initial Observation'!B113=\"\",\"\",'Initial Observation'!B113)","v":""},{"$f":"IF('Initial Observation'!E113=\"\",\"\",\"X\")","v":""}]
[{"$f":"'Initial Observation'!A114","v":"00:00:00"},{"$f":"IF('Initial Observation'!B114=\"\",\"\",'Initial Observation'!B114)","v":""},{"$f":"IF('Initial Observation'!E114=\"\",\"\",\"X\")","v":""}]
[{"$f":"'Initial Observation'!A115","v":"00:00:00"},{"$f":"IF('Initial Observation'!B115=\"\",\"\",'Initial Observation'!B115)","v":""},{"$f":"IF('Initial Observation'!E115=\"\",\"\",\"X\")","v":""}]
[{"$f":"'Initial Observation'!A116","v":"00:00:00"},{"$f":"IF('Initial Observation'!B116=\"\",\"\",'Initial Observation'!B116)","v":""},{"$f":"IF('Initial Observation'!E116=\"\",\"\",\"X\")","v":""}]
[{"$f":"'Initial Observation'!A117","v":"00:00:00"},{"$f":"IF('Initial Observation'!B117=\"\",\"\",'Initial Observation'!B117)","v":""},{"$f":"IF('Initial Observation'!E117=\"\",\"\",\"X\")","v":""}]
[{"$f":"'Initial Observation'!A118","v":"00:00:00"},{"$f":"IF('Initial Observation'!B118=\"\",\"\",'Initial Observation'!B118)","v":""},{"$f":"IF('Initial Observation'!E118=\"\",\"\",\"X\")","v":""}]
[{"$f":"'Initial Observation'!A119","v":"00:00:00"},{"$f":"IF('Initial Observation'!B119=\"\",\"\",'Initial Observation'!B119)","v":""},{"$f":"IF('Initial Observation'!E119=\"\",\"\",\"X\")","v":""}]
[{"$f":"'Initial Observation'!A120","v":"00:00:00"},{"$f":"IF('Initial Observation'!B120=\"\",\"\",'Initial Observation'!B120)","v":""},{"$f":"IF('Initial Observation'!E120=\"\",\"\",\"X\")","v":""}]
[{"$f":"'Initial Observation'!A121","v":"00:00:00"},{"$f":"IF('Initial Observation'!B121=\"\",\"\",'Initial Observation'!B121)","v":""},{"$f":"IF('Initial Observation'!E121=\"\",\"\",\"X\")","v":""}]
[{"$f":"'Initial Observation'!A122","v":"00:00:00"},{"$f":"IF('Initial Observation'!B122=\"\",\"\",'Initial Observation'!B122)","v":""},{"$f":"IF('Initial Observation'!E122=\"\",\"\",\"X\")","v":""}]
[{"$f":"'Initial Observation'!A123","v":"00:00:00"},{"$f":"IF('Initial Observation'!B123=\"\",\"\",'Initial Observation'!B123)","v":""},{"$f":"IF('Initial Observation'!E123=\"\",\"\",\"X\")","v":""}]
[{"$f":"'Initial Observation'!A124","v":"00:00:00"},{"$f":"IF('Initial Observation'!B124=\"\",\"\",'Initial Observation'!B124)","v":""},{"$f":"IF('Initial Observation'!E124=\"\",\"\",\"X\")","v":""}]
[{"$f":"'Initial Observation'!A125","v":"00:00:00"},{"$f":"IF('Initial Observation'!B125=\"\",\"\",'Initial Observation'!B125)","v":""},{"$f":"IF('Initial Observation'!E125=\"\",\"\",\"X\")","v":""}]
[{"$f":"'Initial Observation'!A126","v":"00:00:00"},{"$f":"IF('Initial Observation'!B126=\"\",\"\",'Initial Observation'!B126)","v":""},{"$f":"IF('Initial Observation'!E126=\"\",\"\",\"X\")","v":""}]
[{"$f":"'Initial Observation'!A127","v":"00:00:00"},{"$f":"IF('Initial Observation'!B127=\"\",\"\",'Initial Observation'!B127)","v":""},{"$f":"IF('Initial Observation'!E127=\"\",\"\",\"X\")","v":""}]
[{"$f":"'Initial Observation'!A128","v":"00:00:00"},{"$f":"IF('Initial Observation'!B128=\"\",\"\",'Initial Observation'!B128)","v":""},{"$f":"IF('Initial Observation'!E128=\"\",\"\",\"X\")","v":""}]
[{"$f":"'Initial Observation'!A129","v":"00:00:00"},{"$f":"IF('Initial Observation'!B129=\"\",\"\",'Initial Observation'!B129)","v":""},{"$f":"IF('Initial Observation'!E129=\"\",\"\",\"X\")","v":""}]
[{"$f":"'Initial Observation'!A130","v":"00:00:00"},{"$f":"IF('Initial Observation'!B130=\"\",\"\",'Initial Observation'!B130)","v":""},{"$f":"IF('Initial Observation'!E130=\"\",\"\",\"X\")","v":""}]
[{"$f":"'Initial Observation'!A131","v":"00:00:00"},{"$f":"IF('Initial Observation'!B131=\"\",\"\",'Initial Observation'!B131)","v":""},{"$f":"IF('Initial Observation'!E131=\"\",\"\",\"X\")","v":""}]
[{"$f":"'Initial Observation'!A132","v":"00:00:00"},{"$f":"IF('Initial Observation'!B132=\"\",\"\",'Initial Observation'!B132)","v":""},{"$f":"IF('Initial Observation'!E132=\"\",\"\",\"X\")","v":""}]
[{"$f":"'Initial Observation'!A133","v":"00:00:00"},{"$f":"IF('Initial Observation'!B133=\"\",\"\",'Initial Observation'!B133)","v":""},{"$f":"IF('Initial Observation'!E133=\"\",\"\",\"X\")","v":""}]
[{"$f":"'Initial Observation'!A134","v":"00:00:00"},{"$f":"IF('Initial Observation'!B134=\"\",\"\",'Initial Observation'!B134)","v":""},{"$f":"IF('Initial Observation'!E134=\"\",\"\",\"X\")","v":""}]
[{"$f":"'Initial Observation'!A135","v":"00:00:00"},{"$f":"IF('Initial Observation'!B135=\"\",\"\",'Initial Observation'!B135)","v":""},{"$f":"IF('Initial Observation'!E135=\"\",\"\",\"X\")","v":""}]
[{"$f":"'Initial Observation'!A136","v":"00:00:00"},{"$f":"IF('Initial Observation'!B136=\"\",\"\",'Initial Observation'!B136)","v":""},{"$f":"IF('Initial Observation'!E136=\"\",\"\",\"X\")","v":""}]
[{"$f":"'Initial Observation'!A137","v":"00:00:00"},{"$f":"IF('Initial Observation'!B137=\"\",\"\",'Initial Observation'!B137)","v":""},{"$f":"IF('Initial Observation'!E137=\"\",\"\",\"X\")","v":""}]
[{"$f":"'Initial Observation'!A138","v":"00:00:00"},{"$f":"IF('Initial Observation'!B138=\"\",\"\",'Initial Observation'!B138)","v":""},{"$f":"IF('Initial Observation'!E138=\"\",\"\",\"X\")","v":""}]
[{"$f":"'Initial Observation'!A139","v":"00:00:00"},{"$f":"IF('Initial Observation'!B139=\"\",\"\",'Initial Observation'!B139)","v":""},{"$f":"IF('Initial Observation'!E139=\"\",\"\",\"X\")","v":""}]
[{"$f":"'Initial Observation'!A140","v":"00:00:00"},{"$f":"IF('Initial Observation'!B140=\"\",\"\",'Initial Observation'!B140)","v":""},{"$f":"IF('Initial Observation'!E140=\"\",\"\",\"X\")","v":""}]
[{"$f":"'Initial Observation'!A141","v":"00:00:00"},{"$f":"IF('Initial Observation'!B141=\"\",\"\",'Initial Observation'!B141)","v":""},{"$f":"IF('Initial Observation'!E141=\"\",\"\",\"X\")","v":""}]
[{"$f":"'Initial Observation'!A142","v":"00:00:00"},{"$f":"IF('Initial Observation'!B142=\"\",\"\",'Initial Observation'!B142)","v":""},{"$f":"IF('Initial Observation'!E142=\"\",\"\",\"X\")","v":""}]
[{"$f":"'Initial Observation'!A143","v":"00:00:00"},{"$f":"IF('Initial Observation'!B143=\"\",\"\",'Initial Observation'!B143)","v":""},{"$f":"IF('Initial Observation'!E143=\"\",\"\",\"X\")","v":""}]
[{"$f":"'Initial Observation'!A144","v":"00:00:00"},{"$f":"IF('Initial Observation'!B144=\"\",\"\",'Initial Observation'!B144)","v":""},{"$f":"IF('Initial Observation'!E144=\"\",\"\",\"X\")","v":""}]
[{"$f":"'Initial Observation'!A145","v":"00:00:00"},{"$f":"IF('Initial Observation'!B145=\"\",\"\",'Initial Observation'!B145)","v":""},{"$f":"IF('Initial Observation'!E145=\"\",\"\",\"X\")","v":""}]
[{"$f":"'Initial Observation'!A146","v":"00:00:00"},{"$f":"IF('Initial Observation'!B146=\"\",\"\",'Initial Observation'!B146)","v":""},{"$f":"IF('Initial Observation'!E146=\"\",\"\",\"X\")","v":""}]
[{"$f":"'Initial Observation'!A147","v":"00:00:00"},{"$f":"IF('Initial Observation'!B147=\"\",\"\",'Initial Observation'!B147)","v":""},{"$f":"IF('Initial Observation'!E147=\"\",\"\",\"X\")","v":""}]
[{"$f":"'Initial Observation'!A148","v":"00:00:00"},{"$f":"IF('Initial Observation'!B148=\"\",\"\",'Initial Observation'!B148)","v":""},{"$f":"IF('Initial Observation'!E148=\"\",\"\",\"X\")","v":""}]
[{"$f":"'Initial Observation'!A149","v":"00:00:00"},{"$f":"IF('Initial Observation'!B149=\"\",\"\",'Initial Observation'!B149)","v":""},{"$f":"IF('Initial Observation'!E149=\"\",\"\",\"X\")","v":""}]
[{"$f":"'Initial Observation'!A150","v":"00:00:00"},{"$f":"IF('Initial Observation'!B150=\"\",\"\",'Initial Observation'!B150)","v":""},{"$f":"IF('Initial Observation'!E150=\"\",\"\",\"X\")","v":""}]
[{"$f":"'Initial Observation'!A151","v":"00:00:00"},{"$f":"IF('Initial Observation'!B151=\"\",\"\",'Initial Observation'!B151)","v":""},{"$f":"IF('Initial Observation'!E151=\"\",\"\",\"X\")","v":""}]
[{"$f":"'Initial Observation'!A152","v":"00:00:00"},{"$f":"IF('Initial Observation'!B152=\"\",\"\",'Initial Observation'!B152)","v":""},{"$f":"IF('Initial Observation'!E152=\"\",\"\",\"X\")","v":""}]
[{"$f":"'Initial Observation'!A153","v":"00:00:00"},{"$f":"IF('Initial Observation'!B153=\"\",\"\",'Initial Observation'!B153)","v":""},{"$f":"IF('Initial Observation'!E153=\"\",\"\",\"X\")","v":""}]
[{"$f":"'Initial Observation'!A154","v":"00:00:00"},{"$f":"IF('Initial Observation'!B154=\"\",\"\",'Initial Observation'!B154)","v":""},{"$f":"IF('Initial Observation'!E154=\"\",\"\",\"X\")","v":""}]
[{"$f":"'Initial Observation'!A155","v":"00:00:00"},{"$f":"IF('Initial Observation'!B155=\"\",\"\",'Initial Observation'!B155)","v":""},{"$f":"IF('Initial Observation'!E155=\"\",\"\",\"X\")","v":""}]
[{"$f":"'Initial Observation'!A156","v":"00:00:00"},{"$f":"IF('Initial Observation'!B156=\"\",\"\",'Initial Observation'!B156)","v":""},{"$f":"IF('Initial Observation'!E156=\"\",\"\",\"X\")","v":""}]
[{"$f":"'Initial Observation'!A157","v":"00:00:00"},{"$f":"IF('Initial Observation'!B157=\"\",\"\",'Initial Observation'!B157)","v":""},{"$f":"IF('Initial Observation'!E157=\"\",\"\",\"X\")","v":""}]
[{"$f":"'Initial Observation'!A158","v":"00:00:00"},{"$f":"IF('Initial Observation'!B158=\"\",\"\",'Initial Observation'!B158)","v":""},{"$f":"IF('Initial Observation'!E158=\"\",\"\",\"X\")","v":""}]
[{"$f":"'Initial Observation'!A159","v":"00:00:00"},{"$f":"IF('Initial Observation'!B159=\"\",\"\",'Initial Observation'!B159)","v":""},{"$f":"IF('Initial Observation'!E159=\"\",\"\",\"X\")","v":""}]
[{"$f":"'Initial Observation'!A160","v":"00:00:00"},{"$f":"IF('Initial Observation'!B160=\"\",\"\",'Initial Observation'!B160)","v":""},{"$f":"IF('Initial Observation'!E160=\"\",\"\",\"X\")","v":""}]
[{"$f":"'Initial Observation'!A161","v":"00:00:00"},{"$f":"IF('Initial Observation'!B161=\"\",\"\",'Initial Observation'!B161)","v":""},{"$f":"IF('Initial Observation'!E161=\"\",\"\",\"X\")","v":""}]
[{"$f":"'Initial Observation'!A162","v":"00:00:00"},{"$f":"IF('Initial Observation'!B162=\"\",\"\",'Initial Observation'!B162)","v":""},{"$f":"IF('Initial Observation'!E162=\"\",\"\",\"X\")","v":""}]
[{"$f":"'Initial Observation'!A163","v":"00:00:00"},{"$f":"IF('Initial Observation'!B163=\"\",\"\",'Initial Observation'!B163)","v":""},{"$f":"IF('Initial Observation'!E163=\"\",\"\",\"X\")","v":""}]
[{"$f":"'Initial Observation'!A164","v":"00:00:00"},{"$f":"IF('Initial Observation'!B164=\"\",\"\",'Initial Observation'!B164)","v":""},{"$f":"IF('Initial Observation'!E164=\"\",\"\",\"X\")","v":""}]
[{"$f":"'Initial Observation'!A165","v":"00:00:00"},{"$f":"IF('Initial Observation'!B165=\"\",\"\",'Initial Observation'!B165)","v":""},{"$f":"IF('Initial Observation'!E165=\"\",\"\",\"X\")","v":""}]
[{"$f":"'Initial Observation'!A166","v":"00:00:00"},{"$f":"IF('Initial Observation'!B166=\"\",\"\",'Initial Observation'!B166)","v":""},{"$f":"IF('Initial Observation'!E166=\"\",\"\",\"X\")","v":""}]
[{"$f":"'Initial Observation'!A167","v":"00:00:00"},{"$f":"IF('Initial Observation'!B167=\"\",\"\",'Initial Observation'!B167)","v":""},{"$f":"IF('Initial Observation'!E167=\"\",\"\",\"X\")","v":""}]
[{"$f":"'Initial Observation'!A168","v":"00:00:00"},{"$f":"IF('Initial Observation'!B168=\"\",\"\",'Initial Observation'!B168)","v":""},{"$f":"IF('Initial Observation'!E168=\"\",\"\",\"X\")","v":""}]
[{"$f":"'Initial Observation'!A169","v":"00:00:00"},{"$f":"IF('Initial Observation'!B169=\"\",\"\",'Initial Observation'!B169)","v":""},{"$f":"IF('Initial Observation'!E169=\"\",\"\",\"X\")","v":""}]
[{"$f":"'Initial Observation'!A170","v":"00:00:00"},{"$f":"IF('Initial Observation'!B170=\"\",\"\",'Initial Observation'!B170)","v":""},{"$f":"IF('Initial Observation'!E170=\"\",\"\",\"X\")","v":""}]
[{"$f":"'Initial Observation'!A171","v":"00:00:00"},{"$f":"IF('Initial Observation'!B171=\"\",\"\",'Initial Observation'!B171)","v":""},{"$f":"IF('Initial Observation'!E171=\"\",\"\",\"X\")","v":""}]
[{"$f":"'Initial Observation'!A172","v":"00:00:00"},{"$f":"IF('Initial Observation'!B172=\"\",\"\",'Initial Observation'!B172)","v":""},{"$f":"IF('Initial Observation'!E172=\"\",\"\",\"X\")","v":""}]
[{"$f":"'Initial Observation'!A173","v":"00:00:00"},{"$f":"IF('Initial Observation'!B173=\"\",\"\",'Initial Observation'!B173)","v":""},{"$f":"IF('Initial Observation'!E173=\"\",\"\",\"X\")","v":""}]
[{"$f":"'Initial Observation'!A174","v":"00:00:00"},{"$f":"IF('Initial Observation'!B174=\"\",\"\",'Initial Observation'!B174)","v":""},{"$f":"IF('Initial Observation'!E174=\"\",\"\",\"X\")","v":""}]
[{"$f":"'Initial Observation'!A175","v":"00:00:00"},{"$f":"IF('Initial Observation'!B175=\"\",\"\",'Initial Observation'!B175)","v":""},{"$f":"IF('Initial Observation'!E175=\"\",\"\",\"X\")","v":""}]
[{"$f":"'Initial Observation'!A176","v":"00:00:00"},{"$f":"IF('Initial Observation'!B176=\"\",\"\",'Initial Observation'!B176)","v":""},{"$f":"IF('Initial Observation'!E176=\"\",\"\",\"X\")","v":""}]
[{"$f":"'Initial Observation'!A177","v":"00:00:00"},{"$f":"IF('Initial Observation'!B177=\"\",\"\",'Initial Observation'!B177)","v":""},{"$f":"IF('Initial Observation'!E177=\"\",\"\",\"X\")","v":""}]
[{"$f":"'Initial Observation'!A178","v":"00:00:00"},{"$f":"IF('Initial Observation'!B178=\"\",\"\",'Initial Observation'!B178)","v":""},{"$f":"IF('Initial Observation'!E178=\"\",\"\",\"X\")","v":""}]
[{"$f":"'Initial Observation'!A179","v":"00:00:00"},{"$f":"IF('Initial Observation'!B179=\"\",\"\",'Initial Observation'!B179)","v":""},{"$f":"IF('Initial Observation'!E179=\"\",\"\",\"X\")","v":""}]
[{"$f":"'Initial Observation'!A180","v":"00:00:00"},{"$f":"IF('Initial Observation'!B180=\"\",\"\",'Initial Observation'!B180)","v":""},{"$f":"IF('Initial Observation'!E180=\"\",\"\",\"X\")","v":""}]
[{"$f":"'Initial Observation'!A181","v":"00:00:00"},{"$f":"IF('Initial Observation'!B181=\"\",\"\",'Initial Observation'!B181)","v":""},{"$f":"IF('Initial Observation'!E181=\"\",\"\",\"X\")","v":""}]
[{"$f":"'Initial Observation'!A182","v":"00:00:00"},{"$f":"IF('Initial Observation'!B182=\"\",\"\",'Initial Observation'!B182)","v":""},{"$f":"IF('Initial Observation'!E182=\"\",\"\",\"X\")","v":""}]
[{"$f":"'Initial Observation'!A183","v":"00:00:00"},{"$f":"IF('Initial Observation'!B183=\"\",\"\",'Initial Observation'!B183)","v":""},{"$f":"IF('Initial Observation'!E183=\"\",\"\",\"X\")","v":""}]
[{"$f":"'Initial Observation'!A184","v":"00:00:00"},{"$f":"IF('Initial Observation'!B184=\"\",\"\",'Initial Observation'!B184)","v":""},{"$f":"IF('Initial Observation'!E184=\"\",\"\",\"X\")","v":""}]
[{"$f":"'Initial Observation'!A185","v":"00:00:00"},{"$f":"IF('Initial Observation'!B185=\"\",\"\",'Initial Observation'!B185)","v":""},{"$f":"IF('Initial Observation'!E185=\"\",\"\",\"X\")","v":""}]
[{"$f":"'Initial Observation'!A186","v":"00:00:00"},{"$f":"IF('Initial Observation'!B186=\"\",\"\",'Initial Observation'!B186)","v":""},{"$f":"IF('Initial Observation'!E186=\"\",\"\",\"X\")","v":""}]
[{"$f":"'Initial Observation'!A187","v":"00:00:00"},{"$f":"IF('Initial Observation'!B187=\"\",\"\",'Initial Observation'!B187)","v":""},{"$f":"IF('Initial Observation'!E187=\"\",\"\",\"X\")","v":""}]
[{"$f":"'Initial Observation'!A188","v":"00:00:00"},{"$f":"IF('Initial Observation'!B188=\"\",\"\",'Initial Observation'!B188)","v":""},{"$f":"IF('Initial Observation'!E188=\"\",\"\",\"X\")","v":""}]
[{"$f":"'Initial Observation'!A189","v":"00:00:00"},{"$f":"IF('Initial Observation'!B189=\"\",\"\",'Initial Observation'!B189)","v":""},{"$f":"IF('Initial Observation'!E189=\"\",\"\",\"X\")","v":""}]
[{"$f":"'Initial Observation'!A190","v":"00:00:00"},{"$f":"IF('Initial Observation'!B190=\"\",\"\",'Initial Observation'!B190)","v":""},{"$f":"IF('Initial Observation'!E190=\"\",\"\",\"X\")","v":""}]
[{"$f":"'Initial Observation'!A191","v":"00:00:00"},{"$f":"IF('Initial Observation'!B191=\"\",\"\",'Initial Observation'!B191)","v":""},{"$f":"IF('Initial Observation'!E191=\"\",\"\",\"X\")","v":""}]
[{"$f":"'Initial Observation'!A192","v":"00:00:00"},{"$f":"IF('Initial Observation'!B192=\"\",\"\",'Initial Observation'!B192)","v":""},{"$f":"IF('Initial Observation'!E192=\"\",\"\",\"X\")","v":""}]
[{"$f":"'Initial Observation'!A193","v":"00:00:00"},{"$f":"IF('Initial Observation'!B193=\"\",\"\",'Initial Observation'!B193)","v":""},{"$f":"IF('Initial Observation'!E193=\"\",\"\",\"X\")","v":""}]
[{"$f":"'Initial Observation'!A194","v":"00:00:00"},{"$f":"IF('Initial Observation'!B194=\"\",\"\",'Initial Observation'!B194)","v":""},{"$f":"IF('Initial Observation'!E194=\"\",\"\",\"X\")","v":""}]
[{"$f":"'Initial Observation'!A195","v":"00:00:00"},{"$f":"IF('Initial Observation'!B195=\"\",\"\",'Initial Observation'!B195)","v":""},{"$f":"IF('Initial Observation'!E195=\"\",\"\",\"X\")","v":""}]
[{"$f":"'Initial Observation'!A196","v":"00:00:00"},{"$f":"IF('Initial Observation'!B196=\"\",\"\",'Initial Observation'!B196)","v":""},{"$f":"IF('Initial Observation'!E196=\"\",\"\",\"X\")","v":""}]
[{"$f":"'Initial Observation'!A197","v":"00:00:00"},{"$f":"IF('Initial Observation'!B197=\"\",\"\",'Initial Observation'!B197)","v":""},{"$f":"IF('Initial Observation'!E197=\"\",\"\",\"X\")","v":""}]
[{"$f":"'Initial Observation'!A198","v":"00:00:00"},{"$f":"IF('Initial Observation'!B198=\"\",\"\",'Initial Observation'!B198)","v":""},{"$f":"IF('Initial Observation'!E198=\"\",\"\",\"X\")","v":""}]
[{"$f":"'Initial Observation'!A199","v":"00:00:00"},{"$f":"IF('Initial Observation'!B199=\"\",\"\",'Initial Observation'!B199)","v":""},{"$f":"IF('Initial Observation'!E199=\"\",\"\",\"X\")","v":""}]
[{"$f":"'Initial Observation'!A200","v":"00:00:00"},{"$f":"IF('Initial Observation'!B200=\"\",\"\",'Initial Observation'!B200)","v":""},{"$f":"IF('Initial Observation'!E200=\"\",\"\",\"X\")","v":""}]
[{"$f":"'Initial Observation'!A201","v":"00:00:00"},{"$f":"IF('Initial Observation'!B201=\"\",\"\",'Initial Observation'!B201)","v":""},{"$f":"IF('Initial Observation'!E201=\"\",\"\",\"X\")","v":""}]
[{"$f":"'Initial Observation'!A202","v":"00:00:00"},{"$f":"IF('Initial Observation'!B202=\"\",\"\",'Initial Observation'!B202)","v":""},{"$f":"IF('Initial Observation'!E202=\"\",\"\",\"X\")","v":""}]
[{"$f":"'Initial Observation'!A203","v":"00:00:00"},{"$f":"IF('Initial Observation'!B203=\"\",\"\",'Initial Observation'!B203)","v":""},{"$f":"IF('Initial Observation'!E203=\"\",\"\",\"X\")","v":""}]
[{"$f":"'Initial Observation'!A204","v":"00:00:00"},{"$f":"IF('Initial Observation'!B204=\"\",\"\",'Initial Observation'!B204)","v":""},{"$f":"IF('Initial Observation'!E204=\"\",\"\",\"X\")","v":""}]
[{"$f":"'Initial Observation'!A205","v":"00:00:00"},{"$f":"IF('Initial Observation'!B205=\"\",\"\",'Initial Observation'!B205)","v":""},{"$f":"IF('Initial Observation'!E205=\"\",\"\",\"X\")","v":""}]
[{"$f":"'Initial Observation'!A206","v":"00:00:00"},{"$f":"IF('Initial Observation'!B206=\"\",\"\",'Initial Observation'!B206)","v":""},{"$f":"IF('Initial Observation'!E206=\"\",\"\",\"X\")","v":""}]
[{"$f":"'Initial Observation'!A207","v":"00:00:00"},{"$f":"IF('Initial Observation'!B207=\"\",\"\",'Initial Observation'!B207)","v":""},{"$f":"IF('Initial Observation'!E207=\"\",\"\",\"X\")","v":""}]
[{"$f":"'Initial Observation'!A208","v":"00:00:00"},{"$f":"IF('Initial Observation'!B208=\"\",\"\",'Initial Observation'!B208)","v":""},{"$f":"IF('Initial Observation'!E208=\"\",\"\",\"X\")","v":""}]
[{"$f":"'Initial Observation'!A209","v":"00:00:00"},{"$f":"IF('Initial Observation'!B209=\"\",\"\",'Initial Observation'!B209)","v":""},{"$f":"IF('Initial Observation'!E209=\"\",\"\",\"X\")","v":""}]
[{"$f":"'Initial Observation'!A210","v":"00:00:00"},{"$f":"IF('Initial Observation'!B210=\"\",\"\",'Initial Observation'!B210)","v":""},{"$f":"IF('Initial Observation'!E210=\"\",\"\",\"X\")","v":""}]
[{"$f":"'Initial Observation'!A211","v":"00:00:00"},{"$f":"IF('Initial Observation'!B211=\"\",\"\",'Initial Observation'!B211)","v":""},{"$f":"IF('Initial Observation'!E211=\"\",\"\",\"X\")","v":""}]
[{"$f":"'Initial Observation'!A212","v":"00:00:00"},{"$f":"IF('Initial Observation'!B212=\"\",\"\",'Initial Observation'!B212)","v":""},{"$f":"IF('Initial Observation'!E212=\"\",\"\",\"X\")","v":""}]
[{"$f":"'Initial Observation'!A213","v":"00:00:00"},{"$f":"IF('Initial Observation'!B213=\"\",\"\",'Initial Observation'!B213)","v":""},{"$f":"IF('Initial Observation'!E213=\"\",\"\",\"X\")","v":""}]
[{"$f":"'Initial Observation'!A214","v":"00:00:00"},{"$f":"IF('Initial Observation'!B214=\"\",\"\",'Initial Observation'!B214)","v":""},{"$f":"IF('Initial Observation'!E214=\"\",\"\",\"X\")","v":""}]
[{"$f":"'Initial Observation'!A215","v":"00:00:00"},{"$f":"IF('Initial Observation'!B215=\"\",\"\",'Initial Observation'!B215)","v":""},{"$f":"IF('Initial Observation'!E215=\"\",\"\",\"X\")","v":""}]
[{"$f":"'Initial Observation'!A216","v":"00:00:00"},{"$f":"IF('Initial Observation'!B216=\"\",\"\",'Initial Observation'!B216)","v":""},{"$f":"IF('Initial Observation'!E216=\"\",\"\",\"X\")","v":""}]
[{"$f":"'Initial Observation'!A217","v":"00:00:00"},{"$f":"IF('Initial Observation'!B217=\"\",\"\",'Initial Observation'!B217)","v":""},{"$f":"IF('Initial Observation'!E217=\"\",\"\",\"X\")","v":""}]
[{"$f":"'Initial Observation'!A218","v":"00:00:00"},{"$f":"IF('Initial Observation'!B218=\"\",\"\",'Initial Observation'!B218)","v":""},{"$f":"IF('Initial Observation'!E218=\"\",\"\",\"X\")","v":""}]
[{"$f":"'Initial Observation'!A219","v":"00:00:00"},{"$f":"IF('Initial Observation'!B219=\"\",\"\",'Initial Observation'!B219)","v":""},{"$f":"IF('Initial Observation'!E219=\"\",\"\",\"X\")","v":""}]
[{"$f":"'Initial Observation'!A220","v":"00:00:00"},{"$f":"IF('Initial Observation'!B220=\"\",\"\",'Initial Observation'!B220)","v":""},{"$f":"IF('Initial Observation'!E220=\"\",\"\",\"X\")","v":""}]
[{"$f":"'Initial Observation'!A221","v":"00:00:00"},{"$f":"IF('Initial Observation'!B221=\"\",\"\",'Initial Observation'!B221)","v":""},{"$f":"IF('Initial Observation'!E221=\"\",\"\",\"X\")","v":""}]
[{"$f":"'Initial Observation'!A222","v":"00:00:00"},{"$f":"IF('Initial Observation'!B222=\"\",\"\",'Initial Observation'!B222)","v":""},{"$f":"IF('Initial Observation'!E222=\"\",\"\",\"X\")","v":""}]
[{"$f":"'Initial Observation'!A223","v":"00:00:00"},{"$f":"IF('Initial Observation'!B223=\"\",\"\",'Initial Observation'!B223)","v":""},{"$f":"IF('Initial Observation'!E223=\"\",\"\",\"X\")","v":""}]
[{"$f":"'Initial Observation'!A224","v":"00:00:00"},{"$f":"IF('Initial Observation'!B224=\"\",\"\",'Initial Observation'!B224)","v":""},{"$f":"IF('Initial Observation'!E224=\"\",\"\",\"X\")","v":""}]
[{"$f":"'Initial Observation'!A225","v":"00:00:00"},{"$f":"IF('Initial Observation'!B225=\"\",\"\",'Initial Observation'!B225)","v":""},{"$f":"IF('Initial Observation'!E225=\"\",\"\",\"X\")","v":""}]
[{"$f":"'Initial Observation'!A226","v":"00:00:00"},{"$f":"IF('Initial Observation'!B226=\"\",\"\",'Initial Observation'!B226)","v":""},{"$f":"IF('Initial Observation'!E226=\"\",\"\",\"X\")","v":""}]
[{"$f":"'Initial Observation'!A227","v":"00:00:00"},{"$f":"IF('Initial Observation'!B227=\"\",\"\",'Initial Observation'!B227)","v":""},{"$f":"IF('Initial Observation'!E227=\"\",\"\",\"X\")","v":""}]
[{"$f":"'Initial Observation'!A228","v":"00:00:00"},{"$f":"IF('Initial Observation'!B228=\"\",\"\",'Initial Observation'!B228)","v":""},{"$f":"IF('Initial Observation'!E228=\"\",\"\",\"X\")","v":""}]
[{"$f":"'Initial Observation'!A229","v":"00:00:00"},{"$f":"IF('Initial Observation'!B229=\"\",\"\",'Initial Observation'!B229)","v":""},{"$f":"IF('Initial Observation'!E229=\"\",\"\",\"X\")","v":""}]
[{"$f":"'Initial Observation'!A230","v":"00:00:00"},{"$f":"IF('Initial Observation'!B230=\"\",\"\",'Initial Observation'!B230)","v":""},{"$f":"IF('Initial Observation'!E230=\"\",\"\",\"X\")","v":""}]
[{"$f":"'Initial Observation'!A231","v":"00:00:00"},{"$f":"IF('Initial Observation'!B231=\"\",\"\",'Initial Observation'!B231)","v":""},{"$f":"IF('Initial Observation'!E231=\"\",\"\",\"X\")","v":""}]
[{"$f":"'Initial Observation'!A232","v":"00:00:00"},{"$f":"IF('Initial Observation'!B232=\"\",\"\",'Initial Observation'!B232)","v":""},{"$f":"IF('Initial Observation'!E232=\"\",\"\",\"X\")","v":""}]
[{"$f":"'Initial Observation'!A233","v":"00:00:00"},{"$f":"IF('Initial Observation'!B233=\"\",\"\",'Initial Observation'!B233)","v":""},{"$f":"IF('Initial Observation'!E233=\"\",\"\",\"X\")","v":""}]
[{"$f":"'Initial Observation'!A234","v":"00:00:00"},{"$f":"IF('Initial Observation'!B234=\"\",\"\",'Initial Observation'!B234)","v":""},{"$f":"IF('Initial Observation'!E234=\"\",\"\",\"X\")","v":""}]
[{"$f":"'Initial Observation'!A235","v":"00:00:00"},{"$f":"IF('Initial Observation'!B235=\"\",\"\",'Initial Observation'!B235)","v":""},{"$f":"IF('Initial Observation'!E235=\"\",\"\",\"X\")","v":""}]
[{"$f":"'Initial Observation'!A236","v":"00:00:00"},{"$f":"IF('Initial Observation'!B236=\"\",\"\",'Initial Observation'!B236)","v":""},{"$f":"IF('Initial Observation'!E236=\"\",\"\",\"X\")","v":""}]
[{"$f":"'Initial Observation'!A237","v":"00:00:00"},{"$f":"IF('Initial Observation'!B237=\"\",\"\",'Initial Observation'!B237)","v":""},{"$f":"IF('Initial Observation'!E237=\"\",\"\",\"X\")","v":""}]
[{"$f":"'Initial Observation'!A238","v":"00:00:00"},{"$f":"IF('Initial Observation'!B238=\"\",\"\",'Initial Observation'!B238)","v":""},{"$f":"IF('Initial Observation'!E238=\"\",\"\",\"X\")","v":""}]
[{"$f":"'Initial Observation'!A239","v":"00:00:00"},{"$f":"IF('Initial Observation'!B239=\"\",\"\",'Initial Observation'!B239)","v":""},{"$f":"IF('Initial Observation'!E239=\"\",\"\",\"X\")","v":""}]
[{"$f":"'Initial Observation'!A240","v":"00:00:00"},{"$f":"IF('Initial Observation'!B240=\"\",\"\",'Initial Observation'!B240)","v":""},{"$f":"IF('Initial Observation'!E240=\"\",\"\",\"X\")","v":""}]
[{"$f":"'Initial Observation'!A241","v":"00:00:00"},{"$f":"IF('Initial Observation'!B241=\"\",\"\",'Initial Observation'!B241)","v":""},{"$f":"IF('Initial Observation'!E241=\"\",\"\",\"X\")","v":""}]
[{"$f":"'Initial Observation'!A242","v":"00:00:00"},{"$f":"IF('Initial Observation'!B242=\"\",\"\",'Initial Observation'!B242)","v":""},{"$f":"IF('Initial Observation'!E242=\"\",\"\",\"X\")","v":""}]
[{"$f":"'Initial Observation'!A243","v":"00:00:00"},{"$f":"IF('Initial Observation'!B243=\"\",\"\",'Initial Observation'!B243)","v":""},{"$f":"IF('Initial Observation'!E243=\"\",\"\",\"X\")","v":""}]
[{"$f":"'Initial Observation'!A244","v":"00:00:00"},{"$f":"IF('Initial Observation'!B244=\"\",\"\",'Initial Observation'!B244)","v":""},{"$f":"IF('Initial Observation'!E244=\"\",\"\",\"X\")","v":""}]
[{"$f":"'Initial Observation'!A245","v":"00:00:00"},{"$f":"IF('Initial Observation'!B245=\"\",\"\",'Initial Observation'!B245)","v":""},{"$f":"IF('Initial Observation'!E245=\"\",\"\",\"X\")","v":""}]
[{"$f":"'Initial Observation'!A246","v":"00:00:00"},{"$f":"IF('Initial Observation'!B246=\"\",\"\",'Initial Observation'!B246)","v":""},{"$f":"IF('Initial Observation'!E246=\"\",\"\",\"X\")","v":""}]
[{"$f":"'Initial Observation'!A247","v":"00:00:00"},{"$f":"IF('Initial Observation'!B247=\"\",\"\",'Initial Observation'!B247)","v":""},{"$f":"IF('Initial Observation'!E247=\"\",\"\",\"X\")","v":""}]
[{"$f":"'Initial Observation'!A248","v":"00:00:00"},{"$f":"IF('Initial Observation'!B248=\"\",\"\",'Initial Observation'!B248)","v":""},{"$f":"IF('Initial Observation'!E248=\"\",\"\",\"X\")","v":""}]
[{"$f":"'Initial Observation'!A249","v":"00:00:00"},{"$f":"IF('Initial Observation'!B249=\"\",\"\",'Initial Observation'!B249)","v":""},{"$f":"IF('Initial Observation'!E249=\"\",\"\",\"X\")","v":""}]
[{"$f":"'Initial Observation'!A250","v":"00:00:00"},{"$f":"IF('Initial Observation'!B250=\"\",\"\",'Initial Observation'!B250)","v":""},{"$f":"IF('Initial Observation'!E250=\"\",\"\",\"X\")","v":""}]
[{"$f":"'Initial Observation'!A251","v":"00:00:00"},{"$f":"IF('Initial Observation'!B251=\"\",\"\",'Initial Observation'!B251)","v":""},{"$f":"IF('Initial Observation'!E251=\"\",\"\",\"X\")","v":""}]
[{"$f":"'Initial Observation'!A252","v":"00:00:00"},{"$f":"IF('Initial Observation'!B252=\"\",\"\",'Initial Observation'!B252)","v":""},{"$f":"IF('Initial Observation'!E252=\"\",\"\",\"X\")","v":""}]
[{"$f":"'Initial Observation'!A253","v":"00:00:00"},{"$f":"IF('Initial Observation'!B253=\"\",\"\",'Initial Observation'!B253)","v":""},{"$f":"IF('Initial Observation'!E253=\"\",\"\",\"X\")","v":""}]
[{"$f":"'Initial Observation'!A254","v":"00:00:00"},{"$f":"IF('Initial Observation'!B254=\"\",\"\",'Initial Observation'!B254)","v":""},{"$f":"IF('Initial Observation'!E254=\"\",\"\",\"X\")","v":""}]
[{"$f":"'Initial Observation'!A255","v":"00:00:00"},{"$f":"IF('Initial Observation'!B255=\"\",\"\",'Initial Observation'!B255)","v":""},{"$f":"IF('Initial Observation'!E255=\"\",\"\",\"X\")","v":""}]
[{"$f":"'Initial Observation'!A256","v":"00:00:00"},{"$f":"IF('Initial Observation'!B256=\"\",\"\",'Initial Observation'!B256)","v":""},{"$f":"IF('Initial Observation'!E256=\"\",\"\",\"X\")","v":""}]
[{"$f":"'Initial Observation'!A257","v":"00:00:00"},{"$f":"IF('Initial Observation'!B257=\"\",\"\",'Initial Observation'!B257)","v":""},{"$f":"IF('Initial Observation'!E257=\"\",\"\",\"X\")","v":""}]
[{"$f":"'Initial Observation'!A258","v":"00:00:00"},{"$f":"IF('Initial Observation'!B258=\"\",\"\",'Initial Observation'!B258)","v":""},{"$f":"IF('Initial Observation'!E258=\"\",\"\",\"X\")","v":""}]
[{"$f":"'Initial Observation'!A259","v":"00:00:00"},{"$f":"IF('Initial Observation'!B259=\"\",\"\",'Initial Observation'!B259)","v":""},{"$f":"IF('Initial Observation'!E259=\"\",\"\",\"X\")","v":""}]
[{"$f":"'Initial Observation'!A260","v":"00:00:00"},{"$f":"IF('Initial Observation'!B260=\"\",\"\",'Initial Observation'!B260)","v":""},{"$f":"IF('Initial Observation'!E260=\"\",\"\",\"X\")","v":""}]
[{"$f":"'Initial Observation'!A261","v":"00:00:00"},{"$f":"IF('Initial Observation'!B261=\"\",\"\",'Initial Observation'!B261)","v":""},{"$f":"IF('Initial Observation'!E261=\"\",\"\",\"X\")","v":""}]
[{"$f":"'Initial Observation'!A262","v":"00:00:00"},{"$f":"IF('Initial Observation'!B262=\"\",\"\",'Initial Observation'!B262)","v":""},{"$f":"IF('Initial Observation'!E262=\"\",\"\",\"X\")","v":""}]
[{"$f":"'Initial Observation'!A263","v":"00:00:00"},{"$f":"IF('Initial Observation'!B263=\"\",\"\",'Initial Observation'!B263)","v":""},{"$f":"IF('Initial Observation'!E263=\"\",\"\",\"X\")","v":""}]
[{"$f":"'Initial Observation'!A264","v":"00:00:00"},{"$f":"IF('Initial Observation'!B264=\"\",\"\",'Initial Observation'!B264)","v":""},{"$f":"IF('Initial Observation'!E264=\"\",\"\",\"X\")","v":""}]
[{"$f":"'Initial Observation'!A265","v":"00:00:00"},{"$f":"IF('Initial Observation'!B265=\"\",\"\",'Initial Observation'!B265)","v":""},{"$f":"IF('Initial Observation'!E265=\"\",\"\",\"X\")","v":""}]
[{"$f":"'Initial Observation'!A266","v":"00:00:00"},{"$f":"IF('Initial Observation'!B266=\"\",\"\",'Initial Observation'!B266)","v":""},{"$f":"IF('Initial Observation'!E266=\"\",\"\",\"X\")","v":""}]
[{"$f":"'Initial Observation'!A267","v":"00:00:00"},{"$f":"IF('Initial Observation'!B267=\"\",\"\",'Initial Observation'!B267)","v":""},{"$f":"IF('Initial Observation'!E267=\"\",\"\",\"X\")","v":""}]
[{"$f":"'Initial Observation'!A268","v":"00:00:00"},{"$f":"IF('Initial Observation'!B268=\"\",\"\",'Initial Observation'!B268)","v":""},{"$f":"IF('Initial Observation'!E268=\"\",\"\",\"X\")","v":""}]
[{"$f":"'Initial Observation'!A269","v":"00:00:00"},{"$f":"IF('Initial Observation'!B269=\"\",\"\",'Initial Observation'!B269)","v":""},{"$f":"IF('Initial Observation'!E269=\"\",\"\",\"X\")","v":""}]
[{"$f":"'Initial Observation'!A270","v":"00:00:00"},{"$f":"IF('Initial Observation'!B270=\"\",\"\",'Initial Observation'!B270)","v":""},{"$f":"IF('Initial Observation'!E270=\"\",\"\",\"X\")","v":""}]

{"sheet":"2D","index":4,"n_rows":270,"n_cols":3,"rows_kept":270,"cut":false,"hidden":false,"merged":[[0,2,3,2]]}
[null,{"$f":"'Initial Observation'!B1","v":"Teacher Name:"},"2D Managing Student Behaviors"]
[null,{"$f":"'Initial Observation'!B2","v":"Date:"}]
[null,{"$f":"'Initial Observation'!B3","v":"Number of Students:"}]
[null,"Evidence"]
[{"$f":"'Initial Observation'!A5","v":"00:00:00"},{"$f":"IF('Initial Observation'!B5=\"\",\"\",'Initial Observation'!B5)","v":""},{"$f":"IF('Initial Observation'!F5=\"\",\"\",\"X\")","v":""}]
[{"$f":"'Initial Observation'!A6","v":"00:00:00"},{"$f":"IF('Initial Observation'!B6=\"\",\"\",'Initial Observation'!B6)","v":""},{"$f":"IF('Initial Observation'!F6=\"\",\"\",\"X\")","v":""}]
[{"$f":"'Initial Observation'!A7","v":"00:00:00"},{"$f":"IF('Initial Observation'!B7=\"\",\"\",'Initial Observation'!B7)","v":""},{"$f":"IF('Initial Observation'!F7=\"\",\"\",\"X\")","v":""}]
[{"$f":"'Initial Observation'!A8","v":"00:00:00"},{"$f":"IF('Initial Observation'!B8=\"\",\"\",'Initial Observation'!B8)","v":""},{"$f":"IF('Initial Observation'!F8=\"\",\"\",\"X\")","v":""}]
[{"$f":"'Initial Observation'!A9","v":"00:00:00"},{"$f":"IF('Initial Observation'!B9=\"\",\"\",'Initial Observation'!B9)","v":""},{"$f":"IF('Initial Observation'!F9=\"\",\"\",\"X\")","v":""}]
[{"$f":"'Initial Observation'!A10","v":"00:00:00"},{"$f":"IF('Initial Observation'!B10=\"\",\"\",'Initial Observation'!B10)","v":""},{"$f":"IF('Initial Observation'!F10=\"\",\"\",\"X\")","v":""}]
[{"$f":"'Initial Observation'!A11","v":"00:00:00"},{"$f":"IF('Initial Observation'!B11=\"\",\"\",'Initial Observation'!B11)","v":""},{"$f":"IF('Initial Observation'!F11=\"\",\"\",\"X\")","v":""}]
[{"$f":"'Initial Observation'!A12","v":"00:00:00"},{"$f":"IF('Initial Observation'!B12=\"\",\"\",'Initial Observation'!B12)","v":""},{"$f":"IF('Initial Observation'!F12=\"\",\"\",\"X\")","v":""}]
[{"$f":"'Initial Observation'!A13","v":"00:00:00"},{"$f":"IF('Initial Observation'!B13=\"\",\"\",'Initial Observation'!B13)","v":""},{"$f":"IF('Initial Observation'!F13=\"\",\"\",\"X\")","v":""}]
[{"$f":"'Initial Observation'!A14","v":"00:00:00"},{"$f":"IF('Initial Observation'!B14=\"\",\"\",'Initial Observation'!B14)","v":""},{"$f":"IF('Initial Observation'!F14=\"\",\"\",\"X\")","v":""}]
[{"$f":"'Initial Observation'!A15","v":"00:00:00"},{"$f":"IF('Initial Observation'!B15=\"\",\"\",'Initial Observation'!B15)","v":""},{"$f":"IF('Initial Observation'!F15=\"\",\"\",\"X\")","v":""}]
[{"$f":"'Initial Observation'!A16","v":"00:00:00"},{"$f":"IF('Initial Observation'!B16=\"\",\"\",'Initial Observation'!B16)","v":""},{"$f":"IF('Initial Observation'!F16=\"\",\"\",\"X\")","v":""}]
[{"$f":"'Initial Observation'!A17","v":"00:00:00"},{"$f":"IF('Initial Observation'!B17=\"\",\"\",'Initial Observation'!B17)","v":""},{"$f":"IF('Initial Observation'!F17=\"\",\"\",\"X\")","v":""}]
[{"$f":"'Initial Observation'!A18","v":"00:00:00"},{"$f":"IF('Initial Observation'!B18=\"\",\"\",'Initial Observation'!B18)","v":""},{"$f":"IF('Initial Observation'!F18=\"\",\"\",\"X\")","v":""}]
[{"$f":"'Initial Observation'!A19","v":"00:00:00"},{"$f":"IF('Initial Observation'!B19=\"\",\"\",'Initial Observation'!B19)","v":""},{"$f":"IF('Initial Observation'!F19=\"\",\"\",\"X\")","v":""}]
[{"$f":"'Initial Observation'!A20","v":"00:00:00"},{"$f":"IF('Initial Observation'!B20=\"\",\"\",'Initial Observation'!B20)","v":""},{"$f":"IF('Initial Observation'!F20=\"\",\"\",\"X\")","v":""}]
[{"$f":"'Initial Observation'!A21","v":"00:00:00"},{"$f":"IF('Initial Observation'!B21=\"\",\"\",'Initial Observation'!B21)","v":""},{"$f":"IF('Initial Observation'!F21=\"\",\"\",\"X\")","v":""}]
[{"$f":"'Initial Observation'!A22","v":"00:00:00"},{"$f":"IF('Initial Observation'!B22=\"\",\"\",'Initial Observation'!B22)","v":""},{"$f":"IF('Initial Observation'!F22=\"\",\"\",\"X\")","v":""}]
[{"$f":"'Initial Observation'!A23","v":"00:00:00"},{"$f":"IF('Initial Observation'!B23=\"\",\"\",'Initial Observation'!B23)","v":""},{"$f":"IF('Initial Observation'!F23=\"\",\"\",\"X\")","v":""}]
[{"$f":"'Initial Observation'!A24","v":"00:00:00"},{"$f":"IF('Initial Observation'!B24=\"\",\"\",'Initial Observation'!B24)","v":""},{"$f":"IF('Initial Observation'!F24=\"\",\"\",\"X\")","v":""}]
[{"$f":"'Initial Observation'!A25","v":"00:00:00"},{"$f":"IF('Initial Observation'!B25=\"\",\"\",'Initial Observation'!B25)","v":""},{"$f":"IF('Initial Observation'!F25=\"\",\"\",\"X\")","v":""}]
[{"$f":"'Initial Observation'!A26","v":"00:00:00"},{"$f":"IF('Initial Observation'!B26=\"\",\"\",'Initial Observation'!B26)","v":""},{"$f":"IF('Initial Observation'!F26=\"\",\"\",\"X\")","v":""}]
[{"$f":"'Initial Observation'!A27","v":"00:00:00"},{"$f":"IF('Initial Observation'!B27=\"\",\"\",'Initial Observation'!B27)","v":""},{"$f":"IF('Initial Observation'!F27=\"\",\"\",\"X\")","v":""}]
[{"$f":"'Initial Observation'!A28","v":"00:00:00"},{"$f":"IF('Initial Observation'!B28=\"\",\"\",'Initial Observation'!B28)","v":""},{"$f":"IF('Initial Observation'!F28=\"\",\"\",\"X\")","v":""}]
[{"$f":"'Initial Observation'!A29","v":"00:00:00"},{"$f":"IF('Initial Observation'!B29=\"\",\"\",'Initial Observation'!B29)","v":""},{"$f":"IF('Initial Observation'!F29=\"\",\"\",\"X\")","v":""}]
[{"$f":"'Initial Observation'!A30","v":"00:00:00"},{"$f":"IF('Initial Observation'!B30=\"\",\"\",'Initial Observation'!B30)","v":""},{"$f":"IF('Initial Observation'!F30=\"\",\"\",\"X\")","v":""}]
[{"$f":"'Initial Observation'!A31","v":"00:00:00"},{"$f":"IF('Initial Observation'!B31=\"\",\"\",'Initial Observation'!B31)","v":""},{"$f":"IF('Initial Observation'!F31=\"\",\"\",\"X\")","v":""}]
[{"$f":"'Initial Observation'!A32","v":"00:00:00"},{"$f":"IF('Initial Observation'!B32=\"\",\"\",'Initial Observation'!B32)","v":""},{"$f":"IF('Initial Observation'!F32=\"\",\"\",\"X\")","v":""}]
[{"$f":"'Initial Observation'!A33","v":"00:00:00"},{"$f":"IF('Initial Observation'!B33=\"\",\"\",'Initial Observation'!B33)","v":""},{"$f":"IF('Initial Observation'!F33=\"\",\"\",\"X\")","v":""}]
[{"$f":"'Initial Observation'!A34","v":"00:00:00"},{"$f":"IF('Initial Observation'!B34=\"\",\"\",'Initial Observation'!B34)","v":""},{"$f":"IF('Initial Observation'!F34=\"\",\"\",\"X\")","v":""}]
[{"$f":"'Initial Observation'!A35","v":"00:00:00"},{"$f":"IF('Initial Observation'!B35=\"\",\"\",'Initial Observation'!B35)","v":""},{"$f":"IF('Initial Observation'!F35=\"\",\"\",\"X\")","v":""}]
[{"$f":"'Initial Observation'!A36","v":"00:00:00"},{"$f":"IF('Initial Observation'!B36=\"\",\"\",'Initial Observation'!B36)","v":""},{"$f":"IF('Initial Observation'!F36=\"\",\"\",\"X\")","v":""}]
[{"$f":"'Initial Observation'!A37","v":"00:00:00"},{"$f":"IF('Initial Observation'!B37=\"\",\"\",'Initial Observation'!B37)","v":""},{"$f":"IF('Initial Observation'!F37=\"\",\"\",\"X\")","v":""}]
[{"$f":"'Initial Observation'!A38","v":"00:00:00"},{"$f":"IF('Initial Observation'!B38=\"\",\"\",'Initial Observation'!B38)","v":""},{"$f":"IF('Initial Observation'!F38=\"\",\"\",\"X\")","v":""}]
[{"$f":"'Initial Observation'!A39","v":"00:00:00"},{"$f":"IF('Initial Observation'!B39=\"\",\"\",'Initial Observation'!B39)","v":""},{"$f":"IF('Initial Observation'!F39=\"\",\"\",\"X\")","v":""}]
[{"$f":"'Initial Observation'!A40","v":"00:00:00"},{"$f":"IF('Initial Observation'!B40=\"\",\"\",'Initial Observation'!B40)","v":""},{"$f":"IF('Initial Observation'!F40=\"\",\"\",\"X\")","v":""}]
[{"$f":"'Initial Observation'!A41","v":"00:00:00"},{"$f":"IF('Initial Observation'!B41=\"\",\"\",'Initial Observation'!B41)","v":""},{"$f":"IF('Initial Observation'!F41=\"\",\"\",\"X\")","v":""}]
[{"$f":"'Initial Observation'!A42","v":"00:00:00"},{"$f":"IF('Initial Observation'!B42=\"\",\"\",'Initial Observation'!B42)","v":""},{"$f":"IF('Initial Observation'!F42=\"\",\"\",\"X\")","v":""}]
[{"$f":"'Initial Observation'!A43","v":"00:00:00"},{"$f":"IF('Initial Observation'!B43=\"\",\"\",'Initial Observation'!B43)","v":""},{"$f":"IF('Initial Observation'!F43=\"\",\"\",\"X\")","v":""}]
[{"$f":"'Initial Observation'!A44","v":"00:00:00"},{"$f":"IF('Initial Observation'!B44=\"\",\"\",'Initial Observation'!B44)","v":""},{"$f":"IF('Initial Observation'!F44=\"\",\"\",\"X\")","v":""}]
[{"$f":"'Initial Observation'!A45","v":"00:00:00"},{"$f":"IF('Initial Observation'!B45=\"\",\"\",'Initial Observation'!B45)","v":""},{"$f":"IF('Initial Observation'!F45=\"\",\"\",\"X\")","v":""}]
[{"$f":"'Initial Observation'!A46","v":"00:00:00"},{"$f":"IF('Initial Observation'!B46=\"\",\"\",'Initial Observation'!B46)","v":""},{"$f":"IF('Initial Observation'!F46=\"\",\"\",\"X\")","v":""}]
[{"$f":"'Initial Observation'!A47","v":"00:00:00"},{"$f":"IF('Initial Observation'!B47=\"\",\"\",'Initial Observation'!B47)","v":""},{"$f":"IF('Initial Observation'!F47=\"\",\"\",\"X\")","v":""}]
[{"$f":"'Initial Observation'!A48","v":"00:00:00"},{"$f":"IF('Initial Observation'!B48=\"\",\"\",'Initial Observation'!B48)","v":""},{"$f":"IF('Initial Observation'!F48=\"\",\"\",\"X\")","v":""}]
[{"$f":"'Initial Observation'!A49","v":"00:00:00"},{"$f":"IF('Initial Observation'!B49=\"\",\"\",'Initial Observation'!B49)","v":""},{"$f":"IF('Initial Observation'!F49=\"\",\"\",\"X\")","v":""}]
[{"$f":"'Initial Observation'!A50","v":"00:00:00"},{"$f":"IF('Initial Observation'!B50=\"\",\"\",'Initial Observation'!B50)","v":""},{"$f":"IF('Initial Observation'!F50=\"\",\"\",\"X\")","v":""}]
[{"$f":"'Initial Observation'!A51","v":"00:00:00"},{"$f":"IF('Initial Observation'!B51=\"\",\"\",'Initial Observation'!B51)","v":""},{"$f":"IF('Initial Observation'!F51=\"\",\"\",\"X\")","v":""}]
[{"$f":"'Initial Observation'!A52","v":"00:00:00"},{"$f":"IF('Initial Observation'!B52=\"\",\"\",'Initial Observation'!B52)","v":""},{"$f":"IF('Initial Observation'!F52=\"\",\"\",\"X\")","v":""}]
[{"$f":"'Initial Observation'!A53","v":"00:00:00"},{"$f":"IF('Initial Observation'!B53=\"\",\"\",'Initial Observation'!B53)","v":""},{"$f":"IF('Initial Observation'!F53=\"\",\"\",\"X\")","v":""}]
[{"$f":"'Initial Observation'!A54","v":"00:00:00"},{"$f":"IF('Initial Observation'!B54=\"\",\"\",'Initial Observation'!B54)","v":""},{"$f":"IF('Initial Observation'!F54=\"\",\"\",\"X\")","v":""}]
[{"$f":"'Initial Observation'!A55","v":"00:00:00"},{"$f":"IF('Initial Observation'!B55=\"\",\"\",'Initial Observation'!B55)","v":""},{"$f":"IF('Initial Observation'!F55=\"\",\"\",\"X\")","v":""}]
[{"$f":"'Initial Observation'!A56","v":"00:00:00"},{"$f":"IF('Initial Observation'!B56=\"\",\"\",'Initial Observation'!B56)","v":""},{"$f":"IF('Initial Observation'!F56=\"\",\"\",\"X\")","v":""}]
[{"$f":"'Initial Observation'!A57","v":"00:00:00"},{"$f":"IF('Initial Observation'!B57=\"\",\"\",'Initial Observation'!B57)","v":""},{"$f":"IF('Initial Observation'!F57=\"\",\"\",\"X\")","v":""}]
[{"$f":"'Initial Observation'!A58","v":"00:00:00"},{"$f":"IF('Initial Observation'!B58=\"\",\"\",'Initial Observation'!B58)","v":""},{"$f":"IF('Initial Observation'!F58=\"\",\"\",\"X\")","v":""}]
[{"$f":"'Initial Observation'!A59","v":"00:00:00"},{"$f":"IF('Initial Observation'!B59=\"\",\"\",'Initial Observation'!B59)","v":""},{"$f":"IF('Initial Observation'!F59=\"\",\"\",\"X\")","v":""}]
[{"$f":"'Initial Observation'!A60","v":"00:00:00"},{"$f":"IF('Initial Observation'!B60=\"\",\"\",'Initial Observation'!B60)","v":""},{"$f":"IF('Initial Observation'!F60=\"\",\"\",\"X\")","v":""}]
[{"$f":"'Initial Observation'!A61","v":"00:00:00"},{"$f":"IF('Initial Observation'!B61=\"\",\"\",'Initial Observation'!B61)","v":""},{"$f":"IF('Initial Observation'!F61=\"\",\"\",\"X\")","v":""}]
[{"$f":"'Initial Observation'!A62","v":"00:00:00"},{"$f":"IF('Initial Observation'!B62=\"\",\"\",'Initial Observation'!B62)","v":""},{"$f":"IF('Initial Observation'!F62=\"\",\"\",\"X\")","v":""}]
[{"$f":"'Initial Observation'!A63","v":"00:00:00"},{"$f":"IF('Initial Observation'!B63=\"\",\"\",'Initial Observation'!B63)","v":""},{"$f":"IF('Initial Observation'!F63=\"\",\"\",\"X\")","v":""}]
[{"$f":"'Initial Observation'!A64","v":"00:00:00"},{"$f":"IF('Initial Observation'!B64=\"\",\"\",'Initial Observation'!B64)","v":""},{"$f":"IF('Initial Observation'!F64=\"\",\"\",\"X\")","v":""}]
[{"$f":"'Initial Observation'!A65","v":"00:00:00"},{"$f":"IF('Initial Observation'!B65=\"\",\"\",'Initial Observation'!B65)","v":""},{"$f":"IF('Initial Observation'!F65=\"\",\"\",\"X\")","v":""}]
[{"$f":"'Initial Observation'!A66","v":"00:00:00"},{"$f":"IF('Initial Observation'!B66=\"\",\"\",'Initial Observation'!B66)","v":""},{"$f":"IF('Initial Observation'!F66=\"\",\"\",\"X\")","v":""}]
[{"$f":"'Initial Observation'!A67","v":"00:00:00"},{"$f":"IF('Initial Observation'!B67=\"\",\"\",'Initial Observation'!B67)","v":""},{"$f":"IF('Initial Observation'!F67=\"\",\"\",\"X\")","v":""}]
[{"$f":"'Initial Observation'!A68","v":"00:00:00"},{"$f":"IF('Initial Observation'!B68=\"\",\"\",'Initial Observation'!B68)","v":""},{"$f":"IF('Initial Observation'!F68=\"\",\"\",\"X\")","v":""}]
[{"$f":"'Initial Observation'!A69","v":"00:00:00"},{"$f":"IF('Initial Observation'!B69=\"\",\"\",'Initial Observation'!B69)","v":""},{"$f":"IF('Initial Observation'!F69=\"\",\"\",\"X\")","v":""}]
[{"$f":"'Initial Observation'!A70","v":"00:00:00"},{"$f":"IF('Initial Observation'!B70=\"\",\"\",'Initial Observation'!B70)","v":""},{"$f":"IF('Initial Observation'!F70=\"\",\"\",\"X\")","v":""}]
[{"$f":"'Initial Observation'!A71","v":"00:00:00"},{"$f":"IF('Initial Observation'!B71=\"\",\"\",'Initial Observation'!B71)","v":""},{"$f":"IF('Initial Observation'!F71=\"\",\"\",\"X\")","v":""}]
[{"$f":"'Initial Observation'!A72","v":"00:00:00"},{"$f":"IF('Initial Observation'!B72=\"\",\"\",'Initial Observation'!B72)","v":""},{"$f":"IF('Initial Observation'!F72=\"\",\"\",\"X\")","v":""}]
[{"$f":"'Initial Observation'!A73","v":"00:00:00"},{"$f":"IF('Initial Observation'!B73=\"\",\"\",'Initial Observation'!B73)","v":""},{"$f":"IF('Initial Observation'!F73=\"\",\"\",\"X\")","v":""}]
[{"$f":"'Initial Observation'!A74","v":"00:00:00"},{"$f":"IF('Initial Observation'!B74=\"\",\"\",'Initial Observation'!B74)","v":""},{"$f":"IF('Initial Observation'!F74=\"\",\"\",\"X\")","v":""}]
[{"$f":"'Initial Observation'!A75","v":"00:00:00"},{"$f":"IF('Initial Observation'!B75=\"\",\"\",'Initial Observation'!B75)","v":""},{"$f":"IF('Initial Observation'!F75=\"\",\"\",\"X\")","v":""}]
[{"$f":"'Initial Observation'!A76","v":"00:00:00"},{"$f":"IF('Initial Observation'!B76=\"\",\"\",'Initial Observation'!B76)","v":""},{"$f":"IF('Initial Observation'!F76=\"\",\"\",\"X\")","v":""}]
[{"$f":"'Initial Observation'!A77","v":"00:00:00"},{"$f":"IF('Initial Observation'!B77=\"\",\"\",'Initial Observation'!B77)","v":""},{"$f":"IF('Initial Observation'!F77=\"\",\"\",\"X\")","v":""}]
[{"$f":"'Initial Observation'!A78","v":"00:00:00"},{"$f":"IF('Initial Observation'!B78=\"\",\"\",'Initial Observation'!B78)","v":""},{"$f":"IF('Initial Observation'!F78=\"\",\"\",\"X\")","v":""}]
[{"$f":"'Initial Observation'!A79","v":"00:00:00"},{"$f":"IF('Initial Observation'!B79=\"\",\"\",'Initial Observation'!B79)","v":""},{"$f":"IF('Initial Observation'!F79=\"\",\"\",\"X\")","v":""}]
[{"$f":"'Initial Observation'!A80","v":"00:00:00"},{"$f":"IF('Initial Observation'!B80=\"\",\"\",'Initial Observation'!B80)","v":""},{"$f":"IF('Initial Observation'!F80=\"\",\"\",\"X\")","v":""}]
[{"$f":"'Initial Observation'!A81","v":"00:00:00"},{"$f":"IF('Initial Observation'!B81=\"\",\"\",'Initial Observation'!B81)","v":""},{"$f":"IF('Initial Observation'!F81=\"\",\"\",\"X\")","v":""}]
[{"$f":"'Initial Observation'!A82","v":"00:00:00"},{"$f":"IF('Initial Observation'!B82=\"\",\"\",'Initial Observation'!B82)","v":""},{"$f":"IF('Initial Observation'!F82=\"\",\"\",\"X\")","v":""}]
[{"$f":"'Initial Observation'!A83","v":"00:00:00"},{"$f":"IF('Initial Observation'!B83=\"\",\"\",'Initial Observation'!B83)","v":""},{"$f":"IF('Initial Observation'!F83=\"\",\"\",\"X\")","v":""}]
[{"$f":"'Initial Observation'!A84","v":"00:00:00"},{"$f":"IF('Initial Observation'!B84=\"\",\"\",'Initial Observation'!B84)","v":""},{"$f":"IF('Initial Observation'!F84=\"\",\"\",\"X\")","v":""}]
[{"$f":"'Initial Observation'!A85","v":"00:00:00"},{"$f":"IF('Initial Observation'!B85=\"\",\"\",'Initial Observation'!B85)","v":""},{"$f":"IF('Initial Observation'!F85=\"\",\"\",\"X\")","v":""}]
[{"$f":"'Initial Observation'!A86","v":"00:00:00"},{"$f":"IF('Initial Observation'!B86=\"\",\"\",'Initial Observation'!B86)","v":""},{"$f":"IF('Initial Observation'!F86=\"\",\"\",\"X\")","v":""}]
[{"$f":"'Initial Observation'!A87","v":"00:00:00"},{"$f":"IF('Initial Observation'!B87=\"\",\"\",'Initial Observation'!B87)","v":""},{"$f":"IF('Initial Observation'!F87=\"\",\"\",\"X\")","v":""}]
[{"$f":"'Initial Observation'!A88","v":"00:00:00"},{"$f":"IF('Initial Observation'!B88=\"\",\"\",'Initial Observation'!B88)","v":""},{"$f":"IF('Initial Observation'!F88=\"\",\"\",\"X\")","v":""}]
[{"$f":"'Initial Observation'!A89","v":"00:00:00"},{"$f":"IF('Initial Observation'!B89=\"\",\"\",'Initial Observation'!B89)","v":""},{"$f":"IF('Initial Observation'!F89=\"\",\"\",\"X\")","v":""}]
[{"$f":"'Initial Observation'!A90","v":"00:00:00"},{"$f":"IF('Initial Observation'!B90=\"\",\"\",'Initial Observation'!B90)","v":""},{"$f":"IF('Initial Observation'!F90=\"\",\"\",\"X\")","v":""}]
[{"$f":"'Initial Observation'!A91","v":"00:00:00"},{"$f":"IF('Initial Observation'!B91=\"\",\"\",'Initial Observation'!B91)","v":""},{"$f":"IF('Initial Observation'!F91=\"\",\"\",\"X\")","v":""}]
[{"$f":"'Initial Observation'!A92","v":"00:00:00"},{"$f":"IF('Initial Observation'!B92=\"\",\"\",'Initial Observation'!B92)","v":""},{"$f":"IF('Initial Observation'!F92=\"\",\"\",\"X\")","v":""}]
[{"$f":"'Initial Observation'!A93","v":"00:00:00"},{"$f":"IF('Initial Observation'!B93=\"\",\"\",'Initial Observation'!B93)","v":""},{"$f":"IF('Initial Observation'!F93=\"\",\"\",\"X\")","v":""}]
[{"$f":"'Initial Observation'!A94","v":"00:00:00"},{"$f":"IF('Initial Observation'!B94=\"\",\"\",'Initial Observation'!B94)","v":""},{"$f":"IF('Initial Observation'!F94=\"\",\"\",\"X\")","v":""}]
[{"$f":"'Initial Observation'!A95","v":"00:00:00"},{"$f":"IF('Initial Observation'!B95=\"\",\"\",'Initial Observation'!B95)","v":""},{"$f":"IF('Initial Observation'!F95=\"\",\"\",\"X\")","v":""}]
[{"$f":"'Initial Observation'!A96","v":"00:00:00"},{"$f":"IF('Initial Observation'!B96=\"\",\"\",'Initial Observation'!B96)","v":""},{"$f":"IF('Initial Observation'!F96=\"\",\"\",\"X\")","v":""}]
[{"$f":"'Initial Observation'!A97","v":"00:00:00"},{"$f":"IF('Initial Observation'!B97=\"\",\"\",'Initial Observation'!B97)","v":""},{"$f":"IF('Initial Observation'!F97=\"\",\"\",\"X\")","v":""}]
[{"$f":"'Initial Observation'!A98","v":"00:00:00"},{"$f":"IF('Initial Observation'!B98=\"\",\"\",'Initial Observation'!B98)","v":""},{"$f":"IF('Initial Observation'!F98=\"\",\"\",\"X\")","v":""}]
[{"$f":"'Initial Observation'!A99","v":"00:00:00"},{"$f":"IF('Initial Observation'!B99=\"\",\"\",'Initial Observation'!B99)","v":""},{"$f":"IF('Initial Observation'!F99=\"\",\"\",\"X\")","v":""}]
[{"$f":"'Initial Observation'!A100","v":"00:00:00"},{"$f":"IF('Initial Observation'!B100=\"\",\"\",'Initial Observation'!B100)","v":""},{"$f":"IF('Initial Observation'!F100=\"\",\"\",\"X\")","v":""}]
[{"$f":"'Initial Observation'!A101","v":"00:00:00"},{"$f":"IF('Initial Observation'!B101=\"\",\"\",'Initial Observation'!B101)","v":""},{"$f":"IF('Initial Observation'!F101=\"\",\"\",\"X\")","v":""}]
[{"$f":"'Initial Observation'!A102","v":"00:00:00"},{"$f":"IF('Initial Observation'!B102=\"\",\"\",'Initial Observation'!B102)","v":""},{"$f":"IF('Initial Observation'!F102=\"\",\"\",\"X\")","v":""}]
[{"$f":"'Initial Observation'!A103","v":"00:00:00"},{"$f":"IF('Initial Observation'!B103=\"\",\"\",'Initial Observation'!B103)","v":""},{"$f":"IF('Initial Observation'!F103=\"\",\"\",\"X\")","v":""}]
[{"$f":"'Initial Observation'!A104","v":"00:00:00"},{"$f":"IF('Initial Observation'!B104=\"\",\"\",'Initial Observation'!B104)","v":""},{"$f":"IF('Initial Observation'!F104=\"\",\"\",\"X\")","v":""}]
[{"$f":"'Initial Observation'!A105","v":"00:00:00"},{"$f":"IF('Initial Observation'!B105=\"\",\"\",'Initial Observation'!B105)","v":""},{"$f":"IF('Initial Observation'!F105=\"\",\"\",\"X\")","v":""}]
[{"$f":"'Initial Observation'!A106","v":"00:00:00"},{"$f":"IF('Initial Observation'!B106=\"\",\"\",'Initial Observation'!B106)","v":""},{"$f":"IF('Initial Observation'!F106=\"\",\"\",\"X\")","v":""}]
[{"$f":"'Initial Observation'!A107","v":"00:00:00"},{"$f":"IF('Initial Observation'!B107=\"\",\"\",'Initial Observation'!B107)","v":""},{"$f":"IF('Initial Observation'!F107=\"\",\"\",\"X\")","v":""}]
[{"$f":"'Initial Observation'!A108","v":"00:00:00"},{"$f":"IF('Initial Observation'!B108=\"\",\"\",'Initial Observation'!B108)","v":""},{"$f":"IF('Initial Observation'!F108=\"\",\"\",\"X\")","v":""}]
[{"$f":"'Initial Observation'!A109","v":"00:00:00"},{"$f":"IF('Initial Observation'!B109=\"\",\"\",'Initial Observation'!B109)","v":""},{"$f":"IF('Initial Observation'!F109=\"\",\"\",\"X\")","v":""}]
[{"$f":"'Initial Observation'!A110","v":"00:00:00"},{"$f":"IF('Initial Observation'!B110=\"\",\"\",'Initial Observation'!B110)","v":""},{"$f":"IF('Initial Observation'!F110=\"\",\"\",\"X\")","v":""}]
[{"$f":"'Initial Observation'!A111","v":"00:00:00"},{"$f":"IF('Initial Observation'!B111=\"\",\"\",'Initial Observation'!B111)","v":""},{"$f":"IF('Initial Observation'!F111=\"\",\"\",\"X\")","v":""}]
[{"$f":"'Initial Observation'!A112","v":"00:00:00"},{"$f":"IF('Initial Observation'!B112=\"\",\"\",'Initial Observation'!B112)","v":""},{"$f":"IF('Initial Observation'!F112=\"\",\"\",\"X\")","v":""}]
[{"$f":"'Initial Observation'!A113","v":"00:00:00"},{"$f":"IF('Initial Observation'!B113=\"\",\"\",'Initial Observation'!B113)","v":""},{"$f":"IF('Initial Observation'!F113=\"\",\"\",\"X\")","v":""}]
[{"$f":"'Initial Observation'!A114","v":"00:00:00"},{"$f":"IF('Initial Observation'!B114=\"\",\"\",'Initial Observation'!B114)","v":""},{"$f":"IF('Initial Observation'!F114=\"\",\"\",\"X\")","v":""}]
[{"$f":"'Initial Observation'!A115","v":"00:00:00"},{"$f":"IF('Initial Observation'!B115=\"\",\"\",'Initial Observation'!B115)","v":""},{"$f":"IF('Initial Observation'!F115=\"\",\"\",\"X\")","v":""}]
[{"$f":"'Initial Observation'!A116","v":"00:00:00"},{"$f":"IF('Initial Observation'!B116=\"\",\"\",'Initial Observation'!B116)","v":""},{"$f":"IF('Initial Observation'!F116=\"\",\"\",\"X\")","v":""}]
[{"$f":"'Initial Observation'!A117","v":"00:00:00"},{"$f":"IF('Initial Observation'!B117=\"\",\"\",'Initial Observation'!B117)","v":""},{"$f":"IF('Initial Observation'!F117=\"\",\"\",\"X\")","v":""}]
[{"$f":"'Initial Observation'!A118","v":"00:00:00"},{"$f":"IF('Initial Observation'!B118=\"\",\"\",'Initial Observation'!B118)","v":""},{"$f":"IF('Initial Observation'!F118=\"\",\"\",\"X\")","v":""}]
[{"$f":"'Initial Observation'!A119","v":"00:00:00"},{"$f":"IF('Initial Observation'!B119=\"\",\"\",'Initial Observation'!B119)","v":""},{"$f":"IF('Initial Observation'!F119=\"\",\"\",\"X\")","v":""}]
[{"$f":"'Initial Observation'!A120","v":"00:00:00"},{"$f":"IF('Initial Observation'!B120=\"\",\"\",'Initial Observation'!B120)","v":""},{"$f":"IF('Initial Observation'!F120=\"\",\"\",\"X\")","v":""}]
[{"$f":"'Initial Observation'!A121","v":"00:00:00"},{"$f":"IF('Initial Observation'!B121=\"\",\"\",'Initial Observation'!B121)","v":""},{"$f":"IF('Initial Observation'!F121=\"\",\"\",\"X\")","v":""}]
[{"$f":"'Initial Observation'!A122","v":"00:00:00"},{"$f":"IF('Initial Observation'!B122=\"\",\"\",'Initial Observation'!B122)","v":""},{"$f":"IF('Initial Observation'!F122=\"\",\"\",\"X\")","v":""}]
[{"$f":"'Initial Observation'!A123","v":"00:00:00"},{"$f":"IF('Initial Observation'!B123=\"\",\"\",'Initial Observation'!B123)","v":""},{"$f":"IF('Initial Observation'!F123=\"\",\"\",\"X\")","v":""}]
[{"$f":"'Initial Observation'!A124","v":"00:00:00"},{"$f":"IF('Initial Observation'!B124=\"\",\"\",'Initial Observation'!B124)","v":""},{"$f":"IF('Initial Observation'!F124=\"\",\"\",\"X\")","v":""}]
[{"$f":"'Initial Observation'!A125","v":"00:00:00"},{"$f":"IF('Initial Observation'!B125=\"\",\"\",'Initial Observation'!B125)","v":""},{"$f":"IF('Initial Observation'!F125=\"\",\"\",\"X\")","v":""}]
[{"$f":"'Initial Observation'!A126","v":"00:00:00"},{"$f":"IF('Initial Observation'!B126=\"\",\"\",'Initial Observation'!B126)","v":""},{"$f":"IF('Initial Observation'!F126=\"\",\"\",\"X\")","v":""}]
[{"$f":"'Initial Observation'!A127","v":"00:00:00"},{"$f":"IF('Initial Observation'!B127=\"\",\"\",'Initial Observation'!B127)","v":""},{"$f":"IF('Initial Observation'!F127=\"\",\"\",\"X\")","v":""}]
[{"$f":"'Initial Observation'!A128","v":"00:00:00"},{"$f":"IF('Initial Observation'!B128=\"\",\"\",'Initial Observation'!B128)","v":""},{"$f":"IF('Initial Observation'!F128=\"\",\"\",\"X\")","v":""}]
[{"$f":"'Initial Observation'!A129","v":"00:00:00"},{"$f":"IF('Initial Observation'!B129=\"\",\"\",'Initial Observation'!B129)","v":""},{"$f":"IF('Initial Observation'!F129=\"\",\"\",\"X\")","v":""}]
[{"$f":"'Initial Observation'!A130","v":"00:00:00"},{"$f":"IF('Initial Observation'!B130=\"\",\"\",'Initial Observation'!B130)","v":""},{"$f":"IF('Initial Observation'!F130=\"\",\"\",\"X\")","v":""}]
[{"$f":"'Initial Observation'!A131","v":"00:00:00"},{"$f":"IF('Initial Observation'!B131=\"\",\"\",'Initial Observation'!B131)","v":""},{"$f":"IF('Initial Observation'!F131=\"\",\"\",\"X\")","v":""}]
[{"$f":"'Initial Observation'!A132","v":"00:00:00"},{"$f":"IF('Initial Observation'!B132=\"\",\"\",'Initial Observation'!B132)","v":""},{"$f":"IF('Initial Observation'!F132=\"\",\"\",\"X\")","v":""}]
[{"$f":"'Initial Observation'!A133","v":"00:00:00"},{"$f":"IF('Initial Observation'!B133=\"\",\"\",'Initial Observation'!B133)","v":""},{"$f":"IF('Initial Observation'!F133=\"\",\"\",\"X\")","v":""}]
[{"$f":"'Initial Observation'!A134","v":"00:00:00"},{"$f":"IF('Initial Observation'!B134=\"\",\"\",'Initial Observation'!B134)","v":""},{"$f":"IF('Initial Observation'!F134=\"\",\"\",\"X\")","v":""}]
[{"$f":"'Initial Observation'!A135","v":"00:00:00"},{"$f":"IF('Initial Observation'!B135=\"\",\"\",'Initial Observation'!B135)","v":""},{"$f":"IF('Initial Observation'!F135=\"\",\"\",\"X\")","v":""}]
[{"$f":"'Initial Observation'!A136","v":"00:00:00"},{"$f":"IF('Initial Observation'!B136=\"\",\"\",'Initial Observation'!B136)","v":""},{"$f":"IF('Initial Observation'!F136=\"\",\"\",\"X\")","v":""}]
[{"$f":"'Initial Observation'!A137","v":"00:00:00"},{"$f":"IF('Initial Observation'!B137=\"\",\"\",'Initial Observation'!B137)","v":""},{"$f":"IF('Initial Observation'!F137=\"\",\"\",\"X\")","v":""}]
[{"$f":"'Initial Observation'!A138","v":"00:00:00"},{"$f":"IF('Initial Observation'!B138=\"\",\"\",'Initial Observation'!B138)","v":""},{"$f":"IF('Initial Observation'!F138=\"\",\"\",\"X\")","v":""}]
[{"$f":"'Initial Observation'!A139","v":"00:00:00"},{"$f":"IF('Initial Observation'!B139=\"\",\"\",'Initial Observation'!B139)","v":""},{"$f":"IF('Initial Observation'!F139=\"\",\"\",\"X\")","v":""}]
[{"$f":"'Initial Observation'!A140","v":"00:00:00"},{"$f":"IF('Initial Observation'!B140=\"\",\"\",'Initial Observation'!B140)","v":""},{"$f":"IF('Initial Observation'!F140=\"\",\"\",\"X\")","v":""}]
[{"$f":"'Initial Observation'!A141","v":"00:00:00"},{"$f":"IF('Initial Observation'!B141=\"\",\"\",'Initial Observation'!B141)","v":""},{"$f":"IF('Initial Observation'!F141=\"\",\"\",\"X\")","v":""}]
[{"$f":"'Initial Observation'!A142","v":"00:00:00"},{"$f":"IF('Initial Observation'!B142=\"\",\"\",'Initial Observation'!B142)","v":""},{"$f":"IF('Initial Observation'!F142=\"\",\"\",\"X\")","v":""}]
[{"$f":"'Initial Observation'!A143","v":"00:00:00"},{"$f":"IF('Initial Observation'!B143=\"\",\"\",'Initial Observation'!B143)","v":""},{"$f":"IF('Initial Observation'!F143=\"\",\"\",\"X\")","v":""}]
[{"$f":"'Initial Observation'!A144","v":"00:00:00"},{"$f":"IF('Initial Observation'!B144=\"\",\"\",'Initial Observation'!B144)","v":""},{"$f":"IF('Initial Observation'!F144=\"\",\"\",\"X\")","v":""}]
[{"$f":"'Initial Observation'!A145","v":"00:00:00"},{"$f":"IF('Initial Observation'!B145=\"\",\"\",'Initial Observation'!B145)","v":""},{"$f":"IF('Initial Observation'!F145=\"\",\"\",\"X\")","v":""}]
[{"$f":"'Initial Observation'!A146","v":"00:00:00"},{"$f":"IF('Initial Observation'!B146=\"\",\"\",'Initial Observation'!B146)","v":""},{"$f":"IF('Initial Observation'!F146=\"\",\"\",\"X\")","v":""}]
[{"$f":"'Initial Observation'!A147","v":"00:00:00"},{"$f":"IF('Initial Observation'!B147=\"\",\"\",'Initial Observation'!B147)","v":""},{"$f":"IF('Initial Observation'!F147=\"\",\"\",\"X\")","v":""}]
[{"$f":"'Initial Observation'!A148","v":"00:00:00"},{"$f":"IF('Initial Observation'!B148=\"\",\"\",'Initial Observation'!B148)","v":""},{"$f":"IF('Initial Observation'!F148=\"\",\"\",\"X\")","v":""}]
[{"$f":"'Initial Observation'!A149","v":"00:00:00"},{"$f":"IF('Initial Observation'!B149=\"\",\"\",'Initial Observation'!B149)","v":""},{"$f":"IF('Initial Observation'!F149=\"\",\"\",\"X\")","v":""}]
[{"$f":"'Initial Observation'!A150","v":"00:00:00"},{"$f":"IF('Initial Observation'!B150=\"\",\"\",'Initial Observation'!B150)","v":""},{"$f":"IF('Initial Observation'!F150=\"\",\"\",\"X\")","v":""}]
[{"$f":"'Initial Observation'!A151","v":"00:00:00"},{"$f":"IF('Initial Observation'!B151=\"\",\"\",'Initial Observation'!B151)","v":""},{"$f":"IF('Initial Observation'!F151=\"\",\"\",\"X\")","v":""}]
[{"$f":"'Initial Observation'!A152","v":"00:00:00"},{"$f":"IF('Initial Observation'!B152=\"\",\"\",'Initial Observation'!B152)","v":""},{"$f":"IF('Initial Observation'!F152=\"\",\"\",\"X\")","v":""}]
[{"$f":"'Initial Observation'!A153","v":"00:00:00"},{"$f":"IF('Initial Observation'!B153=\"\",\"\",'Initial Observation'!B153)","v":""},{"$f":"IF('Initial Observation'!F153=\"\",\"\",\"X\")","v":""}]
[{"$f":"'Initial Observation'!A154","v":"00:00:00"},{"$f":"IF('Initial Observation'!B154=\"\",\"\",'Initial Observation'!B154)","v":""},{"$f":"IF('Initial Observation'!F154=\"\",\"\",\"X\")","v":""}]
[{"$f":"'Initial Observation'!A155","v":"00:00:00"},{"$f":"IF('Initial Observation'!B155=\"\",\"\",'Initial Observation'!B155)","v":""},{"$f":"IF('Initial Observation'!F155=\"\",\"\",\"X\")","v":""}]
[{"$f":"'Initial Observation'!A156","v":"00:00:00"},{"$f":"IF('Initial Observation'!B156=\"\",\"\",'Initial Observation'!B156)","v":""},{"$f":"IF('Initial Observation'!F156=\"\",\"\",\"X\")","v":""}]
[{"$f":"'Initial Observation'!A157","v":"00:00:00"},{"$f":"IF('Initial Observation'!B157=\"\",\"\",'Initial Observation'!B157)","v":""},{"$f":"IF('Initial Observation'!F157=\"\",\"\",\"X\")","v":""}]
[{"$f":"'Initial Observation'!A158","v":"00:00:00"},{"$f":"IF('Initial Observation'!B158=\"\",\"\",'Initial Observation'!B158)","v":""},{"$f":"IF('Initial Observation'!F158=\"\",\"\",\"X\")","v":""}]
[{"$f":"'Initial Observation'!A159","v":"00:00:00"},{"$f":"IF('Initial Observation'!B159=\"\",\"\",'Initial Observation'!B159)","v":""},{"$f":"IF('Initial Observation'!F159=\"\",\"\",\"X\")","v":""}]
[{"$f":"'Initial Observation'!A160","v":"00:00:00"},{"$f":"IF('Initial Observation'!B160=\"\",\"\",'Initial Observation'!B160)","v":""},{"$f":"IF('Initial Observation'!F160=\"\",\"\",\"X\")","v":""}]
[{"$f":"'Initial Observation'!A161","v":"00:00:00"},{"$f":"IF('Initial Observation'!B161=\"\",\"\",'Initial Observation'!B161)","v":""},{"$f":"IF('Initial Observation'!F161=\"\",\"\",\"X\")","v":""}]
[{"$f":"'Initial Observation'!A162","v":"00:00:00"},{"$f":"IF('Initial Observation'!B162=\"\",\"\",'Initial Observation'!B162)","v":""},{"$f":"IF('Initial Observation'!F162=\"\",\"\",\"X\")","v":""}]
[{"$f":"'Initial Observation'!A163","v":"00:00:00"},{"$f":"IF('Initial Observation'!B163=\"\",\"\",'Initial Observation'!B163)","v":""},{"$f":"IF('Initial Observation'!F163=\"\",\"\",\"X\")","v":""}]
[{"$f":"'Initial Observation'!A164","v":"00:00:00"},{"$f":"IF('Initial Observation'!B164=\"\",\"\",'Initial Observation'!B164)","v":""},{"$f":"IF('Initial Observation'!F164=\"\",\"\",\"X\")","v":""}]
[{"$f":"'Initial Observation'!A165","v":"00:00:00"},{"$f":"IF('Initial Observation'!B165=\"\",\"\",'Initial Observation'!B165)","v":""},{"$f":"IF('Initial Observation'!F165=\"\",\"\",\"X\")","v":""}]
[{"$f":"'Initial Observation'!A166","v":"00:00:00"},{"$f":"IF('Initial Observation'!B166=\"\",\"\",'Initial Observation'!B166)","v":""},{"$f":"IF('Initial Observation'!F166=\"\",\"\",\"X\")","v":""}]
[{"$f":"'Initial Observation'!A167","v":"00:00:00"},{"$f":"IF('Initial Observation'!B167=\"\",\"\",'Initial Observation'!B167)","v":""},{"$f":"IF('Initial Observation'!F167=\"\",\"\",\"X\")","v":""}]
[{"$f":"'Initial Observation'!A168","v":"00:00:00"},{"$f":"IF('Initial Observation'!B168=\"\",\"\",'Initial Observation'!B168)","v":""},{"$f":"IF('Initial Observation'!F168=\"\",\"\",\"X\")","v":""}]
[{"$f":"'Initial Observation'!A169","v":"00:00:00"},{"$f":"IF('Initial Observation'!B169=\"\",\"\",'Initial Observation'!B169)","v":""},{"$f":"IF('Initial Observation'!F169=\"\",\"\",\"X\")","v":""}]
[{"$f":"'Initial Observation'!A170","v":"00:00:00"},{"$f":"IF('Initial Observation'!B170=\"\",\"\",'Initial Observation'!B170)","v":""},{"$f":"IF('Initial Observation'!F170=\"\",\"\",\"X\")","v":""}]
[{"$f":"'Initial Observation'!A171","v":"00:00:00"},{"$f":"IF('Initial Observation'!B171=\"\",\"\",'Initial Observation'!B171)","v":""},{"$f":"IF('Initial Observation'!F171=\"\",\"\",\"X\")","v":""}]
[{"$f":"'Initial Observation'!A172","v":"00:00:00"},{"$f":"IF('Initial Observation'!B172=\"\",\"\",'Initial Observation'!B172)","v":""},{"$f":"IF('Initial Observation'!F172=\"\",\"\",\"X\")","v":""}]
[{"$f":"'Initial Observation'!A173","v":"00:00:00"},{"$f":"IF('Initial Observation'!B173=\"\",\"\",'Initial Observation'!B173)","v":""},{"$f":"IF('Initial Observation'!F173=\"\",\"\",\"X\")","v":""}]
[{"$f":"'Initial Observation'!A174","v":"00:00:00"},{"$f":"IF('Initial Observation'!B174=\"\",\"\",'Initial Observation'!B174)","v":""},{"$f":"IF('Initial Observation'!F174=\"\",\"\",\"X\")","v":""}]
[{"$f":"'Initial Observation'!A175","v":"00:00:00"},{"$f":"IF('Initial Observation'!B175=\"\",\"\",'Initial Observation'!B175)","v":""},{"$f":"IF('Initial Observation'!F175=\"\",\"\",\"X\")","v":""}]
[{"$f":"'Initial Observation'!A176","v":"00:00:00"},{"$f":"IF('Initial Observation'!B176=\"\",\"\",'Initial Observation'!B176)","v":""},{"$f":"IF('Initial Observation'!F176=\"\",\"\",\"X\")","v":""}]
[{"$f":"'Initial Observation'!A177","v":"00:00:00"},{"$f":"IF('Initial Observation'!B177=\"\",\"\",'Initial Observation'!B177)","v":""},{"$f":"IF('Initial Observation'!F177=\"\",\"\",\"X\")","v":""}]
[{"$f":"'Initial Observation'!A178","v":"00:00:00"},{"$f":"IF('Initial Observation'!B178=\"\",\"\",'Initial Observation'!B178)","v":""},{"$f":"IF('Initial Observation'!F178=\"\",\"\",\"X\")","v":""}]
[{"$f":"'Initial Observation'!A179","v":"00:00:00"},{"$f":"IF('Initial Observation'!B179=\"\",\"\",'Initial Observation'!B179)","v":""},{"$f":"IF('Initial Observation'!F179=\"\",\"\",\"X\")","v":""}]
[{"$f":"'Initial Observation'!A180","v":"00:00:00"},{"$f":"IF('Initial Observation'!B180=\"\",\"\",'Initial Observation'!B180)","v":""},{"$f":"IF('Initial Observation'!F180=\"\",\"\",\"X\")","v":""}]
[{"$f":"'Initial Observation'!A181","v":"00:00:00"},{"$f":"IF('Initial Observation'!B181=\"\",\"\",'Initial Observation'!B181)","v":""},{"$f":"IF('Initial Observation'!F181=\"\",\"\",\"X\")","v":""}]
[{"$f":"'Initial Observation'!A182","v":"00:00:00"},{"$f":"IF('Initial Observation'!B182=\"\",\"\",'Initial Observation'!B182)","v":""},{"$f":"IF('Initial Observation'!F182=\"\",\"\",\"X\")","v":""}]
[{"$f":"'Initial Observation'!A183","v":"00:00:00"},{"$f":"IF('Initial Observation'!B183=\"\",\"\",'Initial Observation'!B183)","v":""},{"$f":"IF('Initial Observation'!F183=\"\",\"\",\"X\")","v":""}]
[{"$f":"'Initial Observation'!A184","v":"00:00:00"},{"$f":"IF('Initial Observation'!B184=\"\",\"\",'Initial Observation'!B184)","v":""},{"$f":"IF('Initial Observation'!F184=\"\",\"\",\"X\")","v":""}]
[{"$f":"'Initial Observation'!A185","v":"00:00:00"},{"$f":"IF('Initial Observation'!B185=\"\",\"\",'Initial Observation'!B185)","v":""},{"$f":"IF('Initial Observation'!F185=\"\",\"\",\"X\")","v":""}]
[{"$f":"'Initial Observation'!A186","v":"00:00:00"},{"$f":"IF('Initial Observation'!B186=\"\",\"\",'Initial Observation'!B186)","v":""},{"$f":"IF('Initial Observation'!F186=\"\",\"\",\"X\")","v":""}]
[{"$f":"'Initial Observation'!A187","v":"00:00:00"},{"$f":"IF('Initial Observation'!B187=\"\",\"\",'Initial Observation'!B187)","v":""},{"$f":"IF('Initial Observation'!F187=\"\",\"\",\"X\")","v":""}]
[{"$f":"'Initial Observation'!A188","v":"00:00:00"},{"$f":"IF('Initial Observation'!B188=\"\",\"\",'Initial Observation'!B188)","v":""},{"$f":"IF('Initial Observation'!F188=\"\",\"\",\"X\")","v":""}]
[{"$f":"'Initial Observation'!A189","v":"00:00:00"},{"$f":"IF('Initial Observation'!B189=\"\",\"\",'Initial Observation'!B189)","v":""},{"$f":"IF('Initial Observation'!F189=\"\",\"\",\"X\")","v":""}]
[{"$f":"'Initial Observation'!A190","v":"00:00:00"},{"$f":"IF('Initial Observation'!B190=\"\",\"\",'Initial Observation'!B190)","v":""},{"$f":"IF('Initial Observation'!F190=\"\",\"\",\"X\")","v":""}]
[{"$f":"'Initial Observation'!A191","v":"00:00:00"},{"$f":"IF('Initial Observation'!B191=\"\",\"\",'Initial Observation'!B191)","v":""},{"$f":"IF('Initial Observation'!F191=\"\",\"\",\"X\")","v":""}]
[{"$f":"'Initial Observation'!A192","v":"00:00:00"},{"$f":"IF('Initial Observation'!B192=\"\",\"\",'Initial Observation'!B192)","v":""},{"$f":"IF('Initial Observation'!F192=\"\",\"\",\"X\")","v":""}]
[{"$f":"'Initial Observation'!A193","v":"00:00:00"},{"$f":"IF('Initial Observation'!B193=\"\",\"\",'Initial Observation'!B193)","v":""},{"$f":"IF('Initial Observation'!F193=\"\",\"\",\"X\")","v":""}]
[{"$f":"'Initial Observation'!A194","v":"00:00:00"},{"$f":"IF('Initial Observation'!B194=\"\",\"\",'Initial Observation'!B194)","v":""},{"$f":"IF('Initial Observation'!F194=\"\",\"\",\"X\")","v":""}]
[{"$f":"'Initial Observation'!A195","v":"00:00:00"},{"$f":"IF('Initial Observation'!B195=\"\",\"\",'Initial Observation'!B195)","v":""},{"$f":"IF('Initial Observation'!F195=\"\",\"\",\"X\")","v":""}]
[{"$f":"'Initial Observation'!A196","v":"00:00:00"},{"$f":"IF('Initial Observation'!B196=\"\",\"\",'Initial Observation'!B196)","v":""},{"$f":"IF('Initial Observation'!F196=\"\",\"\",\"X\")","v":""}]
[{"$f":"'Initial Observation'!A197","v":"00:00:00"},{"$f":"IF('Initial Observation'!B197=\"\",\"\",'Initial Observation'!B197)","v":""},{"$f":"IF('Initial Observation'!F197=\"\",\"\",\"X\")","v":""}]
[{"$f":"'Initial Observation'!A198","v":"00:00:00"},{"$f":"IF('Initial Observation'!B198=\"\",\"\",'Initial Observation'!B198)","v":""},{"$f":"IF('Initial Observation'!F198=\"\",\"\",\"X\")","v":""}]
[{"$f":"'Initial Observation'!A199","v":"00:00:00"},{"$f":"IF('Initial Observation'!B199=\"\",\"\",'Initial Observation'!B199)","v":""},{"$f":"IF('Initial Observation'!F199=\"\",\"\",\"X\")","v":""}]
[{"$f":"'Initial Observation'!A200","v":"00:00:00"},{"$f":"IF('Initial Observation'!B200=\"\",\"\",'Initial Observation'!B200)","v":""},{"$f":"IF('Initial Observation'!F200=\"\",\"\",\"X\")","v":""}]
[{"$f":"'Initial Observation'!A201","v":"00:00:00"},{"$f":"IF('Initial Observation'!B201=\"\",\"\",'Initial Observation'!B201)","v":""},{"$f":"IF('Initial Observation'!F201=\"\",\"\",\"X\")","v":""}]
[{"$f":"'Initial Observation'!A202","v":"00:00:00"},{"$f":"IF('Initial Observation'!B202=\"\",\"\",'Initial Observation'!B202)","v":""},{"$f":"IF('Initial Observation'!F202=\"\",\"\",\"X\")","v":""}]
[{"$f":"'Initial Observation'!A203","v":"00:00:00"},{"$f":"IF('Initial Observation'!B203=\"\",\"\",'Initial Observation'!B203)","v":""},{"$f":"IF('Initial Observation'!F203=\"\",\"\",\"X\")","v":""}]
[{"$f":"'Initial Observation'!A204","v":"00:00:00"},{"$f":"IF('Initial Observation'!B204=\"\",\"\",'Initial Observation'!B204)","v":""},{"$f":"IF('Initial Observation'!F204=\"\",\"\",\"X\")","v":""}]
[{"$f":"'Initial Observation'!A205","v":"00:00:00"},{"$f":"IF('Initial Observation'!B205=\"\",\"\",'Initial Observation'!B205)","v":""},{"$f":"IF('Initial Observation'!F205=\"\",\"\",\"X\")","v":""}]
[{"$f":"'Initial Observation'!A206","v":"00:00:00"},{"$f":"IF('Initial Observation'!B206=\"\",\"\",'Initial Observation'!B206)","v":""},{"$f":"IF('Initial Observation'!F206=\"\",\"\",\"X\")","v":""}]
[{"$f":"'Initial Observation'!A207","v":"00:00:00"},{"$f":"IF('Initial Observation'!B207=\"\",\"\",'Initial Observation'!B207)","v":""},{"$f":"IF('Initial Observation'!F207=\"\",\"\",\"X\")","v":""}]
[{"$f":"'Initial Observation'!A208","v":"00:00:00"},{"$f":"IF('Initial Observation'!B208=\"\",\"\",'Initial Observation'!B208)","v":""},{"$f":"IF('Initial Observation'!F208=\"\",\"\",\"X\")","v":""}]
[{"$f":"'Initial Observation'!A209","v":"00:00:00"},{"$f":"IF('Initial Observation'!B209=\"\",\"\",'Initial Observation'!B209)","v":""},{"$f":"IF('Initial Observation'!F209=\"\",\"\",\"X\")","v":""}]
[{"$f":"'Initial Observation'!A210","v":"00:00:00"},{"$f":"IF('Initial Observation'!B210=\"\",\"\",'Initial Observation'!B210)","v":""},{"$f":"IF('Initial Observation'!F210=\"\",\"\",\"X\")","v":""}]
[{"$f":"'Initial Observation'!A211","v":"00:00:00"},{"$f":"IF('Initial Observation'!B211=\"\",\"\",'Initial Observation'!B211)","v":""},{"$f":"IF('Initial Observation'!F211=\"\",\"\",\"X\")","v":""}]
[{"$f":"'Initial Observation'!A212","v":"00:00:00"},{"$f":"IF('Initial Observation'!B212=\"\",\"\",'Initial Observation'!B212)","v":""},{"$f":"IF('Initial Observation'!F212=\"\",\"\",\"X\")","v":""}]
[{"$f":"'Initial Observation'!A213","v":"00:00:00"},{"$f":"IF('Initial Observation'!B213=\"\",\"\",'Initial Observation'!B213)","v":""},{"$f":"IF('Initial Observation'!F213=\"\",\"\",\"X\")","v":""}]
[{"$f":"'Initial Observation'!A214","v":"00:00:00"},{"$f":"IF('Initial Observation'!B214=\"\",\"\",'Initial Observation'!B214)","v":""},{"$f":"IF('Initial Observation'!F214=\"\",\"\",\"X\")","v":""}]
[{"$f":"'Initial Observation'!A215","v":"00:00:00"},{"$f":"IF('Initial Observation'!B215=\"\",\"\",'Initial Observation'!B215)","v":""},{"$f":"IF('Initial Observation'!F215=\"\",\"\",\"X\")","v":""}]
[{"$f":"'Initial Observation'!A216","v":"00:00:00"},{"$f":"IF('Initial Observation'!B216=\"\",\"\",'Initial Observation'!B216)","v":""},{"$f":"IF('Initial Observation'!F216=\"\",\"\",\"X\")","v":""}]
[{"$f":"'Initial Observation'!A217","v":"00:00:00"},{"$f":"IF('Initial Observation'!B217=\"\",\"\",'Initial Observation'!B217)","v":""},{"$f":"IF('Initial Observation'!F217=\"\",\"\",\"X\")","v":""}]
[{"$f":"'Initial Observation'!A218","v":"00:00:00"},{"$f":"IF('Initial Observation'!B218=\"\",\"\",'Initial Observation'!B218)","v":""},{"$f":"IF('Initial Observation'!F218=\"\",\"\",\"X\")","v":""}]
[{"$f":"'Initial Observation'!A219","v":"00:00:00"},{"$f":"IF('Initial Observation'!B219=\"\",\"\",'Initial Observation'!B219)","v":""},{"$f":"IF('Initial Observation'!F219=\"\",\"\",\"X\")","v":""}]
[{"$f":"'Initial Observation'!A220","v":"00:00:00"},{"$f":"IF('Initial Observation'!B220=\"\",\"\",'Initial Observation'!B220)","v":""},{"$f":"IF('Initial Observation'!F220=\"\",\"\",\"X\")","v":""}]
[{"$f":"'Initial Observation'!A221","v":"00:00:00"},{"$f":"IF('Initial Observation'!B221=\"\",\"\",'Initial Observation'!B221)","v":""},{"$f":"IF('Initial Observation'!F221=\"\",\"\",\"X\")","v":""}]
[{"$f":"'Initial Observation'!A222","v":"00:00:00"},{"$f":"IF('Initial Observation'!B222=\"\",\"\",'Initial Observation'!B222)","v":""},{"$f":"IF('Initial Observation'!F222=\"\",\"\",\"X\")","v":""}]
[{"$f":"'Initial Observation'!A223","v":"00:00:00"},{"$f":"IF('Initial Observation'!B223=\"\",\"\",'Initial Observation'!B223)","v":""},{"$f":"IF('Initial Observation'!F223=\"\",\"\",\"X\")","v":""}]
[{"$f":"'Initial Observation'!A224","v":"00:00:00"},{"$f":"IF('Initial Observation'!B224=\"\",\"\",'Initial Observation'!B224)","v":""},{"$f":"IF('Initial Observation'!F224=\"\",\"\",\"X\")","v":""}]
[{"$f":"'Initial Observation'!A225","v":"00:00:00"},{"$f":"IF('Initial Observation'!B225=\"\",\"\",'Initial Observation'!B225)","v":""},{"$f":"IF('Initial Observation'!F225=\"\",\"\",\"X\")","v":""}]
[{"$f":"'Initial Observation'!A226","v":"00:00:00"},{"$f":"IF('Initial Observation'!B226=\"\",\"\",'Initial Observation'!B226)","v":""},{"$f":"IF('Initial Observation'!F226=\"\",\"\",\"X\")","v":""}]
[{"$f":"'Initial Observation'!A227","v":"00:00:00"},{"$f":"IF('Initial Observation'!B227=\"\",\"\",'Initial Observation'!B227)","v":""},{"$f":"IF('Initial Observation'!F227=\"\",\"\",\"X\")","v":""}]
[{"$f":"'Initial Observation'!A228","v":"00:00:00"},{"$f":"IF('Initial Observation'!B228=\"\",\"\",'Initial Observation'!B228)","v":""},{"$f":"IF('Initial Observation'!F228=\"\",\"\",\"X\")","v":""}]
[{"$f":"'Initial Observation'!A229","v":"00:00:00"},{"$f":"IF('Initial Observation'!B229=\"\",\"\",'Initial Observation'!B229)","v":""},{"$f":"IF('Initial Observation'!F229=\"\",\"\",\"X\")","v":""}]
[{"$f":"'Initial Observation'!A230","v":"00:00:00"},{"$f":"IF('Initial Observation'!B230=\"\",\"\",'Initial Observation'!B230)","v":""},{"$f":"IF('Initial Observation'!F230=\"\",\"\",\"X\")","v":""}]
[{"$f":"'Initial Observation'!A231","v":"00:00:00"},{"$f":"IF('Initial Observation'!B231=\"\",\"\",'Initial Observation'!B231)","v":""},{"$f":"IF('Initial Observation'!F231=\"\",\"\",\"X\")","v":""}]
[{"$f":"'Initial Observation'!A232","v":"00:00:00"},{"$f":"IF('Initial Observation'!B232=\"\",\"\",'Initial Observation'!B232)","v":""},{"$f":"IF('Initial Observation'!F232=\"\",\"\",\"X\")","v":""}]
[{"$f":"'Initial Observation'!A233","v":"00:00:00"},{"$f":"IF('Initial Observation'!B233=\"\",\"\",'Initial Observation'!B233)","v":""},{"$f":"IF('Initial Observation'!F233=\"\",\"\",\"X\")","v":""}]
[{"$f":"'Initial Observation'!A234","v":"00:00:00"},{"$f":"IF('Initial Observation'!B234=\"\",\"\",'Initial Observation'!B234)","v":""},{"$f":"IF('Initial Observation'!F234=\"\",\"\",\"X\")","v":""}]
[{"$f":"'Initial Observation'!A235","v":"00:00:00"},{"$f":"IF('Initial Observation'!B235=\"\",\"\",'Initial Observation'!B235)","v":""},{"$f":"IF('Initial Observation'!F235=\"\",\"\",\"X\")","v":""}]
[{"$f":"'Initial Observation'!A236","v":"00:00:00"},{"$f":"IF('Initial Observation'!B236=\"\",\"\",'Initial Observation'!B236)","v":""},{"$f":"IF('Initial Observation'!F236=\"\",\"\",\"X\")","v":""}]
[{"$f":"'Initial Observation'!A237","v":"00:00:00"},{"$f":"IF('Initial Observation'!B237=\"\",\"\",'Initial Observation'!B237)","v":""},{"$f":"IF('Initial Observation'!F237=\"\",\"\",\"X\")","v":""}]
[{"$f":"'Initial Observation'!A238","v":"00:00:00"},{"$f":"IF('Initial Observation'!B238=\"\",\"\",'Initial Observation'!B238)","v":""},{"$f":"IF('Initial Observation'!F238=\"\",\"\",\"X\")","v":""}]
[{"$f":"'Initial Observation'!A239","v":"00:00:00"},{"$f":"IF('Initial Observation'!B239=\"\",\"\",'Initial Observation'!B239)","v":""},{"$f":"IF('Initial Observation'!F239=\"\",\"\",\"X\")","v":""}]
[{"$f":"'Initial Observation'!A240","v":"00:00:00"},{"$f":"IF('Initial Observation'!B240=\"\",\"\",'Initial Observation'!B240)","v":""},{"$f":"IF('Initial Observation'!F240=\"\",\"\",\"X\")","v":""}]
[{"$f":"'Initial Observation'!A241","v":"00:00:00"},{"$f":"IF('Initial Observation'!B241=\"\",\"\",'Initial Observation'!B241)","v":""},{"$f":"IF('Initial Observation'!F241=\"\",\"\",\"X\")","v":""}]
[{"$f":"'Initial Observation'!A242","v":"00:00:00"},{"$f":"IF('Initial Observation'!B242=\"\",\"\",'Initial Observation'!B242)","v":""},{"$f":"IF('Initial Observation'!F242=\"\",\"\",\"X\")","v":""}]
[{"$f":"'Initial Observation'!A243","v":"00:00:00"},{"$f":"IF('Initial Observation'!B243=\"\",\"\",'Initial Observation'!B243)","v":""},{"$f":"IF('Initial Observation'!F243=\"\",\"\",\"X\")","v":""}]
[{"$f":"'Initial Observation'!A244","v":"00:00:00"},{"$f":"IF('Initial Observation'!B244=\"\",\"\",'Initial Observation'!B244)","v":""},{"$f":"IF('Initial Observation'!F244=\"\",\"\",\"X\")","v":""}]
[{"$f":"'Initial Observation'!A245","v":"00:00:00"},{"$f":"IF('Initial Observation'!B245=\"\",\"\",'Initial Observation'!B245)","v":""},{"$f":"IF('Initial Observation'!F245=\"\",\"\",\"X\")","v":""}]
[{"$f":"'Initial Observation'!A246","v":"00:00:00"},{"$f":"IF('Initial Observation'!B246=\"\",\"\",'Initial Observation'!B246)","v":""},{"$f":"IF('Initial Observation'!F246=\"\",\"\",\"X\")","v":""}]
[{"$f":"'Initial Observation'!A247","v":"00:00:00"},{"$f":"IF('Initial Observation'!B247=\"\",\"\",'Initial Observation'!B247)","v":""},{"$f":"IF('Initial Observation'!F247=\"\",\"\",\"X\")","v":""}]
[{"$f":"'Initial Observation'!A248","v":"00:00:00"},{"$f":"IF('Initial Observation'!B248=\"\",\"\",'Initial Observation'!B248)","v":""},{"$f":"IF('Initial Observation'!F248=\"\",\"\",\"X\")","v":""}]
[{"$f":"'Initial Observation'!A249","v":"00:00:00"},{"$f":"IF('Initial Observation'!B249=\"\",\"\",'Initial Observation'!B249)","v":""},{"$f":"IF('Initial Observation'!F249=\"\",\"\",\"X\")","v":""}]
[{"$f":"'Initial Observation'!A250","v":"00:00:00"},{"$f":"IF('Initial Observation'!B250=\"\",\"\",'Initial Observation'!B250)","v":""},{"$f":"IF('Initial Observation'!F250=\"\",\"\",\"X\")","v":""}]
[{"$f":"'Initial Observation'!A251","v":"00:00:00"},{"$f":"IF('Initial Observation'!B251=\"\",\"\",'Initial Observation'!B251)","v":""},{"$f":"IF('Initial Observation'!F251=\"\",\"\",\"X\")","v":""}]
[{"$f":"'Initial Observation'!A252","v":"00:00:00"},{"$f":"IF('Initial Observation'!B252=\"\",\"\",'Initial Observation'!B252)","v":""},{"$f":"IF('Initial Observation'!F252=\"\",\"\",\"X\")","v":""}]
[{"$f":"'Initial Observation'!A253","v":"00:00:00"},{"$f":"IF('Initial Observation'!B253=\"\",\"\",'Initial Observation'!B253)","v":""},{"$f":"IF('Initial Observation'!F253=\"\",\"\",\"X\")","v":""}]
[{"$f":"'Initial Observation'!A254","v":"00:00:00"},{"$f":"IF('Initial Observation'!B254=\"\",\"\",'Initial Observation'!B254)","v":""},{"$f":"IF('Initial Observation'!F254=\"\",\"\",\"X\")","v":""}]
[{"$f":"'Initial Observation'!A255","v":"00:00:00"},{"$f":"IF('Initial Observation'!B255=\"\",\"\",'Initial Observation'!B255)","v":""},{"$f":"IF('Initial Observation'!F255=\"\",\"\",\"X\")","v":""}]
[{"$f":"'Initial Observation'!A256","v":"00:00:00"},{"$f":"IF('Initial Observation'!B256=\"\",\"\",'Initial Observation'!B256)","v":""},{"$f":"IF('Initial Observation'!F256=\"\",\"\",\"X\")","v":""}]
[{"$f":"'Initial Observation'!A257","v":"00:00:00"},{"$f":"IF('Initial Observation'!B257=\"\",\"\",'Initial Observation'!B257)","v":""},{"$f":"IF('Initial Observation'!F257=\"\",\"\",\"X\")","v":""}]
[{"$f":"'Initial Observation'!A258","v":"00:00:00"},{"$f":"IF('Initial Observation'!B258=\"\",\"\",'Initial Observation'!B258)","v":""},{"$f":"IF('Initial Observation'!F258=\"\",\"\",\"X\")","v":""}]
[{"$f":"'Initial Observation'!A259","v":"00:00:00"},{"$f":"IF('Initial Observation'!B259=\"\",\"\",'Initial Observation'!B259)","v":""},{"$f":"IF('Initial Observation'!F259=\"\",\"\",\"X\")","v":""}]
[{"$f":"'Initial Observation'!A260","v":"00:00:00"},{"$f":"IF('Initial Observation'!B260=\"\",\"\",'Initial Observation'!B260)","v":""},{"$f":"IF('Initial Observation'!F260=\"\",\"\",\"X\")","v":""}]
[{"$f":"'Initial Observation'!A261","v":"00:00:00"},{"$f":"IF('Initial Observation'!B261=\"\",\"\",'Initial Observation'!B261)","v":""},{"$f":"IF('Initial Observation'!F261=\"\",\"\",\"X\")","v":""}]
[{"$f":"'Initial Observation'!A262","v":"00:00:00"},{"$f":"IF('Initial Observation'!B262=\"\",\"\",'Initial Observation'!B262)","v":""},{"$f":"IF('Initial Observation'!F262=\"\",\"\",\"X\")","v":""}]
[{"$f":"'Initial Observation'!A263","v":"00:00:00"},{"$f":"IF('Initial Observation'!B263=\"\",\"\",'Initial Observation'!B263)","v":""},{"$f":"IF('Initial Observation'!F263=\"\",\"\",\"X\")","v":""}]
[{"$f":"'Initial Observation'!A264","v":"00:00:00"},{"$f":"IF('Initial Observation'!B264=\"\",\"\",'Initial Observation'!B264)","v":""},{"$f":"IF('Initial Observation'!F264=\"\",\"\",\"X\")","v":""}]
[{"$f":"'Initial Observation'!A265","v":"00:00:00"},{"$f":"IF('Initial Observation'!B265=\"\",\"\",'Initial Observation'!B265)","v":""},{"$f":"IF('Initial Observation'!F265=\"\",\"\",\"X\")","v":""}]
[{"$f":"'Initial Observation'!A266","v":"00:00:00"},{"$f":"IF('Initial Observation'!B266=\"\",\"\",'Initial Observation'!B266)","v":""},{"$f":"IF('Initial Observation'!F266=\"\",\"\",\"X\")","v":""}]
[{"$f":"'Initial Observation'!A267","v":"00:00:00"},{"$f":"IF('Initial Observation'!B267=\"\",\"\",'Initial Observation'!B267)","v":""},{"$f":"IF('Initial Observation'!F267=\"\",\"\",\"X\")","v":""}]
[{"$f":"'Initial Observation'!A268","v":"00:00:00"},{"$f":"IF('Initial Observation'!B268=\"\",\"\",'Initial Observation'!B268)","v":""},{"$f":"IF('Initial Observation'!F268=\"\",\"\",\"X\")","v":""}]
[{"$f":"'Initial Observation'!A269","v":"00:00:00"},{"$f":"IF('Initial Observation'!B269=\"\",\"\",'Initial Observation'!B269)","v":""},{"$f":"IF('Initial Observation'!F269=\"\",\"\",\"X\")","v":""}]
[{"$f":"'Initial Observation'!A270","v":"00:00:00"},{"$f":"IF('Initial Observation'!B270=\"\",\"\",'Initial Observation'!B270)","v":""},{"$f":"IF('Initial Observation'!F270=\"\",\"\",\"X\")","v":""}]

{"sheet":"2E","index":5,"n_rows":270,"n_cols":3,"rows_kept":270,"cut":false,"hidden":false,"merged":[[0,2,3,2]]}
[null,{"$f":"'Initial Observation'!B1","v":"Teacher Name:"},"2E Organizing Physical Space"]
[null,{"$f":"'Initial Observation'!B2","v":"Date:"}]
[null,{"$f":"'Initial Observation'!B3","v":"Number of Students:"}]
[null,"Evidence"]
[{"$f":"'Initial Observation'!A5","v":"00:00:00"},{"$f":"IF('Initial Observation'!B5=\"\",\"\",'Initial Observation'!B5)","v":""},{"$f":"IF('Initial Observation'!G5=\"\",\"\",\"X\")","v":""}]
[{"$f":"'Initial Observation'!A6","v":"00:00:00"},{"$f":"IF('Initial Observation'!B6=\"\",\"\",'Initial Observation'!B6)","v":""},{"$f":"IF('Initial Observation'!G6=\"\",\"\",\"X\")","v":""}]
[{"$f":"'Initial Observation'!A7","v":"00:00:00"},{"$f":"IF('Initial Observation'!B7=\"\",\"\",'Initial Observation'!B7)","v":""},{"$f":"IF('Initial Observation'!G7=\"\",\"\",\"X\")","v":""}]
[{"$f":"'Initial Observation'!A8","v":"00:00:00"},{"$f":"IF('Initial Observation'!B8=\"\",\"\",'Initial Observation'!B8)","v":""},{"$f":"IF('Initial Observation'!G8=\"\",\"\",\"X\")","v":""}]
[{"$f":"'Initial Observation'!A9","v":"00:00:00"},{"$f":"IF('Initial Observation'!B9=\"\",\"\",'Initial Observation'!B9)","v":""},{"$f":"IF('Initial Observation'!G9=\"\",\"\",\"X\")","v":""}]
[{"$f":"'Initial Observation'!A10","v":"00:00:00"},{"$f":"IF('Initial Observation'!B10=\"\",\"\",'Initial Observation'!B10)","v":""},{"$f":"IF('Initial Observation'!G10=\"\",\"\",\"X\")","v":""}]
[{"$f":"'Initial Observation'!A11","v":"00:00:00"},{"$f":"IF('Initial Observation'!B11=\"\",\"\",'Initial Observation'!B11)","v":""},{"$f":"IF('Initial Observation'!G11=\"\",\"\",\"X\")","v":""}]
[{"$f":"'Initial Observation'!A12","v":"00:00:00"},{"$f":"IF('Initial Observation'!B12=\"\",\"\",'Initial Observation'!B12)","v":""},{"$f":"IF('Initial Observation'!G12=\"\",\"\",\"X\")","v":""}]
[{"$f":"'Initial Observation'!A13","v":"00:00:00"},{"$f":"IF('Initial Observation'!B13=\"\",\"\",'Initial Observation'!B13)","v":""},{"$f":"IF('Initial Observation'!G13=\"\",\"\",\"X\")","v":""}]
[{"$f":"'Initial Observation'!A14","v":"00:00:00"},{"$f":"IF('Initial Observation'!B14=\"\",\"\",'Initial Observation'!B14)","v":""},{"$f":"IF('Initial Observation'!G14=\"\",\"\",\"X\")","v":""}]
[{"$f":"'Initial Observation'!A15","v":"00:00:00"},{"$f":"IF('Initial Observation'!B15=\"\",\"\",'Initial Observation'!B15)","v":""},{"$f":"IF('Initial Observation'!G15=\"\",\"\",\"X\")","v":""}]
[{"$f":"'Initial Observation'!A16","v":"00:00:00"},{"$f":"IF('Initial Observation'!B16=\"\",\"\",'Initial Observation'!B16)","v":""},{"$f":"IF('Initial Observation'!G16=\"\",\"\",\"X\")","v":""}]
[{"$f":"'Initial Observation'!A17","v":"00:00:00"},{"$f":"IF('Initial Observation'!B17=\"\",\"\",'Initial Observation'!B17)","v":""},{"$f":"IF('Initial Observation'!G17=\"\",\"\",\"X\")","v":""}]
[{"$f":"'Initial Observation'!A18","v":"00:00:00"},{"$f":"IF('Initial Observation'!B18=\"\",\"\",'Initial Observation'!B18)","v":""},{"$f":"IF('Initial Observation'!G18=\"\",\"\",\"X\")","v":""}]
[{"$f":"'Initial Observation'!A19","v":"00:00:00"},{"$f":"IF('Initial Observation'!B19=\"\",\"\",'Initial Observation'!B19)","v":""},{"$f":"IF('Initial Observation'!G19=\"\",\"\",\"X\")","v":""}]
[{"$f":"'Initial Observation'!A20","v":"00:00:00"},{"$f":"IF('Initial Observation'!B20=\"\",\"\",'Initial Observation'!B20)","v":""},{"$f":"IF('Initial Observation'!G20=\"\",\"\",\"X\")","v":""}]
[{"$f":"'Initial Observation'!A21","v":"00:00:00"},{"$f":"IF('Initial Observation'!B21=\"\",\"\",'Initial Observation'!B21)","v":""},{"$f":"IF('Initial Observation'!G21=\"\",\"\",\"X\")","v":""}]
[{"$f":"'Initial Observation'!A22","v":"00:00:00"},{"$f":"IF('Initial Observation'!B22=\"\",\"\",'Initial Observation'!B22)","v":""},{"$f":"IF('Initial Observation'!G22=\"\",\"\",\"X\")","v":""}]
[{"$f":"'Initial Observation'!A23","v":"00:00:00"},{"$f":"IF('Initial Observation'!B23=\"\",\"\",'Initial Observation'!B23)","v":""},{"$f":"IF('Initial Observation'!G23=\"\",\"\",\"X\")","v":""}]
[{"$f":"'Initial Observation'!A24","v":"00:00:00"},{"$f":"IF('Initial Observation'!B24=\"\",\"\",'Initial Observation'!B24)","v":""},{"$f":"IF('Initial Observation'!G24=\"\",\"\",\"X\")","v":""}]
[{"$f":"'Initial Observation'!A25","v":"00:00:00"},{"$f":"IF('Initial Observation'!B25=\"\",\"\",'Initial Observation'!B25)","v":""},{"$f":"IF('Initial Observation'!G25=\"\",\"\",\"X\")","v":""}]
[{"$f":"'Initial Observation'!A26","v":"00:00:00"},{"$f":"IF('Initial Observation'!B26=\"\",\"\",'Initial Observation'!B26)","v":""},{"$f":"IF('Initial Observation'!G26=\"\",\"\",\"X\")","v":""}]
[{"$f":"'Initial Observation'!A27","v":"00:00:00"},{"$f":"IF('Initial Observation'!B27=\"\",\"\",'Initial Observation'!B27)","v":""},{"$f":"IF('Initial Observation'!G27=\"\",\"\",\"X\")","v":""}]
[{"$f":"'Initial Observation'!A28","v":"00:00:00"},{"$f":"IF('Initial Observation'!B28=\"\",\"\",'Initial Observation'!B28)","v":""},{"$f":"IF('Initial Observation'!G28=\"\",\"\",\"X\")","v":""}]
[{"$f":"'Initial Observation'!A29","v":"00:00:00"},{"$f":"IF('Initial Observation'!B29=\"\",\"\",'Initial Observation'!B29)","v":""},{"$f":"IF('Initial Observation'!G29=\"\",\"\",\"X\")","v":""}]
[{"$f":"'Initial Observation'!A30","v":"00:00:00"},{"$f":"IF('Initial Observation'!B30=\"\",\"\",'Initial Observation'!B30)","v":""},{"$f":"IF('Initial Observation'!G30=\"\",\"\",\"X\")","v":""}]
[{"$f":"'Initial Observation'!A31","v":"00:00:00"},{"$f":"IF('Initial Observation'!B31=\"\",\"\",'Initial Observation'!B31)","v":""},{"$f":"IF('Initial Observation'!G31=\"\",\"\",\"X\")","v":""}]
[{"$f":"'Initial Observation'!A32","v":"00:00:00"},{"$f":"IF('Initial Observation'!B32=\"\",\"\",'Initial Observation'!B32)","v":""},{"$f":"IF('Initial Observation'!G32=\"\",\"\",\"X\")","v":""}]
[{"$f":"'Initial Observation'!A33","v":"00:00:00"},{"$f":"IF('Initial Observation'!B33=\"\",\"\",'Initial Observation'!B33)","v":""},{"$f":"IF('Initial Observation'!G33=\"\",\"\",\"X\")","v":""}]
[{"$f":"'Initial Observation'!A34","v":"00:00:00"},{"$f":"IF('Initial Observation'!B34=\"\",\"\",'Initial Observation'!B34)","v":""},{"$f":"IF('Initial Observation'!G34=\"\",\"\",\"X\")","v":""}]
[{"$f":"'Initial Observation'!A35","v":"00:00:00"},{"$f":"IF('Initial Observation'!B35=\"\",\"\",'Initial Observation'!B35)","v":""},{"$f":"IF('Initial Observation'!G35=\"\",\"\",\"X\")","v":""}]
[{"$f":"'Initial Observation'!A36","v":"00:00:00"},{"$f":"IF('Initial Observation'!B36=\"\",\"\",'Initial Observation'!B36)","v":""},{"$f":"IF('Initial Observation'!G36=\"\",\"\",\"X\")","v":""}]
[{"$f":"'Initial Observation'!A37","v":"00:00:00"},{"$f":"IF('Initial Observation'!B37=\"\",\"\",'Initial Observation'!B37)","v":""},{"$f":"IF('Initial Observation'!G37=\"\",\"\",\"X\")","v":""}]
[{"$f":"'Initial Observation'!A38","v":"00:00:00"},{"$f":"IF('Initial Observation'!B38=\"\",\"\",'Initial Observation'!B38)","v":""},{"$f":"IF('Initial Observation'!G38=\"\",\"\",\"X\")","v":""}]
[{"$f":"'Initial Observation'!A39","v":"00:00:00"},{"$f":"IF('Initial Observation'!B39=\"\",\"\",'Initial Observation'!B39)","v":""},{"$f":"IF('Initial Observation'!G39=\"\",\"\",\"X\")","v":""}]
[{"$f":"'Initial Observation'!A40","v":"00:00:00"},{"$f":"IF('Initial Observation'!B40=\"\",\"\",'Initial Observation'!B40)","v":""},{"$f":"IF('Initial Observation'!G40=\"\",\"\",\"X\")","v":""}]
[{"$f":"'Initial Observation'!A41","v":"00:00:00"},{"$f":"IF('Initial Observation'!B41=\"\",\"\",'Initial Observation'!B41)","v":""},{"$f":"IF('Initial Observation'!G41=\"\",\"\",\"X\")","v":""}]
[{"$f":"'Initial Observation'!A42","v":"00:00:00"},{"$f":"IF('Initial Observation'!B42=\"\",\"\",'Initial Observation'!B42)","v":""},{"$f":"IF('Initial Observation'!G42=\"\",\"\",\"X\")","v":""}]
[{"$f":"'Initial Observation'!A43","v":"00:00:00"},{"$f":"IF('Initial Observation'!B43=\"\",\"\",'Initial Observation'!B43)","v":""},{"$f":"IF('Initial Observation'!G43=\"\",\"\",\"X\")","v":""}]
[{"$f":"'Initial Observation'!A44","v":"00:00:00"},{"$f":"IF('Initial Observation'!B44=\"\",\"\",'Initial Observation'!B44)","v":""},{"$f":"IF('Initial Observation'!G44=\"\",\"\",\"X\")","v":""}]
[{"$f":"'Initial Observation'!A45","v":"00:00:00"},{"$f":"IF('Initial Observation'!B45=\"\",\"\",'Initial Observation'!B45)","v":""},{"$f":"IF('Initial Observation'!G45=\"\",\"\",\"X\")","v":""}]
[{"$f":"'Initial Observation'!A46","v":"00:00:00"},{"$f":"IF('Initial Observation'!B46=\"\",\"\",'Initial Observation'!B46)","v":""},{"$f":"IF('Initial Observation'!G46=\"\",\"\",\"X\")","v":""}]
[{"$f":"'Initial Observation'!A47","v":"00:00:00"},{"$f":"IF('Initial Observation'!B47=\"\",\"\",'Initial Observation'!B47)","v":""},{"$f":"IF('Initial Observation'!G47=\"\",\"\",\"X\")","v":""}]
[{"$f":"'Initial Observation'!A48","v":"00:00:00"},{"$f":"IF('Initial Observation'!B48=\"\",\"\",'Initial Observation'!B48)","v":""},{"$f":"IF('Initial Observation'!G48=\"\",\"\",\"X\")","v":""}]
[{"$f":"'Initial Observation'!A49","v":"00:00:00"},{"$f":"IF('Initial Observation'!B49=\"\",\"\",'Initial Observation'!B49)","v":""},{"$f":"IF('Initial Observation'!G49=\"\",\"\",\"X\")","v":""}]
[{"$f":"'Initial Observation'!A50","v":"00:00:00"},{"$f":"IF('Initial Observation'!B50=\"\",\"\",'Initial Observation'!B50)","v":""},{"$f":"IF('Initial Observation'!G50=\"\",\"\",\"X\")","v":""}]
[{"$f":"'Initial Observation'!A51","v":"00:00:00"},{"$f":"IF('Initial Observation'!B51=\"\",\"\",'Initial Observation'!B51)","v":""},{"$f":"IF('Initial Observation'!G51=\"\",\"\",\"X\")","v":""}]
[{"$f":"'Initial Observation'!A52","v":"00:00:00"},{"$f":"IF('Initial Observation'!B52=\"\",\"\",'Initial Observation'!B52)","v":""},{"$f":"IF('Initial Observation'!G52=\"\",\"\",\"X\")","v":""}]
[{"$f":"'Initial Observation'!A53","v":"00:00:00"},{"$f":"IF('Initial Observation'!B53=\"\",\"\",'Initial Observation'!B53)","v":""},{"$f":"IF('Initial Observation'!G53=\"\",\"\",\"X\")","v":""}]
[{"$f":"'Initial Observation'!A54","v":"00:00:00"},{"$f":"IF('Initial Observation'!B54=\"\",\"\",'Initial Observation'!B54)","v":""},{"$f":"IF('Initial Observation'!G54=\"\",\"\",\"X\")","v":""}]
[{"$f":"'Initial Observation'!A55","v":"00:00:00"},{"$f":"IF('Initial Observation'!B55=\"\",\"\",'Initial Observation'!B55)","v":""},{"$f":"IF('Initial Observation'!G55=\"\",\"\",\"X\")","v":""}]
[{"$f":"'Initial Observation'!A56","v":"00:00:00"},{"$f":"IF('Initial Observation'!B56=\"\",\"\",'Initial Observation'!B56)","v":""},{"$f":"IF('Initial Observation'!G56=\"\",\"\",\"X\")","v":""}]
[{"$f":"'Initial Observation'!A57","v":"00:00:00"},{"$f":"IF('Initial Observation'!B57=\"\",\"\",'Initial Observation'!B57)","v":""},{"$f":"IF('Initial Observation'!G57=\"\",\"\",\"X\")","v":""}]
[{"$f":"'Initial Observation'!A58","v":"00:00:00"},{"$f":"IF('Initial Observation'!B58=\"\",\"\",'Initial Observation'!B58)","v":""},{"$f":"IF('Initial Observation'!G58=\"\",\"\",\"X\")","v":""}]
[{"$f":"'Initial Observation'!A59","v":"00:00:00"},{"$f":"IF('Initial Observation'!B59=\"\",\"\",'Initial Observation'!B59)","v":""},{"$f":"IF('Initial Observation'!G59=\"\",\"\",\"X\")","v":""}]
[{"$f":"'Initial Observation'!A60","v":"00:00:00"},{"$f":"IF('Initial Observation'!B60=\"\",\"\",'Initial Observation'!B60)","v":""},{"$f":"IF('Initial Observation'!G60=\"\",\"\",\"X\")","v":""}]
[{"$f":"'Initial Observation'!A61","v":"00:00:00"},{"$f":"IF('Initial Observation'!B61=\"\",\"\",'Initial Observation'!B61)","v":""},{"$f":"IF('Initial Observation'!G61=\"\",\"\",\"X\")","v":""}]
[{"$f":"'Initial Observation'!A62","v":"00:00:00"},{"$f":"IF('Initial Observation'!B62=\"\",\"\",'Initial Observation'!B62)","v":""},{"$f":"IF('Initial Observation'!G62=\"\",\"\",\"X\")","v":""}]
[{"$f":"'Initial Observation'!A63","v":"00:00:00"},{"$f":"IF('Initial Observation'!B63=\"\",\"\",'Initial Observation'!B63)","v":""},{"$f":"IF('Initial Observation'!G63=\"\",\"\",\"X\")","v":""}]
[{"$f":"'Initial Observation'!A64","v":"00:00:00"},{"$f":"IF('Initial Observation'!B64=\"\",\"\",'Initial Observation'!B64)","v":""},{"$f":"IF('Initial Observation'!G64=\"\",\"\",\"X\")","v":""}]
[{"$f":"'Initial Observation'!A65","v":"00:00:00"},{"$f":"IF('Initial Observation'!B65=\"\",\"\",'Initial Observation'!B65)","v":""},{"$f":"IF('Initial Observation'!G65=\"\",\"\",\"X\")","v":""}]
[{"$f":"'Initial Observation'!A66","v":"00:00:00"},{"$f":"IF('Initial Observation'!B66=\"\",\"\",'Initial Observation'!B66)","v":""},{"$f":"IF('Initial Observation'!G66=\"\",\"\",\"X\")","v":""}]
[{"$f":"'Initial Observation'!A67","v":"00:00:00"},{"$f":"IF('Initial Observation'!B67=\"\",\"\",'Initial Observation'!B67)","v":""},{"$f":"IF('Initial Observation'!G67=\"\",\"\",\"X\")","v":""}]
[{"$f":"'Initial Observation'!A68","v":"00:00:00"},{"$f":"IF('Initial Observation'!B68=\"\",\"\",'Initial Observation'!B68)","v":""},{"$f":"IF('Initial Observation'!G68=\"\",\"\",\"X\")","v":""}]
[{"$f":"'Initial Observation'!A69","v":"00:00:00"},{"$f":"IF('Initial Observation'!B69=\"\",\"\",'Initial Observation'!B69)","v":""},{"$f":"IF('Initial Observation'!G69=\"\",\"\",\"X\")","v":""}]
[{"$f":"'Initial Observation'!A70","v":"00:00:00"},{"$f":"IF('Initial Observation'!B70=\"\",\"\",'Initial Observation'!B70)","v":""},{"$f":"IF('Initial Observation'!G70=\"\",\"\",\"X\")","v":""}]
[{"$f":"'Initial Observation'!A71","v":"00:00:00"},{"$f":"IF('Initial Observation'!B71=\"\",\"\",'Initial Observation'!B71)","v":""},{"$f":"IF('Initial Observation'!G71=\"\",\"\",\"X\")","v":""}]
[{"$f":"'Initial Observation'!A72","v":"00:00:00"},{"$f":"IF('Initial Observation'!B72=\"\",\"\",'Initial Observation'!B72)","v":""},{"$f":"IF('Initial Observation'!G72=\"\",\"\",\"X\")","v":""}]
[{"$f":"'Initial Observation'!A73","v":"00:00:00"},{"$f":"IF('Initial Observation'!B73=\"\",\"\",'Initial Observation'!B73)","v":""},{"$f":"IF('Initial Observation'!G73=\"\",\"\",\"X\")","v":""}]
[{"$f":"'Initial Observation'!A74","v":"00:00:00"},{"$f":"IF('Initial Observation'!B74=\"\",\"\",'Initial Observation'!B74)","v":""},{"$f":"IF('Initial Observation'!G74=\"\",\"\",\"X\")","v":""}]
[{"$f":"'Initial Observation'!A75","v":"00:00:00"},{"$f":"IF('Initial Observation'!B75=\"\",\"\",'Initial Observation'!B75)","v":""},{"$f":"IF('Initial Observation'!G75=\"\",\"\",\"X\")","v":""}]
[{"$f":"'Initial Observation'!A76","v":"00:00:00"},{"$f":"IF('Initial Observation'!B76=\"\",\"\",'Initial Observation'!B76)","v":""},{"$f":"IF('Initial Observation'!G76=\"\",\"\",\"X\")","v":""}]
[{"$f":"'Initial Observation'!A77","v":"00:00:00"},{"$f":"IF('Initial Observation'!B77=\"\",\"\",'Initial Observation'!B77)","v":""},{"$f":"IF('Initial Observation'!G77=\"\",\"\",\"X\")","v":""}]
[{"$f":"'Initial Observation'!A78","v":"00:00:00"},{"$f":"IF('Initial Observation'!B78=\"\",\"\",'Initial Observation'!B78)","v":""},{"$f":"IF('Initial Observation'!G78=\"\",\"\",\"X\")","v":""}]
[{"$f":"'Initial Observation'!A79","v":"00:00:00"},{"$f":"IF('Initial Observation'!B79=\"\",\"\",'Initial Observation'!B79)","v":""},{"$f":"IF('Initial Observation'!G79=\"\",\"\",\"X\")","v":""}]
[{"$f":"'Initial Observation'!A80","v":"00:00:00"},{"$f":"IF('Initial Observation'!B80=\"\",\"\",'Initial Observation'!B80)","v":""},{"$f":"IF('Initial Observation'!G80=\"\",\"\",\"X\")","v":""}]
[{"$f":"'Initial Observation'!A81","v":"00:00:00"},{"$f":"IF('Initial Observation'!B81=\"\",\"\",'Initial Observation'!B81)","v":""},{"$f":"IF('Initial Observation'!G81=\"\",\"\",\"X\")","v":""}]
[{"$f":"'Initial Observation'!A82","v":"00:00:00"},{"$f":"IF('Initial Observation'!B82=\"\",\"\",'Initial Observation'!B82)","v":""},{"$f":"IF('Initial Observation'!G82=\"\",\"\",\"X\")","v":""}]
[{"$f":"'Initial Observation'!A83","v":"00:00:00"},{"$f":"IF('Initial Observation'!B83=\"\",\"\",'Initial Observation'!B83)","v":""},{"$f":"IF('Initial Observation'!G83=\"\",\"\",\"X\")","v":""}]
[{"$f":"'Initial Observation'!A84","v":"00:00:00"},{"$f":"IF('Initial Observation'!B84=\"\",\"\",'Initial Observation'!B84)","v":""},{"$f":"IF('Initial Observation'!G84=\"\",\"\",\"X\")","v":""}]
[{"$f":"'Initial Observation'!A85","v":"00:00:00"},{"$f":"IF('Initial Observation'!B85=\"\",\"\",'Initial Observation'!B85)","v":""},{"$f":"IF('Initial Observation'!G85=\"\",\"\",\"X\")","v":""}]
[{"$f":"'Initial Observation'!A86","v":"00:00:00"},{"$f":"IF('Initial Observation'!B86=\"\",\"\",'Initial Observation'!B86)","v":""},{"$f":"IF('Initial Observation'!G86=\"\",\"\",\"X\")","v":""}]
[{"$f":"'Initial Observation'!A87","v":"00:00:00"},{"$f":"IF('Initial Observation'!B87=\"\",\"\",'Initial Observation'!B87)","v":""},{"$f":"IF('Initial Observation'!G87=\"\",\"\",\"X\")","v":""}]
[{"$f":"'Initial Observation'!A88","v":"00:00:00"},{"$f":"IF('Initial Observation'!B88=\"\",\"\",'Initial Observation'!B88)","v":""},{"$f":"IF('Initial Observation'!G88=\"\",\"\",\"X\")","v":""}]
[{"$f":"'Initial Observation'!A89","v":"00:00:00"},{"$f":"IF('Initial Observation'!B89=\"\",\"\",'Initial Observation'!B89)","v":""},{"$f":"IF('Initial Observation'!G89=\"\",\"\",\"X\")","v":""}]
[{"$f":"'Initial Observation'!A90","v":"00:00:00"},{"$f":"IF('Initial Observation'!B90=\"\",\"\",'Initial Observation'!B90)","v":""},{"$f":"IF('Initial Observation'!G90=\"\",\"\",\"X\")","v":""}]
[{"$f":"'Initial Observation'!A91","v":"00:00:00"},{"$f":"IF('Initial Observation'!B91=\"\",\"\",'Initial Observation'!B91)","v":""},{"$f":"IF('Initial Observation'!G91=\"\",\"\",\"X\")","v":""}]
[{"$f":"'Initial Observation'!A92","v":"00:00:00"},{"$f":"IF('Initial Observation'!B92=\"\",\"\",'Initial Observation'!B92)","v":""},{"$f":"IF('Initial Observation'!G92=\"\",\"\",\"X\")","v":""}]
[{"$f":"'Initial Observation'!A93","v":"00:00:00"},{"$f":"IF('Initial Observation'!B93=\"\",\"\",'Initial Observation'!B93)","v":""},{"$f":"IF('Initial Observation'!G93=\"\",\"\",\"X\")","v":""}]
[{"$f":"'Initial Observation'!A94","v":"00:00:00"},{"$f":"IF('Initial Observation'!B94=\"\",\"\",'Initial Observation'!B94)","v":""},{"$f":"IF('Initial Observation'!G94=\"\",\"\",\"X\")","v":""}]
[{"$f":"'Initial Observation'!A95","v":"00:00:00"},{"$f":"IF('Initial Observation'!B95=\"\",\"\",'Initial Observation'!B95)","v":""},{"$f":"IF('Initial Observation'!G95=\"\",\"\",\"X\")","v":""}]
[{"$f":"'Initial Observation'!A96","v":"00:00:00"},{"$f":"IF('Initial Observation'!B96=\"\",\"\",'Initial Observation'!B96)","v":""},{"$f":"IF('Initial Observation'!G96=\"\",\"\",\"X\")","v":""}]
[{"$f":"'Initial Observation'!A97","v":"00:00:00"},{"$f":"IF('Initial Observation'!B97=\"\",\"\",'Initial Observation'!B97)","v":""},{"$f":"IF('Initial Observation'!G97=\"\",\"\",\"X\")","v":""}]
[{"$f":"'Initial Observation'!A98","v":"00:00:00"},{"$f":"IF('Initial Observation'!B98=\"\",\"\",'Initial Observation'!B98)","v":""},{"$f":"IF('Initial Observation'!G98=\"\",\"\",\"X\")","v":""}]
[{"$f":"'Initial Observation'!A99","v":"00:00:00"},{"$f":"IF('Initial Observation'!B99=\"\",\"\",'Initial Observation'!B99)","v":""},{"$f":"IF('Initial Observation'!G99=\"\",\"\",\"X\")","v":""}]
[{"$f":"'Initial Observation'!A100","v":"00:00:00"},{"$f":"IF('Initial Observation'!B100=\"\",\"\",'Initial Observation'!B100)","v":""},{"$f":"IF('Initial Observation'!G100=\"\",\"\",\"X\")","v":""}]
[{"$f":"'Initial Observation'!A101","v":"00:00:00"},{"$f":"IF('Initial Observation'!B101=\"\",\"\",'Initial Observation'!B101)","v":""},{"$f":"IF('Initial Observation'!G101=\"\",\"\",\"X\")","v":""}]
[{"$f":"'Initial Observation'!A102","v":"00:00:00"},{"$f":"IF('Initial Observation'!B102=\"\",\"\",'Initial Observation'!B102)","v":""},{"$f":"IF('Initial Observation'!G102=\"\",\"\",\"X\")","v":""}]
[{"$f":"'Initial Observation'!A103","v":"00:00:00"},{"$f":"IF('Initial Observation'!B103=\"\",\"\",'Initial Observation'!B103)","v":""},{"$f":"IF('Initial Observation'!G103=\"\",\"\",\"X\")","v":""}]
[{"$f":"'Initial Observation'!A104","v":"00:00:00"},{"$f":"IF('Initial Observation'!B104=\"\",\"\",'Initial Observation'!B104)","v":""},{"$f":"IF('Initial Observation'!G104=\"\",\"\",\"X\")","v":""}]
[{"$f":"'Initial Observation'!A105","v":"00:00:00"},{"$f":"IF('Initial Observation'!B105=\"\",\"\",'Initial Observation'!B105)","v":""},{"$f":"IF('Initial Observation'!G105=\"\",\"\",\"X\")","v":""}]
[{"$f":"'Initial Observation'!A106","v":"00:00:00"},{"$f":"IF('Initial Observation'!B106=\"\",\"\",'Initial Observation'!B106)","v":""},{"$f":"IF('Initial Observation'!G106=\"\",\"\",\"X\")","v":""}]
[{"$f":"'Initial Observation'!A107","v":"00:00:00"},{"$f":"IF('Initial Observation'!B107=\"\",\"\",'Initial Observation'!B107)","v":""},{"$f":"IF('Initial Observation'!G107=\"\",\"\",\"X\")","v":""}]
[{"$f":"'Initial Observation'!A108","v":"00:00:00"},{"$f":"IF('Initial Observation'!B108=\"\",\"\",'Initial Observation'!B108)","v":""},{"$f":"IF('Initial Observation'!G108=\"\",\"\",\"X\")","v":""}]
[{"$f":"'Initial Observation'!A109","v":"00:00:00"},{"$f":"IF('Initial Observation'!B109=\"\",\"\",'Initial Observation'!B109)","v":""},{"$f":"IF('Initial Observation'!G109=\"\",\"\",\"X\")","v":""}]
[{"$f":"'Initial Observation'!A110","v":"00:00:00"},{"$f":"IF('Initial Observation'!B110=\"\",\"\",'Initial Observation'!B110)","v":""},{"$f":"IF('Initial Observation'!G110=\"\",\"\",\"X\")","v":""}]
[{"$f":"'Initial Observation'!A111","v":"00:00:00"},{"$f":"IF('Initial Observation'!B111=\"\",\"\",'Initial Observation'!B111)","v":""},{"$f":"IF('Initial Observation'!G111=\"\",\"\",\"X\")","v":""}]
[{"$f":"'Initial Observation'!A112","v":"00:00:00"},{"$f":"IF('Initial Observation'!B112=\"\",\"\",'Initial Observation'!B112)","v":""},{"$f":"IF('Initial Observation'!G112=\"\",\"\",\"X\")","v":""}]
[{"$f":"'Initial Observation'!A113","v":"00:00:00"},{"$f":"IF('Initial Observation'!B113=\"\",\"\",'Initial Observation'!B113)","v":""},{"$f":"IF('Initial Observation'!G113=\"\",\"\",\"X\")","v":""}]
[{"$f":"'Initial Observation'!A114","v":"00:00:00"},{"$f":"IF('Initial Observation'!B114=\"\",\"\",'Initial Observation'!B114)","v":""},{"$f":"IF('Initial Observation'!G114=\"\",\"\",\"X\")","v":""}]
[{"$f":"'Initial Observation'!A115","v":"00:00:00"},{"$f":"IF('Initial Observation'!B115=\"\",\"\",'Initial Observation'!B115)","v":""},{"$f":"IF('Initial Observation'!G115=\"\",\"\",\"X\")","v":""}]
[{"$f":"'Initial Observation'!A116","v":"00:00:00"},{"$f":"IF('Initial Observation'!B116=\"\",\"\",'Initial Observation'!B116)","v":""},{"$f":"IF('Initial Observation'!G116=\"\",\"\",\"X\")","v":""}]
[{"$f":"'Initial Observation'!A117","v":"00:00:00"},{"$f":"IF('Initial Observation'!B117=\"\",\"\",'Initial Observation'!B117)","v":""},{"$f":"IF('Initial Observation'!G117=\"\",\"\",\"X\")","v":""}]
[{"$f":"'Initial Observation'!A118","v":"00:00:00"},{"$f":"IF('Initial Observation'!B118=\"\",\"\",'Initial Observation'!B118)","v":""},{"$f":"IF('Initial Observation'!G118=\"\",\"\",\"X\")","v":""}]
[{"$f":"'Initial Observation'!A119","v":"00:00:00"},{"$f":"IF('Initial Observation'!B119=\"\",\"\",'Initial Observation'!B119)","v":""},{"$f":"IF('Initial Observation'!G119=\"\",\"\",\"X\")","v":""}]
[{"$f":"'Initial Observation'!A120","v":"00:00:00"},{"$f":"IF('Initial Observation'!B120=\"\",\"\",'Initial Observation'!B120)","v":""},{"$f":"IF('Initial Observation'!G120=\"\",\"\",\"X\")","v":""}]
[{"$f":"'Initial Observation'!A121","v":"00:00:00"},{"$f":"IF('Initial Observation'!B121=\"\",\"\",'Initial Observation'!B121)","v":""},{"$f":"IF('Initial Observation'!G121=\"\",\"\",\"X\")","v":""}]
[{"$f":"'Initial Observation'!A122","v":"00:00:00"},{"$f":"IF('Initial Observation'!B122=\"\",\"\",'Initial Observation'!B122)","v":""},{"$f":"IF('Initial Observation'!G122=\"\",\"\",\"X\")","v":""}]
[{"$f":"'Initial Observation'!A123","v":"00:00:00"},{"$f":"IF('Initial Observation'!B123=\"\",\"\",'Initial Observation'!B123)","v":""},{"$f":"IF('Initial Observation'!G123=\"\",\"\",\"X\")","v":""}]
[{"$f":"'Initial Observation'!A124","v":"00:00:00"},{"$f":"IF('Initial Observation'!B124=\"\",\"\",'Initial Observation'!B124)","v":""},{"$f":"IF('Initial Observation'!G124=\"\",\"\",\"X\")","v":""}]
[{"$f":"'Initial Observation'!A125","v":"00:00:00"},{"$f":"IF('Initial Observation'!B125=\"\",\"\",'Initial Observation'!B125)","v":""},{"$f":"IF('Initial Observation'!G125=\"\",\"\",\"X\")","v":""}]
[{"$f":"'Initial Observation'!A126","v":"00:00:00"},{"$f":"IF('Initial Observation'!B126=\"\",\"\",'Initial Observation'!B126)","v":""},{"$f":"IF('Initial Observation'!G126=\"\",\"\",\"X\")","v":""}]
[{"$f":"'Initial Observation'!A127","v":"00:00:00"},{"$f":"IF('Initial Observation'!B127=\"\",\"\",'Initial Observation'!B127)","v":""},{"$f":"IF('Initial Observation'!G127=\"\",\"\",\"X\")","v":""}]
[{"$f":"'Initial Observation'!A128","v":"00:00:00"},{"$f":"IF('Initial Observation'!B128=\"\",\"\",'Initial Observation'!B128)","v":""},{"$f":"IF('Initial Observation'!G128=\"\",\"\",\"X\")","v":""}]
[{"$f":"'Initial Observation'!A129","v":"00:00:00"},{"$f":"IF('Initial Observation'!B129=\"\",\"\",'Initial Observation'!B129)","v":""},{"$f":"IF('Initial Observation'!G129=\"\",\"\",\"X\")","v":""}]
[{"$f":"'Initial Observation'!A130","v":"00:00:00"},{"$f":"IF('Initial Observation'!B130=\"\",\"\",'Initial Observation'!B130)","v":""},{"$f":"IF('Initial Observation'!G130=\"\",\"\",\"X\")","v":""}]
[{"$f":"'Initial Observation'!A131","v":"00:00:00"},{"$f":"IF('Initial Observation'!B131=\"\",\"\",'Initial Observation'!B131)","v":""},{"$f":"IF('Initial Observation'!G131=\"\",\"\",\"X\")","v":""}]
[{"$f":"'Initial Observation'!A132","v":"00:00:00"},{"$f":"IF('Initial Observation'!B132=\"\",\"\",'Initial Observation'!B132)","v":""},{"$f":"IF('Initial Observation'!G132=\"\",\"\",\"X\")","v":""}]
[{"$f":"'Initial Observation'!A133","v":"00:00:00"},{"$f":"IF('Initial Observation'!B133=\"\",\"\",'Initial Observation'!B133)","v":""},{"$f":"IF('Initial Observation'!G133=\"\",\"\",\"X\")","v":""}]
[{"$f":"'Initial Observation'!A134","v":"00:00:00"},{"$f":"IF('Initial Observation'!B134=\"\",\"\",'Initial Observation'!B134)","v":""},{"$f":"IF('Initial Observation'!G134=\"\",\"\",\"X\")","v":""}]
[{"$f":"'Initial Observation'!A135","v":"00:00:00"},{"$f":"IF('Initial Observation'!B135=\"\",\"\",'Initial Observation'!B135)","v":""},{"$f":"IF('Initial Observation'!G135=\"\",\"\",\"X\")","v":""}]
[{"$f":"'Initial Observation'!A136","v":"00:00:00"},{"$f":"IF('Initial Observation'!B136=\"\",\"\",'Initial Observation'!B136)","v":""},{"$f":"IF('Initial Observation'!G136=\"\",\"\",\"X\")","v":""}]
[{"$f":"'Initial Observation'!A137","v":"00:00:00"},{"$f":"IF('Initial Observation'!B137=\"\",\"\",'Initial Observation'!B137)","v":""},{"$f":"IF('Initial Observation'!G137=\"\",\"\",\"X\")","v":""}]
[{"$f":"'Initial Observation'!A138","v":"00:00:00"},{"$f":"IF('Initial Observation'!B138=\"\",\"\",'Initial Observation'!B138)","v":""},{"$f":"IF('Initial Observation'!G138=\"\",\"\",\"X\")","v":""}]
[{"$f":"'Initial Observation'!A139","v":"00:00:00"},{"$f":"IF('Initial Observation'!B139=\"\",\"\",'Initial Observation'!B139)","v":""},{"$f":"IF('Initial Observation'!G139=\"\",\"\",\"X\")","v":""}]
[{"$f":"'Initial Observation'!A140","v":"00:00:00"},{"$f":"IF('Initial Observation'!B140=\"\",\"\",'Initial Observation'!B140)","v":""},{"$f":"IF('Initial Observation'!G140=\"\",\"\",\"X\")","v":""}]
[{"$f":"'Initial Observation'!A141","v":"00:00:00"},{"$f":"IF('Initial Observation'!B141=\"\",\"\",'Initial Observation'!B141)","v":""},{"$f":"IF('Initial Observation'!G141=\"\",\"\",\"X\")","v":""}]
[{"$f":"'Initial Observation'!A142","v":"00:00:00"},{"$f":"IF('Initial Observation'!B142=\"\",\"\",'Initial Observation'!B142)","v":""},{"$f":"IF('Initial Observation'!G142=\"\",\"\",\"X\")","v":""}]
[{"$f":"'Initial Observation'!A143","v":"00:00:00"},{"$f":"IF('Initial Observation'!B143=\"\",\"\",'Initial Observation'!B143)","v":""},{"$f":"IF('Initial Observation'!G143=\"\",\"\",\"X\")","v":""}]
[{"$f":"'Initial Observation'!A144","v":"00:00:00"},{"$f":"IF('Initial Observation'!B144=\"\",\"\",'Initial Observation'!B144)","v":""},{"$f":"IF('Initial Observation'!G144=\"\",\"\",\"X\")","v":""}]
[{"$f":"'Initial Observation'!A145","v":"00:00:00"},{"$f":"IF('Initial Observation'!B145=\"\",\"\",'Initial Observation'!B145)","v":""},{"$f":"IF('Initial Observation'!G145=\"\",\"\",\"X\")","v":""}]
[{"$f":"'Initial Observation'!A146","v":"00:00:00"},{"$f":"IF('Initial Observation'!B146=\"\",\"\",'Initial Observation'!B146)","v":""},{"$f":"IF('Initial Observation'!G146=\"\",\"\",\"X\")","v":""}]
[{"$f":"'Initial Observation'!A147","v":"00:00:00"},{"$f":"IF('Initial Observation'!B147=\"\",\"\",'Initial Observation'!B147)","v":""},{"$f":"IF('Initial Observation'!G147=\"\",\"\",\"X\")","v":""}]
[{"$f":"'Initial Observation'!A148","v":"00:00:00"},{"$f":"IF('Initial Observation'!B148=\"\",\"\",'Initial Observation'!B148)","v":""},{"$f":"IF('Initial Observation'!G148=\"\",\"\",\"X\")","v":""}]
[{"$f":"'Initial Observation'!A149","v":"00:00:00"},{"$f":"IF('Initial Observation'!B149=\"\",\"\",'Initial Observation'!B149)","v":""},{"$f":"IF('Initial Observation'!G149=\"\",\"\",\"X\")","v":""}]
[{"$f":"'Initial Observation'!A150","v":"00:00:00"},{"$f":"IF('Initial Observation'!B150=\"\",\"\",'Initial Observation'!B150)","v":""},{"$f":"IF('Initial Observation'!G150=\"\",\"\",\"X\")","v":""}]
[{"$f":"'Initial Observation'!A151","v":"00:00:00"},{"$f":"IF('Initial Observation'!B151=\"\",\"\",'Initial Observation'!B151)","v":""},{"$f":"IF('Initial Observation'!G151=\"\",\"\",\"X\")","v":""}]
[{"$f":"'Initial Observation'!A152","v":"00:00:00"},{"$f":"IF('Initial Observation'!B152=\"\",\"\",'Initial Observation'!B152)","v":""},{"$f":"IF('Initial Observation'!G152=\"\",\"\",\"X\")","v":""}]
[{"$f":"'Initial Observation'!A153","v":"00:00:00"},{"$f":"IF('Initial Observation'!B153=\"\",\"\",'Initial Observation'!B153)","v":""},{"$f":"IF('Initial Observation'!G153=\"\",\"\",\"X\")","v":""}]
[{"$f":"'Initial Observation'!A154","v":"00:00:00"},{"$f":"IF('Initial Observation'!B154=\"\",\"\",'Initial Observation'!B154)","v":""},{"$f":"IF('Initial Observation'!G154=\"\",\"\",\"X\")","v":""}]
[{"$f":"'Initial Observation'!A155","v":"00:00:00"},{"$f":"IF('Initial Observation'!B155=\"\",\"\",'Initial Observation'!B155)","v":""},{"$f":"IF('Initial Observation'!G155=\"\",\"\",\"X\")","v":""}]
[{"$f":"'Initial Observation'!A156","v":"00:00:00"},{"$f":"IF('Initial Observation'!B156=\"\",\"\",'Initial Observation'!B156)","v":""},{"$f":"IF('Initial Observation'!G156=\"\",\"\",\"X\")","v":""}]
[{"$f":"'Initial Observation'!A157","v":"00:00:00"},{"$f":"IF('Initial Observation'!B157=\"\",\"\",'Initial Observation'!B157)","v":""},{"$f":"IF('Initial Observation'!G157=\"\",\"\",\"X\")","v":""}]
[{"$f":"'Initial Observation'!A158","v":"00:00:00"},{"$f":"IF('Initial Observation'!B158=\"\",\"\",'Initial Observation'!B158)","v":""},{"$f":"IF('Initial Observation'!G158=\"\",\"\",\"X\")","v":""}]
[{"$f":"'Initial Observation'!A159","v":"00:00:00"},{"$f":"IF('Initial Observation'!B159=\"\",\"\",'Initial Observation'!B159)","v":""},{"$f":"IF('Initial Observation'!G159=\"\",\"\",\"X\")","v":""}]
[{"$f":"'Initial Observation'!A160","v":"00:00:00"},{"$f":"IF('Initial Observation'!B160=\"\",\"\",'Initial Observation'!B160)","v":""},{"$f":"IF('Initial Observation'!G160=\"\",\"\",\"X\")","v":""}]
[{"$f":"'Initial Observation'!A161","v":"00:00:00"},{"$f":"IF('Initial Observation'!B161=\"\",\"\",'Initial Observation'!B161)","v":""},{"$f":"IF('Initial Observation'!G161=\"\",\"\",\"X\")","v":""}]
[{"$f":"'Initial Observation'!A162","v":"00:00:00"},{"$f":"IF('Initial Observation'!B162=\"\",\"\",'Initial Observation'!B162)","v":""},{"$f":"IF('Initial Observation'!G162=\"\",\"\",\"X\")","v":""}]
[{"$f":"'Initial Observation'!A163","v":"00:00:00"},{"$f":"IF('Initial Observation'!B163=\"\",\"\",'Initial Observation'!B163)","v":""},{"$f":"IF('Initial Observation'!G163=\"\",\"\",\"X\")","v":""}]
[{"$f":"'Initial Observation'!A164","v":"00:00:00"},{"$f":"IF('Initial Observation'!B164=\"\",\"\",'Initial Observation'!B164)","v":""},{"$f":"IF('Initial Observation'!G164=\"\",\"\",\"X\")","v":""}]
[{"$f":"'Initial Observation'!A165","v":"00:00:00"},{"$f":"IF('Initial Observation'!B165=\"\",\"\",'Initial Observation'!B165)","v":""},{"$f":"IF('Initial Observation'!G165=\"\",\"\",\"X\")","v":""}]
[{"$f":"'Initial Observation'!A166","v":"00:00:00"},{"$f":"IF('Initial Observation'!B166=\"\",\"\",'Initial Observation'!B166)","v":""},{"$f":"IF('Initial Observation'!G166=\"\",\"\",\"X\")","v":""}]
[{"$f":"'Initial Observation'!A167","v":"00:00:00"},{"$f":"IF('Initial Observation'!B167=\"\",\"\",'Initial Observation'!B167)","v":""},{"$f":"IF('Initial Observation'!G167=\"\",\"\",\"X\")","v":""}]
[{"$f":"'Initial Observation'!A168","v":"00:00:00"},{"$f":"IF('Initial Observation'!B168=\"\",\"\",'Initial Observation'!B168)","v":""},{"$f":"IF('Initial Observation'!G168=\"\",\"\",\"X\")","v":""}]
[{"$f":"'Initial Observation'!A169","v":"00:00:00"},{"$f":"IF('Initial Observation'!B169=\"\",\"\",'Initial Observation'!B169)","v":""},{"$f":"IF('Initial Observation'!G169=\"\",\"\",\"X\")","v":""}]
[{"$f":"'Initial Observation'!A170","v":"00:00:00"},{"$f":"IF('Initial Observation'!B170=\"\",\"\",'Initial Observation'!B170)","v":""},{"$f":"IF('Initial Observation'!G170=\"\",\"\",\"X\")","v":""}]
[{"$f":"'Initial Observation'!A171","v":"00:00:00"},{"$f":"IF('Initial Observation'!B171=\"\",\"\",'Initial Observation'!B171)","v":""},{"$f":"IF('Initial Observation'!G171=\"\",\"\",\"X\")","v":""}]
[{"$f":"'Initial Observation'!A172","v":"00:00:00"},{"$f":"IF('Initial Observation'!B172=\"\",\"\",'Initial Observation'!B172)","v":""},{"$f":"IF('Initial Observation'!G172=\"\",\"\",\"X\")","v":""}]
[{"$f":"'Initial Observation'!A173","v":"00:00:00"},{"$f":"IF('Initial Observation'!B173=\"\",\"\",'Initial Observation'!B173)","v":""},{"$f":"IF('Initial Observation'!G173=\"\",\"\",\"X\")","v":""}]
[{"$f":"'Initial Observation'!A174","v":"00:00:00"},{"$f":"IF('Initial Observation'!B174=\"\",\"\",'Initial Observation'!B174)","v":""},{"$f":"IF('Initial Observation'!G174=\"\",\"\",\"X\")","v":""}]
[{"$f":"'Initial Observation'!A175","v":"00:00:00"},{"$f":"IF('Initial Observation'!B175=\"\",\"\",'Initial Observation'!B175)","v":""},{"$f":"IF('Initial Observation'!G175=\"\",\"\",\"X\")","v":""}]
[{"$f":"'Initial Observation'!A176","v":"00:00:00"},{"$f":"IF('Initial Observation'!B176=\"\",\"\",'Initial Observation'!B176)","v":""},{"$f":"IF('Initial Observation'!G176=\"\",\"\",\"X\")","v":""}]
[{"$f":"'Initial Observation'!A177","v":"00:00:00"},{"$f":"IF('Initial Observation'!B177=\"\",\"\",'Initial Observation'!B177)","v":""},{"$f":"IF('Initial Observation'!G177=\"\",\"\",\"X\")","v":""}]
[{"$f":"'Initial Observation'!A178","v":"00:00:00"},{"$f":"IF('Initial Observation'!B178=\"\",\"\",'Initial Observation'!B178)","v":""},{"$f":"IF('Initial Observation'!G178=\"\",\"\",\"X\")","v":""}]
[{"$f":"'Initial Observation'!A179","v":"00:00:00"},{"$f":"IF('Initial Observation'!B179=\"\",\"\",'Initial Observation'!B179)","v":""},{"$f":"IF('Initial Observation'!G179=\"\",\"\",\"X\")","v":""}]
[{"$f":"'Initial Observation'!A180","v":"00:00:00"},{"$f":"IF('Initial Observation'!B180=\"\",\"\",'Initial Observation'!B180)","v":""},{"$f":"IF('Initial Observation'!G180=\"\",\"\",\"X\")","v":""}]
[{"$f":"'Initial Observation'!A181","v":"00:00:00"},{"$f":"IF('Initial Observation'!B181=\"\",\"\",'Initial Observation'!B181)","v":""},{"$f":"IF('Initial Observation'!G181=\"\",\"\",\"X\")","v":""}]
[{"$f":"'Initial Observation'!A182","v":"00:00:00"},{"$f":"IF('Initial Observation'!B182=\"\",\"\",'Initial Observation'!B182)","v":""},{"$f":"IF('Initial Observation'!G182=\"\",\"\",\"X\")","v":""}]
[{"$f":"'Initial Observation'!A183","v":"00:00:00"},{"$f":"IF('Initial Observation'!B183=\"\",\"\",'Initial Observation'!B183)","v":""},{"$f":"IF('Initial Observation'!G183=\"\",\"\",\"X\")","v":""}]
[{"$f":"'Initial Observation'!A184","v":"00:00:00"},{"$f":"IF('Initial Observation'!B184=\"\",\"\",'Initial Observation'!B184)","v":""},{"$f":"IF('Initial Observation'!G184=\"\",\"\",\"X\")","v":""}]
[{"$f":"'Initial Observation'!A185","v":"00:00:00"},{"$f":"IF('Initial Observation'!B185=\"\",\"\",'Initial Observation'!B185)","v":""},{"$f":"IF('Initial Observation'!G185=\"\",\"\",\"X\")","v":""}]
[{"$f":"'Initial Observation'!A186","v":"00:00:00"},{"$f":"IF('Initial Observation'!B186=\"\",\"\",'Initial Observation'!B186)","v":""},{"$f":"IF('Initial Observation'!G186=\"\",\"\",\"X\")","v":""}]
[{"$f":"'Initial Observation'!A187","v":"00:00:00"},{"$f":"IF('Initial Observation'!B187=\"\",\"\",'Initial Observation'!B187)","v":""},{"$f":"IF('Initial Observation'!G187=\"\",\"\",\"X\")","v":""}]
[{"$f":"'Initial Observation'!A188","v":"00:00:00"},{"$f":"IF('Initial Observation'!B188=\"\",\"\",'Initial Observation'!B188)","v":""},{"$f":"IF('Initial Observation'!G188=\"\",\"\",\"X\")","v":""}]
[{"$f":"'Initial Observation'!A189","v":"00:00:00"},{"$f":"IF('Initial Observation'!B189=\"\",\"\",'Initial Observation'!B189)","v":""},{"$f":"IF('Initial Observation'!G189=\"\",\"\",\"X\")","v":""}]
[{"$f":"'Initial Observation'!A190","v":"00:00:00"},{"$f":"IF('Initial Observation'!B190=\"\",\"\",'Initial Observation'!B190)","v":""},{"$f":"IF('Initial Observation'!G190=\"\",\"\",\"X\")","v":""}]
[{"$f":"'Initial Observation'!A191","v":"00:00:00"},{"$f":"IF('Initial Observation'!B191=\"\",\"\",'Initial Observation'!B191)","v":""},{"$f":"IF('Initial Observation'!G191=\"\",\"\",\"X\")","v":""}]
[{"$f":"'Initial Observation'!A192","v":"00:00:00"},{"$f":"IF('Initial Observation'!B192=\"\",\"\",'Initial Observation'!B192)","v":""},{"$f":"IF('Initial Observation'!G192=\"\",\"\",\"X\")","v":""}]
[{"$f":"'Initial Observation'!A193","v":"00:00:00"},{"$f":"IF('Initial Observation'!B193=\"\",\"\",'Initial Observation'!B193)","v":""},{"$f":"IF('Initial Observation'!G193=\"\",\"\",\"X\")","v":""}]
[{"$f":"'Initial Observation'!A194","v":"00:00:00"},{"$f":"IF('Initial Observation'!B194=\"\",\"\",'Initial Observation'!B194)","v":""},{"$f":"IF('Initial Observation'!G194=\"\",\"\",\"X\")","v":""}]
[{"$f":"'Initial Observation'!A195","v":"00:00:00"},{"$f":"IF('Initial Observation'!B195=\"\",\"\",'Initial Observation'!B195)","v":""},{"$f":"IF('Initial Observation'!G195=\"\",\"\",\"X\")","v":""}]
[{"$f":"'Initial Observation'!A196","v":"00:00:00"},{"$f":"IF('Initial Observation'!B196=\"\",\"\",'Initial Observation'!B196)","v":""},{"$f":"IF('Initial Observation'!G196=\"\",\"\",\"X\")","v":""}]
[{"$f":"'Initial Observation'!A197","v":"00:00:00"},{"$f":"IF('Initial Observation'!B197=\"\",\"\",'Initial Observation'!B197)","v":""},{"$f":"IF('Initial Observation'!G197=\"\",\"\",\"X\")","v":""}]
[{"$f":"'Initial Observation'!A198","v":"00:00:00"},{"$f":"IF('Initial Observation'!B198=\"\",\"\",'Initial Observation'!B198)","v":""},{"$f":"IF('Initial Observation'!G198=\"\",\"\",\"X\")","v":""}]
[{"$f":"'Initial Observation'!A199","v":"00:00:00"},{"$f":"IF('Initial Observation'!B199=\"\",\"\",'Initial Observation'!B199)","v":""},{"$f":"IF('Initial Observation'!G199=\"\",\"\",\"X\")","v":""}]
[{"$f":"'Initial Observation'!A200","v":"00:00:00"},{"$f":"IF('Initial Observation'!B200=\"\",\"\",'Initial Observation'!B200)","v":""},{"$f":"IF('Initial Observation'!G200=\"\",\"\",\"X\")","v":""}]
[{"$f":"'Initial Observation'!A201","v":"00:00:00"},{"$f":"IF('Initial Observation'!B201=\"\",\"\",'Initial Observation'!B201)","v":""},{"$f":"IF('Initial Observation'!G201=\"\",\"\",\"X\")","v":""}]
[{"$f":"'Initial Observation'!A202","v":"00:00:00"},{"$f":"IF('Initial Observation'!B202=\"\",\"\",'Initial Observation'!B202)","v":""},{"$f":"IF('Initial Observation'!G202=\"\",\"\",\"X\")","v":""}]
[{"$f":"'Initial Observation'!A203","v":"00:00:00"},{"$f":"IF('Initial Observation'!B203=\"\",\"\",'Initial Observation'!B203)","v":""},{"$f":"IF('Initial Observation'!G203=\"\",\"\",\"X\")","v":""}]
[{"$f":"'Initial Observation'!A204","v":"00:00:00"},{"$f":"IF('Initial Observation'!B204=\"\",\"\",'Initial Observation'!B204)","v":""},{"$f":"IF('Initial Observation'!G204=\"\",\"\",\"X\")","v":""}]
[{"$f":"'Initial Observation'!A205","v":"00:00:00"},{"$f":"IF('Initial Observation'!B205=\"\",\"\",'Initial Observation'!B205)","v":""},{"$f":"IF('Initial Observation'!G205=\"\",\"\",\"X\")","v":""}]
[{"$f":"'Initial Observation'!A206","v":"00:00:00"},{"$f":"IF('Initial Observation'!B206=\"\",\"\",'Initial Observation'!B206)","v":""},{"$f":"IF('Initial Observation'!G206=\"\",\"\",\"X\")","v":""}]
[{"$f":"'Initial Observation'!A207","v":"00:00:00"},{"$f":"IF('Initial Observation'!B207=\"\",\"\",'Initial Observation'!B207)","v":""},{"$f":"IF('Initial Observation'!G207=\"\",\"\",\"X\")","v":""}]
[{"$f":"'Initial Observation'!A208","v":"00:00:00"},{"$f":"IF('Initial Observation'!B208=\"\",\"\",'Initial Observation'!B208)","v":""},{"$f":"IF('Initial Observation'!G208=\"\",\"\",\"X\")","v":""}]
[{"$f":"'Initial Observation'!A209","v":"00:00:00"},{"$f":"IF('Initial Observation'!B209=\"\",\"\",'Initial Observation'!B209)","v":""},{"$f":"IF('Initial Observation'!G209=\"\",\"\",\"X\")","v":""}]
[{"$f":"'Initial Observation'!A210","v":"00:00:00"},{"$f":"IF('Initial Observation'!B210=\"\",\"\",'Initial Observation'!B210)","v":""},{"$f":"IF('Initial Observation'!G210=\"\",\"\",\"X\")","v":""}]
[{"$f":"'Initial Observation'!A211","v":"00:00:00"},{"$f":"IF('Initial Observation'!B211=\"\",\"\",'Initial Observation'!B211)","v":""},{"$f":"IF('Initial Observation'!G211=\"\",\"\",\"X\")","v":""}]
[{"$f":"'Initial Observation'!A212","v":"00:00:00"},{"$f":"IF('Initial Observation'!B212=\"\",\"\",'Initial Observation'!B212)","v":""},{"$f":"IF('Initial Observation'!G212=\"\",\"\",\"X\")","v":""}]
[{"$f":"'Initial Observation'!A213","v":"00:00:00"},{"$f":"IF('Initial Observation'!B213=\"\",\"\",'Initial Observation'!B213)","v":""},{"$f":"IF('Initial Observation'!G213=\"\",\"\",\"X\")","v":""}]
[{"$f":"'Initial Observation'!A214","v":"00:00:00"},{"$f":"IF('Initial Observation'!B214=\"\",\"\",'Initial Observation'!B214)","v":""},{"$f":"IF('Initial Observation'!G214=\"\",\"\",\"X\")","v":""}]
[{"$f":"'Initial Observation'!A215","v":"00:00:00"},{"$f":"IF('Initial Observation'!B215=\"\",\"\",'Initial Observation'!B215)","v":""},{"$f":"IF('Initial Observation'!G215=\"\",\"\",\"X\")","v":""}]
[{"$f":"'Initial Observation'!A216","v":"00:00:00"},{"$f":"IF('Initial Observation'!B216=\"\",\"\",'Initial Observation'!B216)","v":""},{"$f":"IF('Initial Observation'!G216=\"\",\"\",\"X\")","v":""}]
[{"$f":"'Initial Observation'!A217","v":"00:00:00"},{"$f":"IF('Initial Observation'!B217=\"\",\"\",'Initial Observation'!B217)","v":""},{"$f":"IF('Initial Observation'!G217=\"\",\"\",\"X\")","v":""}]
[{"$f":"'Initial Observation'!A218","v":"00:00:00"},{"$f":"IF('Initial Observation'!B218=\"\",\"\",'Initial Observation'!B218)","v":""},{"$f":"IF('Initial Observation'!G218=\"\",\"\",\"X\")","v":""}]
[{"$f":"'Initial Observation'!A219","v":"00:00:00"},{"$f":"IF('Initial Observation'!B219=\"\",\"\",'Initial Observation'!B219)","v":""},{"$f":"IF('Initial Observation'!G219=\"\",\"\",\"X\")","v":""}]
[{"$f":"'Initial Observation'!A220","v":"00:00:00"},{"$f":"IF('Initial Observation'!B220=\"\",\"\",'Initial Observation'!B220)","v":""},{"$f":"IF('Initial Observation'!G220=\"\",\"\",\"X\")","v":""}]
[{"$f":"'Initial Observation'!A221","v":"00:00:00"},{"$f":"IF('Initial Observation'!B221=\"\",\"\",'Initial Observation'!B221)","v":""},{"$f":"IF('Initial Observation'!G221=\"\",\"\",\"X\")","v":""}]
[{"$f":"'Initial Observation'!A222","v":"00:00:00"},{"$f":"IF('Initial Observation'!B222=\"\",\"\",'Initial Observation'!B222)","v":""},{"$f":"IF('Initial Observation'!G222=\"\",\"\",\"X\")","v":""}]
[{"$f":"'Initial Observation'!A223","v":"00:00:00"},{"$f":"IF('Initial Observation'!B223=\"\",\"\",'Initial Observation'!B223)","v":""},{"$f":"IF('Initial Observation'!G223=\"\",\"\",\"X\")","v":""}]
[{"$f":"'Initial Observation'!A224","v":"00:00:00"},{"$f":"IF('Initial Observation'!B224=\"\",\"\",'Initial Observation'!B224)","v":""},{"$f":"IF('Initial Observation'!G224=\"\",\"\",\"X\")","v":""}]
[{"$f":"'Initial Observation'!A225","v":"00:00:00"},{"$f":"IF('Initial Observation'!B225=\"\",\"\",'Initial Observation'!B225)","v":""},{"$f":"IF('Initial Observation'!G225=\"\",\"\",\"X\")","v":""}]
[{"$f":"'Initial Observation'!A226","v":"00:00:00"},{"$f":"IF('Initial Observation'!B226=\"\",\"\",'Initial Observation'!B226)","v":""},{"$f":"IF('Initial Observation'!G226=\"\",\"\",\"X\")","v":""}]
[{"$f":"'Initial Observation'!A227","v":"00:00:00"},{"$f":"IF('Initial Observation'!B227=\"\",\"\",'Initial Observation'!B227)","v":""},{"$f":"IF('Initial Observation'!G227=\"\",\"\",\"X\")","v":""}]
[{"$f":"'Initial Observation'!A228","v":"00:00:00"},{"$f":"IF('Initial Observation'!B228=\"\",\"\",'Initial Observation'!B228)","v":""},{"$f":"IF('Initial Observation'!G228=\"\",\"\",\"X\")","v":""}]
[{"$f":"'Initial Observation'!A229","v":"00:00:00"},{"$f":"IF('Initial Observation'!B229=\"\",\"\",'Initial Observation'!B229)","v":""},{"$f":"IF('Initial Observation'!G229=\"\",\"\",\"X\")","v":""}]
[{"$f":"'Initial Observation'!A230","v":"00:00:00"},{"$f":"IF('Initial Observation'!B230=\"\",\"\",'Initial Observation'!B230)","v":""},{"$f":"IF('Initial Observation'!G230=\"\",\"\",\"X\")","v":""}]
[{"$f":"'Initial Observation'!A231","v":"00:00:00"},{"$f":"IF('Initial Observation'!B231=\"\",\"\",'Initial Observation'!B231)","v":""},{"$f":"IF('Initial Observation'!G231=\"\",\"\",\"X\")","v":""}]
[{"$f":"'Initial Observation'!A232","v":"00:00:00"},{"$f":"IF('Initial Observation'!B232=\"\",\"\",'Initial Observation'!B232)","v":""},{"$f":"IF('Initial Observation'!G232=\"\",\"\",\"X\")","v":""}]
[{"$f":"'Initial Observation'!A233","v":"00:00:00"},{"$f":"IF('Initial Observation'!B233=\"\",\"\",'Initial Observation'!B233)","v":""},{"$f":"IF('Initial Observation'!G233=\"\",\"\",\"X\")","v":""}]
[{"$f":"'Initial Observation'!A234","v":"00:00:00"},{"$f":"IF('Initial Observation'!B234=\"\",\"\",'Initial Observation'!B234)","v":""},{"$f":"IF('Initial Observation'!G234=\"\",\"\",\"X\")","v":""}]
[{"$f":"'Initial Observation'!A235","v":"00:00:00"},{"$f":"IF('Initial Observation'!B235=\"\",\"\",'Initial Observation'!B235)","v":""},{"$f":"IF('Initial Observation'!G235=\"\",\"\",\"X\")","v":""}]
[{"$f":"'Initial Observation'!A236","v":"00:00:00"},{"$f":"IF('Initial Observation'!B236=\"\",\"\",'Initial Observation'!B236)","v":""},{"$f":"IF('Initial Observation'!G236=\"\",\"\",\"X\")","v":""}]
[{"$f":"'Initial Observation'!A237","v":"00:00:00"},{"$f":"IF('Initial Observation'!B237=\"\",\"\",'Initial Observation'!B237)","v":""},{"$f":"IF('Initial Observation'!G237=\"\",\"\",\"X\")","v":""}]
[{"$f":"'Initial Observation'!A238","v":"00:00:00"},{"$f":"IF('Initial Observation'!B238=\"\",\"\",'Initial Observation'!B238)","v":""},{"$f":"IF('Initial Observation'!G238=\"\",\"\",\"X\")","v":""}]
[{"$f":"'Initial Observation'!A239","v":"00:00:00"},{"$f":"IF('Initial Observation'!B239=\"\",\"\",'Initial Observation'!B239)","v":""},{"$f":"IF('Initial Observation'!G239=\"\",\"\",\"X\")","v":""}]
[{"$f":"'Initial Observation'!A240","v":"00:00:00"},{"$f":"IF('Initial Observation'!B240=\"\",\"\",'Initial Observation'!B240)","v":""},{"$f":"IF('Initial Observation'!G240=\"\",\"\",\"X\")","v":""}]
[{"$f":"'Initial Observation'!A241","v":"00:00:00"},{"$f":"IF('Initial Observation'!B241=\"\",\"\",'Initial Observation'!B241)","v":""},{"$f":"IF('Initial Observation'!G241=\"\",\"\",\"X\")","v":""}]
[{"$f":"'Initial Observation'!A242","v":"00:00:00"},{"$f":"IF('Initial Observation'!B242=\"\",\"\",'Initial Observation'!B242)","v":""},{"$f":"IF('Initial Observation'!G242=\"\",\"\",\"X\")","v":""}]
[{"$f":"'Initial Observation'!A243","v":"00:00:00"},{"$f":"IF('Initial Observation'!B243=\"\",\"\",'Initial Observation'!B243)","v":""},{"$f":"IF('Initial Observation'!G243=\"\",\"\",\"X\")","v":""}]
[{"$f":"'Initial Observation'!A244","v":"00:00:00"},{"$f":"IF('Initial Observation'!B244=\"\",\"\",'Initial Observation'!B244)","v":""},{"$f":"IF('Initial Observation'!G244=\"\",\"\",\"X\")","v":""}]
[{"$f":"'Initial Observation'!A245","v":"00:00:00"},{"$f":"IF('Initial Observation'!B245=\"\",\"\",'Initial Observation'!B245)","v":""},{"$f":"IF('Initial Observation'!G245=\"\",\"\",\"X\")","v":""}]
[{"$f":"'Initial Observation'!A246","v":"00:00:00"},{"$f":"IF('Initial Observation'!B246=\"\",\"\",'Initial Observation'!B246)","v":""},{"$f":"IF('Initial Observation'!G246=\"\",\"\",\"X\")","v":""}]
[{"$f":"'Initial Observation'!A247","v":"00:00:00"},{"$f":"IF('Initial Observation'!B247=\"\",\"\",'Initial Observation'!B247)","v":""},{"$f":"IF('Initial Observation'!G247=\"\",\"\",\"X\")","v":""}]
[{"$f":"'Initial Observation'!A248","v":"00:00:00"},{"$f":"IF('Initial Observation'!B248=\"\",\"\",'Initial Observation'!B248)","v":""},{"$f":"IF('Initial Observation'!G248=\"\",\"\",\"X\")","v":""}]
[{"$f":"'Initial Observation'!A249","v":"00:00:00"},{"$f":"IF('Initial Observation'!B249=\"\",\"\",'Initial Observation'!B249)","v":""},{"$f":"IF('Initial Observation'!G249=\"\",\"\",\"X\")","v":""}]
[{"$f":"'Initial Observation'!A250","v":"00:00:00"},{"$f":"IF('Initial Observation'!B250=\"\",\"\",'Initial Observation'!B250)","v":""},{"$f":"IF('Initial Observation'!G250=\"\",\"\",\"X\")","v":""}]
[{"$f":"'Initial Observation'!A251","v":"00:00:00"},{"$f":"IF('Initial Observation'!B251=\"\",\"\",'Initial Observation'!B251)","v":""},{"$f":"IF('Initial Observation'!G251=\"\",\"\",\"X\")","v":""}]
[{"$f":"'Initial Observation'!A252","v":"00:00:00"},{"$f":"IF('Initial Observation'!B252=\"\",\"\",'Initial Observation'!B252)","v":""},{"$f":"IF('Initial Observation'!G252=\"\",\"\",\"X\")","v":""}]
[{"$f":"'Initial Observation'!A253","v":"00:00:00"},{"$f":"IF('Initial Observation'!B253=\"\",\"\",'Initial Observation'!B253)","v":""},{"$f":"IF('Initial Observation'!G253=\"\",\"\",\"X\")","v":""}]
[{"$f":"'Initial Observation'!A254","v":"00:00:00"},{"$f":"IF('Initial Observation'!B254=\"\",\"\",'Initial Observation'!B254)","v":""},{"$f":"IF('Initial Observation'!G254=\"\",\"\",\"X\")","v":""}]
[{"$f":"'Initial Observation'!A255","v":"00:00:00"},{"$f":"IF('Initial Observation'!B255=\"\",\"\",'Initial Observation'!B255)","v":""},{"$f":"IF('Initial Observation'!G255=\"\",\"\",\"X\")","v":""}]
[{"$f":"'Initial Observation'!A256","v":"00:00:00"},{"$f":"IF('Initial Observation'!B256=\"\",\"\",'Initial Observation'!B256)","v":""},{"$f":"IF('Initial Observation'!G256=\"\",\"\",\"X\")","v":""}]
[{"$f":"'Initial Observation'!A257","v":"00:00:00"},{"$f":"IF('Initial Observation'!B257=\"\",\"\",'Initial Observation'!B257)","v":""},{"$f":"IF('Initial Observation'!G257=\"\",\"\",\"X\")","v":""}]
[{"$f":"'Initial Observation'!A258","v":"00:00:00"},{"$f":"IF('Initial Observation'!B258=\"\",\"\",'Initial Observation'!B258)","v":""},{"$f":"IF('Initial Observation'!G258=\"\",\"\",\"X\")","v":""}]
[{"$f":"'Initial Observation'!A259","v":"00:00:00"},{"$f":"IF('Initial Observation'!B259=\"\",\"\",'Initial Observation'!B259)","v":""},{"$f":"IF('Initial Observation'!G259=\"\",\"\",\"X\")","v":""}]
[{"$f":"'Initial Observation'!A260","v":"00:00:00"},{"$f":"IF('Initial Observation'!B260=\"\",\"\",'Initial Observation'!B260)","v":""},{"$f":"IF('Initial Observation'!G260=\"\",\"\",\"X\")","v":""}]
[{"$f":"'Initial Observation'!A261","v":"00:00:00"},{"$f":"IF('Initial Observation'!B261=\"\",\"\",'Initial Observation'!B261)","v":""},{"$f":"IF('Initial Observation'!G261=\"\",\"\",\"X\")","v":""}]
[{"$f":"'Initial Observation'!A262","v":"00:00:00"},{"$f":"IF('Initial Observation'!B262=\"\",\"\",'Initial Observation'!B262)","v":""},{"$f":"IF('Initial Observation'!G262=\"\",\"\",\"X\")","v":""}]
[{"$f":"'Initial Observation'!A263","v":"00:00:00"},{"$f":"IF('Initial Observation'!B263=\"\",\"\",'Initial Observation'!B263)","v":""},{"$f":"IF('Initial Observation'!G263=\"\",\"\",\"X\")","v":""}]
[{"$f":"'Initial Observation'!A264","v":"00:00:00"},{"$f":"IF('Initial Observation'!B264=\"\",\"\",'Initial Observation'!B264)","v":""},{"$f":"IF('Initial Observation'!G264=\"\",\"\",\"X\")","v":""}]
[{"$f":"'Initial Observation'!A265","v":"00:00:00"},{"$f":"IF('Initial Observation'!B265=\"\",\"\",'Initial Observation'!B265)","v":""},{"$f":"IF('Initial Observation'!G265=\"\",\"\",\"X\")","v":""}]
[{"$f":"'Initial Observation'!A266","v":"00:00:00"},{"$f":"IF('Initial Observation'!B266=\"\",\"\",'Initial Observation'!B266)","v":""},{"$f":"IF('Initial Observation'!G266=\"\",\"\",\"X\")","v":""}]
[{"$f":"'Initial Observation'!A267","v":"00:00:00"},{"$f":"IF('Initial Observation'!B267=\"\",\"\",'Initial Observation'!B267)","v":""},{"$f":"IF('Initial Observation'!G267=\"\",\"\",\"X\")","v":""}]
[{"$f":"'Initial Observation'!A268","v":"00:00:00"},{"$f":"IF('Initial Observation'!B268=\"\",\"\",'Initial Observation'!B268)","v":""},{"$f":"IF('Initial Observation'!G268=\"\",\"\",\"X\")","v":""}]
[{"$f":"'Initial Observation'!A269","v":"00:00:00"},{"$f":"IF('Initial Observation'!B269=\"\",\"\",'Initial Observation'!B269)","v":""},{"$f":"IF('Initial Observation'!G269=\"\",\"\",\"X\")","v":""}]
[{"$f":"'Initial Observation'!A270","v":"00:00:00"},{"$f":"IF('Initial Observation'!B270=\"\",\"\",'Initial Observation'!B270)","v":""},{"$f":"IF('Initial Observation'!G270=\"\",\"\",\"X\")","v":""}]

{"sheet":"3A","index":6,"n_rows":270,"n_cols":3,"rows_kept":270,"cut":false,"hidden":false,"merged":[[0,2,3,2]]}
[null,{"$f":"'Initial Observation'!B1","v":"Teacher Name:"},"3A Communicateing Clearly/Accurately"]
[null,{"$f":"'Initial Observation'!B2","v":"Date:"}]
[null,{"$f":"'Initial Observation'!B3","v":"Number of Students:"}]
[null,"Evidence"]
[{"$f":"'Initial Observation'!A5","v":"00:00:00"},{"$f":"IF('Initial Observation'!B5=\"\",\"\",'Initial Observation'!B5)","v":""},{"$f":"IF('Initial Observation'!H5=\"\",\"\",\"X\")","v":""}]
[{"$f":"'Initial Observation'!A6","v":"00:00:00"},{"$f":"IF('Initial Observation'!B6=\"\",\"\",'Initial Observation'!B6)","v":""},{"$f":"IF('Initial Observation'!H6=\"\",\"\",\"X\")","v":""}]
[{"$f":"'Initial Observation'!A7","v":"00:00:00"},{"$f":"IF('Initial Observation'!B7=\"\",\"\",'Initial Observation'!B7)","v":""},{"$f":"IF('Initial Observation'!H7=\"\",\"\",\"X\")","v":""}]
[{"$f":"'Initial Observation'!A8","v":"00:00:00"},{"$f":"IF('Initial Observation'!B8=\"\",\"\",'Initial Observation'!B8)","v":""},{"$f":"IF('Initial Observation'!H8=\"\",\"\",\"X\")","v":""}]
[{"$f":"'Initial Observation'!A9","v":"00:00:00"},{"$f":"IF('Initial Observation'!B9=\"\",\"\",'Initial Observation'!B9)","v":""},{"$f":"IF('Initial Observation'!H9=\"\",\"\",\"X\")","v":""}]
[{"$f":"'Initial Observation'!A10","v":"00:00:00"},{"$f":"IF('Initial Observation'!B10=\"\",\"\",'Initial Observation'!B10)","v":""},{"$f":"IF('Initial Observation'!H10=\"\",\"\",\"X\")","v":""}]
[{"$f":"'Initial Observation'!A11","v":"00:00:00"},{"$f":"IF('Initial Observation'!B11=\"\",\"\",'Initial Observation'!B11)","v":""},{"$f":"IF('Initial Observation'!H11=\"\",\"\",\"X\")","v":""}]
[{"$f":"'Initial Observation'!A12","v":"00:00:00"},{"$f":"IF('Initial Observation'!B12=\"\",\"\",'Initial Observation'!B12)","v":""},{"$f":"IF('Initial Observation'!H12=\"\",\"\",\"X\")","v":""}]
[{"$f":"'Initial Observation'!A13","v":"00:00:00"},{"$f":"IF('Initial Observation'!B13=\"\",\"\",'Initial Observation'!B13)","v":""},{"$f":"IF('Initial Observation'!H13=\"\",\"\",\"X\")","v":""}]
[{"$f":"'Initial Observation'!A14","v":"00:00:00"},{"$f":"IF('Initial Observation'!B14=\"\",\"\",'Initial Observation'!B14)","v":""},{"$f":"IF('Initial Observation'!H14=\"\",\"\",\"X\")","v":""}]
[{"$f":"'Initial Observation'!A15","v":"00:00:00"},{"$f":"IF('Initial Observation'!B15=\"\",\"\",'Initial Observation'!B15)","v":""},{"$f":"IF('Initial Observation'!H15=\"\",\"\",\"X\")","v":""}]
[{"$f":"'Initial Observation'!A16","v":"00:00:00"},{"$f":"IF('Initial Observation'!B16=\"\",\"\",'Initial Observation'!B16)","v":""},{"$f":"IF('Initial Observation'!H16=\"\",\"\",\"X\")","v":""}]
[{"$f":"'Initial Observation'!A17","v":"00:00:00"},{"$f":"IF('Initial Observation'!B17=\"\",\"\",'Initial Observation'!B17)","v":""},{"$f":"IF('Initial Observation'!H17=\"\",\"\",\"X\")","v":""}]
[{"$f":"'Initial Observation'!A18","v":"00:00:00"},{"$f":"IF('Initial Observation'!B18=\"\",\"\",'Initial Observation'!B18)","v":""},{"$f":"IF('Initial Observation'!H18=\"\",\"\",\"X\")","v":""}]
[{"$f":"'Initial Observation'!A19","v":"00:00:00"},{"$f":"IF('Initial Observation'!B19=\"\",\"\",'Initial Observation'!B19)","v":""},{"$f":"IF('Initial Observation'!H19=\"\",\"\",\"X\")","v":""}]
[{"$f":"'Initial Observation'!A20","v":"00:00:00"},{"$f":"IF('Initial Observation'!B20=\"\",\"\",'Initial Observation'!B20)","v":""},{"$f":"IF('Initial Observation'!H20=\"\",\"\",\"X\")","v":""}]
[{"$f":"'Initial Observation'!A21","v":"00:00:00"},{"$f":"IF('Initial Observation'!B21=\"\",\"\",'Initial Observation'!B21)","v":""},{"$f":"IF('Initial Observation'!H21=\"\",\"\",\"X\")","v":""}]
[{"$f":"'Initial Observation'!A22","v":"00:00:00"},{"$f":"IF('Initial Observation'!B22=\"\",\"\",'Initial Observation'!B22)","v":""},{"$f":"IF('Initial Observation'!H22=\"\",\"\",\"X\")","v":""}]
[{"$f":"'Initial Observation'!A23","v":"00:00:00"},{"$f":"IF('Initial Observation'!B23=\"\",\"\",'Initial Observation'!B23)","v":""},{"$f":"IF('Initial Observation'!H23=\"\",\"\",\"X\")","v":""}]
[{"$f":"'Initial Observation'!A24","v":"00:00:00"},{"$f":"IF('Initial Observation'!B24=\"\",\"\",'Initial Observation'!B24)","v":""},{"$f":"IF('Initial Observation'!H24=\"\",\"\",\"X\")","v":""}]
[{"$f":"'Initial Observation'!A25","v":"00:00:00"},{"$f":"IF('Initial Observation'!B25=\"\",\"\",'Initial Observation'!B25)","v":""},{"$f":"IF('Initial Observation'!H25=\"\",\"\",\"X\")","v":""}]
[{"$f":"'Initial Observation'!A26","v":"00:00:00"},{"$f":"IF('Initial Observation'!B26=\"\",\"\",'Initial Observation'!B26)","v":""},{"$f":"IF('Initial Observation'!H26=\"\",\"\",\"X\")","v":""}]
[{"$f":"'Initial Observation'!A27","v":"00:00:00"},{"$f":"IF('Initial Observation'!B27=\"\",\"\",'Initial Observation'!B27)","v":""},{"$f":"IF('Initial Observation'!H27=\"\",\"\",\"X\")","v":""}]
[{"$f":"'Initial Observation'!A28","v":"00:00:00"},{"$f":"IF('Initial Observation'!B28=\"\",\"\",'Initial Observation'!B28)","v":""},{"$f":"IF('Initial Observation'!H28=\"\",\"\",\"X\")","v":""}]
[{"$f":"'Initial Observation'!A29","v":"00:00:00"},{"$f":"IF('Initial Observation'!B29=\"\",\"\",'Initial Observation'!B29)","v":""},{"$f":"IF('Initial Observation'!H29=\"\",\"\",\"X\")","v":""}]
[{"$f":"'Initial Observation'!A30","v":"00:00:00"},{"$f":"IF('Initial Observation'!B30=\"\",\"\",'Initial Observation'!B30)","v":""},{"$f":"IF('Initial Observation'!H30=\"\",\"\",\"X\")","v":""}]
[{"$f":"'Initial Observation'!A31","v":"00:00:00"},{"$f":"IF('Initial Observation'!B31=\"\",\"\",'Initial Observation'!B31)","v":""},{"$f":"IF('Initial Observation'!H31=\"\",\"\",\"X\")","v":""}]
[{"$f":"'Initial Observation'!A32","v":"00:00:00"},{"$f":"IF('Initial Observation'!B32=\"\",\"\",'Initial Observation'!B32)","v":""},{"$f":"IF('Initial Observation'!H32=\"\",\"\",\"X\")","v":""}]
[{"$f":"'Initial Observation'!A33","v":"00:00:00"},{"$f":"IF('Initial Observation'!B33=\"\",\"\",'Initial Observation'!B33)","v":""},{"$f":"IF('Initial Observation'!H33=\"\",\"\",\"X\")","v":""}]
[{"$f":"'Initial Observation'!A34","v":"00:00:00"},{"$f":"IF('Initial Observation'!B34=\"\",\"\",'Initial Observation'!B34)","v":""},{"$f":"IF('Initial Observation'!H34=\"\",\"\",\"X\")","v":""}]
[{"$f":"'Initial Observation'!A35","v":"00:00:00"},{"$f":"IF('Initial Observation'!B35=\"\",\"\",'Initial Observation'!B35)","v":""},{"$f":"IF('Initial Observation'!H35=\"\",\"\",\"X\")","v":""}]
[{"$f":"'Initial Observation'!A36","v":"00:00:00"},{"$f":"IF('Initial Observation'!B36=\"\",\"\",'Initial Observation'!B36)","v":""},{"$f":"IF('Initial Observation'!H36=\"\",\"\",\"X\")","v":""}]
[{"$f":"'Initial Observation'!A37","v":"00:00:00"},{"$f":"IF('Initial Observation'!B37=\"\",\"\",'Initial Observation'!B37)","v":""},{"$f":"IF('Initial Observation'!H37=\"\",\"\",\"X\")","v":""}]
[{"$f":"'Initial Observation'!A38","v":"00:00:00"},{"$f":"IF('Initial Observation'!B38=\"\",\"\",'Initial Observation'!B38)","v":""},{"$f":"IF('Initial Observation'!H38=\"\",\"\",\"X\")","v":""}]
[{"$f":"'Initial Observation'!A39","v":"00:00:00"},{"$f":"IF('Initial Observation'!B39=\"\",\"\",'Initial Observation'!B39)","v":""},{"$f":"IF('Initial Observation'!H39=\"\",\"\",\"X\")","v":""}]
[{"$f":"'Initial Observation'!A40","v":"00:00:00"},{"$f":"IF('Initial Observation'!B40=\"\",\"\",'Initial Observation'!B40)","v":""},{"$f":"IF('Initial Observation'!H40=\"\",\"\",\"X\")","v":""}]
[{"$f":"'Initial Observation'!A41","v":"00:00:00"},{"$f":"IF('Initial Observation'!B41=\"\",\"\",'Initial Observation'!B41)","v":""},{"$f":"IF('Initial Observation'!H41=\"\",\"\",\"X\")","v":""}]
[{"$f":"'Initial Observation'!A42","v":"00:00:00"},{"$f":"IF('Initial Observation'!B42=\"\",\"\",'Initial Observation'!B42)","v":""},{"$f":"IF('Initial Observation'!H42=\"\",\"\",\"X\")","v":""}]
[{"$f":"'Initial Observation'!A43","v":"00:00:00"},{"$f":"IF('Initial Observation'!B43=\"\",\"\",'Initial Observation'!B43)","v":""},{"$f":"IF('Initial Observation'!H43=\"\",\"\",\"X\")","v":""}]
[{"$f":"'Initial Observation'!A44","v":"00:00:00"},{"$f":"IF('Initial Observation'!B44=\"\",\"\",'Initial Observation'!B44)","v":""},{"$f":"IF('Initial Observation'!H44=\"\",\"\",\"X\")","v":""}]
[{"$f":"'Initial Observation'!A45","v":"00:00:00"},{"$f":"IF('Initial Observation'!B45=\"\",\"\",'Initial Observation'!B45)","v":""},{"$f":"IF('Initial Observation'!H45=\"\",\"\",\"X\")","v":""}]
[{"$f":"'Initial Observation'!A46","v":"00:00:00"},{"$f":"IF('Initial Observation'!B46=\"\",\"\",'Initial Observation'!B46)","v":""},{"$f":"IF('Initial Observation'!H46=\"\",\"\",\"X\")","v":""}]
[{"$f":"'Initial Observation'!A47","v":"00:00:00"},{"$f":"IF('Initial Observation'!B47=\"\",\"\",'Initial Observation'!B47)","v":""},{"$f":"IF('Initial Observation'!H47=\"\",\"\",\"X\")","v":""}]
[{"$f":"'Initial Observation'!A48","v":"00:00:00"},{"$f":"IF('Initial Observation'!B48=\"\",\"\",'Initial Observation'!B48)","v":""},{"$f":"IF('Initial Observation'!H48=\"\",\"\",\"X\")","v":""}]
[{"$f":"'Initial Observation'!A49","v":"00:00:00"},{"$f":"IF('Initial Observation'!B49=\"\",\"\",'Initial Observation'!B49)","v":""},{"$f":"IF('Initial Observation'!H49=\"\",\"\",\"X\")","v":""}]
[{"$f":"'Initial Observation'!A50","v":"00:00:00"},{"$f":"IF('Initial Observation'!B50=\"\",\"\",'Initial Observation'!B50)","v":""},{"$f":"IF('Initial Observation'!H50=\"\",\"\",\"X\")","v":""}]
[{"$f":"'Initial Observation'!A51","v":"00:00:00"},{"$f":"IF('Initial Observation'!B51=\"\",\"\",'Initial Observation'!B51)","v":""},{"$f":"IF('Initial Observation'!H51=\"\",\"\",\"X\")","v":""}]
[{"$f":"'Initial Observation'!A52","v":"00:00:00"},{"$f":"IF('Initial Observation'!B52=\"\",\"\",'Initial Observation'!B52)","v":""},{"$f":"IF('Initial Observation'!H52=\"\",\"\",\"X\")","v":""}]
[{"$f":"'Initial Observation'!A53","v":"00:00:00"},{"$f":"IF('Initial Observation'!B53=\"\",\"\",'Initial Observation'!B53)","v":""},{"$f":"IF('Initial Observation'!H53=\"\",\"\",\"X\")","v":""}]
[{"$f":"'Initial Observation'!A54","v":"00:00:00"},{"$f":"IF('Initial Observation'!B54=\"\",\"\",'Initial Observation'!B54)","v":""},{"$f":"IF('Initial Observation'!H54=\"\",\"\",\"X\")","v":""}]
[{"$f":"'Initial Observation'!A55","v":"00:00:00"},{"$f":"IF('Initial Observation'!B55=\"\",\"\",'Initial Observation'!B55)","v":""},{"$f":"IF('Initial Observation'!H55=\"\",\"\",\"X\")","v":""}]
[{"$f":"'Initial Observation'!A56","v":"00:00:00"},{"$f":"IF('Initial Observation'!B56=\"\",\"\",'Initial Observation'!B56)","v":""},{"$f":"IF('Initial Observation'!H56=\"\",\"\",\"X\")","v":""}]
[{"$f":"'Initial Observation'!A57","v":"00:00:00"},{"$f":"IF('Initial Observation'!B57=\"\",\"\",'Initial Observation'!B57)","v":""},{"$f":"IF('Initial Observation'!H57=\"\",\"\",\"X\")","v":""}]
[{"$f":"'Initial Observation'!A58","v":"00:00:00"},{"$f":"IF('Initial Observation'!B58=\"\",\"\",'Initial Observation'!B58)","v":""},{"$f":"IF('Initial Observation'!H58=\"\",\"\",\"X\")","v":""}]
[{"$f":"'Initial Observation'!A59","v":"00:00:00"},{"$f":"IF('Initial Observation'!B59=\"\",\"\",'Initial Observation'!B59)","v":""},{"$f":"IF('Initial Observation'!H59=\"\",\"\",\"X\")","v":""}]
[{"$f":"'Initial Observation'!A60","v":"00:00:00"},{"$f":"IF('Initial Observation'!B60=\"\",\"\",'Initial Observation'!B60)","v":""},{"$f":"IF('Initial Observation'!H60=\"\",\"\",\"X\")","v":""}]
[{"$f":"'Initial Observation'!A61","v":"00:00:00"},{"$f":"IF('Initial Observation'!B61=\"\",\"\",'Initial Observation'!B61)","v":""},{"$f":"IF('Initial Observation'!H61=\"\",\"\",\"X\")","v":""}]
[{"$f":"'Initial Observation'!A62","v":"00:00:00"},{"$f":"IF('Initial Observation'!B62=\"\",\"\",'Initial Observation'!B62)","v":""},{"$f":"IF('Initial Observation'!H62=\"\",\"\",\"X\")","v":""}]
[{"$f":"'Initial Observation'!A63","v":"00:00:00"},{"$f":"IF('Initial Observation'!B63=\"\",\"\",'Initial Observation'!B63)","v":""},{"$f":"IF('Initial Observation'!H63=\"\",\"\",\"X\")","v":""}]
[{"$f":"'Initial Observation'!A64","v":"00:00:00"},{"$f":"IF('Initial Observation'!B64=\"\",\"\",'Initial Observation'!B64)","v":""},{"$f":"IF('Initial Observation'!H64=\"\",\"\",\"X\")","v":""}]
[{"$f":"'Initial Observation'!A65","v":"00:00:00"},{"$f":"IF('Initial Observation'!B65=\"\",\"\",'Initial Observation'!B65)","v":""},{"$f":"IF('Initial Observation'!H65=\"\",\"\",\"X\")","v":""}]
[{"$f":"'Initial Observation'!A66","v":"00:00:00"},{"$f":"IF('Initial Observation'!B66=\"\",\"\",'Initial Observation'!B66)","v":""},{"$f":"IF('Initial Observation'!H66=\"\",\"\",\"X\")","v":""}]
[{"$f":"'Initial Observation'!A67","v":"00:00:00"},{"$f":"IF('Initial Observation'!B67=\"\",\"\",'Initial Observation'!B67)","v":""},{"$f":"IF('Initial Observation'!H67=\"\",\"\",\"X\")","v":""}]
[{"$f":"'Initial Observation'!A68","v":"00:00:00"},{"$f":"IF('Initial Observation'!B68=\"\",\"\",'Initial Observation'!B68)","v":""},{"$f":"IF('Initial Observation'!H68=\"\",\"\",\"X\")","v":""}]
[{"$f":"'Initial Observation'!A69","v":"00:00:00"},{"$f":"IF('Initial Observation'!B69=\"\",\"\",'Initial Observation'!B69)","v":""},{"$f":"IF('Initial Observation'!H69=\"\",\"\",\"X\")","v":""}]
[{"$f":"'Initial Observation'!A70","v":"00:00:00"},{"$f":"IF('Initial Observation'!B70=\"\",\"\",'Initial Observation'!B70)","v":""},{"$f":"IF('Initial Observation'!H70=\"\",\"\",\"X\")","v":""}]
[{"$f":"'Initial Observation'!A71","v":"00:00:00"},{"$f":"IF('Initial Observation'!B71=\"\",\"\",'Initial Observation'!B71)","v":""},{"$f":"IF('Initial Observation'!H71=\"\",\"\",\"X\")","v":""}]
[{"$f":"'Initial Observation'!A72","v":"00:00:00"},{"$f":"IF('Initial Observation'!B72=\"\",\"\",'Initial Observation'!B72)","v":""},{"$f":"IF('Initial Observation'!H72=\"\",\"\",\"X\")","v":""}]
[{"$f":"'Initial Observation'!A73","v":"00:00:00"},{"$f":"IF('Initial Observation'!B73=\"\",\"\",'Initial Observation'!B73)","v":""},{"$f":"IF('Initial Observation'!H73=\"\",\"\",\"X\")","v":""}]
[{"$f":"'Initial Observation'!A74","v":"00:00:00"},{"$f":"IF('Initial Observation'!B74=\"\",\"\",'Initial Observation'!B74)","v":""},{"$f":"IF('Initial Observation'!H74=\"\",\"\",\"X\")","v":""}]
[{"$f":"'Initial Observation'!A75","v":"00:00:00"},{"$f":"IF('Initial Observation'!B75=\"\",\"\",'Initial Observation'!B75)","v":""},{"$f":"IF('Initial Observation'!H75=\"\",\"\",\"X\")","v":""}]
[{"$f":"'Initial Observation'!A76","v":"00:00:00"},{"$f":"IF('Initial Observation'!B76=\"\",\"\",'Initial Observation'!B76)","v":""},{"$f":"IF('Initial Observation'!H76=\"\",\"\",\"X\")","v":""}]
[{"$f":"'Initial Observation'!A77","v":"00:00:00"},{"$f":"IF('Initial Observation'!B77=\"\",\"\",'Initial Observation'!B77)","v":""},{"$f":"IF('Initial Observation'!H77=\"\",\"\",\"X\")","v":""}]
[{"$f":"'Initial Observation'!A78","v":"00:00:00"},{"$f":"IF('Initial Observation'!B78=\"\",\"\",'Initial Observation'!B78)","v":""},{"$f":"IF('Initial Observation'!H78=\"\",\"\",\"X\")","v":""}]
[{"$f":"'Initial Observation'!A79","v":"00:00:00"},{"$f":"IF('Initial Observation'!B79=\"\",\"\",'Initial Observation'!B79)","v":""},{"$f":"IF('Initial Observation'!H79=\"\",\"\",\"X\")","v":""}]
[{"$f":"'Initial Observation'!A80","v":"00:00:00"},{"$f":"IF('Initial Observation'!B80=\"\",\"\",'Initial Observation'!B80)","v":""},{"$f":"IF('Initial Observation'!H80=\"\",\"\",\"X\")","v":""}]
[{"$f":"'Initial Observation'!A81","v":"00:00:00"},{"$f":"IF('Initial Observation'!B81=\"\",\"\",'Initial Observation'!B81)","v":""},{"$f":"IF('Initial Observation'!H81=\"\",\"\",\"X\")","v":""}]
[{"$f":"'Initial Observation'!A82","v":"00:00:00"},{"$f":"IF('Initial Observation'!B82=\"\",\"\",'Initial Observation'!B82)","v":""},{"$f":"IF('Initial Observation'!H82=\"\",\"\",\"X\")","v":""}]
[{"$f":"'Initial Observation'!A83","v":"00:00:00"},{"$f":"IF('Initial Observation'!B83=\"\",\"\",'Initial Observation'!B83)","v":""},{"$f":"IF('Initial Observation'!H83=\"\",\"\",\"X\")","v":""}]
[{"$f":"'Initial Observation'!A84","v":"00:00:00"},{"$f":"IF('Initial Observation'!B84=\"\",\"\",'Initial Observation'!B84)","v":""},{"$f":"IF('Initial Observation'!H84=\"\",\"\",\"X\")","v":""}]
[{"$f":"'Initial Observation'!A85","v":"00:00:00"},{"$f":"IF('Initial Observation'!B85=\"\",\"\",'Initial Observation'!B85)","v":""},{"$f":"IF('Initial Observation'!H85=\"\",\"\",\"X\")","v":""}]
[{"$f":"'Initial Observation'!A86","v":"00:00:00"},{"$f":"IF('Initial Observation'!B86=\"\",\"\",'Initial Observation'!B86)","v":""},{"$f":"IF('Initial Observation'!H86=\"\",\"\",\"X\")","v":""}]
[{"$f":"'Initial Observation'!A87","v":"00:00:00"},{"$f":"IF('Initial Observation'!B87=\"\",\"\",'Initial Observation'!B87)","v":""},{"$f":"IF('Initial Observation'!H87=\"\",\"\",\"X\")","v":""}]
[{"$f":"'Initial Observation'!A88","v":"00:00:00"},{"$f":"IF('Initial Observation'!B88=\"\",\"\",'Initial Observation'!B88)","v":""},{"$f":"IF('Initial Observation'!H88=\"\",\"\",\"X\")","v":""}]
[{"$f":"'Initial Observation'!A89","v":"00:00:00"},{"$f":"IF('Initial Observation'!B89=\"\",\"\",'Initial Observation'!B89)","v":""},{"$f":"IF('Initial Observation'!H89=\"\",\"\",\"X\")","v":""}]
[{"$f":"'Initial Observation'!A90","v":"00:00:00"},{"$f":"IF('Initial Observation'!B90=\"\",\"\",'Initial Observation'!B90)","v":""},{"$f":"IF('Initial Observation'!H90=\"\",\"\",\"X\")","v":""}]
[{"$f":"'Initial Observation'!A91","v":"00:00:00"},{"$f":"IF('Initial Observation'!B91=\"\",\"\",'Initial Observation'!B91)","v":""},{"$f":"IF('Initial Observation'!H91=\"\",\"\",\"X\")","v":""}]
[{"$f":"'Initial Observation'!A92","v":"00:00:00"},{"$f":"IF('Initial Observation'!B92=\"\",\"\",'Initial Observation'!B92)","v":""},{"$f":"IF('Initial Observation'!H92=\"\",\"\",\"X\")","v":""}]
[{"$f":"'Initial Observation'!A93","v":"00:00:00"},{"$f":"IF('Initial Observation'!B93=\"\",\"\",'Initial Observation'!B93)","v":""},{"$f":"IF('Initial Observation'!H93=\"\",\"\",\"X\")","v":""}]
[{"$f":"'Initial Observation'!A94","v":"00:00:00"},{"$f":"IF('Initial Observation'!B94=\"\",\"\",'Initial Observation'!B94)","v":""},{"$f":"IF('Initial Observation'!H94=\"\",\"\",\"X\")","v":""}]
[{"$f":"'Initial Observation'!A95","v":"00:00:00"},{"$f":"IF('Initial Observation'!B95=\"\",\"\",'Initial Observation'!B95)","v":""},{"$f":"IF('Initial Observation'!H95=\"\",\"\",\"X\")","v":""}]
[{"$f":"'Initial Observation'!A96","v":"00:00:00"},{"$f":"IF('Initial Observation'!B96=\"\",\"\",'Initial Observation'!B96)","v":""},{"$f":"IF('Initial Observation'!H96=\"\",\"\",\"X\")","v":""}]
[{"$f":"'Initial Observation'!A97","v":"00:00:00"},{"$f":"IF('Initial Observation'!B97=\"\",\"\",'Initial Observation'!B97)","v":""},{"$f":"IF('Initial Observation'!H97=\"\",\"\",\"X\")","v":""}]
[{"$f":"'Initial Observation'!A98","v":"00:00:00"},{"$f":"IF('Initial Observation'!B98=\"\",\"\",'Initial Observation'!B98)","v":""},{"$f":"IF('Initial Observation'!H98=\"\",\"\",\"X\")","v":""}]
[{"$f":"'Initial Observation'!A99","v":"00:00:00"},{"$f":"IF('Initial Observation'!B99=\"\",\"\",'Initial Observation'!B99)","v":""},{"$f":"IF('Initial Observation'!H99=\"\",\"\",\"X\")","v":""}]
[{"$f":"'Initial Observation'!A100","v":"00:00:00"},{"$f":"IF('Initial Observation'!B100=\"\",\"\",'Initial Observation'!B100)","v":""},{"$f":"IF('Initial Observation'!H100=\"\",\"\",\"X\")","v":""}]
[{"$f":"'Initial Observation'!A101","v":"00:00:00"},{"$f":"IF('Initial Observation'!B101=\"\",\"\",'Initial Observation'!B101)","v":""},{"$f":"IF('Initial Observation'!H101=\"\",\"\",\"X\")","v":""}]
[{"$f":"'Initial Observation'!A102","v":"00:00:00"},{"$f":"IF('Initial Observation'!B102=\"\",\"\",'Initial Observation'!B102)","v":""},{"$f":"IF('Initial Observation'!H102=\"\",\"\",\"X\")","v":""}]
[{"$f":"'Initial Observation'!A103","v":"00:00:00"},{"$f":"IF('Initial Observation'!B103=\"\",\"\",'Initial Observation'!B103)","v":""},{"$f":"IF('Initial Observation'!H103=\"\",\"\",\"X\")","v":""}]
[{"$f":"'Initial Observation'!A104","v":"00:00:00"},{"$f":"IF('Initial Observation'!B104=\"\",\"\",'Initial Observation'!B104)","v":""},{"$f":"IF('Initial Observation'!H104=\"\",\"\",\"X\")","v":""}]
[{"$f":"'Initial Observation'!A105","v":"00:00:00"},{"$f":"IF('Initial Observation'!B105=\"\",\"\",'Initial Observation'!B105)","v":""},{"$f":"IF('Initial Observation'!H105=\"\",\"\",\"X\")","v":""}]
[{"$f":"'Initial Observation'!A106","v":"00:00:00"},{"$f":"IF('Initial Observation'!B106=\"\",\"\",'Initial Observation'!B106)","v":""},{"$f":"IF('Initial Observation'!H106=\"\",\"\",\"X\")","v":""}]
[{"$f":"'Initial Observation'!A107","v":"00:00:00"},{"$f":"IF('Initial Observation'!B107=\"\",\"\",'Initial Observation'!B107)","v":""},{"$f":"IF('Initial Observation'!H107=\"\",\"\",\"X\")","v":""}]
[{"$f":"'Initial Observation'!A108","v":"00:00:00"},{"$f":"IF('Initial Observation'!B108=\"\",\"\",'Initial Observation'!B108)","v":""},{"$f":"IF('Initial Observation'!H108=\"\",\"\",\"X\")","v":""}]
[{"$f":"'Initial Observation'!A109","v":"00:00:00"},{"$f":"IF('Initial Observation'!B109=\"\",\"\",'Initial Observation'!B109)","v":""},{"$f":"IF('Initial Observation'!H109=\"\",\"\",\"X\")","v":""}]
[{"$f":"'Initial Observation'!A110","v":"00:00:00"},{"$f":"IF('Initial Observation'!B110=\"\",\"\",'Initial Observation'!B110)","v":""},{"$f":"IF('Initial Observation'!H110=\"\",\"\",\"X\")","v":""}]
[{"$f":"'Initial Observation'!A111","v":"00:00:00"},{"$f":"IF('Initial Observation'!B111=\"\",\"\",'Initial Observation'!B111)","v":""},{"$f":"IF('Initial Observation'!H111=\"\",\"\",\"X\")","v":""}]
[{"$f":"'Initial Observation'!A112","v":"00:00:00"},{"$f":"IF('Initial Observation'!B112=\"\",\"\",'Initial Observation'!B112)","v":""},{"$f":"IF('Initial Observation'!H112=\"\",\"\",\"X\")","v":""}]
[{"$f":"'Initial Observation'!A113","v":"00:00:00"},{"$f":"IF('Initial Observation'!B113=\"\",\"\",'Initial Observation'!B113)","v":""},{"$f":"IF('Initial Observation'!H113=\"\",\"\",\"X\")","v":""}]
[{"$f":"'Initial Observation'!A114","v":"00:00:00"},{"$f":"IF('Initial Observation'!B114=\"\",\"\",'Initial Observation'!B114)","v":""},{"$f":"IF('Initial Observation'!H114=\"\",\"\",\"X\")","v":""}]
[{"$f":"'Initial Observation'!A115","v":"00:00:00"},{"$f":"IF('Initial Observation'!B115=\"\",\"\",'Initial Observation'!B115)","v":""},{"$f":"IF('Initial Observation'!H115=\"\",\"\",\"X\")","v":""}]
[{"$f":"'Initial Observation'!A116","v":"00:00:00"},{"$f":"IF('Initial Observation'!B116=\"\",\"\",'Initial Observation'!B116)","v":""},{"$f":"IF('Initial Observation'!H116=\"\",\"\",\"X\")","v":""}]
[{"$f":"'Initial Observation'!A117","v":"00:00:00"},{"$f":"IF('Initial Observation'!B117=\"\",\"\",'Initial Observation'!B117)","v":""},{"$f":"IF('Initial Observation'!H117=\"\",\"\",\"X\")","v":""}]
[{"$f":"'Initial Observation'!A118","v":"00:00:00"},{"$f":"IF('Initial Observation'!B118=\"\",\"\",'Initial Observation'!B118)","v":""},{"$f":"IF('Initial Observation'!H118=\"\",\"\",\"X\")","v":""}]
[{"$f":"'Initial Observation'!A119","v":"00:00:00"},{"$f":"IF('Initial Observation'!B119=\"\",\"\",'Initial Observation'!B119)","v":""},{"$f":"IF('Initial Observation'!H119=\"\",\"\",\"X\")","v":""}]
[{"$f":"'Initial Observation'!A120","v":"00:00:00"},{"$f":"IF('Initial Observation'!B120=\"\",\"\",'Initial Observation'!B120)","v":""},{"$f":"IF('Initial Observation'!H120=\"\",\"\",\"X\")","v":""}]
[{"$f":"'Initial Observation'!A121","v":"00:00:00"},{"$f":"IF('Initial Observation'!B121=\"\",\"\",'Initial Observation'!B121)","v":""},{"$f":"IF('Initial Observation'!H121=\"\",\"\",\"X\")","v":""}]
[{"$f":"'Initial Observation'!A122","v":"00:00:00"},{"$f":"IF('Initial Observation'!B122=\"\",\"\",'Initial Observation'!B122)","v":""},{"$f":"IF('Initial Observation'!H122=\"\",\"\",\"X\")","v":""}]
[{"$f":"'Initial Observation'!A123","v":"00:00:00"},{"$f":"IF('Initial Observation'!B123=\"\",\"\",'Initial Observation'!B123)","v":""},{"$f":"IF('Initial Observation'!H123=\"\",\"\",\"X\")","v":""}]
[{"$f":"'Initial Observation'!A124","v":"00:00:00"},{"$f":"IF('Initial Observation'!B124=\"\",\"\",'Initial Observation'!B124)","v":""},{"$f":"IF('Initial Observation'!H124=\"\",\"\",\"X\")","v":""}]
[{"$f":"'Initial Observation'!A125","v":"00:00:00"},{"$f":"IF('Initial Observation'!B125=\"\",\"\",'Initial Observation'!B125)","v":""},{"$f":"IF('Initial Observation'!H125=\"\",\"\",\"X\")","v":""}]
[{"$f":"'Initial Observation'!A126","v":"00:00:00"},{"$f":"IF('Initial Observation'!B126=\"\",\"\",'Initial Observation'!B126)","v":""},{"$f":"IF('Initial Observation'!H126=\"\",\"\",\"X\")","v":""}]
[{"$f":"'Initial Observation'!A127","v":"00:00:00"},{"$f":"IF('Initial Observation'!B127=\"\",\"\",'Initial Observation'!B127)","v":""},{"$f":"IF('Initial Observation'!H127=\"\",\"\",\"X\")","v":""}]
[{"$f":"'Initial Observation'!A128","v":"00:00:00"},{"$f":"IF('Initial Observation'!B128=\"\",\"\",'Initial Observation'!B128)","v":""},{"$f":"IF('Initial Observation'!H128=\"\",\"\",\"X\")","v":""}]
[{"$f":"'Initial Observation'!A129","v":"00:00:00"},{"$f":"IF('Initial Observation'!B129=\"\",\"\",'Initial Observation'!B129)","v":""},{"$f":"IF('Initial Observation'!H129=\"\",\"\",\"X\")","v":""}]
[{"$f":"'Initial Observation'!A130","v":"00:00:00"},{"$f":"IF('Initial Observation'!B130=\"\",\"\",'Initial Observation'!B130)","v":""},{"$f":"IF('Initial Observation'!H130=\"\",\"\",\"X\")","v":""}]
[{"$f":"'Initial Observation'!A131","v":"00:00:00"},{"$f":"IF('Initial Observation'!B131=\"\",\"\",'Initial Observation'!B131)","v":""},{"$f":"IF('Initial Observation'!H131=\"\",\"\",\"X\")","v":""}]
[{"$f":"'Initial Observation'!A132","v":"00:00:00"},{"$f":"IF('Initial Observation'!B132=\"\",\"\",'Initial Observation'!B132)","v":""},{"$f":"IF('Initial Observation'!H132=\"\",\"\",\"X\")","v":""}]
[{"$f":"'Initial Observation'!A133","v":"00:00:00"},{"$f":"IF('Initial Observation'!B133=\"\",\"\",'Initial Observation'!B133)","v":""},{"$f":"IF('Initial Observation'!H133=\"\",\"\",\"X\")","v":""}]
[{"$f":"'Initial Observation'!A134","v":"00:00:00"},{"$f":"IF('Initial Observation'!B134=\"\",\"\",'Initial Observation'!B134)","v":""},{"$f":"IF('Initial Observation'!H134=\"\",\"\",\"X\")","v":""}]
[{"$f":"'Initial Observation'!A135","v":"00:00:00"},{"$f":"IF('Initial Observation'!B135=\"\",\"\",'Initial Observation'!B135)","v":""},{"$f":"IF('Initial Observation'!H135=\"\",\"\",\"X\")","v":""}]
[{"$f":"'Initial Observation'!A136","v":"00:00:00"},{"$f":"IF('Initial Observation'!B136=\"\",\"\",'Initial Observation'!B136)","v":""},{"$f":"IF('Initial Observation'!H136=\"\",\"\",\"X\")","v":""}]
[{"$f":"'Initial Observation'!A137","v":"00:00:00"},{"$f":"IF('Initial Observation'!B137=\"\",\"\",'Initial Observation'!B137)","v":""},{"$f":"IF('Initial Observation'!H137=\"\",\"\",\"X\")","v":""}]
[{"$f":"'Initial Observation'!A138","v":"00:00:00"},{"$f":"IF('Initial Observation'!B138=\"\",\"\",'Initial Observation'!B138)","v":""},{"$f":"IF('Initial Observation'!H138=\"\",\"\",\"X\")","v":""}]
[{"$f":"'Initial Observation'!A139","v":"00:00:00"},{"$f":"IF('Initial Observation'!B139=\"\",\"\",'Initial Observation'!B139)","v":""},{"$f":"IF('Initial Observation'!H139=\"\",\"\",\"X\")","v":""}]
[{"$f":"'Initial Observation'!A140","v":"00:00:00"},{"$f":"IF('Initial Observation'!B140=\"\",\"\",'Initial Observation'!B140)","v":""},{"$f":"IF('Initial Observation'!H140=\"\",\"\",\"X\")","v":""}]
[{"$f":"'Initial Observation'!A141","v":"00:00:00"},{"$f":"IF('Initial Observation'!B141=\"\",\"\",'Initial Observation'!B141)","v":""},{"$f":"IF('Initial Observation'!H141=\"\",\"\",\"X\")","v":""}]
[{"$f":"'Initial Observation'!A142","v":"00:00:00"},{"$f":"IF('Initial Observation'!B142=\"\",\"\",'Initial Observation'!B142)","v":""},{"$f":"IF('Initial Observation'!H142=\"\",\"\",\"X\")","v":""}]
[{"$f":"'Initial Observation'!A143","v":"00:00:00"},{"$f":"IF('Initial Observation'!B143=\"\",\"\",'Initial Observation'!B143)","v":""},{"$f":"IF('Initial Observation'!H143=\"\",\"\",\"X\")","v":""}]
[{"$f":"'Initial Observation'!A144","v":"00:00:00"},{"$f":"IF('Initial Observation'!B144=\"\",\"\",'Initial Observation'!B144)","v":""},{"$f":"IF('Initial Observation'!H144=\"\",\"\",\"X\")","v":""}]
[{"$f":"'Initial Observation'!A145","v":"00:00:00"},{"$f":"IF('Initial Observation'!B145=\"\",\"\",'Initial Observation'!B145)","v":""},{"$f":"IF('Initial Observation'!H145=\"\",\"\",\"X\")","v":""}]
[{"$f":"'Initial Observation'!A146","v":"00:00:00"},{"$f":"IF('Initial Observation'!B146=\"\",\"\",'Initial Observation'!B146)","v":""},{"$f":"IF('Initial Observation'!H146=\"\",\"\",\"X\")","v":""}]
[{"$f":"'Initial Observation'!A147","v":"00:00:00"},{"$f":"IF('Initial Observation'!B147=\"\",\"\",'Initial Observation'!B147)","v":""},{"$f":"IF('Initial Observation'!H147=\"\",\"\",\"X\")","v":""}]
[{"$f":"'Initial Observation'!A148","v":"00:00:00"},{"$f":"IF('Initial Observation'!B148=\"\",\"\",'Initial Observation'!B148)","v":""},{"$f":"IF('Initial Observation'!H148=\"\",\"\",\"X\")","v":""}]
[{"$f":"'Initial Observation'!A149","v":"00:00:00"},{"$f":"IF('Initial Observation'!B149=\"\",\"\",'Initial Observation'!B149)","v":""},{"$f":"IF('Initial Observation'!H149=\"\",\"\",\"X\")","v":""}]
[{"$f":"'Initial Observation'!A150","v":"00:00:00"},{"$f":"IF('Initial Observation'!B150=\"\",\"\",'Initial Observation'!B150)","v":""},{"$f":"IF('Initial Observation'!H150=\"\",\"\",\"X\")","v":""}]
[{"$f":"'Initial Observation'!A151","v":"00:00:00"},{"$f":"IF('Initial Observation'!B151=\"\",\"\",'Initial Observation'!B151)","v":""},{"$f":"IF('Initial Observation'!H151=\"\",\"\",\"X\")","v":""}]
[{"$f":"'Initial Observation'!A152","v":"00:00:00"},{"$f":"IF('Initial Observation'!B152=\"\",\"\",'Initial Observation'!B152)","v":""},{"$f":"IF('Initial Observation'!H152=\"\",\"\",\"X\")","v":""}]
[{"$f":"'Initial Observation'!A153","v":"00:00:00"},{"$f":"IF('Initial Observation'!B153=\"\",\"\",'Initial Observation'!B153)","v":""},{"$f":"IF('Initial Observation'!H153=\"\",\"\",\"X\")","v":""}]
[{"$f":"'Initial Observation'!A154","v":"00:00:00"},{"$f":"IF('Initial Observation'!B154=\"\",\"\",'Initial Observation'!B154)","v":""},{"$f":"IF('Initial Observation'!H154=\"\",\"\",\"X\")","v":""}]
[{"$f":"'Initial Observation'!A155","v":"00:00:00"},{"$f":"IF('Initial Observation'!B155=\"\",\"\",'Initial Observation'!B155)","v":""},{"$f":"IF('Initial Observation'!H155=\"\",\"\",\"X\")","v":""}]
[{"$f":"'Initial Observation'!A156","v":"00:00:00"},{"$f":"IF('Initial Observation'!B156=\"\",\"\",'Initial Observation'!B156)","v":""},{"$f":"IF('Initial Observation'!H156=\"\",\"\",\"X\")","v":""}]
[{"$f":"'Initial Observation'!A157","v":"00:00:00"},{"$f":"IF('Initial Observation'!B157=\"\",\"\",'Initial Observation'!B157)","v":""},{"$f":"IF('Initial Observation'!H157=\"\",\"\",\"X\")","v":""}]
[{"$f":"'Initial Observation'!A158","v":"00:00:00"},{"$f":"IF('Initial Observation'!B158=\"\",\"\",'Initial Observation'!B158)","v":""},{"$f":"IF('Initial Observation'!H158=\"\",\"\",\"X\")","v":""}]
[{"$f":"'Initial Observation'!A159","v":"00:00:00"},{"$f":"IF('Initial Observation'!B159=\"\",\"\",'Initial Observation'!B159)","v":""},{"$f":"IF('Initial Observation'!H159=\"\",\"\",\"X\")","v":""}]
[{"$f":"'Initial Observation'!A160","v":"00:00:00"},{"$f":"IF('Initial Observation'!B160=\"\",\"\",'Initial Observation'!B160)","v":""},{"$f":"IF('Initial Observation'!H160=\"\",\"\",\"X\")","v":""}]
[{"$f":"'Initial Observation'!A161","v":"00:00:00"},{"$f":"IF('Initial Observation'!B161=\"\",\"\",'Initial Observation'!B161)","v":""},{"$f":"IF('Initial Observation'!H161=\"\",\"\",\"X\")","v":""}]
[{"$f":"'Initial Observation'!A162","v":"00:00:00"},{"$f":"IF('Initial Observation'!B162=\"\",\"\",'Initial Observation'!B162)","v":""},{"$f":"IF('Initial Observation'!H162=\"\",\"\",\"X\")","v":""}]
[{"$f":"'Initial Observation'!A163","v":"00:00:00"},{"$f":"IF('Initial Observation'!B163=\"\",\"\",'Initial Observation'!B163)","v":""},{"$f":"IF('Initial Observation'!H163=\"\",\"\",\"X\")","v":""}]
[{"$f":"'Initial Observation'!A164","v":"00:00:00"},{"$f":"IF('Initial Observation'!B164=\"\",\"\",'Initial Observation'!B164)","v":""},{"$f":"IF('Initial Observation'!H164=\"\",\"\",\"X\")","v":""}]
[{"$f":"'Initial Observation'!A165","v":"00:00:00"},{"$f":"IF('Initial Observation'!B165=\"\",\"\",'Initial Observation'!B165)","v":""},{"$f":"IF('Initial Observation'!H165=\"\",\"\",\"X\")","v":""}]
[{"$f":"'Initial Observation'!A166","v":"00:00:00"},{"$f":"IF('Initial Observation'!B166=\"\",\"\",'Initial Observation'!B166)","v":""},{"$f":"IF('Initial Observation'!H166=\"\",\"\",\"X\")","v":""}]
[{"$f":"'Initial Observation'!A167","v":"00:00:00"},{"$f":"IF('Initial Observation'!B167=\"\",\"\",'Initial Observation'!B167)","v":""},{"$f":"IF('Initial Observation'!H167=\"\",\"\",\"X\")","v":""}]
[{"$f":"'Initial Observation'!A168","v":"00:00:00"},{"$f":"IF('Initial Observation'!B168=\"\",\"\",'Initial Observation'!B168)","v":""},{"$f":"IF('Initial Observation'!H168=\"\",\"\",\"X\")","v":""}]
[{"$f":"'Initial Observation'!A169","v":"00:00:00"},{"$f":"IF('Initial Observation'!B169=\"\",\"\",'Initial Observation'!B169)","v":""},{"$f":"IF('Initial Observation'!H169=\"\",\"\",\"X\")","v":""}]
[{"$f":"'Initial Observation'!A170","v":"00:00:00"},{"$f":"IF('Initial Observation'!B170=\"\",\"\",'Initial Observation'!B170)","v":""},{"$f":"IF('Initial Observation'!H170=\"\",\"\",\"X\")","v":""}]
[{"$f":"'Initial Observation'!A171","v":"00:00:00"},{"$f":"IF('Initial Observation'!B171=\"\",\"\",'Initial Observation'!B171)","v":""},{"$f":"IF('Initial Observation'!H171=\"\",\"\",\"X\")","v":""}]
[{"$f":"'Initial Observation'!A172","v":"00:00:00"},{"$f":"IF('Initial Observation'!B172=\"\",\"\",'Initial Observation'!B172)","v":""},{"$f":"IF('Initial Observation'!H172=\"\",\"\",\"X\")","v":""}]
[{"$f":"'Initial Observation'!A173","v":"00:00:00"},{"$f":"IF('Initial Observation'!B173=\"\",\"\",'Initial Observation'!B173)","v":""},{"$f":"IF('Initial Observation'!H173=\"\",\"\",\"X\")","v":""}]
[{"$f":"'Initial Observation'!A174","v":"00:00:00"},{"$f":"IF('Initial Observation'!B174=\"\",\"\",'Initial Observation'!B174)","v":""},{"$f":"IF('Initial Observation'!H174=\"\",\"\",\"X\")","v":""}]
[{"$f":"'Initial Observation'!A175","v":"00:00:00"},{"$f":"IF('Initial Observation'!B175=\"\",\"\",'Initial Observation'!B175)","v":""},{"$f":"IF('Initial Observation'!H175=\"\",\"\",\"X\")","v":""}]
[{"$f":"'Initial Observation'!A176","v":"00:00:00"},{"$f":"IF('Initial Observation'!B176=\"\",\"\",'Initial Observation'!B176)","v":""},{"$f":"IF('Initial Observation'!H176=\"\",\"\",\"X\")","v":""}]
[{"$f":"'Initial Observation'!A177","v":"00:00:00"},{"$f":"IF('Initial Observation'!B177=\"\",\"\",'Initial Observation'!B177)","v":""},{"$f":"IF('Initial Observation'!H177=\"\",\"\",\"X\")","v":""}]
[{"$f":"'Initial Observation'!A178","v":"00:00:00"},{"$f":"IF('Initial Observation'!B178=\"\",\"\",'Initial Observation'!B178)","v":""},{"$f":"IF('Initial Observation'!H178=\"\",\"\",\"X\")","v":""}]
[{"$f":"'Initial Observation'!A179","v":"00:00:00"},{"$f":"IF('Initial Observation'!B179=\"\",\"\",'Initial Observation'!B179)","v":""},{"$f":"IF('Initial Observation'!H179=\"\",\"\",\"X\")","v":""}]
[{"$f":"'Initial Observation'!A180","v":"00:00:00"},{"$f":"IF('Initial Observation'!B180=\"\",\"\",'Initial Observation'!B180)","v":""},{"$f":"IF('Initial Observation'!H180=\"\",\"\",\"X\")","v":""}]
[{"$f":"'Initial Observation'!A181","v":"00:00:00"},{"$f":"IF('Initial Observation'!B181=\"\",\"\",'Initial Observation'!B181)","v":""},{"$f":"IF('Initial Observation'!H181=\"\",\"\",\"X\")","v":""}]
[{"$f":"'Initial Observation'!A182","v":"00:00:00"},{"$f":"IF('Initial Observation'!B182=\"\",\"\",'Initial Observation'!B182)","v":""},{"$f":"IF('Initial Observation'!H182=\"\",\"\",\"X\")","v":""}]
[{"$f":"'Initial Observation'!A183","v":"00:00:00"},{"$f":"IF('Initial Observation'!B183=\"\",\"\",'Initial Observation'!B183)","v":""},{"$f":"IF('Initial Observation'!H183=\"\",\"\",\"X\")","v":""}]
[{"$f":"'Initial Observation'!A184","v":"00:00:00"},{"$f":"IF('Initial Observation'!B184=\"\",\"\",'Initial Observation'!B184)","v":""},{"$f":"IF('Initial Observation'!H184=\"\",\"\",\"X\")","v":""}]
[{"$f":"'Initial Observation'!A185","v":"00:00:00"},{"$f":"IF('Initial Observation'!B185=\"\",\"\",'Initial Observation'!B185)","v":""},{"$f":"IF('Initial Observation'!H185=\"\",\"\",\"X\")","v":""}]
[{"$f":"'Initial Observation'!A186","v":"00:00:00"},{"$f":"IF('Initial Observation'!B186=\"\",\"\",'Initial Observation'!B186)","v":""},{"$f":"IF('Initial Observation'!H186=\"\",\"\",\"X\")","v":""}]
[{"$f":"'Initial Observation'!A187","v":"00:00:00"},{"$f":"IF('Initial Observation'!B187=\"\",\"\",'Initial Observation'!B187)","v":""},{"$f":"IF('Initial Observation'!H187=\"\",\"\",\"X\")","v":""}]
[{"$f":"'Initial Observation'!A188","v":"00:00:00"},{"$f":"IF('Initial Observation'!B188=\"\",\"\",'Initial Observation'!B188)","v":""},{"$f":"IF('Initial Observation'!H188=\"\",\"\",\"X\")","v":""}]
[{"$f":"'Initial Observation'!A189","v":"00:00:00"},{"$f":"IF('Initial Observation'!B189=\"\",\"\",'Initial Observation'!B189)","v":""},{"$f":"IF('Initial Observation'!H189=\"\",\"\",\"X\")","v":""}]
[{"$f":"'Initial Observation'!A190","v":"00:00:00"},{"$f":"IF('Initial Observation'!B190=\"\",\"\",'Initial Observation'!B190)","v":""},{"$f":"IF('Initial Observation'!H190=\"\",\"\",\"X\")","v":""}]
[{"$f":"'Initial Observation'!A191","v":"00:00:00"},{"$f":"IF('Initial Observation'!B191=\"\",\"\",'Initial Observation'!B191)","v":""},{"$f":"IF('Initial Observation'!H191=\"\",\"\",\"X\")","v":""}]
[{"$f":"'Initial Observation'!A192","v":"00:00:00"},{"$f":"IF('Initial Observation'!B192=\"\",\"\",'Initial Observation'!B192)","v":""},{"$f":"IF('Initial Observation'!H192=\"\",\"\",\"X\")","v":""}]
[{"$f":"'Initial Observation'!A193","v":"00:00:00"},{"$f":"IF('Initial Observation'!B193=\"\",\"\",'Initial Observation'!B193)","v":""},{"$f":"IF('Initial Observation'!H193=\"\",\"\",\"X\")","v":""}]
[{"$f":"'Initial Observation'!A194","v":"00:00:00"},{"$f":"IF('Initial Observation'!B194=\"\",\"\",'Initial Observation'!B194)","v":""},{"$f":"IF('Initial Observation'!H194=\"\",\"\",\"X\")","v":""}]
[{"$f":"'Initial Observation'!A195","v":"00:00:00"},{"$f":"IF('Initial Observation'!B195=\"\",\"\",'Initial Observation'!B195)","v":""},{"$f":"IF('Initial Observation'!H195=\"\",\"\",\"X\")","v":""}]
[{"$f":"'Initial Observation'!A196","v":"00:00:00"},{"$f":"IF('Initial Observation'!B196=\"\",\"\",'Initial Observation'!B196)","v":""},{"$f":"IF('Initial Observation'!H196=\"\",\"\",\"X\")","v":""}]
[{"$f":"'Initial Observation'!A197","v":"00:00:00"},{"$f":"IF('Initial Observation'!B197=\"\",\"\",'Initial Observation'!B197)","v":""},{"$f":"IF('Initial Observation'!H197=\"\",\"\",\"X\")","v":""}]
[{"$f":"'Initial Observation'!A198","v":"00:00:00"},{"$f":"IF('Initial Observation'!B198=\"\",\"\",'Initial Observation'!B198)","v":""},{"$f":"IF('Initial Observation'!H198=\"\",\"\",\"X\")","v":""}]
[{"$f":"'Initial Observation'!A199","v":"00:00:00"},{"$f":"IF('Initial Observation'!B199=\"\",\"\",'Initial Observation'!B199)","v":""},{"$f":"IF('Initial Observation'!H199=\"\",\"\",\"X\")","v":""}]
[{"$f":"'Initial Observation'!A200","v":"00:00:00"},{"$f":"IF('Initial Observation'!B200=\"\",\"\",'Initial Observation'!B200)","v":""},{"$f":"IF('Initial Observation'!H200=\"\",\"\",\"X\")","v":""}]
[{"$f":"'Initial Observation'!A201","v":"00:00:00"},{"$f":"IF('Initial Observation'!B201=\"\",\"\",'Initial Observation'!B201)","v":""},{"$f":"IF('Initial Observation'!H201=\"\",\"\",\"X\")","v":""}]
[{"$f":"'Initial Observation'!A202","v":"00:00:00"},{"$f":"IF('Initial Observation'!B202=\"\",\"\",'Initial Observation'!B202)","v":""},{"$f":"IF('Initial Observation'!H202=\"\",\"\",\"X\")","v":""}]
[{"$f":"'Initial Observation'!A203","v":"00:00:00"},{"$f":"IF('Initial Observation'!B203=\"\",\"\",'Initial Observation'!B203)","v":""},{"$f":"IF('Initial Observation'!H203=\"\",\"\",\"X\")","v":""}]
[{"$f":"'Initial Observation'!A204","v":"00:00:00"},{"$f":"IF('Initial Observation'!B204=\"\",\"\",'Initial Observation'!B204)","v":""},{"$f":"IF('Initial Observation'!H204=\"\",\"\",\"X\")","v":""}]
[{"$f":"'Initial Observation'!A205","v":"00:00:00"},{"$f":"IF('Initial Observation'!B205=\"\",\"\",'Initial Observation'!B205)","v":""},{"$f":"IF('Initial Observation'!H205=\"\",\"\",\"X\")","v":""}]
[{"$f":"'Initial Observation'!A206","v":"00:00:00"},{"$f":"IF('Initial Observation'!B206=\"\",\"\",'Initial Observation'!B206)","v":""},{"$f":"IF('Initial Observation'!H206=\"\",\"\",\"X\")","v":""}]
[{"$f":"'Initial Observation'!A207","v":"00:00:00"},{"$f":"IF('Initial Observation'!B207=\"\",\"\",'Initial Observation'!B207)","v":""},{"$f":"IF('Initial Observation'!H207=\"\",\"\",\"X\")","v":""}]
[{"$f":"'Initial Observation'!A208","v":"00:00:00"},{"$f":"IF('Initial Observation'!B208=\"\",\"\",'Initial Observation'!B208)","v":""},{"$f":"IF('Initial Observation'!H208=\"\",\"\",\"X\")","v":""}]
[{"$f":"'Initial Observation'!A209","v":"00:00:00"},{"$f":"IF('Initial Observation'!B209=\"\",\"\",'Initial Observation'!B209)","v":""},{"$f":"IF('Initial Observation'!H209=\"\",\"\",\"X\")","v":""}]
[{"$f":"'Initial Observation'!A210","v":"00:00:00"},{"$f":"IF('Initial Observation'!B210=\"\",\"\",'Initial Observation'!B210)","v":""},{"$f":"IF('Initial Observation'!H210=\"\",\"\",\"X\")","v":""}]
[{"$f":"'Initial Observation'!A211","v":"00:00:00"},{"$f":"IF('Initial Observation'!B211=\"\",\"\",'Initial Observation'!B211)","v":""},{"$f":"IF('Initial Observation'!H211=\"\",\"\",\"X\")","v":""}]
[{"$f":"'Initial Observation'!A212","v":"00:00:00"},{"$f":"IF('Initial Observation'!B212=\"\",\"\",'Initial Observation'!B212)","v":""},{"$f":"IF('Initial Observation'!H212=\"\",\"\",\"X\")","v":""}]
[{"$f":"'Initial Observation'!A213","v":"00:00:00"},{"$f":"IF('Initial Observation'!B213=\"\",\"\",'Initial Observation'!B213)","v":""},{"$f":"IF('Initial Observation'!H213=\"\",\"\",\"X\")","v":""}]
[{"$f":"'Initial Observation'!A214","v":"00:00:00"},{"$f":"IF('Initial Observation'!B214=\"\",\"\",'Initial Observation'!B214)","v":""},{"$f":"IF('Initial Observation'!H214=\"\",\"\",\"X\")","v":""}]
[{"$f":"'Initial Observation'!A215","v":"00:00:00"},{"$f":"IF('Initial Observation'!B215=\"\",\"\",'Initial Observation'!B215)","v":""},{"$f":"IF('Initial Observation'!H215=\"\",\"\",\"X\")","v":""}]
[{"$f":"'Initial Observation'!A216","v":"00:00:00"},{"$f":"IF('Initial Observation'!B216=\"\",\"\",'Initial Observation'!B216)","v":""},{"$f":"IF('Initial Observation'!H216=\"\",\"\",\"X\")","v":""}]
[{"$f":"'Initial Observation'!A217","v":"00:00:00"},{"$f":"IF('Initial Observation'!B217=\"\",\"\",'Initial Observation'!B217)","v":""},{"$f":"IF('Initial Observation'!H217=\"\",\"\",\"X\")","v":""}]
[{"$f":"'Initial Observation'!A218","v":"00:00:00"},{"$f":"IF('Initial Observation'!B218=\"\",\"\",'Initial Observation'!B218)","v":""},{"$f":"IF('Initial Observation'!H218=\"\",\"\",\"X\")","v":""}]
[{"$f":"'Initial Observation'!A219","v":"00:00:00"},{"$f":"IF('Initial Observation'!B219=\"\",\"\",'Initial Observation'!B219)","v":""},{"$f":"IF('Initial Observation'!H219=\"\",\"\",\"X\")","v":""}]
[{"$f":"'Initial Observation'!A220","v":"00:00:00"},{"$f":"IF('Initial Observation'!B220=\"\",\"\",'Initial Observation'!B220)","v":""},{"$f":"IF('Initial Observation'!H220=\"\",\"\",\"X\")","v":""}]
[{"$f":"'Initial Observation'!A221","v":"00:00:00"},{"$f":"IF('Initial Observation'!B221=\"\",\"\",'Initial Observation'!B221)","v":""},{"$f":"IF('Initial Observation'!H221=\"\",\"\",\"X\")","v":""}]
[{"$f":"'Initial Observation'!A222","v":"00:00:00"},{"$f":"IF('Initial Observation'!B222=\"\",\"\",'Initial Observation'!B222)","v":""},{"$f":"IF('Initial Observation'!H222=\"\",\"\",\"X\")","v":""}]
[{"$f":"'Initial Observation'!A223","v":"00:00:00"},{"$f":"IF('Initial Observation'!B223=\"\",\"\",'Initial Observation'!B223)","v":""},{"$f":"IF('Initial Observation'!H223=\"\",\"\",\"X\")","v":""}]
[{"$f":"'Initial Observation'!A224","v":"00:00:00"},{"$f":"IF('Initial Observation'!B224=\"\",\"\",'Initial Observation'!B224)","v":""},{"$f":"IF('Initial Observation'!H224=\"\",\"\",\"X\")","v":""}]
[{"$f":"'Initial Observation'!A225","v":"00:00:00"},{"$f":"IF('Initial Observation'!B225=\"\",\"\",'Initial Observation'!B225)","v":""},{"$f":"IF('Initial Observation'!H225=\"\",\"\",\"X\")","v":""}]
[{"$f":"'Initial Observation'!A226","v":"00:00:00"},{"$f":"IF('Initial Observation'!B226=\"\",\"\",'Initial Observation'!B226)","v":""},{"$f":"IF('Initial Observation'!H226=\"\",\"\",\"X\")","v":""}]
[{"$f":"'Initial Observation'!A227","v":"00:00:00"},{"$f":"IF('Initial Observation'!B227=\"\",\"\",'Initial Observation'!B227)","v":""},{"$f":"IF('Initial Observation'!H227=\"\",\"\",\"X\")","v":""}]
[{"$f":"'Initial Observation'!A228","v":"00:00:00"},{"$f":"IF('Initial Observation'!B228=\"\",\"\",'Initial Observation'!B228)","v":""},{"$f":"IF('Initial Observation'!H228=\"\",\"\",\"X\")","v":""}]
[{"$f":"'Initial Observation'!A229","v":"00:00:00"},{"$f":"IF('Initial Observation'!B229=\"\",\"\",'Initial Observation'!B229)","v":""},{"$f":"IF('Initial Observation'!H229=\"\",\"\",\"X\")","v":""}]
[{"$f":"'Initial Observation'!A230","v":"00:00:00"},{"$f":"IF('Initial Observation'!B230=\"\",\"\",'Initial Observation'!B230)","v":""},{"$f":"IF('Initial Observation'!H230=\"\",\"\",\"X\")","v":""}]
[{"$f":"'Initial Observation'!A231","v":"00:00:00"},{"$f":"IF('Initial Observation'!B231=\"\",\"\",'Initial Observation'!B231)","v":""},{"$f":"IF('Initial Observation'!H231=\"\",\"\",\"X\")","v":""}]
[{"$f":"'Initial Observation'!A232","v":"00:00:00"},{"$f":"IF('Initial Observation'!B232=\"\",\"\",'Initial Observation'!B232)","v":""},{"$f":"IF('Initial Observation'!H232=\"\",\"\",\"X\")","v":""}]
[{"$f":"'Initial Observation'!A233","v":"00:00:00"},{"$f":"IF('Initial Observation'!B233=\"\",\"\",'Initial Observation'!B233)","v":""},{"$f":"IF('Initial Observation'!H233=\"\",\"\",\"X\")","v":""}]
[{"$f":"'Initial Observation'!A234","v":"00:00:00"},{"$f":"IF('Initial Observation'!B234=\"\",\"\",'Initial Observation'!B234)","v":""},{"$f":"IF('Initial Observation'!H234=\"\",\"\",\"X\")","v":""}]
[{"$f":"'Initial Observation'!A235","v":"00:00:00"},{"$f":"IF('Initial Observation'!B235=\"\",\"\",'Initial Observation'!B235)","v":""},{"$f":"IF('Initial Observation'!H235=\"\",\"\",\"X\")","v":""}]
[{"$f":"'Initial Observation'!A236","v":"00:00:00"},{"$f":"IF('Initial Observation'!B236=\"\",\"\",'Initial Observation'!B236)","v":""},{"$f":"IF('Initial Observation'!H236=\"\",\"\",\"X\")","v":""}]
[{"$f":"'Initial Observation'!A237","v":"00:00:00"},{"$f":"IF('Initial Observation'!B237=\"\",\"\",'Initial Observation'!B237)","v":""},{"$f":"IF('Initial Observation'!H237=\"\",\"\",\"X\")","v":""}]
[{"$f":"'Initial Observation'!A238","v":"00:00:00"},{"$f":"IF('Initial Observation'!B238=\"\",\"\",'Initial Observation'!B238)","v":""},{"$f":"IF('Initial Observation'!H238=\"\",\"\",\"X\")","v":""}]
[{"$f":"'Initial Observation'!A239","v":"00:00:00"},{"$f":"IF('Initial Observation'!B239=\"\",\"\",'Initial Observation'!B239)","v":""},{"$f":"IF('Initial Observation'!H239=\"\",\"\",\"X\")","v":""}]
[{"$f":"'Initial Observation'!A240","v":"00:00:00"},{"$f":"IF('Initial Observation'!B240=\"\",\"\",'Initial Observation'!B240)","v":""},{"$f":"IF('Initial Observation'!H240=\"\",\"\",\"X\")","v":""}]
[{"$f":"'Initial Observation'!A241","v":"00:00:00"},{"$f":"IF('Initial Observation'!B241=\"\",\"\",'Initial Observation'!B241)","v":""},{"$f":"IF('Initial Observation'!H241=\"\",\"\",\"X\")","v":""}]
[{"$f":"'Initial Observation'!A242","v":"00:00:00"},{"$f":"IF('Initial Observation'!B242=\"\",\"\",'Initial Observation'!B242)","v":""},{"$f":"IF('Initial Observation'!H242=\"\",\"\",\"X\")","v":""}]
[{"$f":"'Initial Observation'!A243","v":"00:00:00"},{"$f":"IF('Initial Observation'!B243=\"\",\"\",'Initial Observation'!B243)","v":""},{"$f":"IF('Initial Observation'!H243=\"\",\"\",\"X\")","v":""}]
[{"$f":"'Initial Observation'!A244","v":"00:00:00"},{"$f":"IF('Initial Observation'!B244=\"\",\"\",'Initial Observation'!B244)","v":""},{"$f":"IF('Initial Observation'!H244=\"\",\"\",\"X\")","v":""}]
[{"$f":"'Initial Observation'!A245","v":"00:00:00"},{"$f":"IF('Initial Observation'!B245=\"\",\"\",'Initial Observation'!B245)","v":""},{"$f":"IF('Initial Observation'!H245=\"\",\"\",\"X\")","v":""}]
[{"$f":"'Initial Observation'!A246","v":"00:00:00"},{"$f":"IF('Initial Observation'!B246=\"\",\"\",'Initial Observation'!B246)","v":""},{"$f":"IF('Initial Observation'!H246=\"\",\"\",\"X\")","v":""}]
[{"$f":"'Initial Observation'!A247","v":"00:00:00"},{"$f":"IF('Initial Observation'!B247=\"\",\"\",'Initial Observation'!B247)","v":""},{"$f":"IF('Initial Observation'!H247=\"\",\"\",\"X\")","v":""}]
[{"$f":"'Initial Observation'!A248","v":"00:00:00"},{"$f":"IF('Initial Observation'!B248=\"\",\"\",'Initial Observation'!B248)","v":""},{"$f":"IF('Initial Observation'!H248=\"\",\"\",\"X\")","v":""}]
[{"$f":"'Initial Observation'!A249","v":"00:00:00"},{"$f":"IF('Initial Observation'!B249=\"\",\"\",'Initial Observation'!B249)","v":""},{"$f":"IF('Initial Observation'!H249=\"\",\"\",\"X\")","v":""}]
[{"$f":"'Initial Observation'!A250","v":"00:00:00"},{"$f":"IF('Initial Observation'!B250=\"\",\"\",'Initial Observation'!B250)","v":""},{"$f":"IF('Initial Observation'!H250=\"\",\"\",\"X\")","v":""}]
[{"$f":"'Initial Observation'!A251","v":"00:00:00"},{"$f":"IF('Initial Observation'!B251=\"\",\"\",'Initial Observation'!B251)","v":""},{"$f":"IF('Initial Observation'!H251=\"\",\"\",\"X\")","v":""}]
[{"$f":"'Initial Observation'!A252","v":"00:00:00"},{"$f":"IF('Initial Observation'!B252=\"\",\"\",'Initial Observation'!B252)","v":""},{"$f":"IF('Initial Observation'!H252=\"\",\"\",\"X\")","v":""}]
[{"$f":"'Initial Observation'!A253","v":"00:00:00"},{"$f":"IF('Initial Observation'!B253=\"\",\"\",'Initial Observation'!B253)","v":""},{"$f":"IF('Initial Observation'!H253=\"\",\"\",\"X\")","v":""}]
[{"$f":"'Initial Observation'!A254","v":"00:00:00"},{"$f":"IF('Initial Observation'!B254=\"\",\"\",'Initial Observation'!B254)","v":""},{"$f":"IF('Initial Observation'!H254=\"\",\"\",\"X\")","v":""}]
[{"$f":"'Initial Observation'!A255","v":"00:00:00"},{"$f":"IF('Initial Observation'!B255=\"\",\"\",'Initial Observation'!B255)","v":""},{"$f":"IF('Initial Observation'!H255=\"\",\"\",\"X\")","v":""}]
[{"$f":"'Initial Observation'!A256","v":"00:00:00"},{"$f":"IF('Initial Observation'!B256=\"\",\"\",'Initial Observation'!B256)","v":""},{"$f":"IF('Initial Observation'!H256=\"\",\"\",\"X\")","v":""}]
[{"$f":"'Initial Observation'!A257","v":"00:00:00"},{"$f":"IF('Initial Observation'!B257=\"\",\"\",'Initial Observation'!B257)","v":""},{"$f":"IF('Initial Observation'!H257=\"\",\"\",\"X\")","v":""}]
[{"$f":"'Initial Observation'!A258","v":"00:00:00"},{"$f":"IF('Initial Observation'!B258=\"\",\"\",'Initial Observation'!B258)","v":""},{"$f":"IF('Initial Observation'!H258=\"\",\"\",\"X\")","v":""}]
[{"$f":"'Initial Observation'!A259","v":"00:00:00"},{"$f":"IF('Initial Observation'!B259=\"\",\"\",'Initial Observation'!B259)","v":""},{"$f":"IF('Initial Observation'!H259=\"\",\"\",\"X\")","v":""}]
[{"$f":"'Initial Observation'!A260","v":"00:00:00"},{"$f":"IF('Initial Observation'!B260=\"\",\"\",'Initial Observation'!B260)","v":""},{"$f":"IF('Initial Observation'!H260=\"\",\"\",\"X\")","v":""}]
[{"$f":"'Initial Observation'!A261","v":"00:00:00"},{"$f":"IF('Initial Observation'!B261=\"\",\"\",'Initial Observation'!B261)","v":""},{"$f":"IF('Initial Observation'!H261=\"\",\"\",\"X\")","v":""}]
[{"$f":"'Initial Observation'!A262","v":"00:00:00"},{"$f":"IF('Initial Observation'!B262=\"\",\"\",'Initial Observation'!B262)","v":""},{"$f":"IF('Initial Observation'!H262=\"\",\"\",\"X\")","v":""}]
[{"$f":"'Initial Observation'!A263","v":"00:00:00"},{"$f":"IF('Initial Observation'!B263=\"\",\"\",'Initial Observation'!B263)","v":""},{"$f":"IF('Initial Observation'!H263=\"\",\"\",\"X\")","v":""}]
[{"$f":"'Initial Observation'!A264","v":"00:00:00"},{"$f":"IF('Initial Observation'!B264=\"\",\"\",'Initial Observation'!B264)","v":""},{"$f":"IF('Initial Observation'!H264=\"\",\"\",\"X\")","v":""}]
[{"$f":"'Initial Observation'!A265","v":"00:00:00"},{"$f":"IF('Initial Observation'!B265=\"\",\"\",'Initial Observation'!B265)","v":""},{"$f":"IF('Initial Observation'!H265=\"\",\"\",\"X\")","v":""}]
[{"$f":"'Initial Observation'!A266","v":"00:00:00"},{"$f":"IF('Initial Observation'!B266=\"\",\"\",'Initial Observation'!B266)","v":""},{"$f":"IF('Initial Observation'!H266=\"\",\"\",\"X\")","v":""}]
[{"$f":"'Initial Observation'!A267","v":"00:00:00"},{"$f":"IF('Initial Observation'!B267=\"\",\"\",'Initial Observation'!B267)","v":""},{"$f":"IF('Initial Observation'!H267=\"\",\"\",\"X\")","v":""}]
[{"$f":"'Initial Observation'!A268","v":"00:00:00"},{"$f":"IF('Initial Observation'!B268=\"\",\"\",'Initial Observation'!B268)","v":""},{"$f":"IF('Initial Observation'!H268=\"\",\"\",\"X\")","v":""}]
[{"$f":"'Initial Observation'!A269","v":"00:00:00"},{"$f":"IF('Initial Observation'!B269=\"\",\"\",'Initial Observation'!B269)","v":""},{"$f":"IF('Initial Observation'!H269=\"\",\"\",\"X\")","v":""}]
[{"$f":"'Initial Observation'!A270","v":"00:00:00"},{"$f":"IF('Initial Observation'!B270=\"\",\"\",'Initial Observation'!B270)","v":""},{"$f":"IF('Initial Observation'!H270=\"\",\"\",\"X\")","v":""}]

{"sheet":"3B","index":7,"n_rows":270,"n_cols":3,"rows_kept":270,"cut":false,"hidden":false,"merged":[[0,2,3,2]]}
[null,{"$f":"'Initial Observation'!B1","v":"Teacher Name:"},"3B Questioning/Research Tech."]
[null,{"$f":"'Initial Observation'!B2","v":"Date:"}]
[null,{"$f":"'Initial Observation'!B3","v":"Number of Students:"}]
[null,"Evidence"]
[{"$f":"'Initial Observation'!A5","v":"00:00:00"},{"$f":"IF('Initial Observation'!B5=\"\",\"\",'Initial Observation'!B5)","v":""},{"$f":"IF('Initial Observation'!I5=\"\",\"\",\"X\")","v":""}]
[{"$f":"'Initial Observation'!A6","v":"00:00:00"},{"$f":"IF('Initial Observation'!B6=\"\",\"\",'Initial Observation'!B6)","v":""},{"$f":"IF('Initial Observation'!I6=\"\",\"\",\"X\")","v":""}]
[{"$f":"'Initial Observation'!A7","v":"00:00:00"},{"$f":"IF('Initial Observation'!B7=\"\",\"\",'Initial Observation'!B7)","v":""},{"$f":"IF('Initial Observation'!I7=\"\",\"\",\"X\")","v":""}]
[{"$f":"'Initial Observation'!A8","v":"00:00:00"},{"$f":"IF('Initial Observation'!B8=\"\",\"\",'Initial Observation'!B8)","v":""},{"$f":"IF('Initial Observation'!I8=\"\",\"\",\"X\")","v":""}]
[{"$f":"'Initial Observation'!A9","v":"00:00:00"},{"$f":"IF('Initial Observation'!B9=\"\",\"\",'Initial Observation'!B9)","v":""},{"$f":"IF('Initial Observation'!I9=\"\",\"\",\"X\")","v":""}]
[{"$f":"'Initial Observation'!A10","v":"00:00:00"},{"$f":"IF('Initial Observation'!B10=\"\",\"\",'Initial Observation'!B10)","v":""},{"$f":"IF('Initial Observation'!I10=\"\",\"\",\"X\")","v":""}]
[{"$f":"'Initial Observation'!A11","v":"00:00:00"},{"$f":"IF('Initial Observation'!B11=\"\",\"\",'Initial Observation'!B11)","v":""},{"$f":"IF('Initial Observation'!I11=\"\",\"\",\"X\")","v":""}]
[{"$f":"'Initial Observation'!A12","v":"00:00:00"},{"$f":"IF('Initial Observation'!B12=\"\",\"\",'Initial Observation'!B12)","v":""},{"$f":"IF('Initial Observation'!I12=\"\",\"\",\"X\")","v":""}]
[{"$f":"'Initial Observation'!A13","v":"00:00:00"},{"$f":"IF('Initial Observation'!B13=\"\",\"\",'Initial Observation'!B13)","v":""},{"$f":"IF('Initial Observation'!I13=\"\",\"\",\"X\")","v":""}]
[{"$f":"'Initial Observation'!A14","v":"00:00:00"},{"$f":"IF('Initial Observation'!B14=\"\",\"\",'Initial Observation'!B14)","v":""},{"$f":"IF('Initial Observation'!I14=\"\",\"\",\"X\")","v":""}]
[{"$f":"'Initial Observation'!A15","v":"00:00:00"},{"$f":"IF('Initial Observation'!B15=\"\",\"\",'Initial Observation'!B15)","v":""},{"$f":"IF('Initial Observation'!I15=\"\",\"\",\"X\")","v":""}]
[{"$f":"'Initial Observation'!A16","v":"00:00:00"},{"$f":"IF('Initial Observation'!B16=\"\",\"\",'Initial Observation'!B16)","v":""},{"$f":"IF('Initial Observation'!I16=\"\",\"\",\"X\")","v":""}]
[{"$f":"'Initial Observation'!A17","v":"00:00:00"},{"$f":"IF('Initial Observation'!B17=\"\",\"\",'Initial Observation'!B17)","v":""},{"$f":"IF('Initial Observation'!I17=\"\",\"\",\"X\")","v":""}]
[{"$f":"'Initial Observation'!A18","v":"00:00:00"},{"$f":"IF('Initial Observation'!B18=\"\",\"\",'Initial Observation'!B18)","v":""},{"$f":"IF('Initial Observation'!I18=\"\",\"\",\"X\")","v":""}]
[{"$f":"'Initial Observation'!A19","v":"00:00:00"},{"$f":"IF('Initial Observation'!B19=\"\",\"\",'Initial Observation'!B19)","v":""},{"$f":"IF('Initial Observation'!I19=\"\",\"\",\"X\")","v":""}]
[{"$f":"'Initial Observation'!A20","v":"00:00:00"},{"$f":"IF('Initial Observation'!B20=\"\",\"\",'Initial Observation'!B20)","v":""},{"$f":"IF('Initial Observation'!I20=\"\",\"\",\"X\")","v":""}]
[{"$f":"'Initial Observation'!A21","v":"00:00:00"},{"$f":"IF('Initial Observation'!B21=\"\",\"\",'Initial Observation'!B21)","v":""},{"$f":"IF('Initial Observation'!I21=\"\",\"\",\"X\")","v":""}]
[{"$f":"'Initial Observation'!A22","v":"00:00:00"},{"$f":"IF('Initial Observation'!B22=\"\",\"\",'Initial Observation'!B22)","v":""},{"$f":"IF('Initial Observation'!I22=\"\",\"\",\"X\")","v":""}]
[{"$f":"'Initial Observation'!A23","v":"00:00:00"},{"$f":"IF('Initial Observation'!B23=\"\",\"\",'Initial Observation'!B23)","v":""},{"$f":"IF('Initial Observation'!I23=\"\",\"\",\"X\")","v":""}]
[{"$f":"'Initial Observation'!A24","v":"00:00:00"},{"$f":"IF('Initial Observation'!B24=\"\",\"\",'Initial Observation'!B24)","v":""},{"$f":"IF('Initial Observation'!I24=\"\",\"\",\"X\")","v":""}]
[{"$f":"'Initial Observation'!A25","v":"00:00:00"},{"$f":"IF('Initial Observation'!B25=\"\",\"\",'Initial Observation'!B25)","v":""},{"$f":"IF('Initial Observation'!I25=\"\",\"\",\"X\")","v":""}]
[{"$f":"'Initial Observation'!A26","v":"00:00:00"},{"$f":"IF('Initial Observation'!B26=\"\",\"\",'Initial Observation'!B26)","v":""},{"$f":"IF('Initial Observation'!I26=\"\",\"\",\"X\")","v":""}]
[{"$f":"'Initial Observation'!A27","v":"00:00:00"},{"$f":"IF('Initial Observation'!B27=\"\",\"\",'Initial Observation'!B27)","v":""},{"$f":"IF('Initial Observation'!I27=\"\",\"\",\"X\")","v":""}]
[{"$f":"'Initial Observation'!A28","v":"00:00:00"},{"$f":"IF('Initial Observation'!B28=\"\",\"\",'Initial Observation'!B28)","v":""},{"$f":"IF('Initial Observation'!I28=\"\",\"\",\"X\")","v":""}]
[{"$f":"'Initial Observation'!A29","v":"00:00:00"},{"$f":"IF('Initial Observation'!B29=\"\",\"\",'Initial Observation'!B29)","v":""},{"$f":"IF('Initial Observation'!I29=\"\",\"\",\"X\")","v":""}]
[{"$f":"'Initial Observation'!A30","v":"00:00:00"},{"$f":"IF('Initial Observation'!B30=\"\",\"\",'Initial Observation'!B30)","v":""},{"$f":"IF('Initial Observation'!I30=\"\",\"\",\"X\")","v":""}]
[{"$f":"'Initial Observation'!A31","v":"00:00:00"},{"$f":"IF('Initial Observation'!B31=\"\",\"\",'Initial Observation'!B31)","v":""},{"$f":"IF('Initial Observation'!I31=\"\",\"\",\"X\")","v":""}]
[{"$f":"'Initial Observation'!A32","v":"00:00:00"},{"$f":"IF('Initial Observation'!B32=\"\",\"\",'Initial Observation'!B32)","v":""},{"$f":"IF('Initial Observation'!I32=\"\",\"\",\"X\")","v":""}]
[{"$f":"'Initial Observation'!A33","v":"00:00:00"},{"$f":"IF('Initial Observation'!B33=\"\",\"\",'Initial Observation'!B33)","v":""},{"$f":"IF('Initial Observation'!I33=\"\",\"\",\"X\")","v":""}]
[{"$f":"'Initial Observation'!A34","v":"00:00:00"},{"$f":"IF('Initial Observation'!B34=\"\",\"\",'Initial Observation'!B34)","v":""},{"$f":"IF('Initial Observation'!I34=\"\",\"\",\"X\")","v":""}]
[{"$f":"'Initial Observation'!A35","v":"00:00:00"},{"$f":"IF('Initial Observation'!B35=\"\",\"\",'Initial Observation'!B35)","v":""},{"$f":"IF('Initial Observation'!I35=\"\",\"\",\"X\")","v":""}]
[{"$f":"'Initial Observation'!A36","v":"00:00:00"},{"$f":"IF('Initial Observation'!B36=\"\",\"\",'Initial Observation'!B36)","v":""},{"$f":"IF('Initial Observation'!I36=\"\",\"\",\"X\")","v":""}]
[{"$f":"'Initial Observation'!A37","v":"00:00:00"},{"$f":"IF('Initial Observation'!B37=\"\",\"\",'Initial Observation'!B37)","v":""},{"$f":"IF('Initial Observation'!I37=\"\",\"\",\"X\")","v":""}]
[{"$f":"'Initial Observation'!A38","v":"00:00:00"},{"$f":"IF('Initial Observation'!B38=\"\",\"\",'Initial Observation'!B38)","v":""},{"$f":"IF('Initial Observation'!I38=\"\",\"\",\"X\")","v":""}]
[{"$f":"'Initial Observation'!A39","v":"00:00:00"},{"$f":"IF('Initial Observation'!B39=\"\",\"\",'Initial Observation'!B39)","v":""},{"$f":"IF('Initial Observation'!I39=\"\",\"\",\"X\")","v":""}]
[{"$f":"'Initial Observation'!A40","v":"00:00:00"},{"$f":"IF('Initial Observation'!B40=\"\",\"\",'Initial Observation'!B40)","v":""},{"$f":"IF('Initial Observation'!I40=\"\",\"\",\"X\")","v":""}]
[{"$f":"'Initial Observation'!A41","v":"00:00:00"},{"$f":"IF('Initial Observation'!B41=\"\",\"\",'Initial Observation'!B41)","v":""},{"$f":"IF('Initial Observation'!I41=\"\",\"\",\"X\")","v":""}]
[{"$f":"'Initial Observation'!A42","v":"00:00:00"},{"$f":"IF('Initial Observation'!B42=\"\",\"\",'Initial Observation'!B42)","v":""},{"$f":"IF('Initial Observation'!I42=\"\",\"\",\"X\")","v":""}]
[{"$f":"'Initial Observation'!A43","v":"00:00:00"},{"$f":"IF('Initial Observation'!B43=\"\",\"\",'Initial Observation'!B43)","v":""},{"$f":"IF('Initial Observation'!I43=\"\",\"\",\"X\")","v":""}]
[{"$f":"'Initial Observation'!A44","v":"00:00:00"},{"$f":"IF('Initial Observation'!B44=\"\",\"\",'Initial Observation'!B44)","v":""},{"$f":"IF('Initial Observation'!I44=\"\",\"\",\"X\")","v":""}]
[{"$f":"'Initial Observation'!A45","v":"00:00:00"},{"$f":"IF('Initial Observation'!B45=\"\",\"\",'Initial Observation'!B45)","v":""},{"$f":"IF('Initial Observation'!I45=\"\",\"\",\"X\")","v":""}]
[{"$f":"'Initial Observation'!A46","v":"00:00:00"},{"$f":"IF('Initial Observation'!B46=\"\",\"\",'Initial Observation'!B46)","v":""},{"$f":"IF('Initial Observation'!I46=\"\",\"\",\"X\")","v":""}]
[{"$f":"'Initial Observation'!A47","v":"00:00:00"},{"$f":"IF('Initial Observation'!B47=\"\",\"\",'Initial Observation'!B47)","v":""},{"$f":"IF('Initial Observation'!I47=\"\",\"\",\"X\")","v":""}]
[{"$f":"'Initial Observation'!A48","v":"00:00:00"},{"$f":"IF('Initial Observation'!B48=\"\",\"\",'Initial Observation'!B48)","v":""},{"$f":"IF('Initial Observation'!I48=\"\",\"\",\"X\")","v":""}]
[{"$f":"'Initial Observation'!A49","v":"00:00:00"},{"$f":"IF('Initial Observation'!B49=\"\",\"\",'Initial Observation'!B49)","v":""},{"$f":"IF('Initial Observation'!I49=\"\",\"\",\"X\")","v":""}]
[{"$f":"'Initial Observation'!A50","v":"00:00:00"},{"$f":"IF('Initial Observation'!B50=\"\",\"\",'Initial Observation'!B50)","v":""},{"$f":"IF('Initial Observation'!I50=\"\",\"\",\"X\")","v":""}]
[{"$f":"'Initial Observation'!A51","v":"00:00:00"},{"$f":"IF('Initial Observation'!B51=\"\",\"\",'Initial Observation'!B51)","v":""},{"$f":"IF('Initial Observation'!I51=\"\",\"\",\"X\")","v":""}]
[{"$f":"'Initial Observation'!A52","v":"00:00:00"},{"$f":"IF('Initial Observation'!B52=\"\",\"\",'Initial Observation'!B52)","v":""},{"$f":"IF('Initial Observation'!I52=\"\",\"\",\"X\")","v":""}]
[{"$f":"'Initial Observation'!A53","v":"00:00:00"},{"$f":"IF('Initial Observation'!B53=\"\",\"\",'Initial Observation'!B53)","v":""},{"$f":"IF('Initial Observation'!I53=\"\",\"\",\"X\")","v":""}]
[{"$f":"'Initial Observation'!A54","v":"00:00:00"},{"$f":"IF('Initial Observation'!B54=\"\",\"\",'Initial Observation'!B54)","v":""},{"$f":"IF('Initial Observation'!I54=\"\",\"\",\"X\")","v":""}]
[{"$f":"'Initial Observation'!A55","v":"00:00:00"},{"$f":"IF('Initial Observation'!B55=\"\",\"\",'Initial Observation'!B55)","v":""},{"$f":"IF('Initial Observation'!I55=\"\",\"\",\"X\")","v":""}]
[{"$f":"'Initial Observation'!A56","v":"00:00:00"},{"$f":"IF('Initial Observation'!B56=\"\",\"\",'Initial Observation'!B56)","v":""},{"$f":"IF('Initial Observation'!I56=\"\",\"\",\"X\")","v":""}]
[{"$f":"'Initial Observation'!A57","v":"00:00:00"},{"$f":"IF('Initial Observation'!B57=\"\",\"\",'Initial Observation'!B57)","v":""},{"$f":"IF('Initial Observation'!I57=\"\",\"\",\"X\")","v":""}]
[{"$f":"'Initial Observation'!A58","v":"00:00:00"},{"$f":"IF('Initial Observation'!B58=\"\",\"\",'Initial Observation'!B58)","v":""},{"$f":"IF('Initial Observation'!I58=\"\",\"\",\"X\")","v":""}]
[{"$f":"'Initial Observation'!A59","v":"00:00:00"},{"$f":"IF('Initial Observation'!B59=\"\",\"\",'Initial Observation'!B59)","v":""},{"$f":"IF('Initial Observation'!I59=\"\",\"\",\"X\")","v":""}]
[{"$f":"'Initial Observation'!A60","v":"00:00:00"},{"$f":"IF('Initial Observation'!B60=\"\",\"\",'Initial Observation'!B60)","v":""},{"$f":"IF('Initial Observation'!I60=\"\",\"\",\"X\")","v":""}]
[{"$f":"'Initial Observation'!A61","v":"00:00:00"},{"$f":"IF('Initial Observation'!B61=\"\",\"\",'Initial Observation'!B61)","v":""},{"$f":"IF('Initial Observation'!I61=\"\",\"\",\"X\")","v":""}]
[{"$f":"'Initial Observation'!A62","v":"00:00:00"},{"$f":"IF('Initial Observation'!B62=\"\",\"\",'Initial Observation'!B62)","v":""},{"$f":"IF('Initial Observation'!I62=\"\",\"\",\"X\")","v":""}]
[{"$f":"'Initial Observation'!A63","v":"00:00:00"},{"$f":"IF('Initial Observation'!B63=\"\",\"\",'Initial Observation'!B63)","v":""},{"$f":"IF('Initial Observation'!I63=\"\",\"\",\"X\")","v":""}]
[{"$f":"'Initial Observation'!A64","v":"00:00:00"},{"$f":"IF('Initial Observation'!B64=\"\",\"\",'Initial Observation'!B64)","v":""},{"$f":"IF('Initial Observation'!I64=\"\",\"\",\"X\")","v":""}]
[{"$f":"'Initial Observation'!A65","v":"00:00:00"},{"$f":"IF('Initial Observation'!B65=\"\",\"\",'Initial Observation'!B65)","v":""},{"$f":"IF('Initial Observation'!I65=\"\",\"\",\"X\")","v":""}]
[{"$f":"'Initial Observation'!A66","v":"00:00:00"},{"$f":"IF('Initial Observation'!B66=\"\",\"\",'Initial Observation'!B66)","v":""},{"$f":"IF('Initial Observation'!I66=\"\",\"\",\"X\")","v":""}]
[{"$f":"'Initial Observation'!A67","v":"00:00:00"},{"$f":"IF('Initial Observation'!B67=\"\",\"\",'Initial Observation'!B67)","v":""},{"$f":"IF('Initial Observation'!I67=\"\",\"\",\"X\")","v":""}]
[{"$f":"'Initial Observation'!A68","v":"00:00:00"},{"$f":"IF('Initial Observation'!B68=\"\",\"\",'Initial Observation'!B68)","v":""},{"$f":"IF('Initial Observation'!I68=\"\",\"\",\"X\")","v":""}]
[{"$f":"'Initial Observation'!A69","v":"00:00:00"},{"$f":"IF('Initial Observation'!B69=\"\",\"\",'Initial Observation'!B69)","v":""},{"$f":"IF('Initial Observation'!I69=\"\",\"\",\"X\")","v":""}]
[{"$f":"'Initial Observation'!A70","v":"00:00:00"},{"$f":"IF('Initial Observation'!B70=\"\",\"\",'Initial Observation'!B70)","v":""},{"$f":"IF('Initial Observation'!I70=\"\",\"\",\"X\")","v":""}]
[{"$f":"'Initial Observation'!A71","v":"00:00:00"},{"$f":"IF('Initial Observation'!B71=\"\",\"\",'Initial Observation'!B71)","v":""},{"$f":"IF('Initial Observation'!I71=\"\",\"\",\"X\")","v":""}]
[{"$f":"'Initial Observation'!A72","v":"00:00:00"},{"$f":"IF('Initial Observation'!B72=\"\",\"\",'Initial Observation'!B72)","v":""},{"$f":"IF('Initial Observation'!I72=\"\",\"\",\"X\")","v":""}]
[{"$f":"'Initial Observation'!A73","v":"00:00:00"},{"$f":"IF('Initial Observation'!B73=\"\",\"\",'Initial Observation'!B73)","v":""},{"$f":"IF('Initial Observation'!I73=\"\",\"\",\"X\")","v":""}]
[{"$f":"'Initial Observation'!A74","v":"00:00:00"},{"$f":"IF('Initial Observation'!B74=\"\",\"\",'Initial Observation'!B74)","v":""},{"$f":"IF('Initial Observation'!I74=\"\",\"\",\"X\")","v":""}]
[{"$f":"'Initial Observation'!A75","v":"00:00:00"},{"$f":"IF('Initial Observation'!B75=\"\",\"\",'Initial Observation'!B75)","v":""},{"$f":"IF('Initial Observation'!I75=\"\",\"\",\"X\")","v":""}]
[{"$f":"'Initial Observation'!A76","v":"00:00:00"},{"$f":"IF('Initial Observation'!B76=\"\",\"\",'Initial Observation'!B76)","v":""},{"$f":"IF('Initial Observation'!I76=\"\",\"\",\"X\")","v":""}]
[{"$f":"'Initial Observation'!A77","v":"00:00:00"},{"$f":"IF('Initial Observation'!B77=\"\",\"\",'Initial Observation'!B77)","v":""},{"$f":"IF('Initial Observation'!I77=\"\",\"\",\"X\")","v":""}]
[{"$f":"'Initial Observation'!A78","v":"00:00:00"},{"$f":"IF('Initial Observation'!B78=\"\",\"\",'Initial Observation'!B78)","v":""},{"$f":"IF('Initial Observation'!I78=\"\",\"\",\"X\")","v":""}]
[{"$f":"'Initial Observation'!A79","v":"00:00:00"},{"$f":"IF('Initial Observation'!B79=\"\",\"\",'Initial Observation'!B79)","v":""},{"$f":"IF('Initial Observation'!I79=\"\",\"\",\"X\")","v":""}]
[{"$f":"'Initial Observation'!A80","v":"00:00:00"},{"$f":"IF('Initial Observation'!B80=\"\",\"\",'Initial Observation'!B80)","v":""},{"$f":"IF('Initial Observation'!I80=\"\",\"\",\"X\")","v":""}]
[{"$f":"'Initial Observation'!A81","v":"00:00:00"},{"$f":"IF('Initial Observation'!B81=\"\",\"\",'Initial Observation'!B81)","v":""},{"$f":"IF('Initial Observation'!I81=\"\",\"\",\"X\")","v":""}]
[{"$f":"'Initial Observation'!A82","v":"00:00:00"},{"$f":"IF('Initial Observation'!B82=\"\",\"\",'Initial Observation'!B82)","v":""},{"$f":"IF('Initial Observation'!I82=\"\",\"\",\"X\")","v":""}]
[{"$f":"'Initial Observation'!A83","v":"00:00:00"},{"$f":"IF('Initial Observation'!B83=\"\",\"\",'Initial Observation'!B83)","v":""},{"$f":"IF('Initial Observation'!I83=\"\",\"\",\"X\")","v":""}]
[{"$f":"'Initial Observation'!A84","v":"00:00:00"},{"$f":"IF('Initial Observation'!B84=\"\",\"\",'Initial Observation'!B84)","v":""},{"$f":"IF('Initial Observation'!I84=\"\",\"\",\"X\")","v":""}]
[{"$f":"'Initial Observation'!A85","v":"00:00:00"},{"$f":"IF('Initial Observation'!B85=\"\",\"\",'Initial Observation'!B85)","v":""},{"$f":"IF('Initial Observation'!I85=\"\",\"\",\"X\")","v":""}]
[{"$f":"'Initial Observation'!A86","v":"00:00:00"},{"$f":"IF('Initial Observation'!B86=\"\",\"\",'Initial Observation'!B86)","v":""},{"$f":"IF('Initial Observation'!I86=\"\",\"\",\"X\")","v":""}]
[{"$f":"'Initial Observation'!A87","v":"00:00:00"},{"$f":"IF('Initial Observation'!B87=\"\",\"\",'Initial Observation'!B87)","v":""},{"$f":"IF('Initial Observation'!I87=\"\",\"\",\"X\")","v":""}]
[{"$f":"'Initial Observation'!A88","v":"00:00:00"},{"$f":"IF('Initial Observation'!B88=\"\",\"\",'Initial Observation'!B88)","v":""},{"$f":"IF('Initial Observation'!I88=\"\",\"\",\"X\")","v":""}]
[{"$f":"'Initial Observation'!A89","v":"00:00:00"},{"$f":"IF('Initial Observation'!B89=\"\",\"\",'Initial Observation'!B89)","v":""},{"$f":"IF('Initial Observation'!I89=\"\",\"\",\"X\")","v":""}]
[{"$f":"'Initial Observation'!A90","v":"00:00:00"},{"$f":"IF('Initial Observation'!B90=\"\",\"\",'Initial Observation'!B90)","v":""},{"$f":"IF('Initial Observation'!I90=\"\",\"\",\"X\")","v":""}]
[{"$f":"'Initial Observation'!A91","v":"00:00:00"},{"$f":"IF('Initial Observation'!B91=\"\",\"\",'Initial Observation'!B91)","v":""},{"$f":"IF('Initial Observation'!I91=\"\",\"\",\"X\")","v":""}]
[{"$f":"'Initial Observation'!A92","v":"00:00:00"},{"$f":"IF('Initial Observation'!B92=\"\",\"\",'Initial Observation'!B92)","v":""},{"$f":"IF('Initial Observation'!I92=\"\",\"\",\"X\")","v":""}]
[{"$f":"'Initial Observation'!A93","v":"00:00:00"},{"$f":"IF('Initial Observation'!B93=\"\",\"\",'Initial Observation'!B93)","v":""},{"$f":"IF('Initial Observation'!I93=\"\",\"\",\"X\")","v":""}]
[{"$f":"'Initial Observation'!A94","v":"00:00:00"},{"$f":"IF('Initial Observation'!B94=\"\",\"\",'Initial Observation'!B94)","v":""},{"$f":"IF('Initial Observation'!I94=\"\",\"\",\"X\")","v":""}]
[{"$f":"'Initial Observation'!A95","v":"00:00:00"},{"$f":"IF('Initial Observation'!B95=\"\",\"\",'Initial Observation'!B95)","v":""},{"$f":"IF('Initial Observation'!I95=\"\",\"\",\"X\")","v":""}]
[{"$f":"'Initial Observation'!A96","v":"00:00:00"},{"$f":"IF('Initial Observation'!B96=\"\",\"\",'Initial Observation'!B96)","v":""},{"$f":"IF('Initial Observation'!I96=\"\",\"\",\"X\")","v":""}]
[{"$f":"'Initial Observation'!A97","v":"00:00:00"},{"$f":"IF('Initial Observation'!B97=\"\",\"\",'Initial Observation'!B97)","v":""},{"$f":"IF('Initial Observation'!I97=\"\",\"\",\"X\")","v":""}]
[{"$f":"'Initial Observation'!A98","v":"00:00:00"},{"$f":"IF('Initial Observation'!B98=\"\",\"\",'Initial Observation'!B98)","v":""},{"$f":"IF('Initial Observation'!I98=\"\",\"\",\"X\")","v":""}]
[{"$f":"'Initial Observation'!A99","v":"00:00:00"},{"$f":"IF('Initial Observation'!B99=\"\",\"\",'Initial Observation'!B99)","v":""},{"$f":"IF('Initial Observation'!I99=\"\",\"\",\"X\")","v":""}]
[{"$f":"'Initial Observation'!A100","v":"00:00:00"},{"$f":"IF('Initial Observation'!B100=\"\",\"\",'Initial Observation'!B100)","v":""},{"$f":"IF('Initial Observation'!I100=\"\",\"\",\"X\")","v":""}]
[{"$f":"'Initial Observation'!A101","v":"00:00:00"},{"$f":"IF('Initial Observation'!B101=\"\",\"\",'Initial Observation'!B101)","v":""},{"$f":"IF('Initial Observation'!I101=\"\",\"\",\"X\")","v":""}]
[{"$f":"'Initial Observation'!A102","v":"00:00:00"},{"$f":"IF('Initial Observation'!B102=\"\",\"\",'Initial Observation'!B102)","v":""},{"$f":"IF('Initial Observation'!I102=\"\",\"\",\"X\")","v":""}]
[{"$f":"'Initial Observation'!A103","v":"00:00:00"},{"$f":"IF('Initial Observation'!B103=\"\",\"\",'Initial Observation'!B103)","v":""},{"$f":"IF('Initial Observation'!I103=\"\",\"\",\"X\")","v":""}]
[{"$f":"'Initial Observation'!A104","v":"00:00:00"},{"$f":"IF('Initial Observation'!B104=\"\",\"\",'Initial Observation'!B104)","v":""},{"$f":"IF('Initial Observation'!I104=\"\",\"\",\"X\")","v":""}]
[{"$f":"'Initial Observation'!A105","v":"00:00:00"},{"$f":"IF('Initial Observation'!B105=\"\",\"\",'Initial Observation'!B105)","v":""},{"$f":"IF('Initial Observation'!I105=\"\",\"\",\"X\")","v":""}]
[{"$f":"'Initial Observation'!A106","v":"00:00:00"},{"$f":"IF('Initial Observation'!B106=\"\",\"\",'Initial Observation'!B106)","v":""},{"$f":"IF('Initial Observation'!I106=\"\",\"\",\"X\")","v":""}]
[{"$f":"'Initial Observation'!A107","v":"00:00:00"},{"$f":"IF('Initial Observation'!B107=\"\",\"\",'Initial Observation'!B107)","v":""},{"$f":"IF('Initial Observation'!I107=\"\",\"\",\"X\")","v":""}]
[{"$f":"'Initial Observation'!A108","v":"00:00:00"},{"$f":"IF('Initial Observation'!B108=\"\",\"\",'Initial Observation'!B108)","v":""},{"$f":"IF('Initial Observation'!I108=\"\",\"\",\"X\")","v":""}]
[{"$f":"'Initial Observation'!A109","v":"00:00:00"},{"$f":"IF('Initial Observation'!B109=\"\",\"\",'Initial Observation'!B109)","v":""},{"$f":"IF('Initial Observation'!I109=\"\",\"\",\"X\")","v":""}]
[{"$f":"'Initial Observation'!A110","v":"00:00:00"},{"$f":"IF('Initial Observation'!B110=\"\",\"\",'Initial Observation'!B110)","v":""},{"$f":"IF('Initial Observation'!I110=\"\",\"\",\"X\")","v":""}]
[{"$f":"'Initial Observation'!A111","v":"00:00:00"},{"$f":"IF('Initial Observation'!B111=\"\",\"\",'Initial Observation'!B111)","v":""},{"$f":"IF('Initial Observation'!I111=\"\",\"\",\"X\")","v":""}]
[{"$f":"'Initial Observation'!A112","v":"00:00:00"},{"$f":"IF('Initial Observation'!B112=\"\",\"\",'Initial Observation'!B112)","v":""},{"$f":"IF('Initial Observation'!I112=\"\",\"\",\"X\")","v":""}]
[{"$f":"'Initial Observation'!A113","v":"00:00:00"},{"$f":"IF('Initial Observation'!B113=\"\",\"\",'Initial Observation'!B113)","v":""},{"$f":"IF('Initial Observation'!I113=\"\",\"\",\"X\")","v":""}]
[{"$f":"'Initial Observation'!A114","v":"00:00:00"},{"$f":"IF('Initial Observation'!B114=\"\",\"\",'Initial Observation'!B114)","v":""},{"$f":"IF('Initial Observation'!I114=\"\",\"\",\"X\")","v":""}]
[{"$f":"'Initial Observation'!A115","v":"00:00:00"},{"$f":"IF('Initial Observation'!B115=\"\",\"\",'Initial Observation'!B115)","v":""},{"$f":"IF('Initial Observation'!I115=\"\",\"\",\"X\")","v":""}]
[{"$f":"'Initial Observation'!A116","v":"00:00:00"},{"$f":"IF('Initial Observation'!B116=\"\",\"\",'Initial Observation'!B116)","v":""},{"$f":"IF('Initial Observation'!I116=\"\",\"\",\"X\")","v":""}]
[{"$f":"'Initial Observation'!A117","v":"00:00:00"},{"$f":"IF('Initial Observation'!B117=\"\",\"\",'Initial Observation'!B117)","v":""},{"$f":"IF('Initial Observation'!I117=\"\",\"\",\"X\")","v":""}]
[{"$f":"'Initial Observation'!A118","v":"00:00:00"},{"$f":"IF('Initial Observation'!B118=\"\",\"\",'Initial Observation'!B118)","v":""},{"$f":"IF('Initial Observation'!I118=\"\",\"\",\"X\")","v":""}]
[{"$f":"'Initial Observation'!A119","v":"00:00:00"},{"$f":"IF('Initial Observation'!B119=\"\",\"\",'Initial Observation'!B119)","v":""},{"$f":"IF('Initial Observation'!I119=\"\",\"\",\"X\")","v":""}]
[{"$f":"'Initial Observation'!A120","v":"00:00:00"},{"$f":"IF('Initial Observation'!B120=\"\",\"\",'Initial Observation'!B120)","v":""},{"$f":"IF('Initial Observation'!I120=\"\",\"\",\"X\")","v":""}]
[{"$f":"'Initial Observation'!A121","v":"00:00:00"},{"$f":"IF('Initial Observation'!B121=\"\",\"\",'Initial Observation'!B121)","v":""},{"$f":"IF('Initial Observation'!I121=\"\",\"\",\"X\")","v":""}]
[{"$f":"'Initial Observation'!A122","v":"00:00:00"},{"$f":"IF('Initial Observation'!B122=\"\",\"\",'Initial Observation'!B122)","v":""},{"$f":"IF('Initial Observation'!I122=\"\",\"\",\"X\")","v":""}]
[{"$f":"'Initial Observation'!A123","v":"00:00:00"},{"$f":"IF('Initial Observation'!B123=\"\",\"\",'Initial Observation'!B123)","v":""},{"$f":"IF('Initial Observation'!I123=\"\",\"\",\"X\")","v":""}]
[{"$f":"'Initial Observation'!A124","v":"00:00:00"},{"$f":"IF('Initial Observation'!B124=\"\",\"\",'Initial Observation'!B124)","v":""},{"$f":"IF('Initial Observation'!I124=\"\",\"\",\"X\")","v":""}]
[{"$f":"'Initial Observation'!A125","v":"00:00:00"},{"$f":"IF('Initial Observation'!B125=\"\",\"\",'Initial Observation'!B125)","v":""},{"$f":"IF('Initial Observation'!I125=\"\",\"\",\"X\")","v":""}]
[{"$f":"'Initial Observation'!A126","v":"00:00:00"},{"$f":"IF('Initial Observation'!B126=\"\",\"\",'Initial Observation'!B126)","v":""},{"$f":"IF('Initial Observation'!I126=\"\",\"\",\"X\")","v":""}]
[{"$f":"'Initial Observation'!A127","v":"00:00:00"},{"$f":"IF('Initial Observation'!B127=\"\",\"\",'Initial Observation'!B127)","v":""},{"$f":"IF('Initial Observation'!I127=\"\",\"\",\"X\")","v":""}]
[{"$f":"'Initial Observation'!A128","v":"00:00:00"},{"$f":"IF('Initial Observation'!B128=\"\",\"\",'Initial Observation'!B128)","v":""},{"$f":"IF('Initial Observation'!I128=\"\",\"\",\"X\")","v":""}]
[{"$f":"'Initial Observation'!A129","v":"00:00:00"},{"$f":"IF('Initial Observation'!B129=\"\",\"\",'Initial Observation'!B129)","v":""},{"$f":"IF('Initial Observation'!I129=\"\",\"\",\"X\")","v":""}]
[{"$f":"'Initial Observation'!A130","v":"00:00:00"},{"$f":"IF('Initial Observation'!B130=\"\",\"\",'Initial Observation'!B130)","v":""},{"$f":"IF('Initial Observation'!I130=\"\",\"\",\"X\")","v":""}]
[{"$f":"'Initial Observation'!A131","v":"00:00:00"},{"$f":"IF('Initial Observation'!B131=\"\",\"\",'Initial Observation'!B131)","v":""},{"$f":"IF('Initial Observation'!I131=\"\",\"\",\"X\")","v":""}]
[{"$f":"'Initial Observation'!A132","v":"00:00:00"},{"$f":"IF('Initial Observation'!B132=\"\",\"\",'Initial Observation'!B132)","v":""},{"$f":"IF('Initial Observation'!I132=\"\",\"\",\"X\")","v":""}]
[{"$f":"'Initial Observation'!A133","v":"00:00:00"},{"$f":"IF('Initial Observation'!B133=\"\",\"\",'Initial Observation'!B133)","v":""},{"$f":"IF('Initial Observation'!I133=\"\",\"\",\"X\")","v":""}]
[{"$f":"'Initial Observation'!A134","v":"00:00:00"},{"$f":"IF('Initial Observation'!B134=\"\",\"\",'Initial Observation'!B134)","v":""},{"$f":"IF('Initial Observation'!I134=\"\",\"\",\"X\")","v":""}]
[{"$f":"'Initial Observation'!A135","v":"00:00:00"},{"$f":"IF('Initial Observation'!B135=\"\",\"\",'Initial Observation'!B135)","v":""},{"$f":"IF('Initial Observation'!I135=\"\",\"\",\"X\")","v":""}]
[{"$f":"'Initial Observation'!A136","v":"00:00:00"},{"$f":"IF('Initial Observation'!B136=\"\",\"\",'Initial Observation'!B136)","v":""},{"$f":"IF('Initial Observation'!I136=\"\",\"\",\"X\")","v":""}]
[{"$f":"'Initial Observation'!A137","v":"00:00:00"},{"$f":"IF('Initial Observation'!B137=\"\",\"\",'Initial Observation'!B137)","v":""},{"$f":"IF('Initial Observation'!I137=\"\",\"\",\"X\")","v":""}]
[{"$f":"'Initial Observation'!A138","v":"00:00:00"},{"$f":"IF('Initial Observation'!B138=\"\",\"\",'Initial Observation'!B138)","v":""},{"$f":"IF('Initial Observation'!I138=\"\",\"\",\"X\")","v":""}]
[{"$f":"'Initial Observation'!A139","v":"00:00:00"},{"$f":"IF('Initial Observation'!B139=\"\",\"\",'Initial Observation'!B139)","v":""},{"$f":"IF('Initial Observation'!I139=\"\",\"\",\"X\")","v":""}]
[{"$f":"'Initial Observation'!A140","v":"00:00:00"},{"$f":"IF('Initial Observation'!B140=\"\",\"\",'Initial Observation'!B140)","v":""},{"$f":"IF('Initial Observation'!I140=\"\",\"\",\"X\")","v":""}]
[{"$f":"'Initial Observation'!A141","v":"00:00:00"},{"$f":"IF('Initial Observation'!B141=\"\",\"\",'Initial Observation'!B141)","v":""},{"$f":"IF('Initial Observation'!I141=\"\",\"\",\"X\")","v":""}]
[{"$f":"'Initial Observation'!A142","v":"00:00:00"},{"$f":"IF('Initial Observation'!B142=\"\",\"\",'Initial Observation'!B142)","v":""},{"$f":"IF('Initial Observation'!I142=\"\",\"\",\"X\")","v":""}]
[{"$f":"'Initial Observation'!A143","v":"00:00:00"},{"$f":"IF('Initial Observation'!B143=\"\",\"\",'Initial Observation'!B143)","v":""},{"$f":"IF('Initial Observation'!I143=\"\",\"\",\"X\")","v":""}]
[{"$f":"'Initial Observation'!A144","v":"00:00:00"},{"$f":"IF('Initial Observation'!B144=\"\",\"\",'Initial Observation'!B144)","v":""},{"$f":"IF('Initial Observation'!I144=\"\",\"\",\"X\")","v":""}]
[{"$f":"'Initial Observation'!A145","v":"00:00:00"},{"$f":"IF('Initial Observation'!B145=\"\",\"\",'Initial Observation'!B145)","v":""},{"$f":"IF('Initial Observation'!I145=\"\",\"\",\"X\")","v":""}]
[{"$f":"'Initial Observation'!A146","v":"00:00:00"},{"$f":"IF('Initial Observation'!B146=\"\",\"\",'Initial Observation'!B146)","v":""},{"$f":"IF('Initial Observation'!I146=\"\",\"\",\"X\")","v":""}]
[{"$f":"'Initial Observation'!A147","v":"00:00:00"},{"$f":"IF('Initial Observation'!B147=\"\",\"\",'Initial Observation'!B147)","v":""},{"$f":"IF('Initial Observation'!I147=\"\",\"\",\"X\")","v":""}]
[{"$f":"'Initial Observation'!A148","v":"00:00:00"},{"$f":"IF('Initial Observation'!B148=\"\",\"\",'Initial Observation'!B148)","v":""},{"$f":"IF('Initial Observation'!I148=\"\",\"\",\"X\")","v":""}]
[{"$f":"'Initial Observation'!A149","v":"00:00:00"},{"$f":"IF('Initial Observation'!B149=\"\",\"\",'Initial Observation'!B149)","v":""},{"$f":"IF('Initial Observation'!I149=\"\",\"\",\"X\")","v":""}]
[{"$f":"'Initial Observation'!A150","v":"00:00:00"},{"$f":"IF('Initial Observation'!B150=\"\",\"\",'Initial Observation'!B150)","v":""},{"$f":"IF('Initial Observation'!I150=\"\",\"\",\"X\")","v":""}]
[{"$f":"'Initial Observation'!A151","v":"00:00:00"},{"$f":"IF('Initial Observation'!B151=\"\",\"\",'Initial Observation'!B151)","v":""},{"$f":"IF('Initial Observation'!I151=\"\",\"\",\"X\")","v":""}]
[{"$f":"'Initial Observation'!A152","v":"00:00:00"},{"$f":"IF('Initial Observation'!B152=\"\",\"\",'Initial Observation'!B152)","v":""},{"$f":"IF('Initial Observation'!I152=\"\",\"\",\"X\")","v":""}]
[{"$f":"'Initial Observation'!A153","v":"00:00:00"},{"$f":"IF('Initial Observation'!B153=\"\",\"\",'Initial Observation'!B153)","v":""},{"$f":"IF('Initial Observation'!I153=\"\",\"\",\"X\")","v":""}]
[{"$f":"'Initial Observation'!A154","v":"00:00:00"},{"$f":"IF('Initial Observation'!B154=\"\",\"\",'Initial Observation'!B154)","v":""},{"$f":"IF('Initial Observation'!I154=\"\",\"\",\"X\")","v":""}]
[{"$f":"'Initial Observation'!A155","v":"00:00:00"},{"$f":"IF('Initial Observation'!B155=\"\",\"\",'Initial Observation'!B155)","v":""},{"$f":"IF('Initial Observation'!I155=\"\",\"\",\"X\")","v":""}]
[{"$f":"'Initial Observation'!A156","v":"00:00:00"},{"$f":"IF('Initial Observation'!B156=\"\",\"\",'Initial Observation'!B156)","v":""},{"$f":"IF('Initial Observation'!I156=\"\",\"\",\"X\")","v":""}]
[{"$f":"'Initial Observation'!A157","v":"00:00:00"},{"$f":"IF('Initial Observation'!B157=\"\",\"\",'Initial Observation'!B157)","v":""},{"$f":"IF('Initial Observation'!I157=\"\",\"\",\"X\")","v":""}]
[{"$f":"'Initial Observation'!A158","v":"00:00:00"},{"$f":"IF('Initial Observation'!B158=\"\",\"\",'Initial Observation'!B158)","v":""},{"$f":"IF('Initial Observation'!I158=\"\",\"\",\"X\")","v":""}]
[{"$f":"'Initial Observation'!A159","v":"00:00:00"},{"$f":"IF('Initial Observation'!B159=\"\",\"\",'Initial Observation'!B159)","v":""},{"$f":"IF('Initial Observation'!I159=\"\",\"\",\"X\")","v":""}]
[{"$f":"'Initial Observation'!A160","v":"00:00:00"},{"$f":"IF('Initial Observation'!B160=\"\",\"\",'Initial Observation'!B160)","v":""},{"$f":"IF('Initial Observation'!I160=\"\",\"\",\"X\")","v":""}]
[{"$f":"'Initial Observation'!A161","v":"00:00:00"},{"$f":"IF('Initial Observation'!B161=\"\",\"\",'Initial Observation'!B161)","v":""},{"$f":"IF('Initial Observation'!I161=\"\",\"\",\"X\")","v":""}]
[{"$f":"'Initial Observation'!A162","v":"00:00:00"},{"$f":"IF('Initial Observation'!B162=\"\",\"\",'Initial Observation'!B162)","v":""},{"$f":"IF('Initial Observation'!I162=\"\",\"\",\"X\")","v":""}]
[{"$f":"'Initial Observation'!A163","v":"00:00:00"},{"$f":"IF('Initial Observation'!B163=\"\",\"\",'Initial Observation'!B163)","v":""},{"$f":"IF('Initial Observation'!I163=\"\",\"\",\"X\")","v":""}]
[{"$f":"'Initial Observation'!A164","v":"00:00:00"},{"$f":"IF('Initial Observation'!B164=\"\",\"\",'Initial Observation'!B164)","v":""},{"$f":"IF('Initial Observation'!I164=\"\",\"\",\"X\")","v":""}]
[{"$f":"'Initial Observation'!A165","v":"00:00:00"},{"$f":"IF('Initial Observation'!B165=\"\",\"\",'Initial Observation'!B165)","v":""},{"$f":"IF('Initial Observation'!I165=\"\",\"\",\"X\")","v":""}]
[{"$f":"'Initial Observation'!A166","v":"00:00:00"},{"$f":"IF('Initial Observation'!B166=\"\",\"\",'Initial Observation'!B166)","v":""},{"$f":"IF('Initial Observation'!I166=\"\",\"\",\"X\")","v":""}]
[{"$f":"'Initial Observation'!A167","v":"00:00:00"},{"$f":"IF('Initial Observation'!B167=\"\",\"\",'Initial Observation'!B167)","v":""},{"$f":"IF('Initial Observation'!I167=\"\",\"\",\"X\")","v":""}]
[{"$f":"'Initial Observation'!A168","v":"00:00:00"},{"$f":"IF('Initial Observation'!B168=\"\",\"\",'Initial Observation'!B168)","v":""},{"$f":"IF('Initial Observation'!I168=\"\",\"\",\"X\")","v":""}]
[{"$f":"'Initial Observation'!A169","v":"00:00:00"},{"$f":"IF('Initial Observation'!B169=\"\",\"\",'Initial Observation'!B169)","v":""},{"$f":"IF('Initial Observation'!I169=\"\",\"\",\"X\")","v":""}]
[{"$f":"'Initial Observation'!A170","v":"00:00:00"},{"$f":"IF('Initial Observation'!B170=\"\",\"\",'Initial Observation'!B170)","v":""},{"$f":"IF('Initial Observation'!I170=\"\",\"\",\"X\")","v":""}]
[{"$f":"'Initial Observation'!A171","v":"00:00:00"},{"$f":"IF('Initial Observation'!B171=\"\",\"\",'Initial Observation'!B171)","v":""},{"$f":"IF('Initial Observation'!I171=\"\",\"\",\"X\")","v":""}]
[{"$f":"'Initial Observation'!A172","v":"00:00:00"},{"$f":"IF('Initial Observation'!B172=\"\",\"\",'Initial Observation'!B172)","v":""},{"$f":"IF('Initial Observation'!I172=\"\",\"\",\"X\")","v":""}]
[{"$f":"'Initial Observation'!A173","v":"00:00:00"},{"$f":"IF('Initial Observation'!B173=\"\",\"\",'Initial Observation'!B173)","v":""},{"$f":"IF('Initial Observation'!I173=\"\",\"\",\"X\")","v":""}]
[{"$f":"'Initial Observation'!A174","v":"00:00:00"},{"$f":"IF('Initial Observation'!B174=\"\",\"\",'Initial Observation'!B174)","v":""},{"$f":"IF('Initial Observation'!I174=\"\",\"\",\"X\")","v":""}]
[{"$f":"'Initial Observation'!A175","v":"00:00:00"},{"$f":"IF('Initial Observation'!B175=\"\",\"\",'Initial Observation'!B175)","v":""},{"$f":"IF('Initial Observation'!I175=\"\",\"\",\"X\")","v":""}]
[{"$f":"'Initial Observation'!A176","v":"00:00:00"},{"$f":"IF('Initial Observation'!B176=\"\",\"\",'Initial Observation'!B176)","v":""},{"$f":"IF('Initial Observation'!I176=\"\",\"\",\"X\")","v":""}]
[{"$f":"'Initial Observation'!A177","v":"00:00:00"},{"$f":"IF('Initial Observation'!B177=\"\",\"\",'Initial Observation'!B177)","v":""},{"$f":"IF('Initial Observation'!I177=\"\",\"\",\"X\")","v":""}]
[{"$f":"'Initial Observation'!A178","v":"00:00:00"},{"$f":"IF('Initial Observation'!B178=\"\",\"\",'Initial Observation'!B178)","v":""},{"$f":"IF('Initial Observation'!I178=\"\",\"\",\"X\")","v":""}]
[{"$f":"'Initial Observation'!A179","v":"00:00:00"},{"$f":"IF('Initial Observation'!B179=\"\",\"\",'Initial Observation'!B179)","v":""},{"$f":"IF('Initial Observation'!I179=\"\",\"\",\"X\")","v":""}]
[{"$f":"'Initial Observation'!A180","v":"00:00:00"},{"$f":"IF('Initial Observation'!B180=\"\",\"\",'Initial Observation'!B180)","v":""},{"$f":"IF('Initial Observation'!I180=\"\",\"\",\"X\")","v":""}]
[{"$f":"'Initial Observation'!A181","v":"00:00:00"},{"$f":"IF('Initial Observation'!B181=\"\",\"\",'Initial Observation'!B181)","v":""},{"$f":"IF('Initial Observation'!I181=\"\",\"\",\"X\")","v":""}]
[{"$f":"'Initial Observation'!A182","v":"00:00:00"},{"$f":"IF('Initial Observation'!B182=\"\",\"\",'Initial Observation'!B182)","v":""},{"$f":"IF('Initial Observation'!I182=\"\",\"\",\"X\")","v":""}]
[{"$f":"'Initial Observation'!A183","v":"00:00:00"},{"$f":"IF('Initial Observation'!B183=\"\",\"\",'Initial Observation'!B183)","v":""},{"$f":"IF('Initial Observation'!I183=\"\",\"\",\"X\")","v":""}]
[{"$f":"'Initial Observation'!A184","v":"00:00:00"},{"$f":"IF('Initial Observation'!B184=\"\",\"\",'Initial Observation'!B184)","v":""},{"$f":"IF('Initial Observation'!I184=\"\",\"\",\"X\")","v":""}]
[{"$f":"'Initial Observation'!A185","v":"00:00:00"},{"$f":"IF('Initial Observation'!B185=\"\",\"\",'Initial Observation'!B185)","v":""},{"$f":"IF('Initial Observation'!I185=\"\",\"\",\"X\")","v":""}]
[{"$f":"'Initial Observation'!A186","v":"00:00:00"},{"$f":"IF('Initial Observation'!B186=\"\",\"\",'Initial Observation'!B186)","v":""},{"$f":"IF('Initial Observation'!I186=\"\",\"\",\"X\")","v":""}]
[{"$f":"'Initial Observation'!A187","v":"00:00:00"},{"$f":"IF('Initial Observation'!B187=\"\",\"\",'Initial Observation'!B187)","v":""},{"$f":"IF('Initial Observation'!I187=\"\",\"\",\"X\")","v":""}]
[{"$f":"'Initial Observation'!A188","v":"00:00:00"},{"$f":"IF('Initial Observation'!B188=\"\",\"\",'Initial Observation'!B188)","v":""},{"$f":"IF('Initial Observation'!I188=\"\",\"\",\"X\")","v":""}]
[{"$f":"'Initial Observation'!A189","v":"00:00:00"},{"$f":"IF('Initial Observation'!B189=\"\",\"\",'Initial Observation'!B189)","v":""},{"$f":"IF('Initial Observation'!I189=\"\",\"\",\"X\")","v":""}]
[{"$f":"'Initial Observation'!A190","v":"00:00:00"},{"$f":"IF('Initial Observation'!B190=\"\",\"\",'Initial Observation'!B190)","v":""},{"$f":"IF('Initial Observation'!I190=\"\",\"\",\"X\")","v":""}]
[{"$f":"'Initial Observation'!A191","v":"00:00:00"},{"$f":"IF('Initial Observation'!B191=\"\",\"\",'Initial Observation'!B191)","v":""},{"$f":"IF('Initial Observation'!I191=\"\",\"\",\"X\")","v":""}]
[{"$f":"'Initial Observation'!A192","v":"00:00:00"},{"$f":"IF('Initial Observation'!B192=\"\",\"\",'Initial Observation'!B192)","v":""},{"$f":"IF('Initial Observation'!I192=\"\",\"\",\"X\")","v":""}]
[{"$f":"'Initial Observation'!A193","v":"00:00:00"},{"$f":"IF('Initial Observation'!B193=\"\",\"\",'Initial Observation'!B193)","v":""},{"$f":"IF('Initial Observation'!I193=\"\",\"\",\"X\")","v":""}]
[{"$f":"'Initial Observation'!A194","v":"00:00:00"},{"$f":"IF('Initial Observation'!B194=\"\",\"\",'Initial Observation'!B194)","v":""},{"$f":"IF('Initial Observation'!I194=\"\",\"\",\"X\")","v":""}]
[{"$f":"'Initial Observation'!A195","v":"00:00:00"},{"$f":"IF('Initial Observation'!B195=\"\",\"\",'Initial Observation'!B195)","v":""},{"$f":"IF('Initial Observation'!I195=\"\",\"\",\"X\")","v":""}]
[{"$f":"'Initial Observation'!A196","v":"00:00:00"},{"$f":"IF('Initial Observation'!B196=\"\",\"\",'Initial Observation'!B196)","v":""},{"$f":"IF('Initial Observation'!I196=\"\",\"\",\"X\")","v":""}]
[{"$f":"'Initial Observation'!A197","v":"00:00:00"},{"$f":"IF('Initial Observation'!B197=\"\",\"\",'Initial Observation'!B197)","v":""},{"$f":"IF('Initial Observation'!I197=\"\",\"\",\"X\")","v":""}]
[{"$f":"'Initial Observation'!A198","v":"00:00:00"},{"$f":"IF('Initial Observation'!B198=\"\",\"\",'Initial Observation'!B198)","v":""},{"$f":"IF('Initial Observation'!I198=\"\",\"\",\"X\")","v":""}]
[{"$f":"'Initial Observation'!A199","v":"00:00:00"},{"$f":"IF('Initial Observation'!B199=\"\",\"\",'Initial Observation'!B199)","v":""},{"$f":"IF('Initial Observation'!I199=\"\",\"\",\"X\")","v":""}]
[{"$f":"'Initial Observation'!A200","v":"00:00:00"},{"$f":"IF('Initial Observation'!B200=\"\",\"\",'Initial Observation'!B200)","v":""},{"$f":"IF('Initial Observation'!I200=\"\",\"\",\"X\")","v":""}]
[{"$f":"'Initial Observation'!A201","v":"00:00:00"},{"$f":"IF('Initial Observation'!B201=\"\",\"\",'Initial Observation'!B201)","v":""},{"$f":"IF('Initial Observation'!I201=\"\",\"\",\"X\")","v":""}]
[{"$f":"'Initial Observation'!A202","v":"00:00:00"},{"$f":"IF('Initial Observation'!B202=\"\",\"\",'Initial Observation'!B202)","v":""},{"$f":"IF('Initial Observation'!I202=\"\",\"\",\"X\")","v":""}]
[{"$f":"'Initial Observation'!A203","v":"00:00:00"},{"$f":"IF('Initial Observation'!B203=\"\",\"\",'Initial Observation'!B203)","v":""},{"$f":"IF('Initial Observation'!I203=\"\",\"\",\"X\")","v":""}]
[{"$f":"'Initial Observation'!A204","v":"00:00:00"},{"$f":"IF('Initial Observation'!B204=\"\",\"\",'Initial Observation'!B204)","v":""},{"$f":"IF('Initial Observation'!I204=\"\",\"\",\"X\")","v":""}]
[{"$f":"'Initial Observation'!A205","v":"00:00:00"},{"$f":"IF('Initial Observation'!B205=\"\",\"\",'Initial Observation'!B205)","v":""},{"$f":"IF('Initial Observation'!I205=\"\",\"\",\"X\")","v":""}]
[{"$f":"'Initial Observation'!A206","v":"00:00:00"},{"$f":"IF('Initial Observation'!B206=\"\",\"\",'Initial Observation'!B206)","v":""},{"$f":"IF('Initial Observation'!I206=\"\",\"\",\"X\")","v":""}]
[{"$f":"'Initial Observation'!A207","v":"00:00:00"},{"$f":"IF('Initial Observation'!B207=\"\",\"\",'Initial Observation'!B207)","v":""},{"$f":"IF('Initial Observation'!I207=\"\",\"\",\"X\")","v":""}]
[{"$f":"'Initial Observation'!A208","v":"00:00:00"},{"$f":"IF('Initial Observation'!B208=\"\",\"\",'Initial Observation'!B208)","v":""},{"$f":"IF('Initial Observation'!I208=\"\",\"\",\"X\")","v":""}]
[{"$f":"'Initial Observation'!A209","v":"00:00:00"},{"$f":"IF('Initial Observation'!B209=\"\",\"\",'Initial Observation'!B209)","v":""},{"$f":"IF('Initial Observation'!I209=\"\",\"\",\"X\")","v":""}]
[{"$f":"'Initial Observation'!A210","v":"00:00:00"},{"$f":"IF('Initial Observation'!B210=\"\",\"\",'Initial Observation'!B210)","v":""},{"$f":"IF('Initial Observation'!I210=\"\",\"\",\"X\")","v":""}]
[{"$f":"'Initial Observation'!A211","v":"00:00:00"},{"$f":"IF('Initial Observation'!B211=\"\",\"\",'Initial Observation'!B211)","v":""},{"$f":"IF('Initial Observation'!I211=\"\",\"\",\"X\")","v":""}]
[{"$f":"'Initial Observation'!A212","v":"00:00:00"},{"$f":"IF('Initial Observation'!B212=\"\",\"\",'Initial Observation'!B212)","v":""},{"$f":"IF('Initial Observation'!I212=\"\",\"\",\"X\")","v":""}]
[{"$f":"'Initial Observation'!A213","v":"00:00:00"},{"$f":"IF('Initial Observation'!B213=\"\",\"\",'Initial Observation'!B213)","v":""},{"$f":"IF('Initial Observation'!I213=\"\",\"\",\"X\")","v":""}]
[{"$f":"'Initial Observation'!A214","v":"00:00:00"},{"$f":"IF('Initial Observation'!B214=\"\",\"\",'Initial Observation'!B214)","v":""},{"$f":"IF('Initial Observation'!I214=\"\",\"\",\"X\")","v":""}]
[{"$f":"'Initial Observation'!A215","v":"00:00:00"},{"$f":"IF('Initial Observation'!B215=\"\",\"\",'Initial Observation'!B215)","v":""},{"$f":"IF('Initial Observation'!I215=\"\",\"\",\"X\")","v":""}]
[{"$f":"'Initial Observation'!A216","v":"00:00:00"},{"$f":"IF('Initial Observation'!B216=\"\",\"\",'Initial Observation'!B216)","v":""},{"$f":"IF('Initial Observation'!I216=\"\",\"\",\"X\")","v":""}]
[{"$f":"'Initial Observation'!A217","v":"00:00:00"},{"$f":"IF('Initial Observation'!B217=\"\",\"\",'Initial Observation'!B217)","v":""},{"$f":"IF('Initial Observation'!I217=\"\",\"\",\"X\")","v":""}]
[{"$f":"'Initial Observation'!A218","v":"00:00:00"},{"$f":"IF('Initial Observation'!B218=\"\",\"\",'Initial Observation'!B218)","v":""},{"$f":"IF('Initial Observation'!I218=\"\",\"\",\"X\")","v":""}]
[{"$f":"'Initial Observation'!A219","v":"00:00:00"},{"$f":"IF('Initial Observation'!B219=\"\",\"\",'Initial Observation'!B219)","v":""},{"$f":"IF('Initial Observation'!I219=\"\",\"\",\"X\")","v":""}]
[{"$f":"'Initial Observation'!A220","v":"00:00:00"},{"$f":"IF('Initial Observation'!B220=\"\",\"\",'Initial Observation'!B220)","v":""},{"$f":"IF('Initial Observation'!I220=\"\",\"\",\"X\")","v":""}]
[{"$f":"'Initial Observation'!A221","v":"00:00:00"},{"$f":"IF('Initial Observation'!B221=\"\",\"\",'Initial Observation'!B221)","v":""},{"$f":"IF('Initial Observation'!I221=\"\",\"\",\"X\")","v":""}]
[{"$f":"'Initial Observation'!A222","v":"00:00:00"},{"$f":"IF('Initial Observation'!B222=\"\",\"\",'Initial Observation'!B222)","v":""},{"$f":"IF('Initial Observation'!I222=\"\",\"\",\"X\")","v":""}]
[{"$f":"'Initial Observation'!A223","v":"00:00:00"},{"$f":"IF('Initial Observation'!B223=\"\",\"\",'Initial Observation'!B223)","v":""},{"$f":"IF('Initial Observation'!I223=\"\",\"\",\"X\")","v":""}]
[{"$f":"'Initial Observation'!A224","v":"00:00:00"},{"$f":"IF('Initial Observation'!B224=\"\",\"\",'Initial Observation'!B224)","v":""},{"$f":"IF('Initial Observation'!I224=\"\",\"\",\"X\")","v":""}]
[{"$f":"'Initial Observation'!A225","v":"00:00:00"},{"$f":"IF('Initial Observation'!B225=\"\",\"\",'Initial Observation'!B225)","v":""},{"$f":"IF('Initial Observation'!I225=\"\",\"\",\"X\")","v":""}]
[{"$f":"'Initial Observation'!A226","v":"00:00:00"},{"$f":"IF('Initial Observation'!B226=\"\",\"\",'Initial Observation'!B226)","v":""},{"$f":"IF('Initial Observation'!I226=\"\",\"\",\"X\")","v":""}]
[{"$f":"'Initial Observation'!A227","v":"00:00:00"},{"$f":"IF('Initial Observation'!B227=\"\",\"\",'Initial Observation'!B227)","v":""},{"$f":"IF('Initial Observation'!I227=\"\",\"\",\"X\")","v":""}]
[{"$f":"'Initial Observation'!A228","v":"00:00:00"},{"$f":"IF('Initial Observation'!B228=\"\",\"\",'Initial Observation'!B228)","v":""},{"$f":"IF('Initial Observation'!I228=\"\",\"\",\"X\")","v":""}]
[{"$f":"'Initial Observation'!A229","v":"00:00:00"},{"$f":"IF('Initial Observation'!B229=\"\",\"\",'Initial Observation'!B229)","v":""},{"$f":"IF('Initial Observation'!I229=\"\",\"\",\"X\")","v":""}]
[{"$f":"'Initial Observation'!A230","v":"00:00:00"},{"$f":"IF('Initial Observation'!B230=\"\",\"\",'Initial Observation'!B230)","v":""},{"$f":"IF('Initial Observation'!I230=\"\",\"\",\"X\")","v":""}]
[{"$f":"'Initial Observation'!A231","v":"00:00:00"},{"$f":"IF('Initial Observation'!B231=\"\",\"\",'Initial Observation'!B231)","v":""},{"$f":"IF('Initial Observation'!I231=\"\",\"\",\"X\")","v":""}]
[{"$f":"'Initial Observation'!A232","v":"00:00:00"},{"$f":"IF('Initial Observation'!B232=\"\",\"\",'Initial Observation'!B232)","v":""},{"$f":"IF('Initial Observation'!I232=\"\",\"\",\"X\")","v":""}]
[{"$f":"'Initial Observation'!A233","v":"00:00:00"},{"$f":"IF('Initial Observation'!B233=\"\",\"\",'Initial Observation'!B233)","v":""},{"$f":"IF('Initial Observation'!I233=\"\",\"\",\"X\")","v":""}]
[{"$f":"'Initial Observation'!A234","v":"00:00:00"},{"$f":"IF('Initial Observation'!B234=\"\",\"\",'Initial Observation'!B234)","v":""},{"$f":"IF('Initial Observation'!I234=\"\",\"\",\"X\")","v":""}]
[{"$f":"'Initial Observation'!A235","v":"00:00:00"},{"$f":"IF('Initial Observation'!B235=\"\",\"\",'Initial Observation'!B235)","v":""},{"$f":"IF('Initial Observation'!I235=\"\",\"\",\"X\")","v":""}]
[{"$f":"'Initial Observation'!A236","v":"00:00:00"},{"$f":"IF('Initial Observation'!B236=\"\",\"\",'Initial Observation'!B236)","v":""},{"$f":"IF('Initial Observation'!I236=\"\",\"\",\"X\")","v":""}]
[{"$f":"'Initial Observation'!A237","v":"00:00:00"},{"$f":"IF('Initial Observation'!B237=\"\",\"\",'Initial Observation'!B237)","v":""},{"$f":"IF('Initial Observation'!I237=\"\",\"\",\"X\")","v":""}]
[{"$f":"'Initial Observation'!A238","v":"00:00:00"},{"$f":"IF('Initial Observation'!B238=\"\",\"\",'Initial Observation'!B238)","v":""},{"$f":"IF('Initial Observation'!I238=\"\",\"\",\"X\")","v":""}]
[{"$f":"'Initial Observation'!A239","v":"00:00:00"},{"$f":"IF('Initial Observation'!B239=\"\",\"\",'Initial Observation'!B239)","v":""},{"$f":"IF('Initial Observation'!I239=\"\",\"\",\"X\")","v":""}]
[{"$f":"'Initial Observation'!A240","v":"00:00:00"},{"$f":"IF('Initial Observation'!B240=\"\",\"\",'Initial Observation'!B240)","v":""},{"$f":"IF('Initial Observation'!I240=\"\",\"\",\"X\")","v":""}]
[{"$f":"'Initial Observation'!A241","v":"00:00:00"},{"$f":"IF('Initial Observation'!B241=\"\",\"\",'Initial Observation'!B241)","v":""},{"$f":"IF('Initial Observation'!I241=\"\",\"\",\"X\")","v":""}]
[{"$f":"'Initial Observation'!A242","v":"00:00:00"},{"$f":"IF('Initial Observation'!B242=\"\",\"\",'Initial Observation'!B242)","v":""},{"$f":"IF('Initial Observation'!I242=\"\",\"\",\"X\")","v":""}]
[{"$f":"'Initial Observation'!A243","v":"00:00:00"},{"$f":"IF('Initial Observation'!B243=\"\",\"\",'Initial Observation'!B243)","v":""},{"$f":"IF('Initial Observation'!I243=\"\",\"\",\"X\")","v":""}]
[{"$f":"'Initial Observation'!A244","v":"00:00:00"},{"$f":"IF('Initial Observation'!B244=\"\",\"\",'Initial Observation'!B244)","v":""},{"$f":"IF('Initial Observation'!I244=\"\",\"\",\"X\")","v":""}]
[{"$f":"'Initial Observation'!A245","v":"00:00:00"},{"$f":"IF('Initial Observation'!B245=\"\",\"\",'Initial Observation'!B245)","v":""},{"$f":"IF('Initial Observation'!I245=\"\",\"\",\"X\")","v":""}]
[{"$f":"'Initial Observation'!A246","v":"00:00:00"},{"$f":"IF('Initial Observation'!B246=\"\",\"\",'Initial Observation'!B246)","v":""},{"$f":"IF('Initial Observation'!I246=\"\",\"\",\"X\")","v":""}]
[{"$f":"'Initial Observation'!A247","v":"00:00:00"},{"$f":"IF('Initial Observation'!B247=\"\",\"\",'Initial Observation'!B247)","v":""},{"$f":"IF('Initial Observation'!I247=\"\",\"\",\"X\")","v":""}]
[{"$f":"'Initial Observation'!A248","v":"00:00:00"},{"$f":"IF('Initial Observation'!B248=\"\",\"\",'Initial Observation'!B248)","v":""},{"$f":"IF('Initial Observation'!I248=\"\",\"\",\"X\")","v":""}]
[{"$f":"'Initial Observation'!A249","v":"00:00:00"},{"$f":"IF('Initial Observation'!B249=\"\",\"\",'Initial Observation'!B249)","v":""},{"$f":"IF('Initial Observation'!I249=\"\",\"\",\"X\")","v":""}]
[{"$f":"'Initial Observation'!A250","v":"00:00:00"},{"$f":"IF('Initial Observation'!B250=\"\",\"\",'Initial Observation'!B250)","v":""},{"$f":"IF('Initial Observation'!I250=\"\",\"\",\"X\")","v":""}]
[{"$f":"'Initial Observation'!A251","v":"00:00:00"},{"$f":"IF('Initial Observation'!B251=\"\",\"\",'Initial Observation'!B251)","v":""},{"$f":"IF('Initial Observation'!I251=\"\",\"\",\"X\")","v":""}]
[{"$f":"'Initial Observation'!A252","v":"00:00:00"},{"$f":"IF('Initial Observation'!B252=\"\",\"\",'Initial Observation'!B252)","v":""},{"$f":"IF('Initial Observation'!I252=\"\",\"\",\"X\")","v":""}]
[{"$f":"'Initial Observation'!A253","v":"00:00:00"},{"$f":"IF('Initial Observation'!B253=\"\",\"\",'Initial Observation'!B253)","v":""},{"$f":"IF('Initial Observation'!I253=\"\",\"\",\"X\")","v":""}]
[{"$f":"'Initial Observation'!A254","v":"00:00:00"},{"$f":"IF('Initial Observation'!B254=\"\",\"\",'Initial Observation'!B254)","v":""},{"$f":"IF('Initial Observation'!I254=\"\",\"\",\"X\")","v":""}]
[{"$f":"'Initial Observation'!A255","v":"00:00:00"},{"$f":"IF('Initial Observation'!B255=\"\",\"\",'Initial Observation'!B255)","v":""},{"$f":"IF('Initial Observation'!I255=\"\",\"\",\"X\")","v":""}]
[{"$f":"'Initial Observation'!A256","v":"00:00:00"},{"$f":"IF('Initial Observation'!B256=\"\",\"\",'Initial Observation'!B256)","v":""},{"$f":"IF('Initial Observation'!I256=\"\",\"\",\"X\")","v":""}]
[{"$f":"'Initial Observation'!A257","v":"00:00:00"},{"$f":"IF('Initial Observation'!B257=\"\",\"\",'Initial Observation'!B257)","v":""},{"$f":"IF('Initial Observation'!I257=\"\",\"\",\"X\")","v":""}]
[{"$f":"'Initial Observation'!A258","v":"00:00:00"},{"$f":"IF('Initial Observation'!B258=\"\",\"\",'Initial Observation'!B258)","v":""},{"$f":"IF('Initial Observation'!I258=\"\",\"\",\"X\")","v":""}]
[{"$f":"'Initial Observation'!A259","v":"00:00:00"},{"$f":"IF('Initial Observation'!B259=\"\",\"\",'Initial Observation'!B259)","v":""},{"$f":"IF('Initial Observation'!I259=\"\",\"\",\"X\")","v":""}]
[{"$f":"'Initial Observation'!A260","v":"00:00:00"},{"$f":"IF('Initial Observation'!B260=\"\",\"\",'Initial Observation'!B260)","v":""},{"$f":"IF('Initial Observation'!I260=\"\",\"\",\"X\")","v":""}]
[{"$f":"'Initial Observation'!A261","v":"00:00:00"},{"$f":"IF('Initial Observation'!B261=\"\",\"\",'Initial Observation'!B261)","v":""},{"$f":"IF('Initial Observation'!I261=\"\",\"\",\"X\")","v":""}]
[{"$f":"'Initial Observation'!A262","v":"00:00:00"},{"$f":"IF('Initial Observation'!B262=\"\",\"\",'Initial Observation'!B262)","v":""},{"$f":"IF('Initial Observation'!I262=\"\",\"\",\"X\")","v":""}]
[{"$f":"'Initial Observation'!A263","v":"00:00:00"},{"$f":"IF('Initial Observation'!B263=\"\",\"\",'Initial Observation'!B263)","v":""},{"$f":"IF('Initial Observation'!I263=\"\",\"\",\"X\")","v":""}]
[{"$f":"'Initial Observation'!A264","v":"00:00:00"},{"$f":"IF('Initial Observation'!B264=\"\",\"\",'Initial Observation'!B264)","v":""},{"$f":"IF('Initial Observation'!I264=\"\",\"\",\"X\")","v":""}]
[{"$f":"'Initial Observation'!A265","v":"00:00:00"},{"$f":"IF('Initial Observation'!B265=\"\",\"\",'Initial Observation'!B265)","v":""},{"$f":"IF('Initial Observation'!I265=\"\",\"\",\"X\")","v":""}]
[{"$f":"'Initial Observation'!A266","v":"00:00:00"},{"$f":"IF('Initial Observation'!B266=\"\",\"\",'Initial Observation'!B266)","v":""},{"$f":"IF('Initial Observation'!I266=\"\",\"\",\"X\")","v":""}]
[{"$f":"'Initial Observation'!A267","v":"00:00:00"},{"$f":"IF('Initial Observation'!B267=\"\",\"\",'Initial Observation'!B267)","v":""},{"$f":"IF('Initial Observation'!I267=\"\",\"\",\"X\")","v":""}]
[{"$f":"'Initial Observation'!A268","v":"00:00:00"},{"$f":"IF('Initial Observation'!B268=\"\",\"\",'Initial Observation'!B268)","v":""},{"$f":"IF('Initial Observation'!I268=\"\",\"\",\"X\")","v":""}]
[{"$f":"'Initial Observation'!A269","v":"00:00:00"},{"$f":"IF('Initial Observation'!B269=\"\",\"\",'Initial Observation'!B269)","v":""},{"$f":"IF('Initial Observation'!I269=\"\",\"\",\"X\")","v":""}]
[{"$f":"'Initial Observation'!A270","v":"00:00:00"},{"$f":"IF('Initial Observation'!B270=\"\",\"\",'Initial Observation'!B270)","v":""},{"$f":"IF('Initial Observation'!I270=\"\",\"\",\"X\")","v":""}]

{"sheet":"3C","index":8,"n_rows":270,"n_cols":3,"rows_kept":270,"cut":false,"hidden":false,"merged":[[0,2,3,2]]}
[null,{"$f":"'Initial Observation'!B1","v":"Teacher Name:"},"3C Engaging Students in Learning"]
[null,{"$f":"'Initial Observation'!B2","v":"Date:"}]
[null,{"$f":"'Initial Observation'!B3","v":"Number of Students:"}]
[null,"Evidence"]
[{"$f":"'Initial Observation'!A5","v":"00:00:00"},{"$f":"IF('Initial Observation'!B5=\"\",\"\",'Initial Observation'!B5)","v":""},{"$f":"IF('Initial Observation'!J5=\"\",\"\",\"X\")","v":""}]
[{"$f":"'Initial Observation'!A6","v":"00:00:00"},{"$f":"IF('Initial Observation'!B6=\"\",\"\",'Initial Observation'!B6)","v":""},{"$f":"IF('Initial Observation'!J6=\"\",\"\",\"X\")","v":""}]
[{"$f":"'Initial Observation'!A7","v":"00:00:00"},{"$f":"IF('Initial Observation'!B7=\"\",\"\",'Initial Observation'!B7)","v":""},{"$f":"IF('Initial Observation'!J7=\"\",\"\",\"X\")","v":""}]
[{"$f":"'Initial Observation'!A8","v":"00:00:00"},{"$f":"IF('Initial Observation'!B8=\"\",\"\",'Initial Observation'!B8)","v":""},{"$f":"IF('Initial Observation'!J8=\"\",\"\",\"X\")","v":""}]
[{"$f":"'Initial Observation'!A9","v":"00:00:00"},{"$f":"IF('Initial Observation'!B9=\"\",\"\",'Initial Observation'!B9)","v":""},{"$f":"IF('Initial Observation'!J9=\"\",\"\",\"X\")","v":""}]
[{"$f":"'Initial Observation'!A10","v":"00:00:00"},{"$f":"IF('Initial Observation'!B10=\"\",\"\",'Initial Observation'!B10)","v":""},{"$f":"IF('Initial Observation'!J10=\"\",\"\",\"X\")","v":""}]
[{"$f":"'Initial Observation'!A11","v":"00:00:00"},{"$f":"IF('Initial Observation'!B11=\"\",\"\",'Initial Observation'!B11)","v":""},{"$f":"IF('Initial Observation'!J11=\"\",\"\",\"X\")","v":""}]
[{"$f":"'Initial Observation'!A12","v":"00:00:00"},{"$f":"IF('Initial Observation'!B12=\"\",\"\",'Initial Observation'!B12)","v":""},{"$f":"IF('Initial Observation'!J12=\"\",\"\",\"X\")","v":""}]
[{"$f":"'Initial Observation'!A13","v":"00:00:00"},{"$f":"IF('Initial Observation'!B13=\"\",\"\",'Initial Observation'!B13)","v":""},{"$f":"IF('Initial Observation'!J13=\"\",\"\",\"X\")","v":""}]
[{"$f":"'Initial Observation'!A14","v":"00:00:00"},{"$f":"IF('Initial Observation'!B14=\"\",\"\",'Initial Observation'!B14)","v":""},{"$f":"IF('Initial Observation'!J14=\"\",\"\",\"X\")","v":""}]
[{"$f":"'Initial Observation'!A15","v":"00:00:00"},{"$f":"IF('Initial Observation'!B15=\"\",\"\",'Initial Observation'!B15)","v":""},{"$f":"IF('Initial Observation'!J15=\"\",\"\",\"X\")","v":""}]
[{"$f":"'Initial Observation'!A16","v":"00:00:00"},{"$f":"IF('Initial Observation'!B16=\"\",\"\",'Initial Observation'!B16)","v":""},{"$f":"IF('Initial Observation'!J16=\"\",\"\",\"X\")","v":""}]
[{"$f":"'Initial Observation'!A17","v":"00:00:00"},{"$f":"IF('Initial Observation'!B17=\"\",\"\",'Initial Observation'!B17)","v":""},{"$f":"IF('Initial Observation'!J17=\"\",\"\",\"X\")","v":""}]
[{"$f":"'Initial Observation'!A18","v":"00:00:00"},{"$f":"IF('Initial Observation'!B18=\"\",\"\",'Initial Observation'!B18)","v":""},{"$f":"IF('Initial Observation'!J18=\"\",\"\",\"X\")","v":""}]
[{"$f":"'Initial Observation'!A19","v":"00:00:00"},{"$f":"IF('Initial Observation'!B19=\"\",\"\",'Initial Observation'!B19)","v":""},{"$f":"IF('Initial Observation'!J19=\"\",\"\",\"X\")","v":""}]
[{"$f":"'Initial Observation'!A20","v":"00:00:00"},{"$f":"IF('Initial Observation'!B20=\"\",\"\",'Initial Observation'!B20)","v":""},{"$f":"IF('Initial Observation'!J20=\"\",\"\",\"X\")","v":""}]
[{"$f":"'Initial Observation'!A21","v":"00:00:00"},{"$f":"IF('Initial Observation'!B21=\"\",\"\",'Initial Observation'!B21)","v":""},{"$f":"IF('Initial Observation'!J21=\"\",\"\",\"X\")","v":""}]
[{"$f":"'Initial Observation'!A22","v":"00:00:00"},{"$f":"IF('Initial Observation'!B22=\"\",\"\",'Initial Observation'!B22)","v":""},{"$f":"IF('Initial Observation'!J22=\"\",\"\",\"X\")","v":""}]
[{"$f":"'Initial Observation'!A23","v":"00:00:00"},{"$f":"IF('Initial Observation'!B23=\"\",\"\",'Initial Observation'!B23)","v":""},{"$f":"IF('Initial Observation'!J23=\"\",\"\",\"X\")","v":""}]
[{"$f":"'Initial Observation'!A24","v":"00:00:00"},{"$f":"IF('Initial Observation'!B24=\"\",\"\",'Initial Observation'!B24)","v":""},{"$f":"IF('Initial Observation'!J24=\"\",\"\",\"X\")","v":""}]
[{"$f":"'Initial Observation'!A25","v":"00:00:00"},{"$f":"IF('Initial Observation'!B25=\"\",\"\",'Initial Observation'!B25)","v":""},{"$f":"IF('Initial Observation'!J25=\"\",\"\",\"X\")","v":""}]
[{"$f":"'Initial Observation'!A26","v":"00:00:00"},{"$f":"IF('Initial Observation'!B26=\"\",\"\",'Initial Observation'!B26)","v":""},{"$f":"IF('Initial Observation'!J26=\"\",\"\",\"X\")","v":""}]
[{"$f":"'Initial Observation'!A27","v":"00:00:00"},{"$f":"IF('Initial Observation'!B27=\"\",\"\",'Initial Observation'!B27)","v":""},{"$f":"IF('Initial Observation'!J27=\"\",\"\",\"X\")","v":""}]
[{"$f":"'Initial Observation'!A28","v":"00:00:00"},{"$f":"IF('Initial Observation'!B28=\"\",\"\",'Initial Observation'!B28)","v":""},{"$f":"IF('Initial Observation'!J28=\"\",\"\",\"X\")","v":""}]
[{"$f":"'Initial Observation'!A29","v":"00:00:00"},{"$f":"IF('Initial Observation'!B29=\"\",\"\",'Initial Observation'!B29)","v":""},{"$f":"IF('Initial Observation'!J29=\"\",\"\",\"X\")","v":""}]
[{"$f":"'Initial Observation'!A30","v":"00:00:00"},{"$f":"IF('Initial Observation'!B30=\"\",\"\",'Initial Observation'!B30)","v":""},{"$f":"IF('Initial Observation'!J30=\"\",\"\",\"X\")","v":""}]
[{"$f":"'Initial Observation'!A31","v":"00:00:00"},{"$f":"IF('Initial Observation'!B31=\"\",\"\",'Initial Observation'!B31)","v":""},{"$f":"IF('Initial Observation'!J31=\"\",\"\",\"X\")","v":""}]
[{"$f":"'Initial Observation'!A32","v":"00:00:00"},{"$f":"IF('Initial Observation'!B32=\"\",\"\",'Initial Observation'!B32)","v":""},{"$f":"IF('Initial Observation'!J32=\"\",\"\",\"X\")","v":""}]
[{"$f":"'Initial Observation'!A33","v":"00:00:00"},{"$f":"IF('Initial Observation'!B33=\"\",\"\",'Initial Observation'!B33)","v":""},{"$f":"IF('Initial Observation'!J33=\"\",\"\",\"X\")","v":""}]
[{"$f":"'Initial Observation'!A34","v":"00:00:00"},{"$f":"IF('Initial Observation'!B34=\"\",\"\",'Initial Observation'!B34)","v":""},{"$f":"IF('Initial Observation'!J34=\"\",\"\",\"X\")","v":""}]
[{"$f":"'Initial Observation'!A35","v":"00:00:00"},{"$f":"IF('Initial Observation'!B35=\"\",\"\",'Initial Observation'!B35)","v":""},{"$f":"IF('Initial Observation'!J35=\"\",\"\",\"X\")","v":""}]
[{"$f":"'Initial Observation'!A36","v":"00:00:00"},{"$f":"IF('Initial Observation'!B36=\"\",\"\",'Initial Observation'!B36)","v":""},{"$f":"IF('Initial Observation'!J36=\"\",\"\",\"X\")","v":""}]
[{"$f":"'Initial Observation'!A37","v":"00:00:00"},{"$f":"IF('Initial Observation'!B37=\"\",\"\",'Initial Observation'!B37)","v":""},{"$f":"IF('Initial Observation'!J37=\"\",\"\",\"X\")","v":""}]
[{"$f":"'Initial Observation'!A38","v":"00:00:00"},{"$f":"IF('Initial Observation'!B38=\"\",\"\",'Initial Observation'!B38)","v":""},{"$f":"IF('Initial Observation'!J38=\"\",\"\",\"X\")","v":""}]
[{"$f":"'Initial Observation'!A39","v":"00:00:00"},{"$f":"IF('Initial Observation'!B39=\"\",\"\",'Initial Observation'!B39)","v":""},{"$f":"IF('Initial Observation'!J39=\"\",\"\",\"X\")","v":""}]
[{"$f":"'Initial Observation'!A40","v":"00:00:00"},{"$f":"IF('Initial Observation'!B40=\"\",\"\",'Initial Observation'!B40)","v":""},{"$f":"IF('Initial Observation'!J40=\"\",\"\",\"X\")","v":""}]
[{"$f":"'Initial Observation'!A41","v":"00:00:00"},{"$f":"IF('Initial Observation'!B41=\"\",\"\",'Initial Observation'!B41)","v":""},{"$f":"IF('Initial Observation'!J41=\"\",\"\",\"X\")","v":""}]
[{"$f":"'Initial Observation'!A42","v":"00:00:00"},{"$f":"IF('Initial Observation'!B42=\"\",\"\",'Initial Observation'!B42)","v":""},{"$f":"IF('Initial Observation'!J42=\"\",\"\",\"X\")","v":""}]
[{"$f":"'Initial Observation'!A43","v":"00:00:00"},{"$f":"IF('Initial Observation'!B43=\"\",\"\",'Initial Observation'!B43)","v":""},{"$f":"IF('Initial Observation'!J43=\"\",\"\",\"X\")","v":""}]
[{"$f":"'Initial Observation'!A44","v":"00:00:00"},{"$f":"IF('Initial Observation'!B44=\"\",\"\",'Initial Observation'!B44)","v":""},{"$f":"IF('Initial Observation'!J44=\"\",\"\",\"X\")","v":""}]
[{"$f":"'Initial Observation'!A45","v":"00:00:00"},{"$f":"IF('Initial Observation'!B45=\"\",\"\",'Initial Observation'!B45)","v":""},{"$f":"IF('Initial Observation'!J45=\"\",\"\",\"X\")","v":""}]
[{"$f":"'Initial Observation'!A46","v":"00:00:00"},{"$f":"IF('Initial Observation'!B46=\"\",\"\",'Initial Observation'!B46)","v":""},{"$f":"IF('Initial Observation'!J46=\"\",\"\",\"X\")","v":""}]
[{"$f":"'Initial Observation'!A47","v":"00:00:00"},{"$f":"IF('Initial Observation'!B47=\"\",\"\",'Initial Observation'!B47)","v":""},{"$f":"IF('Initial Observation'!J47=\"\",\"\",\"X\")","v":""}]
[{"$f":"'Initial Observation'!A48","v":"00:00:00"},{"$f":"IF('Initial Observation'!B48=\"\",\"\",'Initial Observation'!B48)","v":""},{"$f":"IF('Initial Observation'!J48=\"\",\"\",\"X\")","v":""}]
[{"$f":"'Initial Observation'!A49","v":"00:00:00"},{"$f":"IF('Initial Observation'!B49=\"\",\"\",'Initial Observation'!B49)","v":""},{"$f":"IF('Initial Observation'!J49=\"\",\"\",\"X\")","v":""}]
[{"$f":"'Initial Observation'!A50","v":"00:00:00"},{"$f":"IF('Initial Observation'!B50=\"\",\"\",'Initial Observation'!B50)","v":""},{"$f":"IF('Initial Observation'!J50=\"\",\"\",\"X\")","v":""}]
[{"$f":"'Initial Observation'!A51","v":"00:00:00"},{"$f":"IF('Initial Observation'!B51=\"\",\"\",'Initial Observation'!B51)","v":""},{"$f":"IF('Initial Observation'!J51=\"\",\"\",\"X\")","v":""}]
[{"$f":"'Initial Observation'!A52","v":"00:00:00"},{"$f":"IF('Initial Observation'!B52=\"\",\"\",'Initial Observation'!B52)","v":""},{"$f":"IF('Initial Observation'!J52=\"\",\"\",\"X\")","v":""}]
[{"$f":"'Initial Observation'!A53","v":"00:00:00"},{"$f":"IF('Initial Observation'!B53=\"\",\"\",'Initial Observation'!B53)","v":""},{"$f":"IF('Initial Observation'!J53=\"\",\"\",\"X\")","v":""}]
[{"$f":"'Initial Observation'!A54","v":"00:00:00"},{"$f":"IF('Initial Observation'!B54=\"\",\"\",'Initial Observation'!B54)","v":""},{"$f":"IF('Initial Observation'!J54=\"\",\"\",\"X\")","v":""}]
[{"$f":"'Initial Observation'!A55","v":"00:00:00"},{"$f":"IF('Initial Observation'!B55=\"\",\"\",'Initial Observation'!B55)","v":""},{"$f":"IF('Initial Observation'!J55=\"\",\"\",\"X\")","v":""}]
[{"$f":"'Initial Observation'!A56","v":"00:00:00"},{"$f":"IF('Initial Observation'!B56=\"\",\"\",'Initial Observation'!B56)","v":""},{"$f":"IF('Initial Observation'!J56=\"\",\"\",\"X\")","v":""}]
[{"$f":"'Initial Observation'!A57","v":"00:00:00"},{"$f":"IF('Initial Observation'!B57=\"\",\"\",'Initial Observation'!B57)","v":""},{"$f":"IF('Initial Observation'!J57=\"\",\"\",\"X\")","v":""}]
[{"$f":"'Initial Observation'!A58","v":"00:00:00"},{"$f":"IF('Initial Observation'!B58=\"\",\"\",'Initial Observation'!B58)","v":""},{"$f":"IF('Initial Observation'!J58=\"\",\"\",\"X\")","v":""}]
[{"$f":"'Initial Observation'!A59","v":"00:00:00"},{"$f":"IF('Initial Observation'!B59=\"\",\"\",'Initial Observation'!B59)","v":""},{"$f":"IF('Initial Observation'!J59=\"\",\"\",\"X\")","v":""}]
[{"$f":"'Initial Observation'!A60","v":"00:00:00"},{"$f":"IF('Initial Observation'!B60=\"\",\"\",'Initial Observation'!B60)","v":""},{"$f":"IF('Initial Observation'!J60=\"\",\"\",\"X\")","v":""}]
[{"$f":"'Initial Observation'!A61","v":"00:00:00"},{"$f":"IF('Initial Observation'!B61=\"\",\"\",'Initial Observation'!B61)","v":""},{"$f":"IF('Initial Observation'!J61=\"\",\"\",\"X\")","v":""}]
[{"$f":"'Initial Observation'!A62","v":"00:00:00"},{"$f":"IF('Initial Observation'!B62=\"\",\"\",'Initial Observation'!B62)","v":""},{"$f":"IF('Initial Observation'!J62=\"\",\"\",\"X\")","v":""}]
[{"$f":"'Initial Observation'!A63","v":"00:00:00"},{"$f":"IF('Initial Observation'!B63=\"\",\"\",'Initial Observation'!B63)","v":""},{"$f":"IF('Initial Observation'!J63=\"\",\"\",\"X\")","v":""}]
[{"$f":"'Initial Observation'!A64","v":"00:00:00"},{"$f":"IF('Initial Observation'!B64=\"\",\"\",'Initial Observation'!B64)","v":""},{"$f":"IF('Initial Observation'!J64=\"\",\"\",\"X\")","v":""}]
[{"$f":"'Initial Observation'!A65","v":"00:00:00"},{"$f":"IF('Initial Observation'!B65=\"\",\"\",'Initial Observation'!B65)","v":""},{"$f":"IF('Initial Observation'!J65=\"\",\"\",\"X\")","v":""}]
[{"$f":"'Initial Observation'!A66","v":"00:00:00"},{"$f":"IF('Initial Observation'!B66=\"\",\"\",'Initial Observation'!B66)","v":""},{"$f":"IF('Initial Observation'!J66=\"\",\"\",\"X\")","v":""}]
[{"$f":"'Initial Observation'!A67","v":"00:00:00"},{"$f":"IF('Initial Observation'!B67=\"\",\"\",'Initial Observation'!B67)","v":""},{"$f":"IF('Initial Observation'!J67=\"\",\"\",\"X\")","v":""}]
[{"$f":"'Initial Observation'!A68","v":"00:00:00"},{"$f":"IF('Initial Observation'!B68=\"\",\"\",'Initial Observation'!B68)","v":""},{"$f":"IF('Initial Observation'!J68=\"\",\"\",\"X\")","v":""}]
[{"$f":"'Initial Observation'!A69","v":"00:00:00"},{"$f":"IF('Initial Observation'!B69=\"\",\"\",'Initial Observation'!B69)","v":""},{"$f":"IF('Initial Observation'!J69=\"\",\"\",\"X\")","v":""}]
[{"$f":"'Initial Observation'!A70","v":"00:00:00"},{"$f":"IF('Initial Observation'!B70=\"\",\"\",'Initial Observation'!B70)","v":""},{"$f":"IF('Initial Observation'!J70=\"\",\"\",\"X\")","v":""}]
[{"$f":"'Initial Observation'!A71","v":"00:00:00"},{"$f":"IF('Initial Observation'!B71=\"\",\"\",'Initial Observation'!B71)","v":""},{"$f":"IF('Initial Observation'!J71=\"\",\"\",\"X\")","v":""}]
[{"$f":"'Initial Observation'!A72","v":"00:00:00"},{"$f":"IF('Initial Observation'!B72=\"\",\"\",'Initial Observation'!B72)","v":""},{"$f":"IF('Initial Observation'!J72=\"\",\"\",\"X\")","v":""}]
[{"$f":"'Initial Observation'!A73","v":"00:00:00"},{"$f":"IF('Initial Observation'!B73=\"\",\"\",'Initial Observation'!B73)","v":""},{"$f":"IF('Initial Observation'!J73=\"\",\"\",\"X\")","v":""}]
[{"$f":"'Initial Observation'!A74","v":"00:00:00"},{"$f":"IF('Initial Observation'!B74=\"\",\"\",'Initial Observation'!B74)","v":""},{"$f":"IF('Initial Observation'!J74=\"\",\"\",\"X\")","v":""}]
[{"$f":"'Initial Observation'!A75","v":"00:00:00"},{"$f":"IF('Initial Observation'!B75=\"\",\"\",'Initial Observation'!B75)","v":""},{"$f":"IF('Initial Observation'!J75=\"\",\"\",\"X\")","v":""}]
[{"$f":"'Initial Observation'!A76","v":"00:00:00"},{"$f":"IF('Initial Observation'!B76=\"\",\"\",'Initial Observation'!B76)","v":""},{"$f":"IF('Initial Observation'!J76=\"\",\"\",\"X\")","v":""}]
[{"$f":"'Initial Observation'!A77","v":"00:00:00"},{"$f":"IF('Initial Observation'!B77=\"\",\"\",'Initial Observation'!B77)","v":""},{"$f":"IF('Initial Observation'!J77=\"\",\"\",\"X\")","v":""}]
[{"$f":"'Initial Observation'!A78","v":"00:00:00"},{"$f":"IF('Initial Observation'!B78=\"\",\"\",'Initial Observation'!B78)","v":""},{"$f":"IF('Initial Observation'!J78=\"\",\"\",\"X\")","v":""}]
[{"$f":"'Initial Observation'!A79","v":"00:00:00"},{"$f":"IF('Initial Observation'!B79=\"\",\"\",'Initial Observation'!B79)","v":""},{"$f":"IF('Initial Observation'!J79=\"\",\"\",\"X\")","v":""}]
[{"$f":"'Initial Observation'!A80","v":"00:00:00"},{"$f":"IF('Initial Observation'!B80=\"\",\"\",'Initial Observation'!B80)","v":""},{"$f":"IF('Initial Observation'!J80=\"\",\"\",\"X\")","v":""}]
[{"$f":"'Initial Observation'!A81","v":"00:00:00"},{"$f":"IF('Initial Observation'!B81=\"\",\"\",'Initial Observation'!B81)","v":""},{"$f":"IF('Initial Observation'!J81=\"\",\"\",\"X\")","v":""}]
[{"$f":"'Initial Observation'!A82","v":"00:00:00"},{"$f":"IF('Initial Observation'!B82=\"\",\"\",'Initial Observation'!B82)","v":""},{"$f":"IF('Initial Observation'!J82=\"\",\"\",\"X\")","v":""}]
[{"$f":"'Initial Observation'!A83","v":"00:00:00"},{"$f":"IF('Initial Observation'!B83=\"\",\"\",'Initial Observation'!B83)","v":""},{"$f":"IF('Initial Observation'!J83=\"\",\"\",\"X\")","v":""}]
[{"$f":"'Initial Observation'!A84","v":"00:00:00"},{"$f":"IF('Initial Observation'!B84=\"\",\"\",'Initial Observation'!B84)","v":""},{"$f":"IF('Initial Observation'!J84=\"\",\"\",\"X\")","v":""}]
[{"$f":"'Initial Observation'!A85","v":"00:00:00"},{"$f":"IF('Initial Observation'!B85=\"\",\"\",'Initial Observation'!B85)","v":""},{"$f":"IF('Initial Observation'!J85=\"\",\"\",\"X\")","v":""}]
[{"$f":"'Initial Observation'!A86","v":"00:00:00"},{"$f":"IF('Initial Observation'!B86=\"\",\"\",'Initial Observation'!B86)","v":""},{"$f":"IF('Initial Observation'!J86=\"\",\"\",\"X\")","v":""}]
[{"$f":"'Initial Observation'!A87","v":"00:00:00"},{"$f":"IF('Initial Observation'!B87=\"\",\"\",'Initial Observation'!B87)","v":""},{"$f":"IF('Initial Observation'!J87=\"\",\"\",\"X\")","v":""}]
[{"$f":"'Initial Observation'!A88","v":"00:00:00"},{"$f":"IF('Initial Observation'!B88=\"\",\"\",'Initial Observation'!B88)","v":""},{"$f":"IF('Initial Observation'!J88=\"\",\"\",\"X\")","v":""}]
[{"$f":"'Initial Observation'!A89","v":"00:00:00"},{"$f":"IF('Initial Observation'!B89=\"\",\"\",'Initial Observation'!B89)","v":""},{"$f":"IF('Initial Observation'!J89=\"\",\"\",\"X\")","v":""}]
[{"$f":"'Initial Observation'!A90","v":"00:00:00"},{"$f":"IF('Initial Observation'!B90=\"\",\"\",'Initial Observation'!B90)","v":""},{"$f":"IF('Initial Observation'!J90=\"\",\"\",\"X\")","v":""}]
[{"$f":"'Initial Observation'!A91","v":"00:00:00"},{"$f":"IF('Initial Observation'!B91=\"\",\"\",'Initial Observation'!B91)","v":""},{"$f":"IF('Initial Observation'!J91=\"\",\"\",\"X\")","v":""}]
[{"$f":"'Initial Observation'!A92","v":"00:00:00"},{"$f":"IF('Initial Observation'!B92=\"\",\"\",'Initial Observation'!B92)","v":""},{"$f":"IF('Initial Observation'!J92=\"\",\"\",\"X\")","v":""}]
[{"$f":"'Initial Observation'!A93","v":"00:00:00"},{"$f":"IF('Initial Observation'!B93=\"\",\"\",'Initial Observation'!B93)","v":""},{"$f":"IF('Initial Observation'!J93=\"\",\"\",\"X\")","v":""}]
[{"$f":"'Initial Observation'!A94","v":"00:00:00"},{"$f":"IF('Initial Observation'!B94=\"\",\"\",'Initial Observation'!B94)","v":""},{"$f":"IF('Initial Observation'!J94=\"\",\"\",\"X\")","v":""}]
[{"$f":"'Initial Observation'!A95","v":"00:00:00"},{"$f":"IF('Initial Observation'!B95=\"\",\"\",'Initial Observation'!B95)","v":""},{"$f":"IF('Initial Observation'!J95=\"\",\"\",\"X\")","v":""}]
[{"$f":"'Initial Observation'!A96","v":"00:00:00"},{"$f":"IF('Initial Observation'!B96=\"\",\"\",'Initial Observation'!B96)","v":""},{"$f":"IF('Initial Observation'!J96=\"\",\"\",\"X\")","v":""}]
[{"$f":"'Initial Observation'!A97","v":"00:00:00"},{"$f":"IF('Initial Observation'!B97=\"\",\"\",'Initial Observation'!B97)","v":""},{"$f":"IF('Initial Observation'!J97=\"\",\"\",\"X\")","v":""}]
[{"$f":"'Initial Observation'!A98","v":"00:00:00"},{"$f":"IF('Initial Observation'!B98=\"\",\"\",'Initial Observation'!B98)","v":""},{"$f":"IF('Initial Observation'!J98=\"\",\"\",\"X\")","v":""}]
[{"$f":"'Initial Observation'!A99","v":"00:00:00"},{"$f":"IF('Initial Observation'!B99=\"\",\"\",'Initial Observation'!B99)","v":""},{"$f":"IF('Initial Observation'!J99=\"\",\"\",\"X\")","v":""}]
[{"$f":"'Initial Observation'!A100","v":"00:00:00"},{"$f":"IF('Initial Observation'!B100=\"\",\"\",'Initial Observation'!B100)","v":""},{"$f":"IF('Initial Observation'!J100=\"\",\"\",\"X\")","v":""}]
[{"$f":"'Initial Observation'!A101","v":"00:00:00"},{"$f":"IF('Initial Observation'!B101=\"\",\"\",'Initial Observation'!B101)","v":""},{"$f":"IF('Initial Observation'!J101=\"\",\"\",\"X\")","v":""}]
[{"$f":"'Initial Observation'!A102","v":"00:00:00"},{"$f":"IF('Initial Observation'!B102=\"\",\"\",'Initial Observation'!B102)","v":""},{"$f":"IF('Initial Observation'!J102=\"\",\"\",\"X\")","v":""}]
[{"$f":"'Initial Observation'!A103","v":"00:00:00"},{"$f":"IF('Initial Observation'!B103=\"\",\"\",'Initial Observation'!B103)","v":""},{"$f":"IF('Initial Observation'!J103=\"\",\"\",\"X\")","v":""}]
[{"$f":"'Initial Observation'!A104","v":"00:00:00"},{"$f":"IF('Initial Observation'!B104=\"\",\"\",'Initial Observation'!B104)","v":""},{"$f":"IF('Initial Observation'!J104=\"\",\"\",\"X\")","v":""}]
[{"$f":"'Initial Observation'!A105","v":"00:00:00"},{"$f":"IF('Initial Observation'!B105=\"\",\"\",'Initial Observation'!B105)","v":""},{"$f":"IF('Initial Observation'!J105=\"\",\"\",\"X\")","v":""}]
[{"$f":"'Initial Observation'!A106","v":"00:00:00"},{"$f":"IF('Initial Observation'!B106=\"\",\"\",'Initial Observation'!B106)","v":""},{"$f":"IF('Initial Observation'!J106=\"\",\"\",\"X\")","v":""}]
[{"$f":"'Initial Observation'!A107","v":"00:00:00"},{"$f":"IF('Initial Observation'!B107=\"\",\"\",'Initial Observation'!B107)","v":""},{"$f":"IF('Initial Observation'!J107=\"\",\"\",\"X\")","v":""}]
[{"$f":"'Initial Observation'!A108","v":"00:00:00"},{"$f":"IF('Initial Observation'!B108=\"\",\"\",'Initial Observation'!B108)","v":""},{"$f":"IF('Initial Observation'!J108=\"\",\"\",\"X\")","v":""}]
[{"$f":"'Initial Observation'!A109","v":"00:00:00"},{"$f":"IF('Initial Observation'!B109=\"\",\"\",'Initial Observation'!B109)","v":""},{"$f":"IF('Initial Observation'!J109=\"\",\"\",\"X\")","v":""}]
[{"$f":"'Initial Observation'!A110","v":"00:00:00"},{"$f":"IF('Initial Observation'!B110=\"\",\"\",'Initial Observation'!B110)","v":""},{"$f":"IF('Initial Observation'!J110=\"\",\"\",\"X\")","v":""}]
[{"$f":"'Initial Observation'!A111","v":"00:00:00"},{"$f":"IF('Initial Observation'!B111=\"\",\"\",'Initial Observation'!B111)","v":""},{"$f":"IF('Initial Observation'!J111=\"\",\"\",\"X\")","v":""}]
[{"$f":"'Initial Observation'!A112","v":"00:00:00"},{"$f":"IF('Initial Observation'!B112=\"\",\"\",'Initial Observation'!B112)","v":""},{"$f":"IF('Initial Observation'!J112=\"\",\"\",\"X\")","v":""}]
[{"$f":"'Initial Observation'!A113","v":"00:00:00"},{"$f":"IF('Initial Observation'!B113=\"\",\"\",'Initial Observation'!B113)","v":""},{"$f":"IF('Initial Observation'!J113=\"\",\"\",\"X\")","v":""}]
[{"$f":"'Initial Observation'!A114","v":"00:00:00"},{"$f":"IF('Initial Observation'!B114=\"\",\"\",'Initial Observation'!B114)","v":""},{"$f":"IF('Initial Observation'!J114=\"\",\"\",\"X\")","v":""}]
[{"$f":"'Initial Observation'!A115","v":"00:00:00"},{"$f":"IF('Initial Observation'!B115=\"\",\"\",'Initial Observation'!B115)","v":""},{"$f":"IF('Initial Observation'!J115=\"\",\"\",\"X\")","v":""}]
[{"$f":"'Initial Observation'!A116","v":"00:00:00"},{"$f":"IF('Initial Observation'!B116=\"\",\"\",'Initial Observation'!B116)","v":""},{"$f":"IF('Initial Observation'!J116=\"\",\"\",\"X\")","v":""}]
[{"$f":"'Initial Observation'!A117","v":"00:00:00"},{"$f":"IF('Initial Observation'!B117=\"\",\"\",'Initial Observation'!B117)","v":""},{"$f":"IF('Initial Observation'!J117=\"\",\"\",\"X\")","v":""}]
[{"$f":"'Initial Observation'!A118","v":"00:00:00"},{"$f":"IF('Initial Observation'!B118=\"\",\"\",'Initial Observation'!B118)","v":""},{"$f":"IF('Initial Observation'!J118=\"\",\"\",\"X\")","v":""}]
[{"$f":"'Initial Observation'!A119","v":"00:00:00"},{"$f":"IF('Initial Observation'!B119=\"\",\"\",'Initial Observation'!B119)","v":""},{"$f":"IF('Initial Observation'!J119=\"\",\"\",\"X\")","v":""}]
[{"$f":"'Initial Observation'!A120","v":"00:00:00"},{"$f":"IF('Initial Observation'!B120=\"\",\"\",'Initial Observation'!B120)","v":""},{"$f":"IF('Initial Observation'!J120=\"\",\"\",\"X\")","v":""}]
[{"$f":"'Initial Observation'!A121","v":"00:00:00"},{"$f":"IF('Initial Observation'!B121=\"\",\"\",'Initial Observation'!B121)","v":""},{"$f":"IF('Initial Observation'!J121=\"\",\"\",\"X\")","v":""}]
[{"$f":"'Initial Observation'!A122","v":"00:00:00"},{"$f":"IF('Initial Observation'!B122=\"\",\"\",'Initial Observation'!B122)","v":""},{"$f":"IF('Initial Observation'!J122=\"\",\"\",\"X\")","v":""}]
[{"$f":"'Initial Observation'!A123","v":"00:00:00"},{"$f":"IF('Initial Observation'!B123=\"\",\"\",'Initial Observation'!B123)","v":""},{"$f":"IF('Initial Observation'!J123=\"\",\"\",\"X\")","v":""}]
[{"$f":"'Initial Observation'!A124","v":"00:00:00"},{"$f":"IF('Initial Observation'!B124=\"\",\"\",'Initial Observation'!B124)","v":""},{"$f":"IF('Initial Observation'!J124=\"\",\"\",\"X\")","v":""}]
[{"$f":"'Initial Observation'!A125","v":"00:00:00"},{"$f":"IF('Initial Observation'!B125=\"\",\"\",'Initial Observation'!B125)","v":""},{"$f":"IF('Initial Observation'!J125=\"\",\"\",\"X\")","v":""}]
[{"$f":"'Initial Observation'!A126","v":"00:00:00"},{"$f":"IF('Initial Observation'!B126=\"\",\"\",'Initial Observation'!B126)","v":""},{"$f":"IF('Initial Observation'!J126=\"\",\"\",\"X\")","v":""}]
[{"$f":"'Initial Observation'!A127","v":"00:00:00"},{"$f":"IF('Initial Observation'!B127=\"\",\"\",'Initial Observation'!B127)","v":""},{"$f":"IF('Initial Observation'!J127=\"\",\"\",\"X\")","v":""}]
[{"$f":"'Initial Observation'!A128","v":"00:00:00"},{"$f":"IF('Initial Observation'!B128=\"\",\"\",'Initial Observation'!B128)","v":""},{"$f":"IF('Initial Observation'!J128=\"\",\"\",\"X\")","v":""}]
[{"$f":"'Initial Observation'!A129","v":"00:00:00"},{"$f":"IF('Initial Observation'!B129=\"\",\"\",'Initial Observation'!B129)","v":""},{"$f":"IF('Initial Observation'!J129=\"\",\"\",\"X\")","v":""}]
[{"$f":"'Initial Observation'!A130","v":"00:00:00"},{"$f":"IF('Initial Observation'!B130=\"\",\"\",'Initial Observation'!B130)","v":""},{"$f":"IF('Initial Observation'!J130=\"\",\"\",\"X\")","v":""}]
[{"$f":"'Initial Observation'!A131","v":"00:00:00"},{"$f":"IF('Initial Observation'!B131=\"\",\"\",'Initial Observation'!B131)","v":""},{"$f":"IF('Initial Observation'!J131=\"\",\"\",\"X\")","v":""}]
[{"$f":"'Initial Observation'!A132","v":"00:00:00"},{"$f":"IF('Initial Observation'!B132=\"\",\"\",'Initial Observation'!B132)","v":""},{"$f":"IF('Initial Observation'!J132=\"\",\"\",\"X\")","v":""}]
[{"$f":"'Initial Observation'!A133","v":"00:00:00"},{"$f":"IF('Initial Observation'!B133=\"\",\"\",'Initial Observation'!B133)","v":""},{"$f":"IF('Initial Observation'!J133=\"\",\"\",\"X\")","v":""}]
[{"$f":"'Initial Observation'!A134","v":"00:00:00"},{"$f":"IF('Initial Observation'!B134=\"\",\"\",'Initial Observation'!B134)","v":""},{"$f":"IF('Initial Observation'!J134=\"\",\"\",\"X\")","v":""}]
[{"$f":"'Initial Observation'!A135","v":"00:00:00"},{"$f":"IF('Initial Observation'!B135=\"\",\"\",'Initial Observation'!B135)","v":""},{"$f":"IF('Initial Observation'!J135=\"\",\"\",\"X\")","v":""}]
[{"$f":"'Initial Observation'!A136","v":"00:00:00"},{"$f":"IF('Initial Observation'!B136=\"\",\"\",'Initial Observation'!B136)","v":""},{"$f":"IF('Initial Observation'!J136=\"\",\"\",\"X\")","v":""}]
[{"$f":"'Initial Observation'!A137","v":"00:00:00"},{"$f":"IF('Initial Observation'!B137=\"\",\"\",'Initial Observation'!B137)","v":""},{"$f":"IF('Initial Observation'!J137=\"\",\"\",\"X\")","v":""}]
[{"$f":"'Initial Observation'!A138","v":"00:00:00"},{"$f":"IF('Initial Observation'!B138=\"\",\"\",'Initial Observation'!B138)","v":""},{"$f":"IF('Initial Observation'!J138=\"\",\"\",\"X\")","v":""}]
[{"$f":"'Initial Observation'!A139","v":"00:00:00"},{"$f":"IF('Initial Observation'!B139=\"\",\"\",'Initial Observation'!B139)","v":""},{"$f":"IF('Initial Observation'!J139=\"\",\"\",\"X\")","v":""}]
[{"$f":"'Initial Observation'!A140","v":"00:00:00"},{"$f":"IF('Initial Observation'!B140=\"\",\"\",'Initial Observation'!B140)","v":""},{"$f":"IF('Initial Observation'!J140=\"\",\"\",\"X\")","v":""}]
[{"$f":"'Initial Observation'!A141","v":"00:00:00"},{"$f":"IF('Initial Observation'!B141=\"\",\"\",'Initial Observation'!B141)","v":""},{"$f":"IF('Initial Observation'!J141=\"\",\"\",\"X\")","v":""}]
[{"$f":"'Initial Observation'!A142","v":"00:00:00"},{"$f":"IF('Initial Observation'!B142=\"\",\"\",'Initial Observation'!B142)","v":""},{"$f":"IF('Initial Observation'!J142=\"\",\"\",\"X\")","v":""}]
[{"$f":"'Initial Observation'!A143","v":"00:00:00"},{"$f":"IF('Initial Observation'!B143=\"\",\"\",'Initial Observation'!B143)","v":""},{"$f":"IF('Initial Observation'!J143=\"\",\"\",\"X\")","v":""}]
[{"$f":"'Initial Observation'!A144","v":"00:00:00"},{"$f":"IF('Initial Observation'!B144=\"\",\"\",'Initial Observation'!B144)","v":""},{"$f":"IF('Initial Observation'!J144=\"\",\"\",\"X\")","v":""}]
[{"$f":"'Initial Observation'!A145","v":"00:00:00"},{"$f":"IF('Initial Observation'!B145=\"\",\"\",'Initial Observation'!B145)","v":""},{"$f":"IF('Initial Observation'!J145=\"\",\"\",\"X\")","v":""}]
[{"$f":"'Initial Observation'!A146","v":"00:00:00"},{"$f":"IF('Initial Observation'!B146=\"\",\"\",'Initial Observation'!B146)","v":""},{"$f":"IF('Initial Observation'!J146=\"\",\"\",\"X\")","v":""}]
[{"$f":"'Initial Observation'!A147","v":"00:00:00"},{"$f":"IF('Initial Observation'!B147=\"\",\"\",'Initial Observation'!B147)","v":""},{"$f":"IF('Initial Observation'!J147=\"\",\"\",\"X\")","v":""}]
[{"$f":"'Initial Observation'!A148","v":"00:00:00"},{"$f":"IF('Initial Observation'!B148=\"\",\"\",'Initial Observation'!B148)","v":""},{"$f":"IF('Initial Observation'!J148=\"\",\"\",\"X\")","v":""}]
[{"$f":"'Initial Observation'!A149","v":"00:00:00"},{"$f":"IF('Initial Observation'!B149=\"\",\"\",'Initial Observation'!B149)","v":""},{"$f":"IF('Initial Observation'!J149=\"\",\"\",\"X\")","v":""}]
[{"$f":"'Initial Observation'!A150","v":"00:00:00"},{"$f":"IF('Initial Observation'!B150=\"\",\"\",'Initial Observation'!B150)","v":""},{"$f":"IF('Initial Observation'!J150=\"\",\"\",\"X\")","v":""}]
[{"$f":"'Initial Observation'!A151","v":"00:00:00"},{"$f":"IF('Initial Observation'!B151=\"\",\"\",'Initial Observation'!B151)","v":""},{"$f":"IF('Initial Observation'!J151=\"\",\"\",\"X\")","v":""}]
[{"$f":"'Initial Observation'!A152","v":"00:00:00"},{"$f":"IF('Initial Observation'!B152=\"\",\"\",'Initial Observation'!B152)","v":""},{"$f":"IF('Initial Observation'!J152=\"\",\"\",\"X\")","v":""}]
[{"$f":"'Initial Observation'!A153","v":"00:00:00"},{"$f":"IF('Initial Observation'!B153=\"\",\"\",'Initial Observation'!B153)","v":""},{"$f":"IF('Initial Observation'!J153=\"\",\"\",\"X\")","v":""}]
[{"$f":"'Initial Observation'!A154","v":"00:00:00"},{"$f":"IF('Initial Observation'!B154=\"\",\"\",'Initial Observation'!B154)","v":""},{"$f":"IF('Initial Observation'!J154=\"\",\"\",\"X\")","v":""}]
[{"$f":"'Initial Observation'!A155","v":"00:00:00"},{"$f":"IF('Initial Observation'!B155=\"\",\"\",'Initial Observation'!B155)","v":""},{"$f":"IF('Initial Observation'!J155=\"\",\"\",\"X\")","v":""}]
[{"$f":"'Initial Observation'!A156","v":"00:00:00"},{"$f":"IF('Initial Observation'!B156=\"\",\"\",'Initial Observation'!B156)","v":""},{"$f":"IF('Initial Observation'!J156=\"\",\"\",\"X\")","v":""}]
[{"$f":"'Initial Observation'!A157","v":"00:00:00"},{"$f":"IF('Initial Observation'!B157=\"\",\"\",'Initial Observation'!B157)","v":""},{"$f":"IF('Initial Observation'!J157=\"\",\"\",\"X\")","v":""}]
[{"$f":"'Initial Observation'!A158","v":"00:00:00"},{"$f":"IF('Initial Observation'!B158=\"\",\"\",'Initial Observation'!B158)","v":""},{"$f":"IF('Initial Observation'!J158=\"\",\"\",\"X\")","v":""}]
[{"$f":"'Initial Observation'!A159","v":"00:00:00"},{"$f":"IF('Initial Observation'!B159=\"\",\"\",'Initial Observation'!B159)","v":""},{"$f":"IF('Initial Observation'!J159=\"\",\"\",\"X\")","v":""}]
[{"$f":"'Initial Observation'!A160","v":"00:00:00"},{"$f":"IF('Initial Observation'!B160=\"\",\"\",'Initial Observation'!B160)","v":""},{"$f":"IF('Initial Observation'!J160=\"\",\"\",\"X\")","v":""}]
[{"$f":"'Initial Observation'!A161","v":"00:00:00"},{"$f":"IF('Initial Observation'!B161=\"\",\"\",'Initial Observation'!B161)","v":""},{"$f":"IF('Initial Observation'!J161=\"\",\"\",\"X\")","v":""}]
[{"$f":"'Initial Observation'!A162","v":"00:00:00"},{"$f":"IF('Initial Observation'!B162=\"\",\"\",'Initial Observation'!B162)","v":""},{"$f":"IF('Initial Observation'!J162=\"\",\"\",\"X\")","v":""}]
[{"$f":"'Initial Observation'!A163","v":"00:00:00"},{"$f":"IF('Initial Observation'!B163=\"\",\"\",'Initial Observation'!B163)","v":""},{"$f":"IF('Initial Observation'!J163=\"\",\"\",\"X\")","v":""}]
[{"$f":"'Initial Observation'!A164","v":"00:00:00"},{"$f":"IF('Initial Observation'!B164=\"\",\"\",'Initial Observation'!B164)","v":""},{"$f":"IF('Initial Observation'!J164=\"\",\"\",\"X\")","v":""}]
[{"$f":"'Initial Observation'!A165","v":"00:00:00"},{"$f":"IF('Initial Observation'!B165=\"\",\"\",'Initial Observation'!B165)","v":""},{"$f":"IF('Initial Observation'!J165=\"\",\"\",\"X\")","v":""}]
[{"$f":"'Initial Observation'!A166","v":"00:00:00"},{"$f":"IF('Initial Observation'!B166=\"\",\"\",'Initial Observation'!B166)","v":""},{"$f":"IF('Initial Observation'!J166=\"\",\"\",\"X\")","v":""}]
[{"$f":"'Initial Observation'!A167","v":"00:00:00"},{"$f":"IF('Initial Observation'!B167=\"\",\"\",'Initial Observation'!B167)","v":""},{"$f":"IF('Initial Observation'!J167=\"\",\"\",\"X\")","v":""}]
[{"$f":"'Initial Observation'!A168","v":"00:00:00"},{"$f":"IF('Initial Observation'!B168=\"\",\"\",'Initial Observation'!B168)","v":""},{"$f":"IF('Initial Observation'!J168=\"\",\"\",\"X\")","v":""}]
[{"$f":"'Initial Observation'!A169","v":"00:00:00"},{"$f":"IF('Initial Observation'!B169=\"\",\"\",'Initial Observation'!B169)","v":""},{"$f":"IF('Initial Observation'!J169=\"\",\"\",\"X\")","v":""}]
[{"$f":"'Initial Observation'!A170","v":"00:00:00"},{"$f":"IF('Initial Observation'!B170=\"\",\"\",'Initial Observation'!B170)","v":""},{"$f":"IF('Initial Observation'!J170=\"\",\"\",\"X\")","v":""}]
[{"$f":"'Initial Observation'!A171","v":"00:00:00"},{"$f":"IF('Initial Observation'!B171=\"\",\"\",'Initial Observation'!B171)","v":""},{"$f":"IF('Initial Observation'!J171=\"\",\"\",\"X\")","v":""}]
[{"$f":"'Initial Observation'!A172","v":"00:00:00"},{"$f":"IF('Initial Observation'!B172=\"\",\"\",'Initial Observation'!B172)","v":""},{"$f":"IF('Initial Observation'!J172=\"\",\"\",\"X\")","v":""}]
[{"$f":"'Initial Observation'!A173","v":"00:00:00"},{"$f":"IF('Initial Observation'!B173=\"\",\"\",'Initial Observation'!B173)","v":""},{"$f":"IF('Initial Observation'!J173=\"\",\"\",\"X\")","v":""}]
[{"$f":"'Initial Observation'!A174","v":"00:00:00"},{"$f":"IF('Initial Observation'!B174=\"\",\"\",'Initial Observation'!B174)","v":""},{"$f":"IF('Initial Observation'!J174=\"\",\"\",\"X\")","v":""}]
[{"$f":"'Initial Observation'!A175","v":"00:00:00"},{"$f":"IF('Initial Observation'!B175=\"\",\"\",'Initial Observation'!B175)","v":""},{"$f":"IF('Initial Observation'!J175=\"\",\"\",\"X\")","v":""}]
[{"$f":"'Initial Observation'!A176","v":"00:00:00"},{"$f":"IF('Initial Observation'!B176=\"\",\"\",'Initial Observation'!B176)","v":""},{"$f":"IF('Initial Observation'!J176=\"\",\"\",\"X\")","v":""}]
[{"$f":"'Initial Observation'!A177","v":"00:00:00"},{"$f":"IF('Initial Observation'!B177=\"\",\"\",'Initial Observation'!B177)","v":""},{"$f":"IF('Initial Observation'!J177=\"\",\"\",\"X\")","v":""}]
[{"$f":"'Initial Observation'!A178","v":"00:00:00"},{"$f":"IF('Initial Observation'!B178=\"\",\"\",'Initial Observation'!B178)","v":""},{"$f":"IF('Initial Observation'!J178=\"\",\"\",\"X\")","v":""}]
[{"$f":"'Initial Observation'!A179","v":"00:00:00"},{"$f":"IF('Initial Observation'!B179=\"\",\"\",'Initial Observation'!B179)","v":""},{"$f":"IF('Initial Observation'!J179=\"\",\"\",\"X\")","v":""}]
[{"$f":"'Initial Observation'!A180","v":"00:00:00"},{"$f":"IF('Initial Observation'!B180=\"\",\"\",'Initial Observation'!B180)","v":""},{"$f":"IF('Initial Observation'!J180=\"\",\"\",\"X\")","v":""}]
[{"$f":"'Initial Observation'!A181","v":"00:00:00"},{"$f":"IF('Initial Observation'!B181=\"\",\"\",'Initial Observation'!B181)","v":""},{"$f":"IF('Initial Observation'!J181=\"\",\"\",\"X\")","v":""}]
[{"$f":"'Initial Observation'!A182","v":"00:00:00"},{"$f":"IF('Initial Observation'!B182=\"\",\"\",'Initial Observation'!B182)","v":""},{"$f":"IF('Initial Observation'!J182=\"\",\"\",\"X\")","v":""}]
[{"$f":"'Initial Observation'!A183","v":"00:00:00"},{"$f":"IF('Initial Observation'!B183=\"\",\"\",'Initial Observation'!B183)","v":""},{"$f":"IF('Initial Observation'!J183=\"\",\"\",\"X\")","v":""}]
[{"$f":"'Initial Observation'!A184","v":"00:00:00"},{"$f":"IF('Initial Observation'!B184=\"\",\"\",'Initial Observation'!B184)","v":""},{"$f":"IF('Initial Observation'!J184=\"\",\"\",\"X\")","v":""}]
[{"$f":"'Initial Observation'!A185","v":"00:00:00"},{"$f":"IF('Initial Observation'!B185=\"\",\"\",'Initial Observation'!B185)","v":""},{"$f":"IF('Initial Observation'!J185=\"\",\"\",\"X\")","v":""}]
[{"$f":"'Initial Observation'!A186","v":"00:00:00"},{"$f":"IF('Initial Observation'!B186=\"\",\"\",'Initial Observation'!B186)","v":""},{"$f":"IF('Initial Observation'!J186=\"\",\"\",\"X\")","v":""}]
[{"$f":"'Initial Observation'!A187","v":"00:00:00"},{"$f":"IF('Initial Observation'!B187=\"\",\"\",'Initial Observation'!B187)","v":""},{"$f":"IF('Initial Observation'!J187=\"\",\"\",\"X\")","v":""}]
[{"$f":"'Initial Observation'!A188","v":"00:00:00"},{"$f":"IF('Initial Observation'!B188=\"\",\"\",'Initial Observation'!B188)","v":""},{"$f":"IF('Initial Observation'!J188=\"\",\"\",\"X\")","v":""}]
[{"$f":"'Initial Observation'!A189","v":"00:00:00"},{"$f":"IF('Initial Observation'!B189=\"\",\"\",'Initial Observation'!B189)","v":""},{"$f":"IF('Initial Observation'!J189=\"\",\"\",\"X\")","v":""}]
[{"$f":"'Initial Observation'!A190","v":"00:00:00"},{"$f":"IF('Initial Observation'!B190=\"\",\"\",'Initial Observation'!B190)","v":""},{"$f":"IF('Initial Observation'!J190=\"\",\"\",\"X\")","v":""}]
[{"$f":"'Initial Observation'!A191","v":"00:00:00"},{"$f":"IF('Initial Observation'!B191=\"\",\"\",'Initial Observation'!B191)","v":""},{"$f":"IF('Initial Observation'!J191=\"\",\"\",\"X\")","v":""}]
[{"$f":"'Initial Observation'!A192","v":"00:00:00"},{"$f":"IF('Initial Observation'!B192=\"\",\"\",'Initial Observation'!B192)","v":""},{"$f":"IF('Initial Observation'!J192=\"\",\"\",\"X\")","v":""}]
[{"$f":"'Initial Observation'!A193","v":"00:00:00"},{"$f":"IF('Initial Observation'!B193=\"\",\"\",'Initial Observation'!B193)","v":""},{"$f":"IF('Initial Observation'!J193=\"\",\"\",\"X\")","v":""}]
[{"$f":"'Initial Observation'!A194","v":"00:00:00"},{"$f":"IF('Initial Observation'!B194=\"\",\"\",'Initial Observation'!B194)","v":""},{"$f":"IF('Initial Observation'!J194=\"\",\"\",\"X\")","v":""}]
[{"$f":"'Initial Observation'!A195","v":"00:00:00"},{"$f":"IF('Initial Observation'!B195=\"\",\"\",'Initial Observation'!B195)","v":""},{"$f":"IF('Initial Observation'!J195=\"\",\"\",\"X\")","v":""}]
[{"$f":"'Initial Observation'!A196","v":"00:00:00"},{"$f":"IF('Initial Observation'!B196=\"\",\"\",'Initial Observation'!B196)","v":""},{"$f":"IF('Initial Observation'!J196=\"\",\"\",\"X\")","v":""}]
[{"$f":"'Initial Observation'!A197","v":"00:00:00"},{"$f":"IF('Initial Observation'!B197=\"\",\"\",'Initial Observation'!B197)","v":""},{"$f":"IF('Initial Observation'!J197=\"\",\"\",\"X\")","v":""}]
[{"$f":"'Initial Observation'!A198","v":"00:00:00"},{"$f":"IF('Initial Observation'!B198=\"\",\"\",'Initial Observation'!B198)","v":""},{"$f":"IF('Initial Observation'!J198=\"\",\"\",\"X\")","v":""}]
[{"$f":"'Initial Observation'!A199","v":"00:00:00"},{"$f":"IF('Initial Observation'!B199=\"\",\"\",'Initial Observation'!B199)","v":""},{"$f":"IF('Initial Observation'!J199=\"\",\"\",\"X\")","v":""}]
[{"$f":"'Initial Observation'!A200","v":"00:00:00"},{"$f":"IF('Initial Observation'!B200=\"\",\"\",'Initial Observation'!B200)","v":""},{"$f":"IF('Initial Observation'!J200=\"\",\"\",\"X\")","v":""}]
[{"$f":"'Initial Observation'!A201","v":"00:00:00"},{"$f":"IF('Initial Observation'!B201=\"\",\"\",'Initial Observation'!B201)","v":""},{"$f":"IF('Initial Observation'!J201=\"\",\"\",\"X\")","v":""}]
[{"$f":"'Initial Observation'!A202","v":"00:00:00"},{"$f":"IF('Initial Observation'!B202=\"\",\"\",'Initial Observation'!B202)","v":""},{"$f":"IF('Initial Observation'!J202=\"\",\"\",\"X\")","v":""}]
[{"$f":"'Initial Observation'!A203","v":"00:00:00"},{"$f":"IF('Initial Observation'!B203=\"\",\"\",'Initial Observation'!B203)","v":""},{"$f":"IF('Initial Observation'!J203=\"\",\"\",\"X\")","v":""}]
[{"$f":"'Initial Observation'!A204","v":"00:00:00"},{"$f":"IF('Initial Observation'!B204=\"\",\"\",'Initial Observation'!B204)","v":""},{"$f":"IF('Initial Observation'!J204=\"\",\"\",\"X\")","v":""}]
[{"$f":"'Initial Observation'!A205","v":"00:00:00"},{"$f":"IF('Initial Observation'!B205=\"\",\"\",'Initial Observation'!B205)","v":""},{"$f":"IF('Initial Observation'!J205=\"\",\"\",\"X\")","v":""}]
[{"$f":"'Initial Observation'!A206","v":"00:00:00"},{"$f":"IF('Initial Observation'!B206=\"\",\"\",'Initial Observation'!B206)","v":""},{"$f":"IF('Initial Observation'!J206=\"\",\"\",\"X\")","v":""}]
[{"$f":"'Initial Observation'!A207","v":"00:00:00"},{"$f":"IF('Initial Observation'!B207=\"\",\"\",'Initial Observation'!B207)","v":""},{"$f":"IF('Initial Observation'!J207=\"\",\"\",\"X\")","v":""}]
[{"$f":"'Initial Observation'!A208","v":"00:00:00"},{"$f":"IF('Initial Observation'!B208=\"\",\"\",'Initial Observation'!B208)","v":""},{"$f":"IF('Initial Observation'!J208=\"\",\"\",\"X\")","v":""}]
[{"$f":"'Initial Observation'!A209","v":"00:00:00"},{"$f":"IF('Initial Observation'!B209=\"\",\"\",'Initial Observation'!B209)","v":""},{"$f":"IF('Initial Observation'!J209=\"\",\"\",\"X\")","v":""}]
[{"$f":"'Initial Observation'!A210","v":"00:00:00"},{"$f":"IF('Initial Observation'!B210=\"\",\"\",'Initial Observation'!B210)","v":""},{"$f":"IF('Initial Observation'!J210=\"\",\"\",\"X\")","v":""}]
[{"$f":"'Initial Observation'!A211","v":"00:00:00"},{"$f":"IF('Initial Observation'!B211=\"\",\"\",'Initial Observation'!B211)","v":""},{"$f":"IF('Initial Observation'!J211=\"\",\"\",\"X\")","v":""}]
[{"$f":"'Initial Observation'!A212","v":"00:00:00"},{"$f":"IF('Initial Observation'!B212=\"\",\"\",'Initial Observation'!B212)","v":""},{"$f":"IF('Initial Observation'!J212=\"\",\"\",\"X\")","v":""}]
[{"$f":"'Initial Observation'!A213","v":"00:00:00"},{"$f":"IF('Initial Observation'!B213=\"\",\"\",'Initial Observation'!B213)","v":""},{"$f":"IF('Initial Observation'!J213=\"\",\"\",\"X\")","v":""}]
[{"$f":"'Initial Observation'!A214","v":"00:00:00"},{"$f":"IF('Initial Observation'!B214=\"\",\"\",'Initial Observation'!B214)","v":""},{"$f":"IF('Initial Observation'!J214=\"\",\"\",\"X\")","v":""}]
[{"$f":"'Initial Observation'!A215","v":"00:00:00"},{"$f":"IF('Initial Observation'!B215=\"\",\"\",'Initial Observation'!B215)","v":""},{"$f":"IF('Initial Observation'!J215=\"\",\"\",\"X\")","v":""}]
[{"$f":"'Initial Observation'!A216","v":"00:00:00"},{"$f":"IF('Initial Observation'!B216=\"\",\"\",'Initial Observation'!B216)","v":""},{"$f":"IF('Initial Observation'!J216=\"\",\"\",\"X\")","v":""}]
[{"$f":"'Initial Observation'!A217","v":"00:00:00"},{"$f":"IF('Initial Observation'!B217=\"\",\"\",'Initial Observation'!B217)","v":""},{"$f":"IF('Initial Observation'!J217=\"\",\"\",\"X\")","v":""}]
[{"$f":"'Initial Observation'!A218","v":"00:00:00"},{"$f":"IF('Initial Observation'!B218=\"\",\"\",'Initial Observation'!B218)","v":""},{"$f":"IF('Initial Observation'!J218=\"\",\"\",\"X\")","v":""}]
[{"$f":"'Initial Observation'!A219","v":"00:00:00"},{"$f":"IF('Initial Observation'!B219=\"\",\"\",'Initial Observation'!B219)","v":""},{"$f":"IF('Initial Observation'!J219=\"\",\"\",\"X\")","v":""}]
[{"$f":"'Initial Observation'!A220","v":"00:00:00"},{"$f":"IF('Initial Observation'!B220=\"\",\"\",'Initial Observation'!B220)","v":""},{"$f":"IF('Initial Observation'!J220=\"\",\"\",\"X\")","v":""}]
[{"$f":"'Initial Observation'!A221","v":"00:00:00"},{"$f":"IF('Initial Observation'!B221=\"\",\"\",'Initial Observation'!B221)","v":""},{"$f":"IF('Initial Observation'!J221=\"\",\"\",\"X\")","v":""}]
[{"$f":"'Initial Observation'!A222","v":"00:00:00"},{"$f":"IF('Initial Observation'!B222=\"\",\"\",'Initial Observation'!B222)","v":""},{"$f":"IF('Initial Observation'!J222=\"\",\"\",\"X\")","v":""}]
[{"$f":"'Initial Observation'!A223","v":"00:00:00"},{"$f":"IF('Initial Observation'!B223=\"\",\"\",'Initial Observation'!B223)","v":""},{"$f":"IF('Initial Observation'!J223=\"\",\"\",\"X\")","v":""}]
[{"$f":"'Initial Observation'!A224","v":"00:00:00"},{"$f":"IF('Initial Observation'!B224=\"\",\"\",'Initial Observation'!B224)","v":""},{"$f":"IF('Initial Observation'!J224=\"\",\"\",\"X\")","v":""}]
[{"$f":"'Initial Observation'!A225","v":"00:00:00"},{"$f":"IF('Initial Observation'!B225=\"\",\"\",'Initial Observation'!B225)","v":""},{"$f":"IF('Initial Observation'!J225=\"\",\"\",\"X\")","v":""}]
[{"$f":"'Initial Observation'!A226","v":"00:00:00"},{"$f":"IF('Initial Observation'!B226=\"\",\"\",'Initial Observation'!B226)","v":""},{"$f":"IF('Initial Observation'!J226=\"\",\"\",\"X\")","v":""}]
[{"$f":"'Initial Observation'!A227","v":"00:00:00"},{"$f":"IF('Initial Observation'!B227=\"\",\"\",'Initial Observation'!B227)","v":""},{"$f":"IF('Initial Observation'!J227=\"\",\"\",\"X\")","v":""}]
[{"$f":"'Initial Observation'!A228","v":"00:00:00"},{"$f":"IF('Initial Observation'!B228=\"\",\"\",'Initial Observation'!B228)","v":""},{"$f":"IF('Initial Observation'!J228=\"\",\"\",\"X\")","v":""}]
[{"$f":"'Initial Observation'!A229","v":"00:00:00"},{"$f":"IF('Initial Observation'!B229=\"\",\"\",'Initial Observation'!B229)","v":""},{"$f":"IF('Initial Observation'!J229=\"\",\"\",\"X\")","v":""}]
[{"$f":"'Initial Observation'!A230","v":"00:00:00"},{"$f":"IF('Initial Observation'!B230=\"\",\"\",'Initial Observation'!B230)","v":""},{"$f":"IF('Initial Observation'!J230=\"\",\"\",\"X\")","v":""}]
[{"$f":"'Initial Observation'!A231","v":"00:00:00"},{"$f":"IF('Initial Observation'!B231=\"\",\"\",'Initial Observation'!B231)","v":""},{"$f":"IF('Initial Observation'!J231=\"\",\"\",\"X\")","v":""}]
[{"$f":"'Initial Observation'!A232","v":"00:00:00"},{"$f":"IF('Initial Observation'!B232=\"\",\"\",'Initial Observation'!B232)","v":""},{"$f":"IF('Initial Observation'!J232=\"\",\"\",\"X\")","v":""}]
[{"$f":"'Initial Observation'!A233","v":"00:00:00"},{"$f":"IF('Initial Observation'!B233=\"\",\"\",'Initial Observation'!B233)","v":""},{"$f":"IF('Initial Observation'!J233=\"\",\"\",\"X\")","v":""}]
[{"$f":"'Initial Observation'!A234","v":"00:00:00"},{"$f":"IF('Initial Observation'!B234=\"\",\"\",'Initial Observation'!B234)","v":""},{"$f":"IF('Initial Observation'!J234=\"\",\"\",\"X\")","v":""}]
[{"$f":"'Initial Observation'!A235","v":"00:00:00"},{"$f":"IF('Initial Observation'!B235=\"\",\"\",'Initial Observation'!B235)","v":""},{"$f":"IF('Initial Observation'!J235=\"\",\"\",\"X\")","v":""}]
[{"$f":"'Initial Observation'!A236","v":"00:00:00"},{"$f":"IF('Initial Observation'!B236=\"\",\"\",'Initial Observation'!B236)","v":""},{"$f":"IF('Initial Observation'!J236=\"\",\"\",\"X\")","v":""}]
[{"$f":"'Initial Observation'!A237","v":"00:00:00"},{"$f":"IF('Initial Observation'!B237=\"\",\"\",'Initial Observation'!B237)","v":""},{"$f":"IF('Initial Observation'!J237=\"\",\"\",\"X\")","v":""}]
[{"$f":"'Initial Observation'!A238","v":"00:00:00"},{"$f":"IF('Initial Observation'!B238=\"\",\"\",'Initial Observation'!B238)","v":""},{"$f":"IF('Initial Observation'!J238=\"\",\"\",\"X\")","v":""}]
[{"$f":"'Initial Observation'!A239","v":"00:00:00"},{"$f":"IF('Initial Observation'!B239=\"\",\"\",'Initial Observation'!B239)","v":""},{"$f":"IF('Initial Observation'!J239=\"\",\"\",\"X\")","v":""}]
[{"$f":"'Initial Observation'!A240","v":"00:00:00"},{"$f":"IF('Initial Observation'!B240=\"\",\"\",'Initial Observation'!B240)","v":""},{"$f":"IF('Initial Observation'!J240=\"\",\"\",\"X\")","v":""}]
[{"$f":"'Initial Observation'!A241","v":"00:00:00"},{"$f":"IF('Initial Observation'!B241=\"\",\"\",'Initial Observation'!B241)","v":""},{"$f":"IF('Initial Observation'!J241=\"\",\"\",\"X\")","v":""}]
[{"$f":"'Initial Observation'!A242","v":"00:00:00"},{"$f":"IF('Initial Observation'!B242=\"\",\"\",'Initial Observation'!B242)","v":""},{"$f":"IF('Initial Observation'!J242=\"\",\"\",\"X\")","v":""}]
[{"$f":"'Initial Observation'!A243","v":"00:00:00"},{"$f":"IF('Initial Observation'!B243=\"\",\"\",'Initial Observation'!B243)","v":""},{"$f":"IF('Initial Observation'!J243=\"\",\"\",\"X\")","v":""}]
[{"$f":"'Initial Observation'!A244","v":"00:00:00"},{"$f":"IF('Initial Observation'!B244=\"\",\"\",'Initial Observation'!B244)","v":""},{"$f":"IF('Initial Observation'!J244=\"\",\"\",\"X\")","v":""}]
[{"$f":"'Initial Observation'!A245","v":"00:00:00"},{"$f":"IF('Initial Observation'!B245=\"\",\"\",'Initial Observation'!B245)","v":""},{"$f":"IF('Initial Observation'!J245=\"\",\"\",\"X\")","v":""}]
[{"$f":"'Initial Observation'!A246","v":"00:00:00"},{"$f":"IF('Initial Observation'!B246=\"\",\"\",'Initial Observation'!B246)","v":""},{"$f":"IF('Initial Observation'!J246=\"\",\"\",\"X\")","v":""}]
[{"$f":"'Initial Observation'!A247","v":"00:00:00"},{"$f":"IF('Initial Observation'!B247=\"\",\"\",'Initial Observation'!B247)","v":""},{"$f":"IF('Initial Observation'!J247=\"\",\"\",\"X\")","v":""}]
[{"$f":"'Initial Observation'!A248","v":"00:00:00"},{"$f":"IF('Initial Observation'!B248=\"\",\"\",'Initial Observation'!B248)","v":""},{"$f":"IF('Initial Observation'!J248=\"\",\"\",\"X\")","v":""}]
[{"$f":"'Initial Observation'!A249","v":"00:00:00"},{"$f":"IF('Initial Observation'!B249=\"\",\"\",'Initial Observation'!B249)","v":""},{"$f":"IF('Initial Observation'!J249=\"\",\"\",\"X\")","v":""}]
[{"$f":"'Initial Observation'!A250","v":"00:00:00"},{"$f":"IF('Initial Observation'!B250=\"\",\"\",'Initial Observation'!B250)","v":""},{"$f":"IF('Initial Observation'!J250=\"\",\"\",\"X\")","v":""}]
[{"$f":"'Initial Observation'!A251","v":"00:00:00"},{"$f":"IF('Initial Observation'!B251=\"\",\"\",'Initial Observation'!B251)","v":""},{"$f":"IF('Initial Observation'!J251=\"\",\"\",\"X\")","v":""}]
[{"$f":"'Initial Observation'!A252","v":"00:00:00"},{"$f":"IF('Initial Observation'!B252=\"\",\"\",'Initial Observation'!B252)","v":""},{"$f":"IF('Initial Observation'!J252=\"\",\"\",\"X\")","v":""}]
[{"$f":"'Initial Observation'!A253","v":"00:00:00"},{"$f":"IF('Initial Observation'!B253=\"\",\"\",'Initial Observation'!B253)","v":""},{"$f":"IF('Initial Observation'!J253=\"\",\"\",\"X\")","v":""}]
[{"$f":"'Initial Observation'!A254","v":"00:00:00"},{"$f":"IF('Initial Observation'!B254=\"\",\"\",'Initial Observation'!B254)","v":""},{"$f":"IF('Initial Observation'!J254=\"\",\"\",\"X\")","v":""}]
[{"$f":"'Initial Observation'!A255","v":"00:00:00"},{"$f":"IF('Initial Observation'!B255=\"\",\"\",'Initial Observation'!B255)","v":""},{"$f":"IF('Initial Observation'!J255=\"\",\"\",\"X\")","v":""}]
[{"$f":"'Initial Observation'!A256","v":"00:00:00"},{"$f":"IF('Initial Observation'!B256=\"\",\"\",'Initial Observation'!B256)","v":""},{"$f":"IF('Initial Observation'!J256=\"\",\"\",\"X\")","v":""}]
[{"$f":"'Initial Observation'!A257","v":"00:00:00"},{"$f":"IF('Initial Observation'!B257=\"\",\"\",'Initial Observation'!B257)","v":""},{"$f":"IF('Initial Observation'!J257=\"\",\"\",\"X\")","v":""}]
[{"$f":"'Initial Observation'!A258","v":"00:00:00"},{"$f":"IF('Initial Observation'!B258=\"\",\"\",'Initial Observation'!B258)","v":""},{"$f":"IF('Initial Observation'!J258=\"\",\"\",\"X\")","v":""}]
[{"$f":"'Initial Observation'!A259","v":"00:00:00"},{"$f":"IF('Initial Observation'!B259=\"\",\"\",'Initial Observation'!B259)","v":""},{"$f":"IF('Initial Observation'!J259=\"\",\"\",\"X\")","v":""}]
[{"$f":"'Initial Observation'!A260","v":"00:00:00"},{"$f":"IF('Initial Observation'!B260=\"\",\"\",'Initial Observation'!B260)","v":""},{"$f":"IF('Initial Observation'!J260=\"\",\"\",\"X\")","v":""}]
[{"$f":"'Initial Observation'!A261","v":"00:00:00"},{"$f":"IF('Initial Observation'!B261=\"\",\"\",'Initial Observation'!B261)","v":""},{"$f":"IF('Initial Observation'!J261=\"\",\"\",\"X\")","v":""}]
[{"$f":"'Initial Observation'!A262","v":"00:00:00"},{"$f":"IF('Initial Observation'!B262=\"\",\"\",'Initial Observation'!B262)","v":""},{"$f":"IF('Initial Observation'!J262=\"\",\"\",\"X\")","v":""}]
[{"$f":"'Initial Observation'!A263","v":"00:00:00"},{"$f":"IF('Initial Observation'!B263=\"\",\"\",'Initial Observation'!B263)","v":""},{"$f":"IF('Initial Observation'!J263=\"\",\"\",\"X\")","v":""}]
[{"$f":"'Initial Observation'!A264","v":"00:00:00"},{"$f":"IF('Initial Observation'!B264=\"\",\"\",'Initial Observation'!B264)","v":""},{"$f":"IF('Initial Observation'!J264=\"\",\"\",\"X\")","v":""}]
[{"$f":"'Initial Observation'!A265","v":"00:00:00"},{"$f":"IF('Initial Observation'!B265=\"\",\"\",'Initial Observation'!B265)","v":""},{"$f":"IF('Initial Observation'!J265=\"\",\"\",\"X\")","v":""}]
[{"$f":"'Initial Observation'!A266","v":"00:00:00"},{"$f":"IF('Initial Observation'!B266=\"\",\"\",'Initial Observation'!B266)","v":""},{"$f":"IF('Initial Observation'!J266=\"\",\"\",\"X\")","v":""}]
[{"$f":"'Initial Observation'!A267","v":"00:00:00"},{"$f":"IF('Initial Observation'!B267=\"\",\"\",'Initial Observation'!B267)","v":""},{"$f":"IF('Initial Observation'!J267=\"\",\"\",\"X\")","v":""}]
[{"$f":"'Initial Observation'!A268","v":"00:00:00"},{"$f":"IF('Initial Observation'!B268=\"\",\"\",'Initial Observation'!B268)","v":""},{"$f":"IF('Initial Observation'!J268=\"\",\"\",\"X\")","v":""}]
[{"$f":"'Initial Observation'!A269","v":"00:00:00"},{"$f":"IF('Initial Observation'!B269=\"\",\"\",'Initial Observation'!B269)","v":""},{"$f":"IF('Initial Observation'!J269=\"\",\"\",\"X\")","v":""}]
[{"$f":"'Initial Observation'!A270","v":"00:00:00"},{"$f":"IF('Initial Observation'!B270=\"\",\"\",'Initial Observation'!B270)","v":""},{"$f":"IF('Initial Observation'!J270=\"\",\"\",\"X\")","v":""}]

{"sheet":"3D","index":9,"n_rows":270,"n_cols":3,"rows_kept":270,"cut":false,"hidden":false,"merged":[[0,2,3,2]]}
[null,{"$f":"'Initial Observation'!B1","v":"Teacher Name:"},"3D Assessment in Instruction"]
[null,{"$f":"'Initial Observation'!B2","v":"Date:"}]
[null,{"$f":"'Initial Observation'!B3","v":"Number of Students:"}]
[null,"Evidence"]
[{"$f":"'Initial Observation'!A5","v":"00:00:00"},{"$f":"IF('Initial Observation'!B5=\"\",\"\",'Initial Observation'!B5)","v":""},{"$f":"IF('Initial Observation'!K5=\"\",\"\",\"X\")","v":""}]
[{"$f":"'Initial Observation'!A6","v":"00:00:00"},{"$f":"IF('Initial Observation'!B6=\"\",\"\",'Initial Observation'!B6)","v":""},{"$f":"IF('Initial Observation'!K6=\"\",\"\",\"X\")","v":""}]
[{"$f":"'Initial Observation'!A7","v":"00:00:00"},{"$f":"IF('Initial Observation'!B7=\"\",\"\",'Initial Observation'!B7)","v":""},{"$f":"IF('Initial Observation'!K7=\"\",\"\",\"X\")","v":""}]
[{"$f":"'Initial Observation'!A8","v":"00:00:00"},{"$f":"IF('Initial Observation'!B8=\"\",\"\",'Initial Observation'!B8)","v":""},{"$f":"IF('Initial Observation'!K8=\"\",\"\",\"X\")","v":""}]
[{"$f":"'Initial Observation'!A9","v":"00:00:00"},{"$f":"IF('Initial Observation'!B9=\"\",\"\",'Initial Observation'!B9)","v":""},{"$f":"IF('Initial Observation'!K9=\"\",\"\",\"X\")","v":""}]
[{"$f":"'Initial Observation'!A10","v":"00:00:00"},{"$f":"IF('Initial Observation'!B10=\"\",\"\",'Initial Observation'!B10)","v":""},{"$f":"IF('Initial Observation'!K10=\"\",\"\",\"X\")","v":""}]
[{"$f":"'Initial Observation'!A11","v":"00:00:00"},{"$f":"IF('Initial Observation'!B11=\"\",\"\",'Initial Observation'!B11)","v":""},{"$f":"IF('Initial Observation'!K11=\"\",\"\",\"X\")","v":""}]
[{"$f":"'Initial Observation'!A12","v":"00:00:00"},{"$f":"IF('Initial Observation'!B12=\"\",\"\",'Initial Observation'!B12)","v":""},{"$f":"IF('Initial Observation'!K12=\"\",\"\",\"X\")","v":""}]
[{"$f":"'Initial Observation'!A13","v":"00:00:00"},{"$f":"IF('Initial Observation'!B13=\"\",\"\",'Initial Observation'!B13)","v":""},{"$f":"IF('Initial Observation'!K13=\"\",\"\",\"X\")","v":""}]
[{"$f":"'Initial Observation'!A14","v":"00:00:00"},{"$f":"IF('Initial Observation'!B14=\"\",\"\",'Initial Observation'!B14)","v":""},{"$f":"IF('Initial Observation'!K14=\"\",\"\",\"X\")","v":""}]
[{"$f":"'Initial Observation'!A15","v":"00:00:00"},{"$f":"IF('Initial Observation'!B15=\"\",\"\",'Initial Observation'!B15)","v":""},{"$f":"IF('Initial Observation'!K15=\"\",\"\",\"X\")","v":""}]
[{"$f":"'Initial Observation'!A16","v":"00:00:00"},{"$f":"IF('Initial Observation'!B16=\"\",\"\",'Initial Observation'!B16)","v":""},{"$f":"IF('Initial Observation'!K16=\"\",\"\",\"X\")","v":""}]
[{"$f":"'Initial Observation'!A17","v":"00:00:00"},{"$f":"IF('Initial Observation'!B17=\"\",\"\",'Initial Observation'!B17)","v":""},{"$f":"IF('Initial Observation'!K17=\"\",\"\",\"X\")","v":""}]
[{"$f":"'Initial Observation'!A18","v":"00:00:00"},{"$f":"IF('Initial Observation'!B18=\"\",\"\",'Initial Observation'!B18)","v":""},{"$f":"IF('Initial Observation'!K18=\"\",\"\",\"X\")","v":""}]
[{"$f":"'Initial Observation'!A19","v":"00:00:00"},{"$f":"IF('Initial Observation'!B19=\"\",\"\",'Initial Observation'!B19)","v":""},{"$f":"IF('Initial Observation'!K19=\"\",\"\",\"X\")","v":""}]
[{"$f":"'Initial Observation'!A20","v":"00:00:00"},{"$f":"IF('Initial Observation'!B20=\"\",\"\",'Initial Observation'!B20)","v":""},{"$f":"IF('Initial Observation'!K20=\"\",\"\",\"X\")","v":""}]
[{"$f":"'Initial Observation'!A21","v":"00:00:00"},{"$f":"IF('Initial Observation'!B21=\"\",\"\",'Initial Observation'!B21)","v":""},{"$f":"IF('Initial Observation'!K21=\"\",\"\",\"X\")","v":""}]
[{"$f":"'Initial Observation'!A22","v":"00:00:00"},{"$f":"IF('Initial Observation'!B22=\"\",\"\",'Initial Observation'!B22)","v":""},{"$f":"IF('Initial Observation'!K22=\"\",\"\",\"X\")","v":""}]
[{"$f":"'Initial Observation'!A23","v":"00:00:00"},{"$f":"IF('Initial Observation'!B23=\"\",\"\",'Initial Observation'!B23)","v":""},{"$f":"IF('Initial Observation'!K23=\"\",\"\",\"X\")","v":""}]
[{"$f":"'Initial Observation'!A24","v":"00:00:00"},{"$f":"IF('Initial Observation'!B24=\"\",\"\",'Initial Observation'!B24)","v":""},{"$f":"IF('Initial Observation'!K24=\"\",\"\",\"X\")","v":""}]
[{"$f":"'Initial Observation'!A25","v":"00:00:00"},{"$f":"IF('Initial Observation'!B25=\"\",\"\",'Initial Observation'!B25)","v":""},{"$f":"IF('Initial Observation'!K25=\"\",\"\",\"X\")","v":""}]
[{"$f":"'Initial Observation'!A26","v":"00:00:00"},{"$f":"IF('Initial Observation'!B26=\"\",\"\",'Initial Observation'!B26)","v":""},{"$f":"IF('Initial Observation'!K26=\"\",\"\",\"X\")","v":""}]
[{"$f":"'Initial Observation'!A27","v":"00:00:00"},{"$f":"IF('Initial Observation'!B27=\"\",\"\",'Initial Observation'!B27)","v":""},{"$f":"IF('Initial Observation'!K27=\"\",\"\",\"X\")","v":""}]
[{"$f":"'Initial Observation'!A28","v":"00:00:00"},{"$f":"IF('Initial Observation'!B28=\"\",\"\",'Initial Observation'!B28)","v":""},{"$f":"IF('Initial Observation'!K28=\"\",\"\",\"X\")","v":""}]
[{"$f":"'Initial Observation'!A29","v":"00:00:00"},{"$f":"IF('Initial Observation'!B29=\"\",\"\",'Initial Observation'!B29)","v":""},{"$f":"IF('Initial Observation'!K29=\"\",\"\",\"X\")","v":""}]
[{"$f":"'Initial Observation'!A30","v":"00:00:00"},{"$f":"IF('Initial Observation'!B30=\"\",\"\",'Initial Observation'!B30)","v":""},{"$f":"IF('Initial Observation'!K30=\"\",\"\",\"X\")","v":""}]
[{"$f":"'Initial Observation'!A31","v":"00:00:00"},{"$f":"IF('Initial Observation'!B31=\"\",\"\",'Initial Observation'!B31)","v":""},{"$f":"IF('Initial Observation'!K31=\"\",\"\",\"X\")","v":""}]
[{"$f":"'Initial Observation'!A32","v":"00:00:00"},{"$f":"IF('Initial Observation'!B32=\"\",\"\",'Initial Observation'!B32)","v":""},{"$f":"IF('Initial Observation'!K32=\"\",\"\",\"X\")","v":""}]
[{"$f":"'Initial Observation'!A33","v":"00:00:00"},{"$f":"IF('Initial Observation'!B33=\"\",\"\",'Initial Observation'!B33)","v":""},{"$f":"IF('Initial Observation'!K33=\"\",\"\",\"X\")","v":""}]
[{"$f":"'Initial Observation'!A34","v":"00:00:00"},{"$f":"IF('Initial Observation'!B34=\"\",\"\",'Initial Observation'!B34)","v":""},{"$f":"IF('Initial Observation'!K34=\"\",\"\",\"X\")","v":""}]
[{"$f":"'Initial Observation'!A35","v":"00:00:00"},{"$f":"IF('Initial Observation'!B35=\"\",\"\",'Initial Observation'!B35)","v":""},{"$f":"IF('Initial Observation'!K35=\"\",\"\",\"X\")","v":""}]
[{"$f":"'Initial Observation'!A36","v":"00:00:00"},{"$f":"IF('Initial Observation'!B36=\"\",\"\",'Initial Observation'!B36)","v":""},{"$f":"IF('Initial Observation'!K36=\"\",\"\",\"X\")","v":""}]
[{"$f":"'Initial Observation'!A37","v":"00:00:00"},{"$f":"IF('Initial Observation'!B37=\"\",\"\",'Initial Observation'!B37)","v":""},{"$f":"IF('Initial Observation'!K37=\"\",\"\",\"X\")","v":""}]
[{"$f":"'Initial Observation'!A38","v":"00:00:00"},{"$f":"IF('Initial Observation'!B38=\"\",\"\",'Initial Observation'!B38)","v":""},{"$f":"IF('Initial Observation'!K38=\"\",\"\",\"X\")","v":""}]
[{"$f":"'Initial Observation'!A39","v":"00:00:00"},{"$f":"IF('Initial Observation'!B39=\"\",\"\",'Initial Observation'!B39)","v":""},{"$f":"IF('Initial Observation'!K39=\"\",\"\",\"X\")","v":""}]
[{"$f":"'Initial Observation'!A40","v":"00:00:00"},{"$f":"IF('Initial Observation'!B40=\"\",\"\",'Initial Observation'!B40)","v":""},{"$f":"IF('Initial Observation'!K40=\"\",\"\",\"X\")","v":""}]
[{"$f":"'Initial Observation'!A41","v":"00:00:00"},{"$f":"IF('Initial Observation'!B41=\"\",\"\",'Initial Observation'!B41)","v":""},{"$f":"IF('Initial Observation'!K41=\"\",\"\",\"X\")","v":""}]
[{"$f":"'Initial Observation'!A42","v":"00:00:00"},{"$f":"IF('Initial Observation'!B42=\"\",\"\",'Initial Observation'!B42)","v":""},{"$f":"IF('Initial Observation'!K42=\"\",\"\",\"X\")","v":""}]
[{"$f":"'Initial Observation'!A43","v":"00:00:00"},{"$f":"IF('Initial Observation'!B43=\"\",\"\",'Initial Observation'!B43)","v":""},{"$f":"IF('Initial Observation'!K43=\"\",\"\",\"X\")","v":""}]
[{"$f":"'Initial Observation'!A44","v":"00:00:00"},{"$f":"IF('Initial Observation'!B44=\"\",\"\",'Initial Observation'!B44)","v":""},{"$f":"IF('Initial Observation'!K44=\"\",\"\",\"X\")","v":""}]
[{"$f":"'Initial Observation'!A45","v":"00:00:00"},{"$f":"IF('Initial Observation'!B45=\"\",\"\",'Initial Observation'!B45)","v":""},{"$f":"IF('Initial Observation'!K45=\"\",\"\",\"X\")","v":""}]
[{"$f":"'Initial Observation'!A46","v":"00:00:00"},{"$f":"IF('Initial Observation'!B46=\"\",\"\",'Initial Observation'!B46)","v":""},{"$f":"IF('Initial Observation'!K46=\"\",\"\",\"X\")","v":""}]
[{"$f":"'Initial Observation'!A47","v":"00:00:00"},{"$f":"IF('Initial Observation'!B47=\"\",\"\",'Initial Observation'!B47)","v":""},{"$f":"IF('Initial Observation'!K47=\"\",\"\",\"X\")","v":""}]
[{"$f":"'Initial Observation'!A48","v":"00:00:00"},{"$f":"IF('Initial Observation'!B48=\"\",\"\",'Initial Observation'!B48)","v":""},{"$f":"IF('Initial Observation'!K48=\"\",\"\",\"X\")","v":""}]
[{"$f":"'Initial Observation'!A49","v":"00:00:00"},{"$f":"IF('Initial Observation'!B49=\"\",\"\",'Initial Observation'!B49)","v":""},{"$f":"IF('Initial Observation'!K49=\"\",\"\",\"X\")","v":""}]
[{"$f":"'Initial Observation'!A50","v":"00:00:00"},{"$f":"IF('Initial Observation'!B50=\"\",\"\",'Initial Observation'!B50)","v":""},{"$f":"IF('Initial Observation'!K50=\"\",\"\",\"X\")","v":""}]
[{"$f":"'Initial Observation'!A51","v":"00:00:00"},{"$f":"IF('Initial Observation'!B51=\"\",\"\",'Initial Observation'!B51)","v":""},{"$f":"IF('Initial Observation'!K51=\"\",\"\",\"X\")","v":""}]
[{"$f":"'Initial Observation'!A52","v":"00:00:00"},{"$f":"IF('Initial Observation'!B52=\"\",\"\",'Initial Observation'!B52)","v":""},{"$f":"IF('Initial Observation'!K52=\"\",\"\",\"X\")","v":""}]
[{"$f":"'Initial Observation'!A53","v":"00:00:00"},{"$f":"IF('Initial Observation'!B53=\"\",\"\",'Initial Observation'!B53)","v":""},{"$f":"IF('Initial Observation'!K53=\"\",\"\",\"X\")","v":""}]
[{"$f":"'Initial Observation'!A54","v":"00:00:00"},{"$f":"IF('Initial Observation'!B54=\"\",\"\",'Initial Observation'!B54)","v":""},{"$f":"IF('Initial Observation'!K54=\"\",\"\",\"X\")","v":""}]
[{"$f":"'Initial Observation'!A55","v":"00:00:00"},{"$f":"IF('Initial Observation'!B55=\"\",\"\",'Initial Observation'!B55)","v":""},{"$f":"IF('Initial Observation'!K55=\"\",\"\",\"X\")","v":""}]
[{"$f":"'Initial Observation'!A56","v":"00:00:00"},{"$f":"IF('Initial Observation'!B56=\"\",\"\",'Initial Observation'!B56)","v":""},{"$f":"IF('Initial Observation'!K56=\"\",\"\",\"X\")","v":""}]
[{"$f":"'Initial Observation'!A57","v":"00:00:00"},{"$f":"IF('Initial Observation'!B57=\"\",\"\",'Initial Observation'!B57)","v":""},{"$f":"IF('Initial Observation'!K57=\"\",\"\",\"X\")","v":""}]
[{"$f":"'Initial Observation'!A58","v":"00:00:00"},{"$f":"IF('Initial Observation'!B58=\"\",\"\",'Initial Observation'!B58)","v":""},{"$f":"IF('Initial Observation'!K58=\"\",\"\",\"X\")","v":""}]
[{"$f":"'Initial Observation'!A59","v":"00:00:00"},{"$f":"IF('Initial Observation'!B59=\"\",\"\",'Initial Observation'!B59)","v":""},{"$f":"IF('Initial Observation'!K59=\"\",\"\",\"X\")","v":""}]
[{"$f":"'Initial Observation'!A60","v":"00:00:00"},{"$f":"IF('Initial Observation'!B60=\"\",\"\",'Initial Observation'!B60)","v":""},{"$f":"IF('Initial Observation'!K60=\"\",\"\",\"X\")","v":""}]
[{"$f":"'Initial Observation'!A61","v":"00:00:00"},{"$f":"IF('Initial Observation'!B61=\"\",\"\",'Initial Observation'!B61)","v":""},{"$f":"IF('Initial Observation'!K61=\"\",\"\",\"X\")","v":""}]
[{"$f":"'Initial Observation'!A62","v":"00:00:00"},{"$f":"IF('Initial Observation'!B62=\"\",\"\",'Initial Observation'!B62)","v":""},{"$f":"IF('Initial Observation'!K62=\"\",\"\",\"X\")","v":""}]
[{"$f":"'Initial Observation'!A63","v":"00:00:00"},{"$f":"IF('Initial Observation'!B63=\"\",\"\",'Initial Observation'!B63)","v":""},{"$f":"IF('Initial Observation'!K63=\"\",\"\",\"X\")","v":""}]
[{"$f":"'Initial Observation'!A64","v":"00:00:00"},{"$f":"IF('Initial Observation'!B64=\"\",\"\",'Initial Observation'!B64)","v":""},{"$f":"IF('Initial Observation'!K64=\"\",\"\",\"X\")","v":""}]
[{"$f":"'Initial Observation'!A65","v":"00:00:00"},{"$f":"IF('Initial Observation'!B65=\"\",\"\",'Initial Observation'!B65)","v":""},{"$f":"IF('Initial Observation'!K65=\"\",\"\",\"X\")","v":""}]
[{"$f":"'Initial Observation'!A66","v":"00:00:00"},{"$f":"IF('Initial Observation'!B66=\"\",\"\",'Initial Observation'!B66)","v":""},{"$f":"IF('Initial Observation'!K66=\"\",\"\",\"X\")","v":""}]
[{"$f":"'Initial Observation'!A67","v":"00:00:00"},{"$f":"IF('Initial Observation'!B67=\"\",\"\",'Initial Observation'!B67)","v":""},{"$f":"IF('Initial Observation'!K67=\"\",\"\",\"X\")","v":""}]
[{"$f":"'Initial Observation'!A68","v":"00:00:00"},{"$f":"IF('Initial Observation'!B68=\"\",\"\",'Initial Observation'!B68)","v":""},{"$f":"IF('Initial Observation'!K68=\"\",\"\",\"X\")","v":""}]
[{"$f":"'Initial Observation'!A69","v":"00:00:00"},{"$f":"IF('Initial Observation'!B69=\"\",\"\",'Initial Observation'!B69)","v":""},{"$f":"IF('Initial Observation'!K69=\"\",\"\",\"X\")","v":""}]
[{"$f":"'Initial Observation'!A70","v":"00:00:00"},{"$f":"IF('Initial Observation'!B70=\"\",\"\",'Initial Observation'!B70)","v":""},{"$f":"IF('Initial Observation'!K70=\"\",\"\",\"X\")","v":""}]
[{"$f":"'Initial Observation'!A71","v":"00:00:00"},{"$f":"IF('Initial Observation'!B71=\"\",\"\",'Initial Observation'!B71)","v":""},{"$f":"IF('Initial Observation'!K71=\"\",\"\",\"X\")","v":""}]
[{"$f":"'Initial Observation'!A72","v":"00:00:00"},{"$f":"IF('Initial Observation'!B72=\"\",\"\",'Initial Observation'!B72)","v":""},{"$f":"IF('Initial Observation'!K72=\"\",\"\",\"X\")","v":""}]
[{"$f":"'Initial Observation'!A73","v":"00:00:00"},{"$f":"IF('Initial Observation'!B73=\"\",\"\",'Initial Observation'!B73)","v":""},{"$f":"IF('Initial Observation'!K73=\"\",\"\",\"X\")","v":""}]
[{"$f":"'Initial Observation'!A74","v":"00:00:00"},{"$f":"IF('Initial Observation'!B74=\"\",\"\",'Initial Observation'!B74)","v":""},{"$f":"IF('Initial Observation'!K74=\"\",\"\",\"X\")","v":""}]
[{"$f":"'Initial Observation'!A75","v":"00:00:00"},{"$f":"IF('Initial Observation'!B75=\"\",\"\",'Initial Observation'!B75)","v":""},{"$f":"IF('Initial Observation'!K75=\"\",\"\",\"X\")","v":""}]
[{"$f":"'Initial Observation'!A76","v":"00:00:00"},{"$f":"IF('Initial Observation'!B76=\"\",\"\",'Initial Observation'!B76)","v":""},{"$f":"IF('Initial Observation'!K76=\"\",\"\",\"X\")","v":""}]
[{"$f":"'Initial Observation'!A77","v":"00:00:00"},{"$f":"IF('Initial Observation'!B77=\"\",\"\",'Initial Observation'!B77)","v":""},{"$f":"IF('Initial Observation'!K77=\"\",\"\",\"X\")","v":""}]
[{"$f":"'Initial Observation'!A78","v":"00:00:00"},{"$f":"IF('Initial Observation'!B78=\"\",\"\",'Initial Observation'!B78)","v":""},{"$f":"IF('Initial Observation'!K78=\"\",\"\",\"X\")","v":""}]
[{"$f":"'Initial Observation'!A79","v":"00:00:00"},{"$f":"IF('Initial Observation'!B79=\"\",\"\",'Initial Observation'!B79)","v":""},{"$f":"IF('Initial Observation'!K79=\"\",\"\",\"X\")","v":""}]
[{"$f":"'Initial Observation'!A80","v":"00:00:00"},{"$f":"IF('Initial Observation'!B80=\"\",\"\",'Initial Observation'!B80)","v":""},{"$f":"IF('Initial Observation'!K80=\"\",\"\",\"X\")","v":""}]
[{"$f":"'Initial Observation'!A81","v":"00:00:00"},{"$f":"IF('Initial Observation'!B81=\"\",\"\",'Initial Observation'!B81)","v":""},{"$f":"IF('Initial Observation'!K81=\"\",\"\",\"X\")","v":""}]
[{"$f":"'Initial Observation'!A82","v":"00:00:00"},{"$f":"IF('Initial Observation'!B82=\"\",\"\",'Initial Observation'!B82)","v":""},{"$f":"IF('Initial Observation'!K82=\"\",\"\",\"X\")","v":""}]
[{"$f":"'Initial Observation'!A83","v":"00:00:00"},{"$f":"IF('Initial Observation'!B83=\"\",\"\",'Initial Observation'!B83)","v":""},{"$f":"IF('Initial Observation'!K83=\"\",\"\",\"X\")","v":""}]
[{"$f":"'Initial Observation'!A84","v":"00:00:00"},{"$f":"IF('Initial Observation'!B84=\"\",\"\",'Initial Observation'!B84)","v":""},{"$f":"IF('Initial Observation'!K84=\"\",\"\",\"X\")","v":""}]
[{"$f":"'Initial Observation'!A85","v":"00:00:00"},{"$f":"IF('Initial Observation'!B85=\"\",\"\",'Initial Observation'!B85)","v":""},{"$f":"IF('Initial Observation'!K85=\"\",\"\",\"X\")","v":""}]
[{"$f":"'Initial Observation'!A86","v":"00:00:00"},{"$f":"IF('Initial Observation'!B86=\"\",\"\",'Initial Observation'!B86)","v":""},{"$f":"IF('Initial Observation'!K86=\"\",\"\",\"X\")","v":""}]
[{"$f":"'Initial Observation'!A87","v":"00:00:00"},{"$f":"IF('Initial Observation'!B87=\"\",\"\",'Initial Observation'!B87)","v":""},{"$f":"IF('Initial Observation'!K87=\"\",\"\",\"X\")","v":""}]
[{"$f":"'Initial Observation'!A88","v":"00:00:00"},{"$f":"IF('Initial Observation'!B88=\"\",\"\",'Initial Observation'!B88)","v":""},{"$f":"IF('Initial Observation'!K88=\"\",\"\",\"X\")","v":""}]
[{"$f":"'Initial Observation'!A89","v":"00:00:00"},{"$f":"IF('Initial Observation'!B89=\"\",\"\",'Initial Observation'!B89)","v":""},{"$f":"IF('Initial Observation'!K89=\"\",\"\",\"X\")","v":""}]
[{"$f":"'Initial Observation'!A90","v":"00:00:00"},{"$f":"IF('Initial Observation'!B90=\"\",\"\",'Initial Observation'!B90)","v":""},{"$f":"IF('Initial Observation'!K90=\"\",\"\",\"X\")","v":""}]
[{"$f":"'Initial Observation'!A91","v":"00:00:00"},{"$f":"IF('Initial Observation'!B91=\"\",\"\",'Initial Observation'!B91)","v":""},{"$f":"IF('Initial Observation'!K91=\"\",\"\",\"X\")","v":""}]
[{"$f":"'Initial Observation'!A92","v":"00:00:00"},{"$f":"IF('Initial Observation'!B92=\"\",\"\",'Initial Observation'!B92)","v":""},{"$f":"IF('Initial Observation'!K92=\"\",\"\",\"X\")","v":""}]
[{"$f":"'Initial Observation'!A93","v":"00:00:00"},{"$f":"IF('Initial Observation'!B93=\"\",\"\",'Initial Observation'!B93)","v":""},{"$f":"IF('Initial Observation'!K93=\"\",\"\",\"X\")","v":""}]
[{"$f":"'Initial Observation'!A94","v":"00:00:00"},{"$f":"IF('Initial Observation'!B94=\"\",\"\",'Initial Observation'!B94)","v":""},{"$f":"IF('Initial Observation'!K94=\"\",\"\",\"X\")","v":""}]
[{"$f":"'Initial Observation'!A95","v":"00:00:00"},{"$f":"IF('Initial Observation'!B95=\"\",\"\",'Initial Observation'!B95)","v":""},{"$f":"IF('Initial Observation'!K95=\"\",\"\",\"X\")","v":""}]
[{"$f":"'Initial Observation'!A96","v":"00:00:00"},{"$f":"IF('Initial Observation'!B96=\"\",\"\",'Initial Observation'!B96)","v":""},{"$f":"IF('Initial Observation'!K96=\"\",\"\",\"X\")","v":""}]
[{"$f":"'Initial Observation'!A97","v":"00:00:00"},{"$f":"IF('Initial Observation'!B97=\"\",\"\",'Initial Observation'!B97)","v":""},{"$f":"IF('Initial Observation'!K97=\"\",\"\",\"X\")","v":""}]
[{"$f":"'Initial Observation'!A98","v":"00:00:00"},{"$f":"IF('Initial Observation'!B98=\"\",\"\",'Initial Observation'!B98)","v":""},{"$f":"IF('Initial Observation'!K98=\"\",\"\",\"X\")","v":""}]
[{"$f":"'Initial Observation'!A99","v":"00:00:00"},{"$f":"IF('Initial Observation'!B99=\"\",\"\",'Initial Observation'!B99)","v":""},{"$f":"IF('Initial Observation'!K99=\"\",\"\",\"X\")","v":""}]
[{"$f":"'Initial Observation'!A100","v":"00:00:00"},{"$f":"IF('Initial Observation'!B100=\"\",\"\",'Initial Observation'!B100)","v":""},{"$f":"IF('Initial Observation'!K100=\"\",\"\",\"X\")","v":""}]
[{"$f":"'Initial Observation'!A101","v":"00:00:00"},{"$f":"IF('Initial Observation'!B101=\"\",\"\",'Initial Observation'!B101)","v":""},{"$f":"IF('Initial Observation'!K101=\"\",\"\",\"X\")","v":""}]
[{"$f":"'Initial Observation'!A102","v":"00:00:00"},{"$f":"IF('Initial Observation'!B102=\"\",\"\",'Initial Observation'!B102)","v":""},{"$f":"IF('Initial Observation'!K102=\"\",\"\",\"X\")","v":""}]
[{"$f":"'Initial Observation'!A103","v":"00:00:00"},{"$f":"IF('Initial Observation'!B103=\"\",\"\",'Initial Observation'!B103)","v":""},{"$f":"IF('Initial Observation'!K103=\"\",\"\",\"X\")","v":""}]
[{"$f":"'Initial Observation'!A104","v":"00:00:00"},{"$f":"IF('Initial Observation'!B104=\"\",\"\",'Initial Observation'!B104)","v":""},{"$f":"IF('Initial Observation'!K104=\"\",\"\",\"X\")","v":""}]
[{"$f":"'Initial Observation'!A105","v":"00:00:00"},{"$f":"IF('Initial Observation'!B105=\"\",\"\",'Initial Observation'!B105)","v":""},{"$f":"IF('Initial Observation'!K105=\"\",\"\",\"X\")","v":""}]
[{"$f":"'Initial Observation'!A106","v":"00:00:00"},{"$f":"IF('Initial Observation'!B106=\"\",\"\",'Initial Observation'!B106)","v":""},{"$f":"IF('Initial Observation'!K106=\"\",\"\",\"X\")","v":""}]
[{"$f":"'Initial Observation'!A107","v":"00:00:00"},{"$f":"IF('Initial Observation'!B107=\"\",\"\",'Initial Observation'!B107)","v":""},{"$f":"IF('Initial Observation'!K107=\"\",\"\",\"X\")","v":""}]
[{"$f":"'Initial Observation'!A108","v":"00:00:00"},{"$f":"IF('Initial Observation'!B108=\"\",\"\",'Initial Observation'!B108)","v":""},{"$f":"IF('Initial Observation'!K108=\"\",\"\",\"X\")","v":""}]
[{"$f":"'Initial Observation'!A109","v":"00:00:00"},{"$f":"IF('Initial Observation'!B109=\"\",\"\",'Initial Observation'!B109)","v":""},{"$f":"IF('Initial Observation'!K109=\"\",\"\",\"X\")","v":""}]
[{"$f":"'Initial Observation'!A110","v":"00:00:00"},{"$f":"IF('Initial Observation'!B110=\"\",\"\",'Initial Observation'!B110)","v":""},{"$f":"IF('Initial Observation'!K110=\"\",\"\",\"X\")","v":""}]
[{"$f":"'Initial Observation'!A111","v":"00:00:00"},{"$f":"IF('Initial Observation'!B111=\"\",\"\",'Initial Observation'!B111)","v":""},{"$f":"IF('Initial Observation'!K111=\"\",\"\",\"X\")","v":""}]
[{"$f":"'Initial Observation'!A112","v":"00:00:00"},{"$f":"IF('Initial Observation'!B112=\"\",\"\",'Initial Observation'!B112)","v":""},{"$f":"IF('Initial Observation'!K112=\"\",\"\",\"X\")","v":""}]
[{"$f":"'Initial Observation'!A113","v":"00:00:00"},{"$f":"IF('Initial Observation'!B113=\"\",\"\",'Initial Observation'!B113)","v":""},{"$f":"IF('Initial Observation'!K113=\"\",\"\",\"X\")","v":""}]
[{"$f":"'Initial Observation'!A114","v":"00:00:00"},{"$f":"IF('Initial Observation'!B114=\"\",\"\",'Initial Observation'!B114)","v":""},{"$f":"IF('Initial Observation'!K114=\"\",\"\",\"X\")","v":""}]
[{"$f":"'Initial Observation'!A115","v":"00:00:00"},{"$f":"IF('Initial Observation'!B115=\"\",\"\",'Initial Observation'!B115)","v":""},{"$f":"IF('Initial Observation'!K115=\"\",\"\",\"X\")","v":""}]
[{"$f":"'Initial Observation'!A116","v":"00:00:00"},{"$f":"IF('Initial Observation'!B116=\"\",\"\",'Initial Observation'!B116)","v":""},{"$f":"IF('Initial Observation'!K116=\"\",\"\",\"X\")","v":""}]
[{"$f":"'Initial Observation'!A117","v":"00:00:00"},{"$f":"IF('Initial Observation'!B117=\"\",\"\",'Initial Observation'!B117)","v":""},{"$f":"IF('Initial Observation'!K117=\"\",\"\",\"X\")","v":""}]
[{"$f":"'Initial Observation'!A118","v":"00:00:00"},{"$f":"IF('Initial Observation'!B118=\"\",\"\",'Initial Observation'!B118)","v":""},{"$f":"IF('Initial Observation'!K118=\"\",\"\",\"X\")","v":""}]
[{"$f":"'Initial Observation'!A119","v":"00:00:00"},{"$f":"IF('Initial Observation'!B119=\"\",\"\",'Initial Observation'!B119)","v":""},{"$f":"IF('Initial Observation'!K119=\"\",\"\",\"X\")","v":""}]
[{"$f":"'Initial Observation'!A120","v":"00:00:00"},{"$f":"IF('Initial Observation'!B120=\"\",\"\",'Initial Observation'!B120)","v":""},{"$f":"IF('Initial Observation'!K120=\"\",\"\",\"X\")","v":""}]
[{"$f":"'Initial Observation'!A121","v":"00:00:00"},{"$f":"IF('Initial Observation'!B121=\"\",\"\",'Initial Observation'!B121)","v":""},{"$f":"IF('Initial Observation'!K121=\"\",\"\",\"X\")","v":""}]
[{"$f":"'Initial Observation'!A122","v":"00:00:00"},{"$f":"IF('Initial Observation'!B122=\"\",\"\",'Initial Observation'!B122)","v":""},{"$f":"IF('Initial Observation'!K122=\"\",\"\",\"X\")","v":""}]
[{"$f":"'Initial Observation'!A123","v":"00:00:00"},{"$f":"IF('Initial Observation'!B123=\"\",\"\",'Initial Observation'!B123)","v":""},{"$f":"IF('Initial Observation'!K123=\"\",\"\",\"X\")","v":""}]
[{"$f":"'Initial Observation'!A124","v":"00:00:00"},{"$f":"IF('Initial Observation'!B124=\"\",\"\",'Initial Observation'!B124)","v":""},{"$f":"IF('Initial Observation'!K124=\"\",\"\",\"X\")","v":""}]
[{"$f":"'Initial Observation'!A125","v":"00:00:00"},{"$f":"IF('Initial Observation'!B125=\"\",\"\",'Initial Observation'!B125)","v":""},{"$f":"IF('Initial Observation'!K125=\"\",\"\",\"X\")","v":""}]
[{"$f":"'Initial Observation'!A126","v":"00:00:00"},{"$f":"IF('Initial Observation'!B126=\"\",\"\",'Initial Observation'!B126)","v":""},{"$f":"IF('Initial Observation'!K126=\"\",\"\",\"X\")","v":""}]
[{"$f":"'Initial Observation'!A127","v":"00:00:00"},{"$f":"IF('Initial Observation'!B127=\"\",\"\",'Initial Observation'!B127)","v":""},{"$f":"IF('Initial Observation'!K127=\"\",\"\",\"X\")","v":""}]
[{"$f":"'Initial Observation'!A128","v":"00:00:00"},{"$f":"IF('Initial Observation'!B128=\"\",\"\",'Initial Observation'!B128)","v":""},{"$f":"IF('Initial Observation'!K128=\"\",\"\",\"X\")","v":""}]
[{"$f":"'Initial Observation'!A129","v":"00:00:00"},{"$f":"IF('Initial Observation'!B129=\"\",\"\",'Initial Observation'!B129)","v":""},{"$f":"IF('Initial Observation'!K129=\"\",\"\",\"X\")","v":""}]
[{"$f":"'Initial Observation'!A130","v":"00:00:00"},{"$f":"IF('Initial Observation'!B130=\"\",\"\",'Initial Observation'!B130)","v":""},{"$f":"IF('Initial Observation'!K130=\"\",\"\",\"X\")","v":""}]
[{"$f":"'Initial Observation'!A131","v":"00:00:00"},{"$f":"IF('Initial Observation'!B131=\"\",\"\",'Initial Observation'!B131)","v":""},{"$f":"IF('Initial Observation'!K131=\"\",\"\",\"X\")","v":""}]
[{"$f":"'Initial Observation'!A132","v":"00:00:00"},{"$f":"IF('Initial Observation'!B132=\"\",\"\",'Initial Observation'!B132)","v":""},{"$f":"IF('Initial Observation'!K132=\"\",\"\",\"X\")","v":""}]
[{"$f":"'Initial Observation'!A133","v":"00:00:00"},{"$f":"IF('Initial Observation'!B133=\"\",\"\",'Initial Observation'!B133)","v":""},{"$f":"IF('Initial Observation'!K133=\"\",\"\",\"X\")","v":""}]
[{"$f":"'Initial Observation'!A134","v":"00:00:00"},{"$f":"IF('Initial Observation'!B134=\"\",\"\",'Initial Observation'!B134)","v":""},{"$f":"IF('Initial Observation'!K134=\"\",\"\",\"X\")","v":""}]
[{"$f":"'Initial Observation'!A135","v":"00:00:00"},{"$f":"IF('Initial Observation'!B135=\"\",\"\",'Initial Observation'!B135)","v":""},{"$f":"IF('Initial Observation'!K135=\"\",\"\",\"X\")","v":""}]
[{"$f":"'Initial Observation'!A136","v":"00:00:00"},{"$f":"IF('Initial Observation'!B136=\"\",\"\",'Initial Observation'!B136)","v":""},{"$f":"IF('Initial Observation'!K136=\"\",\"\",\"X\")","v":""}]
[{"$f":"'Initial Observation'!A137","v":"00:00:00"},{"$f":"IF('Initial Observation'!B137=\"\",\"\",'Initial Observation'!B137)","v":""},{"$f":"IF('Initial Observation'!K137=\"\",\"\",\"X\")","v":""}]
[{"$f":"'Initial Observation'!A138","v":"00:00:00"},{"$f":"IF('Initial Observation'!B138=\"\",\"\",'Initial Observation'!B138)","v":""},{"$f":"IF('Initial Observation'!K138=\"\",\"\",\"X\")","v":""}]
[{"$f":"'Initial Observation'!A139","v":"00:00:00"},{"$f":"IF('Initial Observation'!B139=\"\",\"\",'Initial Observation'!B139)","v":""},{"$f":"IF('Initial Observation'!K139=\"\",\"\",\"X\")","v":""}]
[{"$f":"'Initial Observation'!A140","v":"00:00:00"},{"$f":"IF('Initial Observation'!B140=\"\",\"\",'Initial Observation'!B140)","v":""},{"$f":"IF('Initial Observation'!K140=\"\",\"\",\"X\")","v":""}]
[{"$f":"'Initial Observation'!A141","v":"00:00:00"},{"$f":"IF('Initial Observation'!B141=\"\",\"\",'Initial Observation'!B141)","v":""},{"$f":"IF('Initial Observation'!K141=\"\",\"\",\"X\")","v":""}]
[{"$f":"'Initial Observation'!A142","v":"00:00:00"},{"$f":"IF('Initial Observation'!B142=\"\",\"\",'Initial Observation'!B142)","v":""},{"$f":"IF('Initial Observation'!K142=\"\",\"\",\"X\")","v":""}]
[{"$f":"'Initial Observation'!A143","v":"00:00:00"},{"$f":"IF('Initial Observation'!B143=\"\",\"\",'Initial Observation'!B143)","v":""},{"$f":"IF('Initial Observation'!K143=\"\",\"\",\"X\")","v":""}]
[{"$f":"'Initial Observation'!A144","v":"00:00:00"},{"$f":"IF('Initial Observation'!B144=\"\",\"\",'Initial Observation'!B144)","v":""},{"$f":"IF('Initial Observation'!K144=\"\",\"\",\"X\")","v":""}]
[{"$f":"'Initial Observation'!A145","v":"00:00:00"},{"$f":"IF('Initial Observation'!B145=\"\",\"\",'Initial Observation'!B145)","v":""},{"$f":"IF('Initial Observation'!K145=\"\",\"\",\"X\")","v":""}]
[{"$f":"'Initial Observation'!A146","v":"00:00:00"},{"$f":"IF('Initial Observation'!B146=\"\",\"\",'Initial Observation'!B146)","v":""},{"$f":"IF('Initial Observation'!K146=\"\",\"\",\"X\")","v":""}]
[{"$f":"'Initial Observation'!A147","v":"00:00:00"},{"$f":"IF('Initial Observation'!B147=\"\",\"\",'Initial Observation'!B147)","v":""},{"$f":"IF('Initial Observation'!K147=\"\",\"\",\"X\")","v":""}]
[{"$f":"'Initial Observation'!A148","v":"00:00:00"},{"$f":"IF('Initial Observation'!B148=\"\",\"\",'Initial Observation'!B148)","v":""},{"$f":"IF('Initial Observation'!K148=\"\",\"\",\"X\")","v":""}]
[{"$f":"'Initial Observation'!A149","v":"00:00:00"},{"$f":"IF('Initial Observation'!B149=\"\",\"\",'Initial Observation'!B149)","v":""},{"$f":"IF('Initial Observation'!K149=\"\",\"\",\"X\")","v":""}]
[{"$f":"'Initial Observation'!A150","v":"00:00:00"},{"$f":"IF('Initial Observation'!B150=\"\",\"\",'Initial Observation'!B150)","v":""},{"$f":"IF('Initial Observation'!K150=\"\",\"\",\"X\")","v":""}]
[{"$f":"'Initial Observation'!A151","v":"00:00:00"},{"$f":"IF('Initial Observation'!B151=\"\",\"\",'Initial Observation'!B151)","v":""},{"$f":"IF('Initial Observation'!K151=\"\",\"\",\"X\")","v":""}]
[{"$f":"'Initial Observation'!A152","v":"00:00:00"},{"$f":"IF('Initial Observation'!B152=\"\",\"\",'Initial Observation'!B152)","v":""},{"$f":"IF('Initial Observation'!K152=\"\",\"\",\"X\")","v":""}]
[{"$f":"'Initial Observation'!A153","v":"00:00:00"},{"$f":"IF('Initial Observation'!B153=\"\",\"\",'Initial Observation'!B153)","v":""},{"$f":"IF('Initial Observation'!K153=\"\",\"\",\"X\")","v":""}]
[{"$f":"'Initial Observation'!A154","v":"00:00:00"},{"$f":"IF('Initial Observation'!B154=\"\",\"\",'Initial Observation'!B154)","v":""},{"$f":"IF('Initial Observation'!K154=\"\",\"\",\"X\")","v":""}]
[{"$f":"'Initial Observation'!A155","v":"00:00:00"},{"$f":"IF('Initial Observation'!B155=\"\",\"\",'Initial Observation'!B155)","v":""},{"$f":"IF('Initial Observation'!K155=\"\",\"\",\"X\")","v":""}]
[{"$f":"'Initial Observation'!A156","v":"00:00:00"},{"$f":"IF('Initial Observation'!B156=\"\",\"\",'Initial Observation'!B156)","v":""},{"$f":"IF('Initial Observation'!K156=\"\",\"\",\"X\")","v":""}]
[{"$f":"'Initial Observation'!A157","v":"00:00:00"},{"$f":"IF('Initial Observation'!B157=\"\",\"\",'Initial Observation'!B157)","v":""},{"$f":"IF('Initial Observation'!K157=\"\",\"\",\"X\")","v":""}]
[{"$f":"'Initial Observation'!A158","v":"00:00:00"},{"$f":"IF('Initial Observation'!B158=\"\",\"\",'Initial Observation'!B158)","v":""},{"$f":"IF('Initial Observation'!K158=\"\",\"\",\"X\")","v":""}]
[{"$f":"'Initial Observation'!A159","v":"00:00:00"},{"$f":"IF('Initial Observation'!B159=\"\",\"\",'Initial Observation'!B159)","v":""},{"$f":"IF('Initial Observation'!K159=\"\",\"\",\"X\")","v":""}]
[{"$f":"'Initial Observation'!A160","v":"00:00:00"},{"$f":"IF('Initial Observation'!B160=\"\",\"\",'Initial Observation'!B160)","v":""},{"$f":"IF('Initial Observation'!K160=\"\",\"\",\"X\")","v":""}]
[{"$f":"'Initial Observation'!A161","v":"00:00:00"},{"$f":"IF('Initial Observation'!B161=\"\",\"\",'Initial Observation'!B161)","v":""},{"$f":"IF('Initial Observation'!K161=\"\",\"\",\"X\")","v":""}]
[{"$f":"'Initial Observation'!A162","v":"00:00:00"},{"$f":"IF('Initial Observation'!B162=\"\",\"\",'Initial Observation'!B162)","v":""},{"$f":"IF('Initial Observation'!K162=\"\",\"\",\"X\")","v":""}]
[{"$f":"'Initial Observation'!A163","v":"00:00:00"},{"$f":"IF('Initial Observation'!B163=\"\",\"\",'Initial Observation'!B163)","v":""},{"$f":"IF('Initial Observation'!K163=\"\",\"\",\"X\")","v":""}]
[{"$f":"'Initial Observation'!A164","v":"00:00:00"},{"$f":"IF('Initial Observation'!B164=\"\",\"\",'Initial Observation'!B164)","v":""},{"$f":"IF('Initial Observation'!K164=\"\",\"\",\"X\")","v":""}]
[{"$f":"'Initial Observation'!A165","v":"00:00:00"},{"$f":"IF('Initial Observation'!B165=\"\",\"\",'Initial Observation'!B165)","v":""},{"$f":"IF('Initial Observation'!K165=\"\",\"\",\"X\")","v":""}]
[{"$f":"'Initial Observation'!A166","v":"00:00:00"},{"$f":"IF('Initial Observation'!B166=\"\",\"\",'Initial Observation'!B166)","v":""},{"$f":"IF('Initial Observation'!K166=\"\",\"\",\"X\")","v":""}]
[{"$f":"'Initial Observation'!A167","v":"00:00:00"},{"$f":"IF('Initial Observation'!B167=\"\",\"\",'Initial Observation'!B167)","v":""},{"$f":"IF('Initial Observation'!K167=\"\",\"\",\"X\")","v":""}]
[{"$f":"'Initial Observation'!A168","v":"00:00:00"},{"$f":"IF('Initial Observation'!B168=\"\",\"\",'Initial Observation'!B168)","v":""},{"$f":"IF('Initial Observation'!K168=\"\",\"\",\"X\")","v":""}]
[{"$f":"'Initial Observation'!A169","v":"00:00:00"},{"$f":"IF('Initial Observation'!B169=\"\",\"\",'Initial Observation'!B169)","v":""},{"$f":"IF('Initial Observation'!K169=\"\",\"\",\"X\")","v":""}]
[{"$f":"'Initial Observation'!A170","v":"00:00:00"},{"$f":"IF('Initial Observation'!B170=\"\",\"\",'Initial Observation'!B170)","v":""},{"$f":"IF('Initial Observation'!K170=\"\",\"\",\"X\")","v":""}]
[{"$f":"'Initial Observation'!A171","v":"00:00:00"},{"$f":"IF('Initial Observation'!B171=\"\",\"\",'Initial Observation'!B171)","v":""},{"$f":"IF('Initial Observation'!K171=\"\",\"\",\"X\")","v":""}]
[{"$f":"'Initial Observation'!A172","v":"00:00:00"},{"$f":"IF('Initial Observation'!B172=\"\",\"\",'Initial Observation'!B172)","v":""},{"$f":"IF('Initial Observation'!K172=\"\",\"\",\"X\")","v":""}]
[{"$f":"'Initial Observation'!A173","v":"00:00:00"},{"$f":"IF('Initial Observation'!B173=\"\",\"\",'Initial Observation'!B173)","v":""},{"$f":"IF('Initial Observation'!K173=\"\",\"\",\"X\")","v":""}]
[{"$f":"'Initial Observation'!A174","v":"00:00:00"},{"$f":"IF('Initial Observation'!B174=\"\",\"\",'Initial Observation'!B174)","v":""},{"$f":"IF('Initial Observation'!K174=\"\",\"\",\"X\")","v":""}]
[{"$f":"'Initial Observation'!A175","v":"00:00:00"},{"$f":"IF('Initial Observation'!B175=\"\",\"\",'Initial Observation'!B175)","v":""},{"$f":"IF('Initial Observation'!K175=\"\",\"\",\"X\")","v":""}]
[{"$f":"'Initial Observation'!A176","v":"00:00:00"},{"$f":"IF('Initial Observation'!B176=\"\",\"\",'Initial Observation'!B176)","v":""},{"$f":"IF('Initial Observation'!K176=\"\",\"\",\"X\")","v":""}]
[{"$f":"'Initial Observation'!A177","v":"00:00:00"},{"$f":"IF('Initial Observation'!B177=\"\",\"\",'Initial Observation'!B177)","v":""},{"$f":"IF('Initial Observation'!K177=\"\",\"\",\"X\")","v":""}]
[{"$f":"'Initial Observation'!A178","v":"00:00:00"},{"$f":"IF('Initial Observation'!B178=\"\",\"\",'Initial Observation'!B178)","v":""},{"$f":"IF('Initial Observation'!K178=\"\",\"\",\"X\")","v":""}]
[{"$f":"'Initial Observation'!A179","v":"00:00:00"},{"$f":"IF('Initial Observation'!B179=\"\",\"\",'Initial Observation'!B179)","v":""},{"$f":"IF('Initial Observation'!K179=\"\",\"\",\"X\")","v":""}]
[{"$f":"'Initial Observation'!A180","v":"00:00:00"},{"$f":"IF('Initial Observation'!B180=\"\",\"\",'Initial Observation'!B180)","v":""},{"$f":"IF('Initial Observation'!K180=\"\",\"\",\"X\")","v":""}]
[{"$f":"'Initial Observation'!A181","v":"00:00:00"},{"$f":"IF('Initial Observation'!B181=\"\",\"\",'Initial Observation'!B181)","v":""},{"$f":"IF('Initial Observation'!K181=\"\",\"\",\"X\")","v":""}]
[{"$f":"'Initial Observation'!A182","v":"00:00:00"},{"$f":"IF('Initial Observation'!B182=\"\",\"\",'Initial Observation'!B182)","v":""},{"$f":"IF('Initial Observation'!K182=\"\",\"\",\"X\")","v":""}]
[{"$f":"'Initial Observation'!A183","v":"00:00:00"},{"$f":"IF('Initial Observation'!B183=\"\",\"\",'Initial Observation'!B183)","v":""},{"$f":"IF('Initial Observation'!K183=\"\",\"\",\"X\")","v":""}]
[{"$f":"'Initial Observation'!A184","v":"00:00:00"},{"$f":"IF('Initial Observation'!B184=\"\",\"\",'Initial Observation'!B184)","v":""},{"$f":"IF('Initial Observation'!K184=\"\",\"\",\"X\")","v":""}]
[{"$f":"'Initial Observation'!A185","v":"00:00:00"},{"$f":"IF('Initial Observation'!B185=\"\",\"\",'Initial Observation'!B185)","v":""},{"$f":"IF('Initial Observation'!K185=\"\",\"\",\"X\")","v":""}]
[{"$f":"'Initial Observation'!A186","v":"00:00:00"},{"$f":"IF('Initial Observation'!B186=\"\",\"\",'Initial Observation'!B186)","v":""},{"$f":"IF('Initial Observation'!K186=\"\",\"\",\"X\")","v":""}]
[{"$f":"'Initial Observation'!A187","v":"00:00:00"},{"$f":"IF('Initial Observation'!B187=\"\",\"\",'Initial Observation'!B187)","v":""},{"$f":"IF('Initial Observation'!K187=\"\",\"\",\"X\")","v":""}]
[{"$f":"'Initial Observation'!A188","v":"00:00:00"},{"$f":"IF('Initial Observation'!B188=\"\",\"\",'Initial Observation'!B188)","v":""},{"$f":"IF('Initial Observation'!K188=\"\",\"\",\"X\")","v":""}]
[{"$f":"'Initial Observation'!A189","v":"00:00:00"},{"$f":"IF('Initial Observation'!B189=\"\",\"\",'Initial Observation'!B189)","v":""},{"$f":"IF('Initial Observation'!K189=\"\",\"\",\"X\")","v":""}]
[{"$f":"'Initial Observation'!A190","v":"00:00:00"},{"$f":"IF('Initial Observation'!B190=\"\",\"\",'Initial Observation'!B190)","v":""},{"$f":"IF('Initial Observation'!K190=\"\",\"\",\"X\")","v":""}]
[{"$f":"'Initial Observation'!A191","v":"00:00:00"},{"$f":"IF('Initial Observation'!B191=\"\",\"\",'Initial Observation'!B191)","v":""},{"$f":"IF('Initial Observation'!K191=\"\",\"\",\"X\")","v":""}]
[{"$f":"'Initial Observation'!A192","v":"00:00:00"},{"$f":"IF('Initial Observation'!B192=\"\",\"\",'Initial Observation'!B192)","v":""},{"$f":"IF('Initial Observation'!K192=\"\",\"\",\"X\")","v":""}]
[{"$f":"'Initial Observation'!A193","v":"00:00:00"},{"$f":"IF('Initial Observation'!B193=\"\",\"\",'Initial Observation'!B193)","v":""},{"$f":"IF('Initial Observation'!K193=\"\",\"\",\"X\")","v":""}]
[{"$f":"'Initial Observation'!A194","v":"00:00:00"},{"$f":"IF('Initial Observation'!B194=\"\",\"\",'Initial Observation'!B194)","v":""},{"$f":"IF('Initial Observation'!K194=\"\",\"\",\"X\")","v":""}]
[{"$f":"'Initial Observation'!A195","v":"00:00:00"},{"$f":"IF('Initial Observation'!B195=\"\",\"\",'Initial Observation'!B195)","v":""},{"$f":"IF('Initial Observation'!K195=\"\",\"\",\"X\")","v":""}]
[{"$f":"'Initial Observation'!A196","v":"00:00:00"},{"$f":"IF('Initial Observation'!B196=\"\",\"\",'Initial Observation'!B196)","v":""},{"$f":"IF('Initial Observation'!K196=\"\",\"\",\"X\")","v":""}]
[{"$f":"'Initial Observation'!A197","v":"00:00:00"},{"$f":"IF('Initial Observation'!B197=\"\",\"\",'Initial Observation'!B197)","v":""},{"$f":"IF('Initial Observation'!K197=\"\",\"\",\"X\")","v":""}]
[{"$f":"'Initial Observation'!A198","v":"00:00:00"},{"$f":"IF('Initial Observation'!B198=\"\",\"\",'Initial Observation'!B198)","v":""},{"$f":"IF('Initial Observation'!K198=\"\",\"\",\"X\")","v":""}]
[{"$f":"'Initial Observation'!A199","v":"00:00:00"},{"$f":"IF('Initial Observation'!B199=\"\",\"\",'Initial Observation'!B199)","v":""},{"$f":"IF('Initial Observation'!K199=\"\",\"\",\"X\")","v":""}]
[{"$f":"'Initial Observation'!A200","v":"00:00:00"},{"$f":"IF('Initial Observation'!B200=\"\",\"\",'Initial Observation'!B200)","v":""},{"$f":"IF('Initial Observation'!K200=\"\",\"\",\"X\")","v":""}]
[{"$f":"'Initial Observation'!A201","v":"00:00:00"},{"$f":"IF('Initial Observation'!B201=\"\",\"\",'Initial Observation'!B201)","v":""},{"$f":"IF('Initial Observation'!K201=\"\",\"\",\"X\")","v":""}]
[{"$f":"'Initial Observation'!A202","v":"00:00:00"},{"$f":"IF('Initial Observation'!B202=\"\",\"\",'Initial Observation'!B202)","v":""},{"$f":"IF('Initial Observation'!K202=\"\",\"\",\"X\")","v":""}]
[{"$f":"'Initial Observation'!A203","v":"00:00:00"},{"$f":"IF('Initial Observation'!B203=\"\",\"\",'Initial Observation'!B203)","v":""},{"$f":"IF('Initial Observation'!K203=\"\",\"\",\"X\")","v":""}]
[{"$f":"'Initial Observation'!A204","v":"00:00:00"},{"$f":"IF('Initial Observation'!B204=\"\",\"\",'Initial Observation'!B204)","v":""},{"$f":"IF('Initial Observation'!K204=\"\",\"\",\"X\")","v":""}]
[{"$f":"'Initial Observation'!A205","v":"00:00:00"},{"$f":"IF('Initial Observation'!B205=\"\",\"\",'Initial Observation'!B205)","v":""},{"$f":"IF('Initial Observation'!K205=\"\",\"\",\"X\")","v":""}]
[{"$f":"'Initial Observation'!A206","v":"00:00:00"},{"$f":"IF('Initial Observation'!B206=\"\",\"\",'Initial Observation'!B206)","v":""},{"$f":"IF('Initial Observation'!K206=\"\",\"\",\"X\")","v":""}]
[{"$f":"'Initial Observation'!A207","v":"00:00:00"},{"$f":"IF('Initial Observation'!B207=\"\",\"\",'Initial Observation'!B207)","v":""},{"$f":"IF('Initial Observation'!K207=\"\",\"\",\"X\")","v":""}]
[{"$f":"'Initial Observation'!A208","v":"00:00:00"},{"$f":"IF('Initial Observation'!B208=\"\",\"\",'Initial Observation'!B208)","v":""},{"$f":"IF('Initial Observation'!K208=\"\",\"\",\"X\")","v":""}]
[{"$f":"'Initial Observation'!A209","v":"00:00:00"},{"$f":"IF('Initial Observation'!B209=\"\",\"\",'Initial Observation'!B209)","v":""},{"$f":"IF('Initial Observation'!K209=\"\",\"\",\"X\")","v":""}]
[{"$f":"'Initial Observation'!A210","v":"00:00:00"},{"$f":"IF('Initial Observation'!B210=\"\",\"\",'Initial Observation'!B210)","v":""},{"$f":"IF('Initial Observation'!K210=\"\",\"\",\"X\")","v":""}]
[{"$f":"'Initial Observation'!A211","v":"00:00:00"},{"$f":"IF('Initial Observation'!B211=\"\",\"\",'Initial Observation'!B211)","v":""},{"$f":"IF('Initial Observation'!K211=\"\",\"\",\"X\")","v":""}]
[{"$f":"'Initial Observation'!A212","v":"00:00:00"},{"$f":"IF('Initial Observation'!B212=\"\",\"\",'Initial Observation'!B212)","v":""},{"$f":"IF('Initial Observation'!K212=\"\",\"\",\"X\")","v":""}]
[{"$f":"'Initial Observation'!A213","v":"00:00:00"},{"$f":"IF('Initial Observation'!B213=\"\",\"\",'Initial Observation'!B213)","v":""},{"$f":"IF('Initial Observation'!K213=\"\",\"\",\"X\")","v":""}]
[{"$f":"'Initial Observation'!A214","v":"00:00:00"},{"$f":"IF('Initial Observation'!B214=\"\",\"\",'Initial Observation'!B214)","v":""},{"$f":"IF('Initial Observation'!K214=\"\",\"\",\"X\")","v":""}]
[{"$f":"'Initial Observation'!A215","v":"00:00:00"},{"$f":"IF('Initial Observation'!B215=\"\",\"\",'Initial Observation'!B215)","v":""},{"$f":"IF('Initial Observation'!K215=\"\",\"\",\"X\")","v":""}]
[{"$f":"'Initial Observation'!A216","v":"00:00:00"},{"$f":"IF('Initial Observation'!B216=\"\",\"\",'Initial Observation'!B216)","v":""},{"$f":"IF('Initial Observation'!K216=\"\",\"\",\"X\")","v":""}]
[{"$f":"'Initial Observation'!A217","v":"00:00:00"},{"$f":"IF('Initial Observation'!B217=\"\",\"\",'Initial Observation'!B217)","v":""},{"$f":"IF('Initial Observation'!K217=\"\",\"\",\"X\")","v":""}]
[{"$f":"'Initial Observation'!A218","v":"00:00:00"},{"$f":"IF('Initial Observation'!B218=\"\",\"\",'Initial Observation'!B218)","v":""},{"$f":"IF('Initial Observation'!K218=\"\",\"\",\"X\")","v":""}]
[{"$f":"'Initial Observation'!A219","v":"00:00:00"},{"$f":"IF('Initial Observation'!B219=\"\",\"\",'Initial Observation'!B219)","v":""},{"$f":"IF('Initial Observation'!K219=\"\",\"\",\"X\")","v":""}]
[{"$f":"'Initial Observation'!A220","v":"00:00:00"},{"$f":"IF('Initial Observation'!B220=\"\",\"\",'Initial Observation'!B220)","v":""},{"$f":"IF('Initial Observation'!K220=\"\",\"\",\"X\")","v":""}]
[{"$f":"'Initial Observation'!A221","v":"00:00:00"},{"$f":"IF('Initial Observation'!B221=\"\",\"\",'Initial Observation'!B221)","v":""},{"$f":"IF('Initial Observation'!K221=\"\",\"\",\"X\")","v":""}]
[{"$f":"'Initial Observation'!A222","v":"00:00:00"},{"$f":"IF('Initial Observation'!B222=\"\",\"\",'Initial Observation'!B222)","v":""},{"$f":"IF('Initial Observation'!K222=\"\",\"\",\"X\")","v":""}]
[{"$f":"'Initial Observation'!A223","v":"00:00:00"},{"$f":"IF('Initial Observation'!B223=\"\",\"\",'Initial Observation'!B223)","v":""},{"$f":"IF('Initial Observation'!K223=\"\",\"\",\"X\")","v":""}]
[{"$f":"'Initial Observation'!A224","v":"00:00:00"},{"$f":"IF('Initial Observation'!B224=\"\",\"\",'Initial Observation'!B224)","v":""},{"$f":"IF('Initial Observation'!K224=\"\",\"\",\"X\")","v":""}]
[{"$f":"'Initial Observation'!A225","v":"00:00:00"},{"$f":"IF('Initial Observation'!B225=\"\",\"\",'Initial Observation'!B225)","v":""},{"$f":"IF('Initial Observation'!K225=\"\",\"\",\"X\")","v":""}]
[{"$f":"'Initial Observation'!A226","v":"00:00:00"},{"$f":"IF('Initial Observation'!B226=\"\",\"\",'Initial Observation'!B226)","v":""},{"$f":"IF('Initial Observation'!K226=\"\",\"\",\"X\")","v":""}]
[{"$f":"'Initial Observation'!A227","v":"00:00:00"},{"$f":"IF('Initial Observation'!B227=\"\",\"\",'Initial Observation'!B227)","v":""},{"$f":"IF('Initial Observation'!K227=\"\",\"\",\"X\")","v":""}]
[{"$f":"'Initial Observation'!A228","v":"00:00:00"},{"$f":"IF('Initial Observation'!B228=\"\",\"\",'Initial Observation'!B228)","v":""},{"$f":"IF('Initial Observation'!K228=\"\",\"\",\"X\")","v":""}]
[{"$f":"'Initial Observation'!A229","v":"00:00:00"},{"$f":"IF('Initial Observation'!B229=\"\",\"\",'Initial Observation'!B229)","v":""},{"$f":"IF('Initial Observation'!K229=\"\",\"\",\"X\")","v":""}]
[{"$f":"'Initial Observation'!A230","v":"00:00:00"},{"$f":"IF('Initial Observation'!B230=\"\",\"\",'Initial Observation'!B230)","v":""},{"$f":"IF('Initial Observation'!K230=\"\",\"\",\"X\")","v":""}]
[{"$f":"'Initial Observation'!A231","v":"00:00:00"},{"$f":"IF('Initial Observation'!B231=\"\",\"\",'Initial Observation'!B231)","v":""},{"$f":"IF('Initial Observation'!K231=\"\",\"\",\"X\")","v":""}]
[{"$f":"'Initial Observation'!A232","v":"00:00:00"},{"$f":"IF('Initial Observation'!B232=\"\",\"\",'Initial Observation'!B232)","v":""},{"$f":"IF('Initial Observation'!K232=\"\",\"\",\"X\")","v":""}]
[{"$f":"'Initial Observation'!A233","v":"00:00:00"},{"$f":"IF('Initial Observation'!B233=\"\",\"\",'Initial Observation'!B233)","v":""},{"$f":"IF('Initial Observation'!K233=\"\",\"\",\"X\")","v":""}]
[{"$f":"'Initial Observation'!A234","v":"00:00:00"},{"$f":"IF('Initial Observation'!B234=\"\",\"\",'Initial Observation'!B234)","v":""},{"$f":"IF('Initial Observation'!K234=\"\",\"\",\"X\")","v":""}]
[{"$f":"'Initial Observation'!A235","v":"00:00:00"},{"$f":"IF('Initial Observation'!B235=\"\",\"\",'Initial Observation'!B235)","v":""},{"$f":"IF('Initial Observation'!K235=\"\",\"\",\"X\")","v":""}]
[{"$f":"'Initial Observation'!A236","v":"00:00:00"},{"$f":"IF('Initial Observation'!B236=\"\",\"\",'Initial Observation'!B236)","v":""},{"$f":"IF('Initial Observation'!K236=\"\",\"\",\"X\")","v":""}]
[{"$f":"'Initial Observation'!A237","v":"00:00:00"},{"$f":"IF('Initial Observation'!B237=\"\",\"\",'Initial Observation'!B237)","v":""},{"$f":"IF('Initial Observation'!K237=\"\",\"\",\"X\")","v":""}]
[{"$f":"'Initial Observation'!A238","v":"00:00:00"},{"$f":"IF('Initial Observation'!B238=\"\",\"\",'Initial Observation'!B238)","v":""},{"$f":"IF('Initial Observation'!K238=\"\",\"\",\"X\")","v":""}]
[{"$f":"'Initial Observation'!A239","v":"00:00:00"},{"$f":"IF('Initial Observation'!B239=\"\",\"\",'Initial Observation'!B239)","v":""},{"$f":"IF('Initial Observation'!K239=\"\",\"\",\"X\")","v":""}]
[{"$f":"'Initial Observation'!A240","v":"00:00:00"},{"$f":"IF('Initial Observation'!B240=\"\",\"\",'Initial Observation'!B240)","v":""},{"$f":"IF('Initial Observation'!K240=\"\",\"\",\"X\")","v":""}]
[{"$f":"'Initial Observation'!A241","v":"00:00:00"},{"$f":"IF('Initial Observation'!B241=\"\",\"\",'Initial Observation'!B241)","v":""},{"$f":"IF('Initial Observation'!K241=\"\",\"\",\"X\")","v":""}]
[{"$f":"'Initial Observation'!A242","v":"00:00:00"},{"$f":"IF('Initial Observation'!B242=\"\",\"\",'Initial Observation'!B242)","v":""},{"$f":"IF('Initial Observation'!K242=\"\",\"\",\"X\")","v":""}]
[{"$f":"'Initial Observation'!A243","v":"00:00:00"},{"$f":"IF('Initial Observation'!B243=\"\",\"\",'Initial Observation'!B243)","v":""},{"$f":"IF('Initial Observation'!K243=\"\",\"\",\"X\")","v":""}]
[{"$f":"'Initial Observation'!A244","v":"00:00:00"},{"$f":"IF('Initial Observation'!B244=\"\",\"\",'Initial Observation'!B244)","v":""},{"$f":"IF('Initial Observation'!K244=\"\",\"\",\"X\")","v":""}]
[{"$f":"'Initial Observation'!A245","v":"00:00:00"},{"$f":"IF('Initial Observation'!B245=\"\",\"\",'Initial Observation'!B245)","v":""},{"$f":"IF('Initial Observation'!K245=\"\",\"\",\"X\")","v":""}]
[{"$f":"'Initial Observation'!A246","v":"00:00:00"},{"$f":"IF('Initial Observation'!B246=\"\",\"\",'Initial Observation'!B246)","v":""},{"$f":"IF('Initial Observation'!K246=\"\",\"\",\"X\")","v":""}]
[{"$f":"'Initial Observation'!A247","v":"00:00:00"},{"$f":"IF('Initial Observation'!B247=\"\",\"\",'Initial Observation'!B247)","v":""},{"$f":"IF('Initial Observation'!K247=\"\",\"\",\"X\")","v":""}]
[{"$f":"'Initial Observation'!A248","v":"00:00:00"},{"$f":"IF('Initial Observation'!B248=\"\",\"\",'Initial Observation'!B248)","v":""},{"$f":"IF('Initial Observation'!K248=\"\",\"\",\"X\")","v":""}]
[{"$f":"'Initial Observation'!A249","v":"00:00:00"},{"$f":"IF('Initial Observation'!B249=\"\",\"\",'Initial Observation'!B249)","v":""},{"$f":"IF('Initial Observation'!K249=\"\",\"\",\"X\")","v":""}]
[{"$f":"'Initial Observation'!A250","v":"00:00:00"},{"$f":"IF('Initial Observation'!B250=\"\",\"\",'Initial Observation'!B250)","v":""},{"$f":"IF('Initial Observation'!K250=\"\",\"\",\"X\")","v":""}]
[{"$f":"'Initial Observation'!A251","v":"00:00:00"},{"$f":"IF('Initial Observation'!B251=\"\",\"\",'Initial Observation'!B251)","v":""},{"$f":"IF('Initial Observation'!K251=\"\",\"\",\"X\")","v":""}]
[{"$f":"'Initial Observation'!A252","v":"00:00:00"},{"$f":"IF('Initial Observation'!B252=\"\",\"\",'Initial Observation'!B252)","v":""},{"$f":"IF('Initial Observation'!K252=\"\",\"\",\"X\")","v":""}]
[{"$f":"'Initial Observation'!A253","v":"00:00:00"},{"$f":"IF('Initial Observation'!B253=\"\",\"\",'Initial Observation'!B253)","v":""},{"$f":"IF('Initial Observation'!K253=\"\",\"\",\"X\")","v":""}]
[{"$f":"'Initial Observation'!A254","v":"00:00:00"},{"$f":"IF('Initial Observation'!B254=\"\",\"\",'Initial Observation'!B254)","v":""},{"$f":"IF('Initial Observation'!K254=\"\",\"\",\"X\")","v":""}]
[{"$f":"'Initial Observation'!A255","v":"00:00:00"},{"$f":"IF('Initial Observation'!B255=\"\",\"\",'Initial Observation'!B255)","v":""},{"$f":"IF('Initial Observation'!K255=\"\",\"\",\"X\")","v":""}]
[{"$f":"'Initial Observation'!A256","v":"00:00:00"},{"$f":"IF('Initial Observation'!B256=\"\",\"\",'Initial Observation'!B256)","v":""},{"$f":"IF('Initial Observation'!K256=\"\",\"\",\"X\")","v":""}]
[{"$f":"'Initial Observation'!A257","v":"00:00:00"},{"$f":"IF('Initial Observation'!B257=\"\",\"\",'Initial Observation'!B257)","v":""},{"$f":"IF('Initial Observation'!K257=\"\",\"\",\"X\")","v":""}]
[{"$f":"'Initial Observation'!A258","v":"00:00:00"},{"$f":"IF('Initial Observation'!B258=\"\",\"\",'Initial Observation'!B258)","v":""},{"$f":"IF('Initial Observation'!K258=\"\",\"\",\"X\")","v":""}]
[{"$f":"'Initial Observation'!A259","v":"00:00:00"},{"$f":"IF('Initial Observation'!B259=\"\",\"\",'Initial Observation'!B259)","v":""},{"$f":"IF('Initial Observation'!K259=\"\",\"\",\"X\")","v":""}]
[{"$f":"'Initial Observation'!A260","v":"00:00:00"},{"$f":"IF('Initial Observation'!B260=\"\",\"\",'Initial Observation'!B260)","v":""},{"$f":"IF('Initial Observation'!K260=\"\",\"\",\"X\")","v":""}]
[{"$f":"'Initial Observation'!A261","v":"00:00:00"},{"$f":"IF('Initial Observation'!B261=\"\",\"\",'Initial Observation'!B261)","v":""},{"$f":"IF('Initial Observation'!K261=\"\",\"\",\"X\")","v":""}]
[{"$f":"'Initial Observation'!A262","v":"00:00:00"},{"$f":"IF('Initial Observation'!B262=\"\",\"\",'Initial Observation'!B262)","v":""},{"$f":"IF('Initial Observation'!K262=\"\",\"\",\"X\")","v":""}]
[{"$f":"'Initial Observation'!A263","v":"00:00:00"},{"$f":"IF('Initial Observation'!B263=\"\",\"\",'Initial Observation'!B263)","v":""},{"$f":"IF('Initial Observation'!K263=\"\",\"\",\"X\")","v":""}]
[{"$f":"'Initial Observation'!A264","v":"00:00:00"},{"$f":"IF('Initial Observation'!B264=\"\",\"\",'Initial Observation'!B264)","v":""},{"$f":"IF('Initial Observation'!K264=\"\",\"\",\"X\")","v":""}]
[{"$f":"'Initial Observation'!A265","v":"00:00:00"},{"$f":"IF('Initial Observation'!B265=\"\",\"\",'Initial Observation'!B265)","v":""},{"$f":"IF('Initial Observation'!K265=\"\",\"\",\"X\")","v":""}]
[{"$f":"'Initial Observation'!A266","v":"00:00:00"},{"$f":"IF('Initial Observation'!B266=\"\",\"\",'Initial Observation'!B266)","v":""},{"$f":"IF('Initial Observation'!K266=\"\",\"\",\"X\")","v":""}]
[{"$f":"'Initial Observation'!A267","v":"00:00:00"},{"$f":"IF('Initial Observation'!B267=\"\",\"\",'Initial Observation'!B267)","v":""},{"$f":"IF('Initial Observation'!K267=\"\",\"\",\"X\")","v":""}]
[{"$f":"'Initial Observation'!A268","v":"00:00:00"},{"$f":"IF('Initial Observation'!B268=\"\",\"\",'Initial Observation'!B268)","v":""},{"$f":"IF('Initial Observation'!K268=\"\",\"\",\"X\")","v":""}]
[{"$f":"'Initial Observation'!A269","v":"00:00:00"},{"$f":"IF('Initial Observation'!B269=\"\",\"\",'Initial Observation'!B269)","v":""},{"$f":"IF('Initial Observation'!K269=\"\",\"\",\"X\")","v":""}]
[{"$f":"'Initial Observation'!A270","v":"00:00:00"},{"$f":"IF('Initial Observation'!B270=\"\",\"\",'Initial Observation'!B270)","v":""},{"$f":"IF('Initial Observation'!K270=\"\",\"\",\"X\")","v":""}]

{"sheet":"3E","index":10,"n_rows":270,"n_cols":3,"rows_kept":270,"cut":false,"hidden":false,"merged":[[0,2,3,2]]}
[null,{"$f":"'Initial Observation'!B1","v":"Teacher Name:"},"3E Demon. Flexability/Responsiveness"]
[null,{"$f":"'Initial Observation'!B2","v":"Date:"}]
[null,{"$f":"'Initial Observation'!B3","v":"Number of Students:"}]
[null,"Evidence"]
[{"$f":"'Initial Observation'!A5","v":"00:00:00"},{"$f":"IF('Initial Observation'!B5=\"\",\"\",'Initial Observation'!B5)","v":""},{"$f":"IF('Initial Observation'!L5=\"\",\"\",\"X\")","v":""}]
[{"$f":"'Initial Observation'!A6","v":"00:00:00"},{"$f":"IF('Initial Observation'!B6=\"\",\"\",'Initial Observation'!B6)","v":""},{"$f":"IF('Initial Observation'!L6=\"\",\"\",\"X\")","v":""}]
[{"$f":"'Initial Observation'!A7","v":"00:00:00"},{"$f":"IF('Initial Observation'!B7=\"\",\"\",'Initial Observation'!B7)","v":""},{"$f":"IF('Initial Observation'!L7=\"\",\"\",\"X\")","v":""}]
[{"$f":"'Initial Observation'!A8","v":"00:00:00"},{"$f":"IF('Initial Observation'!B8=\"\",\"\",'Initial Observation'!B8)","v":""},{"$f":"IF('Initial Observation'!L8=\"\",\"\",\"X\")","v":""}]
[{"$f":"'Initial Observation'!A9","v":"00:00:00"},{"$f":"IF('Initial Observation'!B9=\"\",\"\",'Initial Observation'!B9)","v":""},{"$f":"IF('Initial Observation'!L9=\"\",\"\",\"X\")","v":""}]
[{"$f":"'Initial Observation'!A10","v":"00:00:00"},{"$f":"IF('Initial Observation'!B10=\"\",\"\",'Initial Observation'!B10)","v":""},{"$f":"IF('Initial Observation'!L10=\"\",\"\",\"X\")","v":""}]
[{"$f":"'Initial Observation'!A11","v":"00:00:00"},{"$f":"IF('Initial Observation'!B11=\"\",\"\",'Initial Observation'!B11)","v":""},{"$f":"IF('Initial Observation'!L11=\"\",\"\",\"X\")","v":""}]
[{"$f":"'Initial Observation'!A12","v":"00:00:00"},{"$f":"IF('Initial Observation'!B12=\"\",\"\",'Initial Observation'!B12)","v":""},{"$f":"IF('Initial Observation'!L12=\"\",\"\",\"X\")","v":""}]
[{"$f":"'Initial Observation'!A13","v":"00:00:00"},{"$f":"IF('Initial Observation'!B13=\"\",\"\",'Initial Observation'!B13)","v":""},{"$f":"IF('Initial Observation'!L13=\"\",\"\",\"X\")","v":""}]
[{"$f":"'Initial Observation'!A14","v":"00:00:00"},{"$f":"IF('Initial Observation'!B14=\"\",\"\",'Initial Observation'!B14)","v":""},{"$f":"IF('Initial Observation'!L14=\"\",\"\",\"X\")","v":""}]
[{"$f":"'Initial Observation'!A15","v":"00:00:00"},{"$f":"IF('Initial Observation'!B15=\"\",\"\",'Initial Observation'!B15)","v":""},{"$f":"IF('Initial Observation'!L15=\"\",\"\",\"X\")","v":""}]
[{"$f":"'Initial Observation'!A16","v":"00:00:00"},{"$f":"IF('Initial Observation'!B16=\"\",\"\",'Initial Observation'!B16)","v":""},{"$f":"IF('Initial Observation'!L16=\"\",\"\",\"X\")","v":""}]
[{"$f":"'Initial Observation'!A17","v":"00:00:00"},{"$f":"IF('Initial Observation'!B17=\"\",\"\",'Initial Observation'!B17)","v":""},{"$f":"IF('Initial Observation'!L17=\"\",\"\",\"X\")","v":""}]
[{"$f":"'Initial Observation'!A18","v":"00:00:00"},{"$f":"IF('Initial Observation'!B18=\"\",\"\",'Initial Observation'!B18)","v":""},{"$f":"IF('Initial Observation'!L18=\"\",\"\",\"X\")","v":""}]
[{"$f":"'Initial Observation'!A19","v":"00:00:00"},{"$f":"IF('Initial Observation'!B19=\"\",\"\",'Initial Observation'!B19)","v":""},{"$f":"IF('Initial Observation'!L19=\"\",\"\",\"X\")","v":""}]
[{"$f":"'Initial Observation'!A20","v":"00:00:00"},{"$f":"IF('Initial Observation'!B20=\"\",\"\",'Initial Observation'!B20)","v":""},{"$f":"IF('Initial Observation'!L20=\"\",\"\",\"X\")","v":""}]
[{"$f":"'Initial Observation'!A21","v":"00:00:00"},{"$f":"IF('Initial Observation'!B21=\"\",\"\",'Initial Observation'!B21)","v":""},{"$f":"IF('Initial Observation'!L21=\"\",\"\",\"X\")","v":""}]
[{"$f":"'Initial Observation'!A22","v":"00:00:00"},{"$f":"IF('Initial Observation'!B22=\"\",\"\",'Initial Observation'!B22)","v":""},{"$f":"IF('Initial Observation'!L22=\"\",\"\",\"X\")","v":""}]
[{"$f":"'Initial Observation'!A23","v":"00:00:00"},{"$f":"IF('Initial Observation'!B23=\"\",\"\",'Initial Observation'!B23)","v":""},{"$f":"IF('Initial Observation'!L23=\"\",\"\",\"X\")","v":""}]
[{"$f":"'Initial Observation'!A24","v":"00:00:00"},{"$f":"IF('Initial Observation'!B24=\"\",\"\",'Initial Observation'!B24)","v":""},{"$f":"IF('Initial Observation'!L24=\"\",\"\",\"X\")","v":""}]
[{"$f":"'Initial Observation'!A25","v":"00:00:00"},{"$f":"IF('Initial Observation'!B25=\"\",\"\",'Initial Observation'!B25)","v":""},{"$f":"IF('Initial Observation'!L25=\"\",\"\",\"X\")","v":""}]
[{"$f":"'Initial Observation'!A26","v":"00:00:00"},{"$f":"IF('Initial Observation'!B26=\"\",\"\",'Initial Observation'!B26)","v":""},{"$f":"IF('Initial Observation'!L26=\"\",\"\",\"X\")","v":""}]
[{"$f":"'Initial Observation'!A27","v":"00:00:00"},{"$f":"IF('Initial Observation'!B27=\"\",\"\",'Initial Observation'!B27)","v":""},{"$f":"IF('Initial Observation'!L27=\"\",\"\",\"X\")","v":""}]
[{"$f":"'Initial Observation'!A28","v":"00:00:00"},{"$f":"IF('Initial Observation'!B28=\"\",\"\",'Initial Observation'!B28)","v":""},{"$f":"IF('Initial Observation'!L28=\"\",\"\",\"X\")","v":""}]
[{"$f":"'Initial Observation'!A29","v":"00:00:00"},{"$f":"IF('Initial Observation'!B29=\"\",\"\",'Initial Observation'!B29)","v":""},{"$f":"IF('Initial Observation'!L29=\"\",\"\",\"X\")","v":""}]
[{"$f":"'Initial Observation'!A30","v":"00:00:00"},{"$f":"IF('Initial Observation'!B30=\"\",\"\",'Initial Observation'!B30)","v":""},{"$f":"IF('Initial Observation'!L30=\"\",\"\",\"X\")","v":""}]
[{"$f":"'Initial Observation'!A31","v":"00:00:00"},{"$f":"IF('Initial Observation'!B31=\"\",\"\",'Initial Observation'!B31)","v":""},{"$f":"IF('Initial Observation'!L31=\"\",\"\",\"X\")","v":""}]
[{"$f":"'Initial Observation'!A32","v":"00:00:00"},{"$f":"IF('Initial Observation'!B32=\"\",\"\",'Initial Observation'!B32)","v":""},{"$f":"IF('Initial Observation'!L32=\"\",\"\",\"X\")","v":""}]
[{"$f":"'Initial Observation'!A33","v":"00:00:00"},{"$f":"IF('Initial Observation'!B33=\"\",\"\",'Initial Observation'!B33)","v":""},{"$f":"IF('Initial Observation'!L33=\"\",\"\",\"X\")","v":""}]
[{"$f":"'Initial Observation'!A34","v":"00:00:00"},{"$f":"IF('Initial Observation'!B34=\"\",\"\",'Initial Observation'!B34)","v":""},{"$f":"IF('Initial Observation'!L34=\"\",\"\",\"X\")","v":""}]
[{"$f":"'Initial Observation'!A35","v":"00:00:00"},{"$f":"IF('Initial Observation'!B35=\"\",\"\",'Initial Observation'!B35)","v":""},{"$f":"IF('Initial Observation'!L35=\"\",\"\",\"X\")","v":""}]
[{"$f":"'Initial Observation'!A36","v":"00:00:00"},{"$f":"IF('Initial Observation'!B36=\"\",\"\",'Initial Observation'!B36)","v":""},{"$f":"IF('Initial Observation'!L36=\"\",\"\",\"X\")","v":""}]
[{"$f":"'Initial Observation'!A37","v":"00:00:00"},{"$f":"IF('Initial Observation'!B37=\"\",\"\",'Initial Observation'!B37)","v":""},{"$f":"IF('Initial Observation'!L37=\"\",\"\",\"X\")","v":""}]
[{"$f":"'Initial Observation'!A38","v":"00:00:00"},{"$f":"IF('Initial Observation'!B38=\"\",\"\",'Initial Observation'!B38)","v":""},{"$f":"IF('Initial Observation'!L38=\"\",\"\",\"X\")","v":""}]
[{"$f":"'Initial Observation'!A39","v":"00:00:00"},{"$f":"IF('Initial Observation'!B39=\"\",\"\",'Initial Observation'!B39)","v":""},{"$f":"IF('Initial Observation'!L39=\"\",\"\",\"X\")","v":""}]
[{"$f":"'Initial Observation'!A40","v":"00:00:00"},{"$f":"IF('Initial Observation'!B40=\"\",\"\",'Initial Observation'!B40)","v":""},{"$f":"IF('Initial Observation'!L40=\"\",\"\",\"X\")","v":""}]
[{"$f":"'Initial Observation'!A41","v":"00:00:00"},{"$f":"IF('Initial Observation'!B41=\"\",\"\",'Initial Observation'!B41)","v":""},{"$f":"IF('Initial Observation'!L41=\"\",\"\",\"X\")","v":""}]
[{"$f":"'Initial Observation'!A42","v":"00:00:00"},{"$f":"IF('Initial Observation'!B42=\"\",\"\",'Initial Observation'!B42)","v":""},{"$f":"IF('Initial Observation'!L42=\"\",\"\",\"X\")","v":""}]
[{"$f":"'Initial Observation'!A43","v":"00:00:00"},{"$f":"IF('Initial Observation'!B43=\"\",\"\",'Initial Observation'!B43)","v":""},{"$f":"IF('Initial Observation'!L43=\"\",\"\",\"X\")","v":""}]
[{"$f":"'Initial Observation'!A44","v":"00:00:00"},{"$f":"IF('Initial Observation'!B44=\"\",\"\",'Initial Observation'!B44)","v":""},{"$f":"IF('Initial Observation'!L44=\"\",\"\",\"X\")","v":""}]
[{"$f":"'Initial Observation'!A45","v":"00:00:00"},{"$f":"IF('Initial Observation'!B45=\"\",\"\",'Initial Observation'!B45)","v":""},{"$f":"IF('Initial Observation'!L45=\"\",\"\",\"X\")","v":""}]
[{"$f":"'Initial Observation'!A46","v":"00:00:00"},{"$f":"IF('Initial Observation'!B46=\"\",\"\",'Initial Observation'!B46)","v":""},{"$f":"IF('Initial Observation'!L46=\"\",\"\",\"X\")","v":""}]
[{"$f":"'Initial Observation'!A47","v":"00:00:00"},{"$f":"IF('Initial Observation'!B47=\"\",\"\",'Initial Observation'!B47)","v":""},{"$f":"IF('Initial Observation'!L47=\"\",\"\",\"X\")","v":""}]
[{"$f":"'Initial Observation'!A48","v":"00:00:00"},{"$f":"IF('Initial Observation'!B48=\"\",\"\",'Initial Observation'!B48)","v":""},{"$f":"IF('Initial Observation'!L48=\"\",\"\",\"X\")","v":""}]
[{"$f":"'Initial Observation'!A49","v":"00:00:00"},{"$f":"IF('Initial Observation'!B49=\"\",\"\",'Initial Observation'!B49)","v":""},{"$f":"IF('Initial Observation'!L49=\"\",\"\",\"X\")","v":""}]
[{"$f":"'Initial Observation'!A50","v":"00:00:00"},{"$f":"IF('Initial Observation'!B50=\"\",\"\",'Initial Observation'!B50)","v":""},{"$f":"IF('Initial Observation'!L50=\"\",\"\",\"X\")","v":""}]
[{"$f":"'Initial Observation'!A51","v":"00:00:00"},{"$f":"IF('Initial Observation'!B51=\"\",\"\",'Initial Observation'!B51)","v":""},{"$f":"IF('Initial Observation'!L51=\"\",\"\",\"X\")","v":""}]
[{"$f":"'Initial Observation'!A52","v":"00:00:00"},{"$f":"IF('Initial Observation'!B52=\"\",\"\",'Initial Observation'!B52)","v":""},{"$f":"IF('Initial Observation'!L52=\"\",\"\",\"X\")","v":""}]
[{"$f":"'Initial Observation'!A53","v":"00:00:00"},{"$f":"IF('Initial Observation'!B53=\"\",\"\",'Initial Observation'!B53)","v":""},{"$f":"IF('Initial Observation'!L53=\"\",\"\",\"X\")","v":""}]
[{"$f":"'Initial Observation'!A54","v":"00:00:00"},{"$f":"IF('Initial Observation'!B54=\"\",\"\",'Initial Observation'!B54)","v":""},{"$f":"IF('Initial Observation'!L54=\"\",\"\",\"X\")","v":""}]
[{"$f":"'Initial Observation'!A55","v":"00:00:00"},{"$f":"IF('Initial Observation'!B55=\"\",\"\",'Initial Observation'!B55)","v":""},{"$f":"IF('Initial Observation'!L55=\"\",\"\",\"X\")","v":""}]
[{"$f":"'Initial Observation'!A56","v":"00:00:00"},{"$f":"IF('Initial Observation'!B56=\"\",\"\",'Initial Observation'!B56)","v":""},{"$f":"IF('Initial Observation'!L56=\"\",\"\",\"X\")","v":""}]
[{"$f":"'Initial Observation'!A57","v":"00:00:00"},{"$f":"IF('Initial Observation'!B57=\"\",\"\",'Initial Observation'!B57)","v":""},{"$f":"IF('Initial Observation'!L57=\"\",\"\",\"X\")","v":""}]
[{"$f":"'Initial Observation'!A58","v":"00:00:00"},{"$f":"IF('Initial Observation'!B58=\"\",\"\",'Initial Observation'!B58)","v":""},{"$f":"IF('Initial Observation'!L58=\"\",\"\",\"X\")","v":""}]
[{"$f":"'Initial Observation'!A59","v":"00:00:00"},{"$f":"IF('Initial Observation'!B59=\"\",\"\",'Initial Observation'!B59)","v":""},{"$f":"IF('Initial Observation'!L59=\"\",\"\",\"X\")","v":""}]
[{"$f":"'Initial Observation'!A60","v":"00:00:00"},{"$f":"IF('Initial Observation'!B60=\"\",\"\",'Initial Observation'!B60)","v":""},{"$f":"IF('Initial Observation'!L60=\"\",\"\",\"X\")","v":""}]
[{"$f":"'Initial Observation'!A61","v":"00:00:00"},{"$f":"IF('Initial Observation'!B61=\"\",\"\",'Initial Observation'!B61)","v":""},{"$f":"IF('Initial Observation'!L61=\"\",\"\",\"X\")","v":""}]
[{"$f":"'Initial Observation'!A62","v":"00:00:00"},{"$f":"IF('Initial Observation'!B62=\"\",\"\",'Initial Observation'!B62)","v":""},{"$f":"IF('Initial Observation'!L62=\"\",\"\",\"X\")","v":""}]
[{"$f":"'Initial Observation'!A63","v":"00:00:00"},{"$f":"IF('Initial Observation'!B63=\"\",\"\",'Initial Observation'!B63)","v":""},{"$f":"IF('Initial Observation'!L63=\"\",\"\",\"X\")","v":""}]
[{"$f":"'Initial Observation'!A64","v":"00:00:00"},{"$f":"IF('Initial Observation'!B64=\"\",\"\",'Initial Observation'!B64)","v":""},{"$f":"IF('Initial Observation'!L64=\"\",\"\",\"X\")","v":""}]
[{"$f":"'Initial Observation'!A65","v":"00:00:00"},{"$f":"IF('Initial Observation'!B65=\"\",\"\",'Initial Observation'!B65)","v":""},{"$f":"IF('Initial Observation'!L65=\"\",\"\",\"X\")","v":""}]
[{"$f":"'Initial Observation'!A66","v":"00:00:00"},{"$f":"IF('Initial Observation'!B66=\"\",\"\",'Initial Observation'!B66)","v":""},{"$f":"IF('Initial Observation'!L66=\"\",\"\",\"X\")","v":""}]
[{"$f":"'Initial Observation'!A67","v":"00:00:00"},{"$f":"IF('Initial Observation'!B67=\"\",\"\",'Initial Observation'!B67)","v":""},{"$f":"IF('Initial Observation'!L67=\"\",\"\",\"X\")","v":""}]
[{"$f":"'Initial Observation'!A68","v":"00:00:00"},{"$f":"IF('Initial Observation'!B68=\"\",\"\",'Initial Observation'!B68)","v":""},{"$f":"IF('Initial Observation'!L68=\"\",\"\",\"X\")","v":""}]
[{"$f":"'Initial Observation'!A69","v":"00:00:00"},{"$f":"IF('Initial Observation'!B69=\"\",\"\",'Initial Observation'!B69)","v":""},{"$f":"IF('Initial Observation'!L69=\"\",\"\",\"X\")","v":""}]
[{"$f":"'Initial Observation'!A70","v":"00:00:00"},{"$f":"IF('Initial Observation'!B70=\"\",\"\",'Initial Observation'!B70)","v":""},{"$f":"IF('Initial Observation'!L70=\"\",\"\",\"X\")","v":""}]
[{"$f":"'Initial Observation'!A71","v":"00:00:00"},{"$f":"IF('Initial Observation'!B71=\"\",\"\",'Initial Observation'!B71)","v":""},{"$f":"IF('Initial Observation'!L71=\"\",\"\",\"X\")","v":""}]
[{"$f":"'Initial Observation'!A72","v":"00:00:00"},{"$f":"IF('Initial Observation'!B72=\"\",\"\",'Initial Observation'!B72)","v":""},{"$f":"IF('Initial Observation'!L72=\"\",\"\",\"X\")","v":""}]
[{"$f":"'Initial Observation'!A73","v":"00:00:00"},{"$f":"IF('Initial Observation'!B73=\"\",\"\",'Initial Observation'!B73)","v":""},{"$f":"IF('Initial Observation'!L73=\"\",\"\",\"X\")","v":""}]
[{"$f":"'Initial Observation'!A74","v":"00:00:00"},{"$f":"IF('Initial Observation'!B74=\"\",\"\",'Initial Observation'!B74)","v":""},{"$f":"IF('Initial Observation'!L74=\"\",\"\",\"X\")","v":""}]
[{"$f":"'Initial Observation'!A75","v":"00:00:00"},{"$f":"IF('Initial Observation'!B75=\"\",\"\",'Initial Observation'!B75)","v":""},{"$f":"IF('Initial Observation'!L75=\"\",\"\",\"X\")","v":""}]
[{"$f":"'Initial Observation'!A76","v":"00:00:00"},{"$f":"IF('Initial Observation'!B76=\"\",\"\",'Initial Observation'!B76)","v":""},{"$f":"IF('Initial Observation'!L76=\"\",\"\",\"X\")","v":""}]
[{"$f":"'Initial Observation'!A77","v":"00:00:00"},{"$f":"IF('Initial Observation'!B77=\"\",\"\",'Initial Observation'!B77)","v":""},{"$f":"IF('Initial Observation'!L77=\"\",\"\",\"X\")","v":""}]
[{"$f":"'Initial Observation'!A78","v":"00:00:00"},{"$f":"IF('Initial Observation'!B78=\"\",\"\",'Initial Observation'!B78)","v":""},{"$f":"IF('Initial Observation'!L78=\"\",\"\",\"X\")","v":""}]
[{"$f":"'Initial Observation'!A79","v":"00:00:00"},{"$f":"IF('Initial Observation'!B79=\"\",\"\",'Initial Observation'!B79)","v":""},{"$f":"IF('Initial Observation'!L79=\"\",\"\",\"X\")","v":""}]
[{"$f":"'Initial Observation'!A80","v":"00:00:00"},{"$f":"IF('Initial Observation'!B80=\"\",\"\",'Initial Observation'!B80)","v":""},{"$f":"IF('Initial Observation'!L80=\"\",\"\",\"X\")","v":""}]
[{"$f":"'Initial Observation'!A81","v":"00:00:00"},{"$f":"IF('Initial Observation'!B81=\"\",\"\",'Initial Observation'!B81)","v":""},{"$f":"IF('Initial Observation'!L81=\"\",\"\",\"X\")","v":""}]
[{"$f":"'Initial Observation'!A82","v":"00:00:00"},{"$f":"IF('Initial Observation'!B82=\"\",\"\",'Initial Observation'!B82)","v":""},{"$f":"IF('Initial Observation'!L82=\"\",\"\",\"X\")","v":""}]
[{"$f":"'Initial Observation'!A83","v":"00:00:00"},{"$f":"IF('Initial Observation'!B83=\"\",\"\",'Initial Observation'!B83)","v":""},{"$f":"IF('Initial Observation'!L83=\"\",\"\",\"X\")","v":""}]
[{"$f":"'Initial Observation'!A84","v":"00:00:00"},{"$f":"IF('Initial Observation'!B84=\"\",\"\",'Initial Observation'!B84)","v":""},{"$f":"IF('Initial Observation'!L84=\"\",\"\",\"X\")","v":""}]
[{"$f":"'Initial Observation'!A85","v":"00:00:00"},{"$f":"IF('Initial Observation'!B85=\"\",\"\",'Initial Observation'!B85)","v":""},{"$f":"IF('Initial Observation'!L85=\"\",\"\",\"X\")","v":""}]
[{"$f":"'Initial Observation'!A86","v":"00:00:00"},{"$f":"IF('Initial Observation'!B86=\"\",\"\",'Initial Observation'!B86)","v":""},{"$f":"IF('Initial Observation'!L86=\"\",\"\",\"X\")","v":""}]
[{"$f":"'Initial Observation'!A87","v":"00:00:00"},{"$f":"IF('Initial Observation'!B87=\"\",\"\",'Initial Observation'!B87)","v":""},{"$f":"IF('Initial Observation'!L87=\"\",\"\",\"X\")","v":""}]
[{"$f":"'Initial Observation'!A88","v":"00:00:00"},{"$f":"IF('Initial Observation'!B88=\"\",\"\",'Initial Observation'!B88)","v":""},{"$f":"IF('Initial Observation'!L88=\"\",\"\",\"X\")","v":""}]
[{"$f":"'Initial Observation'!A89","v":"00:00:00"},{"$f":"IF('Initial Observation'!B89=\"\",\"\",'Initial Observation'!B89)","v":""},{"$f":"IF('Initial Observation'!L89=\"\",\"\",\"X\")","v":""}]
[{"$f":"'Initial Observation'!A90","v":"00:00:00"},{"$f":"IF('Initial Observation'!B90=\"\",\"\",'Initial Observation'!B90)","v":""},{"$f":"IF('Initial Observation'!L90=\"\",\"\",\"X\")","v":""}]
[{"$f":"'Initial Observation'!A91","v":"00:00:00"},{"$f":"IF('Initial Observation'!B91=\"\",\"\",'Initial Observation'!B91)","v":""},{"$f":"IF('Initial Observation'!L91=\"\",\"\",\"X\")","v":""}]
[{"$f":"'Initial Observation'!A92","v":"00:00:00"},{"$f":"IF('Initial Observation'!B92=\"\",\"\",'Initial Observation'!B92)","v":""},{"$f":"IF('Initial Observation'!L92=\"\",\"\",\"X\")","v":""}]
[{"$f":"'Initial Observation'!A93","v":"00:00:00"},{"$f":"IF('Initial Observation'!B93=\"\",\"\",'Initial Observation'!B93)","v":""},{"$f":"IF('Initial Observation'!L93=\"\",\"\",\"X\")","v":""}]
[{"$f":"'Initial Observation'!A94","v":"00:00:00"},{"$f":"IF('Initial Observation'!B94=\"\",\"\",'Initial Observation'!B94)","v":""},{"$f":"IF('Initial Observation'!L94=\"\",\"\",\"X\")","v":""}]
[{"$f":"'Initial Observation'!A95","v":"00:00:00"},{"$f":"IF('Initial Observation'!B95=\"\",\"\",'Initial Observation'!B95)","v":""},{"$f":"IF('Initial Observation'!L95=\"\",\"\",\"X\")","v":""}]
[{"$f":"'Initial Observation'!A96","v":"00:00:00"},{"$f":"IF('Initial Observation'!B96=\"\",\"\",'Initial Observation'!B96)","v":""},{"$f":"IF('Initial Observation'!L96=\"\",\"\",\"X\")","v":""}]
[{"$f":"'Initial Observation'!A97","v":"00:00:00"},{"$f":"IF('Initial Observation'!B97=\"\",\"\",'Initial Observation'!B97)","v":""},{"$f":"IF('Initial Observation'!L97=\"\",\"\",\"X\")","v":""}]
[{"$f":"'Initial Observation'!A98","v":"00:00:00"},{"$f":"IF('Initial Observation'!B98=\"\",\"\",'Initial Observation'!B98)","v":""},{"$f":"IF('Initial Observation'!L98=\"\",\"\",\"X\")","v":""}]
[{"$f":"'Initial Observation'!A99","v":"00:00:00"},{"$f":"IF('Initial Observation'!B99=\"\",\"\",'Initial Observation'!B99)","v":""},{"$f":"IF('Initial Observation'!L99=\"\",\"\",\"X\")","v":""}]
[{"$f":"'Initial Observation'!A100","v":"00:00:00"},{"$f":"IF('Initial Observation'!B100=\"\",\"\",'Initial Observation'!B100)","v":""},{"$f":"IF('Initial Observation'!L100=\"\",\"\",\"X\")","v":""}]
[{"$f":"'Initial Observation'!A101","v":"00:00:00"},{"$f":"IF('Initial Observation'!B101=\"\",\"\",'Initial Observation'!B101)","v":""},{"$f":"IF('Initial Observation'!L101=\"\",\"\",\"X\")","v":""}]
[{"$f":"'Initial Observation'!A102","v":"00:00:00"},{"$f":"IF('Initial Observation'!B102=\"\",\"\",'Initial Observation'!B102)","v":""},{"$f":"IF('Initial Observation'!L102=\"\",\"\",\"X\")","v":""}]
[{"$f":"'Initial Observation'!A103","v":"00:00:00"},{"$f":"IF('Initial Observation'!B103=\"\",\"\",'Initial Observation'!B103)","v":""},{"$f":"IF('Initial Observation'!L103=\"\",\"\",\"X\")","v":""}]
[{"$f":"'Initial Observation'!A104","v":"00:00:00"},{"$f":"IF('Initial Observation'!B104=\"\",\"\",'Initial Observation'!B104)","v":""},{"$f":"IF('Initial Observation'!L104=\"\",\"\",\"X\")","v":""}]
[{"$f":"'Initial Observation'!A105","v":"00:00:00"},{"$f":"IF('Initial Observation'!B105=\"\",\"\",'Initial Observation'!B105)","v":""},{"$f":"IF('Initial Observation'!L105=\"\",\"\",\"X\")","v":""}]
[{"$f":"'Initial Observation'!A106","v":"00:00:00"},{"$f":"IF('Initial Observation'!B106=\"\",\"\",'Initial Observation'!B106)","v":""},{"$f":"IF('Initial Observation'!L106=\"\",\"\",\"X\")","v":""}]
[{"$f":"'Initial Observation'!A107","v":"00:00:00"},{"$f":"IF('Initial Observation'!B107=\"\",\"\",'Initial Observation'!B107)","v":""},{"$f":"IF('Initial Observation'!L107=\"\",\"\",\"X\")","v":""}]
[{"$f":"'Initial Observation'!A108","v":"00:00:00"},{"$f":"IF('Initial Observation'!B108=\"\",\"\",'Initial Observation'!B108)","v":""},{"$f":"IF('Initial Observation'!L108=\"\",\"\",\"X\")","v":""}]
[{"$f":"'Initial Observation'!A109","v":"00:00:00"},{"$f":"IF('Initial Observation'!B109=\"\",\"\",'Initial Observation'!B109)","v":""},{"$f":"IF('Initial Observation'!L109=\"\",\"\",\"X\")","v":""}]
[{"$f":"'Initial Observation'!A110","v":"00:00:00"},{"$f":"IF('Initial Observation'!B110=\"\",\"\",'Initial Observation'!B110)","v":""},{"$f":"IF('Initial Observation'!L110=\"\",\"\",\"X\")","v":""}]
[{"$f":"'Initial Observation'!A111","v":"00:00:00"},{"$f":"IF('Initial Observation'!B111=\"\",\"\",'Initial Observation'!B111)","v":""},{"$f":"IF('Initial Observation'!L111=\"\",\"\",\"X\")","v":""}]
[{"$f":"'Initial Observation'!A112","v":"00:00:00"},{"$f":"IF('Initial Observation'!B112=\"\",\"\",'Initial Observation'!B112)","v":""},{"$f":"IF('Initial Observation'!L112=\"\",\"\",\"X\")","v":""}]
[{"$f":"'Initial Observation'!A113","v":"00:00:00"},{"$f":"IF('Initial Observation'!B113=\"\",\"\",'Initial Observation'!B113)","v":""},{"$f":"IF('Initial Observation'!L113=\"\",\"\",\"X\")","v":""}]
[{"$f":"'Initial Observation'!A114","v":"00:00:00"},{"$f":"IF('Initial Observation'!B114=\"\",\"\",'Initial Observation'!B114)","v":""},{"$f":"IF('Initial Observation'!L114=\"\",\"\",\"X\")","v":""}]
[{"$f":"'Initial Observation'!A115","v":"00:00:00"},{"$f":"IF('Initial Observation'!B115=\"\",\"\",'Initial Observation'!B115)","v":""},{"$f":"IF('Initial Observation'!L115=\"\",\"\",\"X\")","v":""}]
[{"$f":"'Initial Observation'!A116","v":"00:00:00"},{"$f":"IF('Initial Observation'!B116=\"\",\"\",'Initial Observation'!B116)","v":""},{"$f":"IF('Initial Observation'!L116=\"\",\"\",\"X\")","v":""}]
[{"$f":"'Initial Observation'!A117","v":"00:00:00"},{"$f":"IF('Initial Observation'!B117=\"\",\"\",'Initial Observation'!B117)","v":""},{"$f":"IF('Initial Observation'!L117=\"\",\"\",\"X\")","v":""}]
[{"$f":"'Initial Observation'!A118","v":"00:00:00"},{"$f":"IF('Initial Observation'!B118=\"\",\"\",'Initial Observation'!B118)","v":""},{"$f":"IF('Initial Observation'!L118=\"\",\"\",\"X\")","v":""}]
[{"$f":"'Initial Observation'!A119","v":"00:00:00"},{"$f":"IF('Initial Observation'!B119=\"\",\"\",'Initial Observation'!B119)","v":""},{"$f":"IF('Initial Observation'!L119=\"\",\"\",\"X\")","v":""}]
[{"$f":"'Initial Observation'!A120","v":"00:00:00"},{"$f":"IF('Initial Observation'!B120=\"\",\"\",'Initial Observation'!B120)","v":""},{"$f":"IF('Initial Observation'!L120=\"\",\"\",\"X\")","v":""}]
[{"$f":"'Initial Observation'!A121","v":"00:00:00"},{"$f":"IF('Initial Observation'!B121=\"\",\"\",'Initial Observation'!B121)","v":""},{"$f":"IF('Initial Observation'!L121=\"\",\"\",\"X\")","v":""}]
[{"$f":"'Initial Observation'!A122","v":"00:00:00"},{"$f":"IF('Initial Observation'!B122=\"\",\"\",'Initial Observation'!B122)","v":""},{"$f":"IF('Initial Observation'!L122=\"\",\"\",\"X\")","v":""}]
[{"$f":"'Initial Observation'!A123","v":"00:00:00"},{"$f":"IF('Initial Observation'!B123=\"\",\"\",'Initial Observation'!B123)","v":""},{"$f":"IF('Initial Observation'!L123=\"\",\"\",\"X\")","v":""}]
[{"$f":"'Initial Observation'!A124","v":"00:00:00"},{"$f":"IF('Initial Observation'!B124=\"\",\"\",'Initial Observation'!B124)","v":""},{"$f":"IF('Initial Observation'!L124=\"\",\"\",\"X\")","v":""}]
[{"$f":"'Initial Observation'!A125","v":"00:00:00"},{"$f":"IF('Initial Observation'!B125=\"\",\"\",'Initial Observation'!B125)","v":""},{"$f":"IF('Initial Observation'!L125=\"\",\"\",\"X\")","v":""}]
[{"$f":"'Initial Observation'!A126","v":"00:00:00"},{"$f":"IF('Initial Observation'!B126=\"\",\"\",'Initial Observation'!B126)","v":""},{"$f":"IF('Initial Observation'!L126=\"\",\"\",\"X\")","v":""}]
[{"$f":"'Initial Observation'!A127","v":"00:00:00"},{"$f":"IF('Initial Observation'!B127=\"\",\"\",'Initial Observation'!B127)","v":""},{"$f":"IF('Initial Observation'!L127=\"\",\"\",\"X\")","v":""}]
[{"$f":"'Initial Observation'!A128","v":"00:00:00"},{"$f":"IF('Initial Observation'!B128=\"\",\"\",'Initial Observation'!B128)","v":""},{"$f":"IF('Initial Observation'!L128=\"\",\"\",\"X\")","v":""}]
[{"$f":"'Initial Observation'!A129","v":"00:00:00"},{"$f":"IF('Initial Observation'!B129=\"\",\"\",'Initial Observation'!B129)","v":""},{"$f":"IF('Initial Observation'!L129=\"\",\"\",\"X\")","v":""}]
[{"$f":"'Initial Observation'!A130","v":"00:00:00"},{"$f":"IF('Initial Observation'!B130=\"\",\"\",'Initial Observation'!B130)","v":""},{"$f":"IF('Initial Observation'!L130=\"\",\"\",\"X\")","v":""}]
[{"$f":"'Initial Observation'!A131","v":"00:00:00"},{"$f":"IF('Initial Observation'!B131=\"\",\"\",'Initial Observation'!B131)","v":""},{"$f":"IF('Initial Observation'!L131=\"\",\"\",\"X\")","v":""}]
[{"$f":"'Initial Observation'!A132","v":"00:00:00"},{"$f":"IF('Initial Observation'!B132=\"\",\"\",'Initial Observation'!B132)","v":""},{"$f":"IF('Initial Observation'!L132=\"\",\"\",\"X\")","v":""}]
[{"$f":"'Initial Observation'!A133","v":"00:00:00"},{"$f":"IF('Initial Observation'!B133=\"\",\"\",'Initial Observation'!B133)","v":""},{"$f":"IF('Initial Observation'!L133=\"\",\"\",\"X\")","v":""}]
[{"$f":"'Initial Observation'!A134","v":"00:00:00"},{"$f":"IF('Initial Observation'!B134=\"\",\"\",'Initial Observation'!B134)","v":""},{"$f":"IF('Initial Observation'!L134=\"\",\"\",\"X\")","v":""}]
[{"$f":"'Initial Observation'!A135","v":"00:00:00"},{"$f":"IF('Initial Observation'!B135=\"\",\"\",'Initial Observation'!B135)","v":""},{"$f":"IF('Initial Observation'!L135=\"\",\"\",\"X\")","v":""}]
[{"$f":"'Initial Observation'!A136","v":"00:00:00"},{"$f":"IF('Initial Observation'!B136=\"\",\"\",'Initial Observation'!B136)","v":""},{"$f":"IF('Initial Observation'!L136=\"\",\"\",\"X\")","v":""}]
[{"$f":"'Initial Observation'!A137","v":"00:00:00"},{"$f":"IF('Initial Observation'!B137=\"\",\"\",'Initial Observation'!B137)","v":""},{"$f":"IF('Initial Observation'!L137=\"\",\"\",\"X\")","v":""}]
[{"$f":"'Initial Observation'!A138","v":"00:00:00"},{"$f":"IF('Initial Observation'!B138=\"\",\"\",'Initial Observation'!B138)","v":""},{"$f":"IF('Initial Observation'!L138=\"\",\"\",\"X\")","v":""}]
[{"$f":"'Initial Observation'!A139","v":"00:00:00"},{"$f":"IF('Initial Observation'!B139=\"\",\"\",'Initial Observation'!B139)","v":""},{"$f":"IF('Initial Observation'!L139=\"\",\"\",\"X\")","v":""}]
[{"$f":"'Initial Observation'!A140","v":"00:00:00"},{"$f":"IF('Initial Observation'!B140=\"\",\"\",'Initial Observation'!B140)","v":""},{"$f":"IF('Initial Observation'!L140=\"\",\"\",\"X\")","v":""}]
[{"$f":"'Initial Observation'!A141","v":"00:00:00"},{"$f":"IF('Initial Observation'!B141=\"\",\"\",'Initial Observation'!B141)","v":""},{"$f":"IF('Initial Observation'!L141=\"\",\"\",\"X\")","v":""}]
[{"$f":"'Initial Observation'!A142","v":"00:00:00"},{"$f":"IF('Initial Observation'!B142=\"\",\"\",'Initial Observation'!B142)","v":""},{"$f":"IF('Initial Observation'!L142=\"\",\"\",\"X\")","v":""}]
[{"$f":"'Initial Observation'!A143","v":"00:00:00"},{"$f":"IF('Initial Observation'!B143=\"\",\"\",'Initial Observation'!B143)","v":""},{"$f":"IF('Initial Observation'!L143=\"\",\"\",\"X\")","v":""}]
[{"$f":"'Initial Observation'!A144","v":"00:00:00"},{"$f":"IF('Initial Observation'!B144=\"\",\"\",'Initial Observation'!B144)","v":""},{"$f":"IF('Initial Observation'!L144=\"\",\"\",\"X\")","v":""}]
[{"$f":"'Initial Observation'!A145","v":"00:00:00"},{"$f":"IF('Initial Observation'!B145=\"\",\"\",'Initial Observation'!B145)","v":""},{"$f":"IF('Initial Observation'!L145=\"\",\"\",\"X\")","v":""}]
[{"$f":"'Initial Observation'!A146","v":"00:00:00"},{"$f":"IF('Initial Observation'!B146=\"\",\"\",'Initial Observation'!B146)","v":""},{"$f":"IF('Initial Observation'!L146=\"\",\"\",\"X\")","v":""}]
[{"$f":"'Initial Observation'!A147","v":"00:00:00"},{"$f":"IF('Initial Observation'!B147=\"\",\"\",'Initial Observation'!B147)","v":""},{"$f":"IF('Initial Observation'!L147=\"\",\"\",\"X\")","v":""}]
[{"$f":"'Initial Observation'!A148","v":"00:00:00"},{"$f":"IF('Initial Observation'!B148=\"\",\"\",'Initial Observation'!B148)","v":""},{"$f":"IF('Initial Observation'!L148=\"\",\"\",\"X\")","v":""}]
[{"$f":"'Initial Observation'!A149","v":"00:00:00"},{"$f":"IF('Initial Observation'!B149=\"\",\"\",'Initial Observation'!B149)","v":""},{"$f":"IF('Initial Observation'!L149=\"\",\"\",\"X\")","v":""}]
[{"$f":"'Initial Observation'!A150","v":"00:00:00"},{"$f":"IF('Initial Observation'!B150=\"\",\"\",'Initial Observation'!B150)","v":""},{"$f":"IF('Initial Observation'!L150=\"\",\"\",\"X\")","v":""}]
[{"$f":"'Initial Observation'!A151","v":"00:00:00"},{"$f":"IF('Initial Observation'!B151=\"\",\"\",'Initial Observation'!B151)","v":""},{"$f":"IF('Initial Observation'!L151=\"\",\"\",\"X\")","v":""}]
[{"$f":"'Initial Observation'!A152","v":"00:00:00"},{"$f":"IF('Initial Observation'!B152=\"\",\"\",'Initial Observation'!B152)","v":""},{"$f":"IF('Initial Observation'!L152=\"\",\"\",\"X\")","v":""}]
[{"$f":"'Initial Observation'!A153","v":"00:00:00"},{"$f":"IF('Initial Observation'!B153=\"\",\"\",'Initial Observation'!B153)","v":""},{"$f":"IF('Initial Observation'!L153=\"\",\"\",\"X\")","v":""}]
[{"$f":"'Initial Observation'!A154","v":"00:00:00"},{"$f":"IF('Initial Observation'!B154=\"\",\"\",'Initial Observation'!B154)","v":""},{"$f":"IF('Initial Observation'!L154=\"\",\"\",\"X\")","v":""}]
[{"$f":"'Initial Observation'!A155","v":"00:00:00"},{"$f":"IF('Initial Observation'!B155=\"\",\"\",'Initial Observation'!B155)","v":""},{"$f":"IF('Initial Observation'!L155=\"\",\"\",\"X\")","v":""}]
[{"$f":"'Initial Observation'!A156","v":"00:00:00"},{"$f":"IF('Initial Observation'!B156=\"\",\"\",'Initial Observation'!B156)","v":""},{"$f":"IF('Initial Observation'!L156=\"\",\"\",\"X\")","v":""}]
[{"$f":"'Initial Observation'!A157","v":"00:00:00"},{"$f":"IF('Initial Observation'!B157=\"\",\"\",'Initial Observation'!B157)","v":""},{"$f":"IF('Initial Observation'!L157=\"\",\"\",\"X\")","v":""}]
[{"$f":"'Initial Observation'!A158","v":"00:00:00"},{"$f":"IF('Initial Observation'!B158=\"\",\"\",'Initial Observation'!B158)","v":""},{"$f":"IF('Initial Observation'!L158=\"\",\"\",\"X\")","v":""}]
[{"$f":"'Initial Observation'!A159","v":"00:00:00"},{"$f":"IF('Initial Observation'!B159=\"\",\"\",'Initial Observation'!B159)","v":""},{"$f":"IF('Initial Observation'!L159=\"\",\"\",\"X\")","v":""}]
[{"$f":"'Initial Observation'!A160","v":"00:00:00"},{"$f":"IF('Initial Observation'!B160=\"\",\"\",'Initial Observation'!B160)","v":""},{"$f":"IF('Initial Observation'!L160=\"\",\"\",\"X\")","v":""}]
[{"$f":"'Initial Observation'!A161","v":"00:00:00"},{"$f":"IF('Initial Observation'!B161=\"\",\"\",'Initial Observation'!B161)","v":""},{"$f":"IF('Initial Observation'!L161=\"\",\"\",\"X\")","v":""}]
[{"$f":"'Initial Observation'!A162","v":"00:00:00"},{"$f":"IF('Initial Observation'!B162=\"\",\"\",'Initial Observation'!B162)","v":""},{"$f":"IF('Initial Observation'!L162=\"\",\"\",\"X\")","v":""}]
[{"$f":"'Initial Observation'!A163","v":"00:00:00"},{"$f":"IF('Initial Observation'!B163=\"\",\"\",'Initial Observation'!B163)","v":""},{"$f":"IF('Initial Observation'!L163=\"\",\"\",\"X\")","v":""}]
[{"$f":"'Initial Observation'!A164","v":"00:00:00"},{"$f":"IF('Initial Observation'!B164=\"\",\"\",'Initial Observation'!B164)","v":""},{"$f":"IF('Initial Observation'!L164=\"\",\"\",\"X\")","v":""}]
[{"$f":"'Initial Observation'!A165","v":"00:00:00"},{"$f":"IF('Initial Observation'!B165=\"\",\"\",'Initial Observation'!B165)","v":""},{"$f":"IF('Initial Observation'!L165=\"\",\"\",\"X\")","v":""}]
[{"$f":"'Initial Observation'!A166","v":"00:00:00"},{"$f":"IF('Initial Observation'!B166=\"\",\"\",'Initial Observation'!B166)","v":""},{"$f":"IF('Initial Observation'!L166=\"\",\"\",\"X\")","v":""}]
[{"$f":"'Initial Observation'!A167","v":"00:00:00"},{"$f":"IF('Initial Observation'!B167=\"\",\"\",'Initial Observation'!B167)","v":""},{"$f":"IF('Initial Observation'!L167=\"\",\"\",\"X\")","v":""}]
[{"$f":"'Initial Observation'!A168","v":"00:00:00"},{"$f":"IF('Initial Observation'!B168=\"\",\"\",'Initial Observation'!B168)","v":""},{"$f":"IF('Initial Observation'!L168=\"\",\"\",\"X\")","v":""}]
[{"$f":"'Initial Observation'!A169","v":"00:00:00"},{"$f":"IF('Initial Observation'!B169=\"\",\"\",'Initial Observation'!B169)","v":""},{"$f":"IF('Initial Observation'!L169=\"\",\"\",\"X\")","v":""}]
[{"$f":"'Initial Observation'!A170","v":"00:00:00"},{"$f":"IF('Initial Observation'!B170=\"\",\"\",'Initial Observation'!B170)","v":""},{"$f":"IF('Initial Observation'!L170=\"\",\"\",\"X\")","v":""}]
[{"$f":"'Initial Observation'!A171","v":"00:00:00"},{"$f":"IF('Initial Observation'!B171=\"\",\"\",'Initial Observation'!B171)","v":""},{"$f":"IF('Initial Observation'!L171=\"\",\"\",\"X\")","v":""}]
[{"$f":"'Initial Observation'!A172","v":"00:00:00"},{"$f":"IF('Initial Observation'!B172=\"\",\"\",'Initial Observation'!B172)","v":""},{"$f":"IF('Initial Observation'!L172=\"\",\"\",\"X\")","v":""}]
[{"$f":"'Initial Observation'!A173","v":"00:00:00"},{"$f":"IF('Initial Observation'!B173=\"\",\"\",'Initial Observation'!B173)","v":""},{"$f":"IF('Initial Observation'!L173=\"\",\"\",\"X\")","v":""}]
[{"$f":"'Initial Observation'!A174","v":"00:00:00"},{"$f":"IF('Initial Observation'!B174=\"\",\"\",'Initial Observation'!B174)","v":""},{"$f":"IF('Initial Observation'!L174=\"\",\"\",\"X\")","v":""}]
[{"$f":"'Initial Observation'!A175","v":"00:00:00"},{"$f":"IF('Initial Observation'!B175=\"\",\"\",'Initial Observation'!B175)","v":""},{"$f":"IF('Initial Observation'!L175=\"\",\"\",\"X\")","v":""}]
[{"$f":"'Initial Observation'!A176","v":"00:00:00"},{"$f":"IF('Initial Observation'!B176=\"\",\"\",'Initial Observation'!B176)","v":""},{"$f":"IF('Initial Observation'!L176=\"\",\"\",\"X\")","v":""}]
[{"$f":"'Initial Observation'!A177","v":"00:00:00"},{"$f":"IF('Initial Observation'!B177=\"\",\"\",'Initial Observation'!B177)","v":""},{"$f":"IF('Initial Observation'!L177=\"\",\"\",\"X\")","v":""}]
[{"$f":"'Initial Observation'!A178","v":"00:00:00"},{"$f":"IF('Initial Observation'!B178=\"\",\"\",'Initial Observation'!B178)","v":""},{"$f":"IF('Initial Observation'!L178=\"\",\"\",\"X\")","v":""}]
[{"$f":"'Initial Observation'!A179","v":"00:00:00"},{"$f":"IF('Initial Observation'!B179=\"\",\"\",'Initial Observation'!B179)","v":""},{"$f":"IF('Initial Observation'!L179=\"\",\"\",\"X\")","v":""}]
[{"$f":"'Initial Observation'!A180","v":"00:00:00"},{"$f":"IF('Initial Observation'!B180=\"\",\"\",'Initial Observation'!B180)","v":""},{"$f":"IF('Initial Observation'!L180=\"\",\"\",\"X\")","v":""}]
[{"$f":"'Initial Observation'!A181","v":"00:00:00"},{"$f":"IF('Initial Observation'!B181=\"\",\"\",'Initial Observation'!B181)","v":""},{"$f":"IF('Initial Observation'!L181=\"\",\"\",\"X\")","v":""}]
[{"$f":"'Initial Observation'!A182","v":"00:00:00"},{"$f":"IF('Initial Observation'!B182=\"\",\"\",'Initial Observation'!B182)","v":""},{"$f":"IF('Initial Observation'!L182=\"\",\"\",\"X\")","v":""}]
[{"$f":"'Initial Observation'!A183","v":"00:00:00"},{"$f":"IF('Initial Observation'!B183=\"\",\"\",'Initial Observation'!B183)","v":""},{"$f":"IF('Initial Observation'!L183=\"\",\"\",\"X\")","v":""}]
[{"$f":"'Initial Observation'!A184","v":"00:00:00"},{"$f":"IF('Initial Observation'!B184=\"\",\"\",'Initial Observation'!B184)","v":""},{"$f":"IF('Initial Observation'!L184=\"\",\"\",\"X\")","v":""}]
[{"$f":"'Initial Observation'!A185","v":"00:00:00"},{"$f":"IF('Initial Observation'!B185=\"\",\"\",'Initial Observation'!B185)","v":""},{"$f":"IF('Initial Observation'!L185=\"\",\"\",\"X\")","v":""}]
[{"$f":"'Initial Observation'!A186","v":"00:00:00"},{"$f":"IF('Initial Observation'!B186=\"\",\"\",'Initial Observation'!B186)","v":""},{"$f":"IF('Initial Observation'!L186=\"\",\"\",\"X\")","v":""}]
[{"$f":"'Initial Observation'!A187","v":"00:00:00"},{"$f":"IF('Initial Observation'!B187=\"\",\"\",'Initial Observation'!B187)","v":""},{"$f":"IF('Initial Observation'!L187=\"\",\"\",\"X\")","v":""}]
[{"$f":"'Initial Observation'!A188","v":"00:00:00"},{"$f":"IF('Initial Observation'!B188=\"\",\"\",'Initial Observation'!B188)","v":""},{"$f":"IF('Initial Observation'!L188=\"\",\"\",\"X\")","v":""}]
[{"$f":"'Initial Observation'!A189","v":"00:00:00"},{"$f":"IF('Initial Observation'!B189=\"\",\"\",'Initial Observation'!B189)","v":""},{"$f":"IF('Initial Observation'!L189=\"\",\"\",\"X\")","v":""}]
[{"$f":"'Initial Observation'!A190","v":"00:00:00"},{"$f":"IF('Initial Observation'!B190=\"\",\"\",'Initial Observation'!B190)","v":""},{"$f":"IF('Initial Observation'!L190=\"\",\"\",\"X\")","v":""}]
[{"$f":"'Initial Observation'!A191","v":"00:00:00"},{"$f":"IF('Initial Observation'!B191=\"\",\"\",'Initial Observation'!B191)","v":""},{"$f":"IF('Initial Observation'!L191=\"\",\"\",\"X\")","v":""}]
[{"$f":"'Initial Observation'!A192","v":"00:00:00"},{"$f":"IF('Initial Observation'!B192=\"\",\"\",'Initial Observation'!B192)","v":""},{"$f":"IF('Initial Observation'!L192=\"\",\"\",\"X\")","v":""}]
[{"$f":"'Initial Observation'!A193","v":"00:00:00"},{"$f":"IF('Initial Observation'!B193=\"\",\"\",'Initial Observation'!B193)","v":""},{"$f":"IF('Initial Observation'!L193=\"\",\"\",\"X\")","v":""}]
[{"$f":"'Initial Observation'!A194","v":"00:00:00"},{"$f":"IF('Initial Observation'!B194=\"\",\"\",'Initial Observation'!B194)","v":""},{"$f":"IF('Initial Observation'!L194=\"\",\"\",\"X\")","v":""}]
[{"$f":"'Initial Observation'!A195","v":"00:00:00"},{"$f":"IF('Initial Observation'!B195=\"\",\"\",'Initial Observation'!B195)","v":""},{"$f":"IF('Initial Observation'!L195=\"\",\"\",\"X\")","v":""}]
[{"$f":"'Initial Observation'!A196","v":"00:00:00"},{"$f":"IF('Initial Observation'!B196=\"\",\"\",'Initial Observation'!B196)","v":""},{"$f":"IF('Initial Observation'!L196=\"\",\"\",\"X\")","v":""}]
[{"$f":"'Initial Observation'!A197","v":"00:00:00"},{"$f":"IF('Initial Observation'!B197=\"\",\"\",'Initial Observation'!B197)","v":""},{"$f":"IF('Initial Observation'!L197=\"\",\"\",\"X\")","v":""}]
[{"$f":"'Initial Observation'!A198","v":"00:00:00"},{"$f":"IF('Initial Observation'!B198=\"\",\"\",'Initial Observation'!B198)","v":""},{"$f":"IF('Initial Observation'!L198=\"\",\"\",\"X\")","v":""}]
[{"$f":"'Initial Observation'!A199","v":"00:00:00"},{"$f":"IF('Initial Observation'!B199=\"\",\"\",'Initial Observation'!B199)","v":""},{"$f":"IF('Initial Observation'!L199=\"\",\"\",\"X\")","v":""}]
[{"$f":"'Initial Observation'!A200","v":"00:00:00"},{"$f":"IF('Initial Observation'!B200=\"\",\"\",'Initial Observation'!B200)","v":""},{"$f":"IF('Initial Observation'!L200=\"\",\"\",\"X\")","v":""}]
[{"$f":"'Initial Observation'!A201","v":"00:00:00"},{"$f":"IF('Initial Observation'!B201=\"\",\"\",'Initial Observation'!B201)","v":""},{"$f":"IF('Initial Observation'!L201=\"\",\"\",\"X\")","v":""}]
[{"$f":"'Initial Observation'!A202","v":"00:00:00"},{"$f":"IF('Initial Observation'!B202=\"\",\"\",'Initial Observation'!B202)","v":""},{"$f":"IF('Initial Observation'!L202=\"\",\"\",\"X\")","v":""}]
[{"$f":"'Initial Observation'!A203","v":"00:00:00"},{"$f":"IF('Initial Observation'!B203=\"\",\"\",'Initial Observation'!B203)","v":""},{"$f":"IF('Initial Observation'!L203=\"\",\"\",\"X\")","v":""}]
[{"$f":"'Initial Observation'!A204","v":"00:00:00"},{"$f":"IF('Initial Observation'!B204=\"\",\"\",'Initial Observation'!B204)","v":""},{"$f":"IF('Initial Observation'!L204=\"\",\"\",\"X\")","v":""}]
[{"$f":"'Initial Observation'!A205","v":"00:00:00"},{"$f":"IF('Initial Observation'!B205=\"\",\"\",'Initial Observation'!B205)","v":""},{"$f":"IF('Initial Observation'!L205=\"\",\"\",\"X\")","v":""}]
[{"$f":"'Initial Observation'!A206","v":"00:00:00"},{"$f":"IF('Initial Observation'!B206=\"\",\"\",'Initial Observation'!B206)","v":""},{"$f":"IF('Initial Observation'!L206=\"\",\"\",\"X\")","v":""}]
[{"$f":"'Initial Observation'!A207","v":"00:00:00"},{"$f":"IF('Initial Observation'!B207=\"\",\"\",'Initial Observation'!B207)","v":""},{"$f":"IF('Initial Observation'!L207=\"\",\"\",\"X\")","v":""}]
[{"$f":"'Initial Observation'!A208","v":"00:00:00"},{"$f":"IF('Initial Observation'!B208=\"\",\"\",'Initial Observation'!B208)","v":""},{"$f":"IF('Initial Observation'!L208=\"\",\"\",\"X\")","v":""}]
[{"$f":"'Initial Observation'!A209","v":"00:00:00"},{"$f":"IF('Initial Observation'!B209=\"\",\"\",'Initial Observation'!B209)","v":""},{"$f":"IF('Initial Observation'!L209=\"\",\"\",\"X\")","v":""}]
[{"$f":"'Initial Observation'!A210","v":"00:00:00"},{"$f":"IF('Initial Observation'!B210=\"\",\"\",'Initial Observation'!B210)","v":""},{"$f":"IF('Initial Observation'!L210=\"\",\"\",\"X\")","v":""}]
[{"$f":"'Initial Observation'!A211","v":"00:00:00"},{"$f":"IF('Initial Observation'!B211=\"\",\"\",'Initial Observation'!B211)","v":""},{"$f":"IF('Initial Observation'!L211=\"\",\"\",\"X\")","v":""}]
[{"$f":"'Initial Observation'!A212","v":"00:00:00"},{"$f":"IF('Initial Observation'!B212=\"\",\"\",'Initial Observation'!B212)","v":""},{"$f":"IF('Initial Observation'!L212=\"\",\"\",\"X\")","v":""}]
[{"$f":"'Initial Observation'!A213","v":"00:00:00"},{"$f":"IF('Initial Observation'!B213=\"\",\"\",'Initial Observation'!B213)","v":""},{"$f":"IF('Initial Observation'!L213=\"\",\"\",\"X\")","v":""}]
[{"$f":"'Initial Observation'!A214","v":"00:00:00"},{"$f":"IF('Initial Observation'!B214=\"\",\"\",'Initial Observation'!B214)","v":""},{"$f":"IF('Initial Observation'!L214=\"\",\"\",\"X\")","v":""}]
[{"$f":"'Initial Observation'!A215","v":"00:00:00"},{"$f":"IF('Initial Observation'!B215=\"\",\"\",'Initial Observation'!B215)","v":""},{"$f":"IF('Initial Observation'!L215=\"\",\"\",\"X\")","v":""}]
[{"$f":"'Initial Observation'!A216","v":"00:00:00"},{"$f":"IF('Initial Observation'!B216=\"\",\"\",'Initial Observation'!B216)","v":""},{"$f":"IF('Initial Observation'!L216=\"\",\"\",\"X\")","v":""}]
[{"$f":"'Initial Observation'!A217","v":"00:00:00"},{"$f":"IF('Initial Observation'!B217=\"\",\"\",'Initial Observation'!B217)","v":""},{"$f":"IF('Initial Observation'!L217=\"\",\"\",\"X\")","v":""}]
[{"$f":"'Initial Observation'!A218","v":"00:00:00"},{"$f":"IF('Initial Observation'!B218=\"\",\"\",'Initial Observation'!B218)","v":""},{"$f":"IF('Initial Observation'!L218=\"\",\"\",\"X\")","v":""}]
[{"$f":"'Initial Observation'!A219","v":"00:00:00"},{"$f":"IF('Initial Observation'!B219=\"\",\"\",'Initial Observation'!B219)","v":""},{"$f":"IF('Initial Observation'!L219=\"\",\"\",\"X\")","v":""}]
[{"$f":"'Initial Observation'!A220","v":"00:00:00"},{"$f":"IF('Initial Observation'!B220=\"\",\"\",'Initial Observation'!B220)","v":""},{"$f":"IF('Initial Observation'!L220=\"\",\"\",\"X\")","v":""}]
[{"$f":"'Initial Observation'!A221","v":"00:00:00"},{"$f":"IF('Initial Observation'!B221=\"\",\"\",'Initial Observation'!B221)","v":""},{"$f":"IF('Initial Observation'!L221=\"\",\"\",\"X\")","v":""}]
[{"$f":"'Initial Observation'!A222","v":"00:00:00"},{"$f":"IF('Initial Observation'!B222=\"\",\"\",'Initial Observation'!B222)","v":""},{"$f":"IF('Initial Observation'!L222=\"\",\"\",\"X\")","v":""}]
[{"$f":"'Initial Observation'!A223","v":"00:00:00"},{"$f":"IF('Initial Observation'!B223=\"\",\"\",'Initial Observation'!B223)","v":""},{"$f":"IF('Initial Observation'!L223=\"\",\"\",\"X\")","v":""}]
[{"$f":"'Initial Observation'!A224","v":"00:00:00"},{"$f":"IF('Initial Observation'!B224=\"\",\"\",'Initial Observation'!B224)","v":""},{"$f":"IF('Initial Observation'!L224=\"\",\"\",\"X\")","v":""}]
[{"$f":"'Initial Observation'!A225","v":"00:00:00"},{"$f":"IF('Initial Observation'!B225=\"\",\"\",'Initial Observation'!B225)","v":""},{"$f":"IF('Initial Observation'!L225=\"\",\"\",\"X\")","v":""}]
[{"$f":"'Initial Observation'!A226","v":"00:00:00"},{"$f":"IF('Initial Observation'!B226=\"\",\"\",'Initial Observation'!B226)","v":""},{"$f":"IF('Initial Observation'!L226=\"\",\"\",\"X\")","v":""}]
[{"$f":"'Initial Observation'!A227","v":"00:00:00"},{"$f":"IF('Initial Observation'!B227=\"\",\"\",'Initial Observation'!B227)","v":""},{"$f":"IF('Initial Observation'!L227=\"\",\"\",\"X\")","v":""}]
[{"$f":"'Initial Observation'!A228","v":"00:00:00"},{"$f":"IF('Initial Observation'!B228=\"\",\"\",'Initial Observation'!B228)","v":""},{"$f":"IF('Initial Observation'!L228=\"\",\"\",\"X\")","v":""}]
[{"$f":"'Initial Observation'!A229","v":"00:00:00"},{"$f":"IF('Initial Observation'!B229=\"\",\"\",'Initial Observation'!B229)","v":""},{"$f":"IF('Initial Observation'!L229=\"\",\"\",\"X\")","v":""}]
[{"$f":"'Initial Observation'!A230","v":"00:00:00"},{"$f":"IF('Initial Observation'!B230=\"\",\"\",'Initial Observation'!B230)","v":""},{"$f":"IF('Initial Observation'!L230=\"\",\"\",\"X\")","v":""}]
[{"$f":"'Initial Observation'!A231","v":"00:00:00"},{"$f":"IF('Initial Observation'!B231=\"\",\"\",'Initial Observation'!B231)","v":""},{"$f":"IF('Initial Observation'!L231=\"\",\"\",\"X\")","v":""}]
[{"$f":"'Initial Observation'!A232","v":"00:00:00"},{"$f":"IF('Initial Observation'!B232=\"\",\"\",'Initial Observation'!B232)","v":""},{"$f":"IF('Initial Observation'!L232=\"\",\"\",\"X\")","v":""}]
[{"$f":"'Initial Observation'!A233","v":"00:00:00"},{"$f":"IF('Initial Observation'!B233=\"\",\"\",'Initial Observation'!B233)","v":""},{"$f":"IF('Initial Observation'!L233=\"\",\"\",\"X\")","v":""}]
[{"$f":"'Initial Observation'!A234","v":"00:00:00"},{"$f":"IF('Initial Observation'!B234=\"\",\"\",'Initial Observation'!B234)","v":""},{"$f":"IF('Initial Observation'!L234=\"\",\"\",\"X\")","v":""}]
[{"$f":"'Initial Observation'!A235","v":"00:00:00"},{"$f":"IF('Initial Observation'!B235=\"\",\"\",'Initial Observation'!B235)","v":""},{"$f":"IF('Initial Observation'!L235=\"\",\"\",\"X\")","v":""}]
[{"$f":"'Initial Observation'!A236","v":"00:00:00"},{"$f":"IF('Initial Observation'!B236=\"\",\"\",'Initial Observation'!B236)","v":""},{"$f":"IF('Initial Observation'!L236=\"\",\"\",\"X\")","v":""}]
[{"$f":"'Initial Observation'!A237","v":"00:00:00"},{"$f":"IF('Initial Observation'!B237=\"\",\"\",'Initial Observation'!B237)","v":""},{"$f":"IF('Initial Observation'!L237=\"\",\"\",\"X\")","v":""}]
[{"$f":"'Initial Observation'!A238","v":"00:00:00"},{"$f":"IF('Initial Observation'!B238=\"\",\"\",'Initial Observation'!B238)","v":""},{"$f":"IF('Initial Observation'!L238=\"\",\"\",\"X\")","v":""}]
[{"$f":"'Initial Observation'!A239","v":"00:00:00"},{"$f":"IF('Initial Observation'!B239=\"\",\"\",'Initial Observation'!B239)","v":""},{"$f":"IF('Initial Observation'!L239=\"\",\"\",\"X\")","v":""}]
[{"$f":"'Initial Observation'!A240","v":"00:00:00"},{"$f":"IF('Initial Observation'!B240=\"\",\"\",'Initial Observation'!B240)","v":""},{"$f":"IF('Initial Observation'!L240=\"\",\"\",\"X\")","v":""}]
[{"$f":"'Initial Observation'!A241","v":"00:00:00"},{"$f":"IF('Initial Observation'!B241=\"\",\"\",'Initial Observation'!B241)","v":""},{"$f":"IF('Initial Observation'!L241=\"\",\"\",\"X\")","v":""}]
[{"$f":"'Initial Observation'!A242","v":"00:00:00"},{"$f":"IF('Initial Observation'!B242=\"\",\"\",'Initial Observation'!B242)","v":""},{"$f":"IF('Initial Observation'!L242=\"\",\"\",\"X\")","v":""}]
[{"$f":"'Initial Observation'!A243","v":"00:00:00"},{"$f":"IF('Initial Observation'!B243=\"\",\"\",'Initial Observation'!B243)","v":""},{"$f":"IF('Initial Observation'!L243=\"\",\"\",\"X\")","v":""}]
[{"$f":"'Initial Observation'!A244","v":"00:00:00"},{"$f":"IF('Initial Observation'!B244=\"\",\"\",'Initial Observation'!B244)","v":""},{"$f":"IF('Initial Observation'!L244=\"\",\"\",\"X\")","v":""}]
[{"$f":"'Initial Observation'!A245","v":"00:00:00"},{"$f":"IF('Initial Observation'!B245=\"\",\"\",'Initial Observation'!B245)","v":""},{"$f":"IF('Initial Observation'!L245=\"\",\"\",\"X\")","v":""}]
[{"$f":"'Initial Observation'!A246","v":"00:00:00"},{"$f":"IF('Initial Observation'!B246=\"\",\"\",'Initial Observation'!B246)","v":""},{"$f":"IF('Initial Observation'!L246=\"\",\"\",\"X\")","v":""}]
[{"$f":"'Initial Observation'!A247","v":"00:00:00"},{"$f":"IF('Initial Observation'!B247=\"\",\"\",'Initial Observation'!B247)","v":""},{"$f":"IF('Initial Observation'!L247=\"\",\"\",\"X\")","v":""}]
[{"$f":"'Initial Observation'!A248","v":"00:00:00"},{"$f":"IF('Initial Observation'!B248=\"\",\"\",'Initial Observation'!B248)","v":""},{"$f":"IF('Initial Observation'!L248=\"\",\"\",\"X\")","v":""}]
[{"$f":"'Initial Observation'!A249","v":"00:00:00"},{"$f":"IF('Initial Observation'!B249=\"\",\"\",'Initial Observation'!B249)","v":""},{"$f":"IF('Initial Observation'!L249=\"\",\"\",\"X\")","v":""}]
[{"$f":"'Initial Observation'!A250","v":"00:00:00"},{"$f":"IF('Initial Observation'!B250=\"\",\"\",'Initial Observation'!B250)","v":""},{"$f":"IF('Initial Observation'!L250=\"\",\"\",\"X\")","v":""}]
[{"$f":"'Initial Observation'!A251","v":"00:00:00"},{"$f":"IF('Initial Observation'!B251=\"\",\"\",'Initial Observation'!B251)","v":""},{"$f":"IF('Initial Observation'!L251=\"\",\"\",\"X\")","v":""}]
[{"$f":"'Initial Observation'!A252","v":"00:00:00"},{"$f":"IF('Initial Observation'!B252=\"\",\"\",'Initial Observation'!B252)","v":""},{"$f":"IF('Initial Observation'!L252=\"\",\"\",\"X\")","v":""}]
[{"$f":"'Initial Observation'!A253","v":"00:00:00"},{"$f":"IF('Initial Observation'!B253=\"\",\"\",'Initial Observation'!B253)","v":""},{"$f":"IF('Initial Observation'!L253=\"\",\"\",\"X\")","v":""}]
[{"$f":"'Initial Observation'!A254","v":"00:00:00"},{"$f":"IF('Initial Observation'!B254=\"\",\"\",'Initial Observation'!B254)","v":""},{"$f":"IF('Initial Observation'!L254=\"\",\"\",\"X\")","v":""}]
[{"$f":"'Initial Observation'!A255","v":"00:00:00"},{"$f":"IF('Initial Observation'!B255=\"\",\"\",'Initial Observation'!B255)","v":""},{"$f":"IF('Initial Observation'!L255=\"\",\"\",\"X\")","v":""}]
[{"$f":"'Initial Observation'!A256","v":"00:00:00"},{"$f":"IF('Initial Observation'!B256=\"\",\"\",'Initial Observation'!B256)","v":""},{"$f":"IF('Initial Observation'!L256=\"\",\"\",\"X\")","v":""}]
[{"$f":"'Initial Observation'!A257","v":"00:00:00"},{"$f":"IF('Initial Observation'!B257=\"\",\"\",'Initial Observation'!B257)","v":""},{"$f":"IF('Initial Observation'!L257=\"\",\"\",\"X\")","v":""}]
[{"$f":"'Initial Observation'!A258","v":"00:00:00"},{"$f":"IF('Initial Observation'!B258=\"\",\"\",'Initial Observation'!B258)","v":""},{"$f":"IF('Initial Observation'!L258=\"\",\"\",\"X\")","v":""}]
[{"$f":"'Initial Observation'!A259","v":"00:00:00"},{"$f":"IF('Initial Observation'!B259=\"\",\"\",'Initial Observation'!B259)","v":""},{"$f":"IF('Initial Observation'!L259=\"\",\"\",\"X\")","v":""}]
[{"$f":"'Initial Observation'!A260","v":"00:00:00"},{"$f":"IF('Initial Observation'!B260=\"\",\"\",'Initial Observation'!B260)","v":""},{"$f":"IF('Initial Observation'!L260=\"\",\"\",\"X\")","v":""}]
[{"$f":"'Initial Observation'!A261","v":"00:00:00"},{"$f":"IF('Initial Observation'!B261=\"\",\"\",'Initial Observation'!B261)","v":""},{"$f":"IF('Initial Observation'!L261=\"\",\"\",\"X\")","v":""}]
[{"$f":"'Initial Observation'!A262","v":"00:00:00"},{"$f":"IF('Initial Observation'!B262=\"\",\"\",'Initial Observation'!B262)","v":""},{"$f":"IF('Initial Observation'!L262=\"\",\"\",\"X\")","v":""}]
[{"$f":"'Initial Observation'!A263","v":"00:00:00"},{"$f":"IF('Initial Observation'!B263=\"\",\"\",'Initial Observation'!B263)","v":""},{"$f":"IF('Initial Observation'!L263=\"\",\"\",\"X\")","v":""}]
[{"$f":"'Initial Observation'!A264","v":"00:00:00"},{"$f":"IF('Initial Observation'!B264=\"\",\"\",'Initial Observation'!B264)","v":""},{"$f":"IF('Initial Observation'!L264=\"\",\"\",\"X\")","v":""}]
[{"$f":"'Initial Observation'!A265","v":"00:00:00"},{"$f":"IF('Initial Observation'!B265=\"\",\"\",'Initial Observation'!B265)","v":""},{"$f":"IF('Initial Observation'!L265=\"\",\"\",\"X\")","v":""}]
[{"$f":"'Initial Observation'!A266","v":"00:00:00"},{"$f":"IF('Initial Observation'!B266=\"\",\"\",'Initial Observation'!B266)","v":""},{"$f":"IF('Initial Observation'!L266=\"\",\"\",\"X\")","v":""}]
[{"$f":"'Initial Observation'!A267","v":"00:00:00"},{"$f":"IF('Initial Observation'!B267=\"\",\"\",'Initial Observation'!B267)","v":""},{"$f":"IF('Initial Observation'!L267=\"\",\"\",\"X\")","v":""}]
[{"$f":"'Initial Observation'!A268","v":"00:00:00"},{"$f":"IF('Initial Observation'!B268=\"\",\"\",'Initial Observation'!B268)","v":""},{"$f":"IF('Initial Observation'!L268=\"\",\"\",\"X\")","v":""}]
[{"$f":"'Initial Observation'!A269","v":"00:00:00"},{"$f":"IF('Initial Observation'!B269=\"\",\"\",'Initial Observation'!B269)","v":""},{"$f":"IF('Initial Observation'!L269=\"\",\"\",\"X\")","v":""}]
[{"$f":"'Initial Observation'!A270","v":"00:00:00"},{"$f":"IF('Initial Observation'!B270=\"\",\"\",'Initial Observation'!B270)","v":""},{"$f":"IF('Initial Observation'!L270=\"\",\"\",\"X\")","v":""}]