Workbook
Name _ftnref1: 'Re-Identified Priority Schools'!$B$18
Name _Toc279146926: Assurances!#REF!
Name account1213: #REF!
Name account1213: #REF!
Name account1213: #REF!
Name account1213: #REF!
Name account1213: #REF!
Name account1213: #REF!
Name account1213: #REF!
Name account1213: #REF!
Name account1213: #REF!
Name account1213: #REF!
Name account1213: #REF!
Name account1213: #REF!
Name account1213: #REF!
Name account1213: #REF!
Name account1213: #REF!
Name acct1415: [1]Account.Rev!$D$3:$F$5419
Name ALBANY_CITY_SD: #REF!
Name ALBANY_CITY_SD: #REF!
Name ALBANY_CITY_SD: #REF!
Name ALBANY_CITY_SD: #REF!
Name ALBANY_CITY_SD: #REF!
Name ALBANY_CITY_SD: #REF!
Name ALBANY_CITY_SD: #REF!
Name ALBANY_CITY_SD: #REF!
Name ALBANY_CITY_SD: #REF!
Name ALBANY_CITY_SD: #REF!
Name ALBANY_CITY_SD: #REF!
Name ALBANY_CITY_SD: #REF!
Name ALBANY_CITY_SD: #REF!
Name ALBANY_CITY_SD: #REF!
Name Allocations: '[2]Allocations-Summary'!$A$2:$H$908
Name allocations201314: #REF!
Name allocations201314: #REF!
Name allocations201314: #REF!
Name allocations201314: #REF!
Name allocations201314: #REF!
Name allocations201314: #REF!
Name allocations201314: #REF!
Name allocations201314: #REF!
Name allocations201314: '[3]2013-14 T-I.II.III. Allocations'!$A$2:$F$933
Name allocations201314: #REF!
Name allocations201314: #REF!
Name allocations201314: #REF!
Name allocations201314: #REF!
Name allocations201314: #REF!
Name allocations201314: #REF!
Name alloctI1415: #REF!
Name alloctI1415: #REF!
Name alloctI1415: #REF!
Name alloctI1415: #REF!
Name alloctI1415: #REF!
Name alloctI1415: #REF!
Name alloctI1415: #REF!
Name alloctI1415: #REF!
Name alloctI1415: #REF!
Name alloctI1415: #REF!
Name alloctI1415: #REF!
Name alloctI1415: #REF!

Sheet SCEP CoverPage
B1: LEA Name: | C1: MVCSD | D1: ENTER DATA INTO ALL YELLOW CELLS.
B2: LEA BEDS Code: | C2: 66090001009
B3: School Name: | C3: Pennington
B6: 2017-2018 School Comprehensive Education Plan (SCEP)
B8: Contact Name | C8: Danielle Davis-Marrow | D8: Title | E8: Principal
B9: Phone | C9: (914) 665-5105 | D9: Email | E9: ddavis1@mtvernoncsd.org
B10: Website for Published Plan | C10: www.mtvernoncsd.org
B12: APPROVAL OF THIS PLAN BY THE SUPERINTENDENT AND BOARD OF EDUCATION (IN NEW YORK CITY, THE CHANCELLOR OR THE CHANCELLOR’S DESIGNEE) IS MANDATORY.
B14: Implementation is required no later than the first day of regular student attendance.
B16: Signatures confirm the respective parties certify that the SCEP addresses all of the required components of the ESEA Flexibility Waiver as detailed on page 1 of this document and understand that any significant modification of the school’s approved plan require the prior approval of the commissioner.
B18: THE SIGNATURES BELOW CONFIRM APPROVAL.
B19: Position | C19: Signature | D19: Print Name | E19: Date
B20: Superintendent | D20: Kenneth R. Hamilton, Ed.D. | E20: 42917
B21: President, B.O.E. / Chancellor or Chancellor's Designee | D21: Lesly Zamor | E21: 42917

Sheet Assurances
C1: Statement of Assurances
C3: By signing this document, the Local Education Agency certifies that:
B5: y | C5: 1. The School Comprehensive Education Plan (SCEP) has been developed in consultation with parents, school staff and others in accordance with the requirements of Shared-Decision Making (CR 100.11) to provide a meaningful opportunity for stakeholders to participate in the development of the plan and comment on the plans before they are approved.
B8: y | C8: 2. The School Comprehensive Education Plan (SCEP) has been formally approved by the school board and will be made widely available through public means, such as posting on the Internet, distribution through the media and distribution through public agencies.
B11: y | C11: 3. The School Comprehensive Education Plan (SCEP) will be implemented no later than the beginning of the first day of regular student attendance.
B14: y | C14: 4. A comprehensive systems approach will be established to recruit, develop, retain and equitably distribute effective teachers and school leaders as part of the implementation of the Annual Professional Performance Review (APPR) system required by Education law §3012(c) and §3012(d) .
B17: y | C17: 5. Professional development will be provided to teachers and school leaders that will fully support the strategic efforts described within this plan.
B20: y | C20: 6.Meaningful time for collaboration will be used to review and analyze data in order to inform and improve district policies, procedures, and instructional practices.

Sheet School Leadership Team
B1: School Leadership Team
B3: SCHOOL LEADERSHIP TEAM: The SCEP must be developed in consultation with parents, school staff, and others pursuant to §100.11 of Commissioner’s Regulations. Participants who are regularly involved in your district and school improvement initiatives, such as community organizations or institutes of higher education should be included. By signing below, stakeholders ascertain that, although they may not agree with all components of the plan, they have actively participated in the development and revision of the SCEP.
B5: Instructions: List the stakeholders who participated in developing the SCEP as required by Commissioner’s Regulations §100.18. Provide dates and locations of Local Stakeholder meetings. Boxes should be added as necessary.
B7: Meeting Date(s) | C7: Locations(s) | D7: Meeting Date(s) | E7: Location(s)
B8: 42669 | C8: Room 110A | D8: 42773 | E8: Room 110A
B9: 42704 | C9: Room 110A | D9: 42802 | E9: Room 110A
B10: 42718 | C10: Room 110A | D10: 42851 | E10: Room 110A
B11: 42760 | C11: Room 110A | D11: 42872 | E11: Room 110A
B12: 42743 | C12: Room 110A | D12: 42887 | E12: Room 110A
B14: Name | C14: Title / Organization | E14: Signature
B15: Michelle Atterberry | C15: 4th Grade Teacher
B16: Claudia Carmona | C16: 5th Grade Teacher
B17: Danielle Davis-Marrow | C17: Principal
B18: Casandre Laurent | C18: Parent Representative / SWD
B19: Kaitlyn Hanson | C19: Reading Teacher 7-8
B20: Laurie Tucci | C20: Reading Teacher 3-6

Sheet School Info Sheet
B1: School Information Sheet
B3: School Information Sheet (As of 5/31/17)
B4: Grade Configuration | C4: K-8 | D4: Total Student Enrollment | E4: 351 | F4: % Title I Population | G4: 48.7% (171) | H4: % Attendance Rate | I4: 0.9204
B5: % of Students Eligible for Free Lunch | C5: 41.2% (145) | D5: % of Students Eligible for Reduced-Price Lunch | E5: 7.40% (26) | F5: % of Limited English Proficient Students | G5: 4.55% (16) | H5: % of Students with Disabilities | I5: 5.4% (19)
B7: Racial/Ethnic Origin of School Student Population (as of 5/31/17)
B8: % American Indian or Alaska Native | C8: 0.28% (1) | D8: % Black or African American | E8: 67.52% (237) | F8: % Hispanic or Latino | G8: 21.70% (76) | H8: % Asian, Native Hawaiian / Other Pacific Islander | I8: 4.27% (15) | J8: % White | K8: 30.20% (106) | L8: % Multi-Racial | M8: 0.00% (0)
B10: School Personnel
B11: Years Principal Assigned to School | D11: 13 | E11: # of Assistant Principals | G11: 1 | H11: # of Deans | J11: 0 | K11: # of Counselors / Social Workers | M11: 1
B12: % of Teachers with NO Valid Teaching Certificate (Out of Compliance) | D12: 0 | E12: % of Teachers Teaching Out of Certification Area | G12: 0 | H12: % Teaching with Fewer than 3 Years of Experience | J12: 0 | K12: Average # of Teacher Absences | M12: 1.3
B14: Overall State Accountability Status
B15: Priority School | E15: Focus School Identified by a Focus District | G15: X | H15: SIG 1003(a) Recipient | J15: X | K15: SIG 1003(g) Recipient
B16: Identification for ELA? | E16: Identification for Math? | H16: Identification for Science? | K16: Identification for High School Graduation Rate? | M16: NA
B17: ELA Performance at Level 3 and Level 4 | D17: 35.81% (82) | E17: Math Performance at Level 3 and Level 4 | G17: 21.84% (45) | H17: Science Performance at Level 3 and Level 4 | J17: 97.00% (35) | K17: Four-Year Graduation Rate (HS Only) | M17: NA
B18: % of 1st Year Students Who Earned 10+ Credits (HS Only) | D18: NA | E18: % of 2nd Year Students Who Earned 10+ Credits (HS Only) | G18: NA | H18: % of 3rd Year Students Who Earned 10+ Credits (HS Only) | J18: NA | K18: Six-Year Graduation Rate (HS Only) | M18: NA
B19: Persistently Failing School (per Education Law 211-f) | E19: Failing School (per Education Law 211-f)
B22: Did Not Meet Adequate Yearly Progress (AYP) in ELA
D23: American Indian or Alaska Native | H23: X (Participation Rate) | J23: Black or African American
D24: Hispanic or Latino | J24: Asian or Native Hawaiian/Other Pacific Islander
D25: White | J25: Multi-Racial
D26: Students with Disabilities | J26: Limited English Proficient
D27: Economically Disadvantaged
B29: Did Not Meet Adequate Yearly Progress (AYP) in Mathematics
D30: American Indian or Alaska Native | H30: X (Participation Rate) | J30: Black or African American
B31: X (Participation Rate) | D31: Hispanic or Latino | J31: Asian or Native Hawaiian/Other Pacific Islander
D32: White | J32: Multi-Racial
D33: Students with Disabilities | J33: Limited English Proficient
B34: X (Participation Rate & PI) | D34: Economically Disadvantaged
B36: Did Not Meet Adequate Yearly Progress (AYP) in Science
D37: American Indian or Alaska Native | J37: Black or African American
D38: Hispanic or Latino | J38: Asian or Native Hawaiian/Other Pacific Islander
D39: White | J39: Multi-Racial
D40: Students with Disabilities | J40: Limited English Proficient
D41: Economically Disadvantaged
B43: Did Not Meet Adequate Yearly Progress (AYP) for Effective Annual Measurable Objective
D44: Limited English Proficient

Sheet Overview
C1: SCEP Plan Overview | D1: REVIEWER FEEDBACK
C3: In this section, the district must describe the development of the plan, the degree to which the previous school year's SCEP was successfully implemented, overall improvement mission or guiding principles at the core of the strategy for executing the mission/guiding principles, the key design elements of the SCEP, and other unique characteristics of the plan (if any), and provide evidence of the district’s capacity to effectively oversee and manage the improvement plan.
C5: The SCEP must be made widely available through public means, such as posting on the Internet, by the district. The Overview will serve as the at-a-glance summary of how the district will use various funding sources to improve student achievement. A complete overview will address the following:
B7: 1. Rate the degree to which the School achieved the goals identified in the previous year's School Comprehensive Education Plan (Mark with an "X").
C8: Limited Degree (Fewer than 20% of goals were achieved.)
C9: Partial Degree (Fewer than 50% of goals were achieved.)
C10: Moderate Degree (At least 50% of goals were achieved.)
B11: X | C11: Major Degree (At least 90% of goals were achieved.)
B13: 2. Rate the degree to which the School successfully implemented the activities identified in the previous year's SCEP (Mark with an "X").
C14: Limited Degree (Fewer than 20% of activities were carried out.)
C15: Partial Degree (Fewer than 50% of activities were carried out.)
C16: Moderate Degree (At least 50% of activities were carried out.)
B17: X | C17: Major Degree (At least 90% of activities were carried out.)
B19: 3. Rate the degree to which the activities identified in the previous year's SCEP impacted academic achievement targets for identified subgroups (Mark with an "X").
C20: Limited Degree (No identified subgroups improved achievement.)
C21: Partial Degree (Some of the identified subgroups improved achievement.)
B22: X | C22: Moderate Degree (A majority of identified subgroups improved achievement.)
C23: Major Degree (All identified subgroups improved achievement.)
B25: 4. Rate the degree to which the activities identified in the previous year's SCEP increased Parent Engagement (Mark with an "X").
C26: Limited Degree (There was no increase in the level of Parent Engagement.)
B27: X | C27: Partial Degree (There was a minor increase in the level of Parent Engagement.)
C28: Moderate Degree (There was modest increase in the level of Parent Engagement.)
C29: Major Degree (There was a significant increase in the level of Parent Engagement.)
B31: 5. Rate the degree to which the activities identified in the previous year's SCEP received the funding necessary to achieve the corresponding goals (Mark with an "X").
C32: Limited Degree (Fewer than 20% of planned activities were funded.)
C33: Partial Degree (Fewer than 50% of planned activities were funded.)
C34: Moderate Degree (At least 50% of planned activities were funded.)
B35: X | C35: Major Degree (At least 90% of planned activities were funded.)
B37: 6. Identify in which Tenet the school made the most growth during the previous year (Mark with an "X").
C38: Tenet 1: District Leadership and Capacity
C39: Tenet 2: School Leader Practices and Decisions
B40: X | C40: Tenet 3: Curriculum Development and Support
C41: Tenet 4: Teacher Practices and Decisions
C42: Tenet 5: Student Social and Emotional Developmental Health
C43: Tenet 6: Family and Community Engagement
C45: In reflecting on the PREVIOUS YEAR'S PLAN:
C47: • Describe the most significant positive impact(s) that resulted from the previous year’s plan (may include such examples as specific changes in adult behavior and/or measurable changes in student outcomes).
C48: The most significant positive impact that resulted from the previous year's plan is data driven instruction to meet the needs of all learners.
C50: • Describe all mid-course corrections to the previous year’s plan in response to data review and needed adjustment. Include details of current impact and expectations for sustainability moving forward.
C51: There has been an adjustment to the expectations of the current Professional Development Plan. Professional Development is conducted as a year long series which includes three day sessions for each teacher.
...

Sheet Re-Identified Focus Schools
B1: Re-Identified Focus Schools | C1: REVIEWER FEEDBACK
B2: (Applicable to schools that were identified as Focus during the 2012-2016 identification period) | C2: REVIEWER FEEDBACK
B4: Focus Schools that were re-identified on the February 2016 list were required to implement more rigorous interventions focused on the needs identified through their DTSDE reviews. Focus Schools were required to implement at least one ESEA Flexibility Turnaround Principle (e.g., redesign the school day, week, or year; modify the instructional program to ensure it is research-based, rigorous, and aligned with State academic content standards; provide time for collaboration on the use of data) no later than the 2016-17 school year. The SCEP must describe the schools plan for intensive implementation of the selected Turnaround Principle and Districts must complete a school leader checklist for the re-identified Focus School, if the principal has been leader of school for more than two full academic years, in order to determine whether the school leader should be provided additional professional development and/or mentoring or replaced. Below provide an update on the implementation of the selected principle.
B6: More information about the Turnaround Principles can be found at: https://www.ed.gov/sites/default/files/esea-flexibility-acc.doc
B8: 1. Describe the current stage of implementation of the Turnaround Principle the school chose to begin implementing in 2016-17?
B11: 2. Identify the method for evaluating implementation of the Principle and any adjustments that have been made based on the evaluation. Include of the data sources used and trends identified from analysis.
B14: 3. How will the school continue to monitor and make adjustments to implementation?

Sheet Re-Identified Priority Schools
B1: Priority Schools: Whole School Reform Model | C1: REVIEWER FEEDBACK
B2: (Applicable to schools that were identified as Priority during the 2012-2016 identification period)
B4: Under New York State's approved ESEA Flexibility Waiver, all Priority Schools are required to implement a systematic whole school reform model for a period of 3 years. In support of this implementation the Department has committed to ensuring that leaders of Priority Schools that are engaged in implementing whole school reform models are selected and supported by districts through a process that ensures high leadership qualifications as well as a good match between the leader’s skills and competencies and the identified needs of the school. All priority schools that are not current recipients of School Improvement Grant (SIG [G]) or School Innovation Fund (SIF) must complete and submit the principal checklist accessed by the hyperlink and provide full responses to the narrative questions below to demonstrate their plan for implementation of a whole school reform model.
B6: http://www.p12.nysed.gov/accountability/forms.html
B8: 1. New School Design and Educational Plan
B10: A. Curriculum and Instruction: Provide a description of the curriculum being used by the school and any adjustments made to the curriculum based on data analysis of the implementation of the 16-17 plan.
B14: B. Professional Development: Provide an update on the coherent framework for professional development described in the 2016-17 plan, which includes extensive job-embedded professional development, and structures for collaboration that enable teachers and support staff to have common, regular, and frequent planning time. Discuss how curriculum and instructional needs are reflected in plans for professional development.
B18: C. Use of Time: Provide an update on the daily calendar and schedule as described in the 2016-17 plan and articulate how the use of time will continue to provide for meaningful improvements in the quality of instruction, enrichment opportunities, and professional culture of teacher leadership and collaboration. Based on data analysis of the 2016-17 plan
B22: D. Assessment: Provide an update to the school’s approach to assessment as described in the 2016-17 plan.
B26: E. School Climate and Discipline: Describe the strategies the school will employ to continue to develop and sustain a safe and orderly school climate that supports fulfillment of the educational goals. Explain the school’s approach to student behavior management and discipline for both the general student population and for students with special needs and if it has changed since evaluation of the 2016-17 plan. Explain how the school will encourage parent/family involvement and communication to support student learning and how it will gauge satisfaction with school climate.
B30: F. Meeting the Needs of Unique Populations: Describe the population of students with disabilities, including those with moderate to severe disabilities, students who are English language learners, and students from households that are eligible for the federal free or reduced-priced lunch program, first generation college goers, students of color, and other young people underrepresented in higher education and the specific continuum of instructional and support strategies that will be employed to meet the needs of these populations.
B34: 2. Organizational Plan
B35: The Organizational Plan should provide an understanding of how the school will be operated, beginning with its governance and management. It should present a clear picture of the school’s operating priorities, delegation of responsibilities, and relationships with key stakeholders.
... B41: B. Staffing, Human Resources, and Work Conditions: Provide an update to the staffing plan for the school including staffing needs and recruitment strategies and what changes the school has made since the implementation of the 16-17 plan.

Sheet New Identified Priority Schools
B1: Priority Schools: Whole School Reform Model
B2: (Applicable to schools that were newly identified as Priority in February 2016)
B4: Newly identified Priority Schools are required to implement a whole school reform model by no later than the 2018-19 school year. Districts may meet this requirement through implementation of a 1003(g) School Improvement Grant intervention model, a School Innovation Fund model, or through implementation of a School Comprehensive Education Plan that includes a Whole School Reform Model aligned to the United States Department of Education’s (USDE) Turnaround Principles. More information regarding the requirements of these models can be found on the Office of School Innovation and Reform’s website at http://www.p12.nysed.gov/oisr/. In support of this implementation the Department has committed to ensuring that leaders of Priority Schools that are engaged in implementing whole school reform models are selected and supported by districts through a process that ensures high leadership qualifications as well as a good match between the leader’s skills and competencies and the identified needs of the school. All priority schools that are not current recipients of School Improvement Grant (SIG [G]) or School Innovation Fund (SIF) must complete and submit the principal checklist accessed by the hyperlink and provide full responses to the narrative questions below to demonstrate their plan for implementation of a whole school reform model.
B6: http://www.p12.nysed.gov/accountability/forms.html
B8: 1. Identify the whole school reform model the school will implement no later than the 2018-19 school year.
B12: 2. Describe how the school selected the model identified. Identify any relevant data sources and analysis of those sources.
B16: 3. Detail a schedule of events for the 17-18 school year that will result in a fully developed plan for implementation of the selected model.
B20: 4. Describe the leading indicators that will be used to track progress against the schedule of events. Identify persons responsible for progress monitoring.

Sheet PS ELT Plan
B1: Priority Schools: Expanded Learning Time Plan | C1: REVIEWER FEEDBACK
B3: As per New York State's approved ESEA Flexibility Waiver, Priority schools implementing a whole school reform model in 2017-2018 must demonstrate that a minimum of 200 additional student contact hours are being offered as Expanded Learning Time in addition to the current mandated length of 900 hours per year of instruction in elementary school and 990 hours per year in high school.
B5: A. Describe the target population of students to be served by the Expanded Learning Time program. Indicate whether students' participation in the additional hours will be mandatory or voluntary, and if voluntary, how are you ensuring that 50% or more of the students or of Academic Intervention Services students are participating?
B9: B. Describe the unique academic, social, and emotional needs of targeted students that will be addressed through the components of the ELT program.
B13: C. Describe how the school engaged representatives from multiple school and community stakeholder groups in thoughtful, data-driven needs assessment that address the holistic needs of students and teachers.
B17: D. Describe the focused priorities, expressed as clearly articulated and measurable goals, that will guide the implementation and evaluation of all program partnerships and activities.
B21: E. Describe how the school will foster a culture of safety, support, and social emotional growth where high expectations for students and staff are clearly articulated and supported through appropriate policies, procedures, and/or practices that adhere to NYSED’s social/emotional learning guidelines.
B25: F. Describe how the school will provide a consistently high-quality and rigorous core academic program, delivered by NYS certified teachers and qualified community educators (e.g., tutors, teaching artists, etc.), that directly aligns with Common Core Learning Standards.
B29: G. Describe how the school will support personalized learning for all students through differentiated instruction, timely and targeted interventions for students who require additional support, and opportunities for acceleration.
B33: H. Describe how the school will integrate high-quality and engaging enrichment programming that builds critical knowledge and skills and exposes students to potential college and career pathways.
B37: I. Describe how the school will embed consistent and meaningful opportunities for all constituencies to collaborate with their peers, participate in professional development that improves instructional practices, and engage in self-reflection and evaluation.
B41: J. Describe how the school will utilize data cycles that include baseline, progress monitoring, and summative evaluation measures for evaluating teaching and learning and informing appropriate supports, interventions, and/or services.
B45: K. Describe how the school will allocate and integrate school, district, and community resources strategically to ensure that identified goals are achieved and critical program components can be sustained and/or scaled up over time.

Sheet Leading Indicators
B1: Common Leading Indicators Worksheet
B3: D2. Leading Indicator(s): Identify the specific indicators that will be used to monitor progress toward the goal. For each leading indicator, enter a "Y" into the cell for each applicable Tenet for which that indicator will be used. | C3: Tenet 2 | D3: Tenet 3 | E3: Tenet 4 | F3: Tenet 5 | G3: Tenet 6 | H3: Tenet 2 | I3: Tenet 3 | J3: Tenet 4 | K3: Tenet 5 | L3: Tenet 6
B4: Student Growth Percentile for Low-Income Students | C4: y | D4: y | E4: y | F4: y | H4: =IF(C4="Y",$B$4,"") -> Student Growth Percentile for Low-Income Students | I4: =IF(D4="Y",$B$4,"") -> Student Growth Percentile for Low-Income Students | J4: =IF(E4="Y",$B$4,"") -> Student Growth Percentile for Low-Income Students | K4: =IF(F4="Y",$B$4,"") -> Student Growth Percentile for Low-Income Students | L4: =IF(G4="Y",$B$4,"")
B5: Student Average Daily Attendance | F5: y | H5: =IF(C5="Y",CONCATENATE(H4,CHAR(10),$B5),H4) -> Student Growth Percentile for Low-Income Students | I5: =IF(D5="Y",CONCATENATE(I4,CHAR(10),$B5),I4) -> Student Growth Percentile for Low-Income Students | J5: =IF(E5="Y",CONCATENATE(J4,CHAR(10),$B5),J4) -> Student Growth Percentile for Low-Income Students | K5: =IF(F5="Y",CONCATENATE(K4,CHAR(10),$B5),K4) -> Student Growth Percentile for Low-Income Students Student Average Daily Attendance | L5: =IF(G5="Y",CONCATENATE(L4,CHAR(10),$B5),L4)
B6: Student Drop-Out Rate | H6: =IF(C6="Y",CONCATENATE(H5,CHAR(10),$B6),H5) -> Student Growth Percentile for Low-Income Students | I6: =IF(D6="Y",CONCATENATE(I5,CHAR(10),$B6),I5) -> Student Growth Percentile for Low-Income Students | J6: =IF(E6="Y",CONCATENATE(J5,CHAR(10),$B6),J5) -> Student Growth Percentile for Low-Income Students | K6: =IF(F6="Y",CONCATENATE(K5,CHAR(10),$B6),K5) -> Student Growth Percentile for Low-Income Students Student Average Daily Attendance | L6: =IF(G6="Y",CONCATENATE(L5,CHAR(10),$B6),L5)
B7: Student Credit Accruals (HS Students) | H7: =IF(C7="Y",CONCATENATE(H6,CHAR(10),$B7),H6) -> Student Growth Percentile for Low-Income Students | I7: =IF(D7="Y",CONCATENATE(I6,CHAR(10),$B7),I6) -> Student Growth Percentile for Low-Income Students | J7: =IF(E7="Y",CONCATENATE(J6,CHAR(10),$B7),J6) -> Student Growth Percentile for Low-Income Students | K7: =IF(F7="Y",CONCATENATE(K6,CHAR(10),$B7),K6) -> Student Growth Percentile for Low-Income Students Student Average Daily Attendance | L7: =IF(G7="Y",CONCATENATE(L6,CHAR(10),$B7),L6)
B8: Student Completion of Advanced Coursework | H8: =IF(C8="Y",CONCATENATE(H7,CHAR(10),$B8),H7) -> Student Growth Percentile for Low-Income Students | I8: =IF(D8="Y",CONCATENATE(I7,CHAR(10),$B8),I7) -> Student Growth Percentile for Low-Income Students | J8: =IF(E8="Y",CONCATENATE(J7,CHAR(10),$B8),J7) -> Student Growth Percentile for Low-Income Students | K8: =IF(F8="Y",CONCATENATE(K7,CHAR(10),$B8),K7) -> Student Growth Percentile for Low-Income Students Student Average Daily Attendance | L8: =IF(G8="Y",CONCATENATE(L7,CHAR(10),$B8),L7)
B9: Student Suspension Rate (Short-Term / Long-Term) | H9: =IF(C9="Y",CONCATENATE(H8,CHAR(10),$B9),H8) -> Student Growth Percentile for Low-Income Students | I9: =IF(D9="Y",CONCATENATE(I8,CHAR(10),$B9),I8) -> Student Growth Percentile for Low-Income Students | J9: =IF(E9="Y",CONCATENATE(J8,CHAR(10),$B9),J8) -> Student Growth Percentile for Low-Income Students | K9: =IF(F9="Y",CONCATENATE(K8,CHAR(10),$B9),K8) -> Student Growth Percentile for Low-Income Students Student Average Daily Attendance | L9: =IF(G9="Y",CONCATENATE(L8,CHAR(10),$B9),L8)
B10: Student Discipline Referrals | H10: =IF(C10="Y",CONCATENATE(H9,CHAR(10),$B10),H9) -> Student Growth Percentile for Low-Income Students | I10: =IF(D10="Y",CONCATENATE(I9,CHAR(10),$B10),I9) -> Student Growth Percentile for Low-Income Students | J10: =IF(E10="Y",CONCATENATE(J9,CHAR(10),$B10),J9) -> Student Growth Percentile for Low-Income Students | K10: =IF(F10="Y",CONCATENATE(K9,CHAR(10),$B10),K9) -> Student Growth Percentile for Low-Income Students Student Average Daily Attendance | L10: =IF(G10="Y",CONCATENATE(L9,CHAR(10),$B10),L9)
B11: Student Truancy Rate | H11: =IF(C11="Y",CONCATENATE(H10,CHAR(10),$B11),H10) -> Student Growth Percentile for Low-Income Students | I11: =IF(D11="Y",CONCATENATE(I10,CHAR(10),$B11),I10) -> Student Growth Percentile for Low-Income Students | J11: =IF(E11="Y",CONCATENATE(J10,CHAR(10),$B11),J10) -> Student Growth Percentile for Low-Income Students | K11: =IF(F11="Y",CONCATENATE(K10,CHAR(10),$B11),K10) -> Student Growth Percentile for Low-Income Students Student Average Daily Attendance | L11: =IF(G11="Y",CONCATENATE(L10,CHAR(10),$B11),L10)
B12: Student Performance on January Regents Exams | H12: =IF(C12="Y",CONCATENATE(H11,CHAR(10),$B12),H11) -> Student Growth Percentile for Low-Income Students | I12: =IF(D12="Y",CONCATENATE(I11,CHAR(10),$B12),I11) -> Student Growth Percentile for Low-Income Students | J12: =IF(E12="Y",CONCATENATE(J11,CHAR(10),$B12),J11) -> Student Growth Percentile for Low-Income Students | K12: =IF(F12="Y",CONCATENATE(K11,CHAR(10),$B12),K11) -> Student Growth Percentile for Low-Income Students Student Average Daily Attendance | L12: =IF(G12="Y",CONCATENATE(L11,CHAR(10),$B12),L11)
B13: Student Participation in ELT Opportunities | H13: =IF(C13="Y",CONCATENATE(H12,CHAR(10),$B13),H12) -> Student Growth Percentile for Low-Income Students | I13: =IF(D13="Y",CONCATENATE(I12,CHAR(10),$B13),I12) -> Student Growth Percentile for Low-Income Students | J13: =IF(E13="Y",CONCATENATE(J12,CHAR(10),$B13),J12) -> Student Growth Percentile for Low-Income Students | K13: =IF(F13="Y",CONCATENATE(K12,CHAR(10),$B13),K12) -> Student Growth Percentile for Low-Income Students Student Average Daily Attendance | L13: =IF(G13="Y",CONCATENATE(L12,CHAR(10),$B13),L12)
B14: Minutes of Expanded Learning Time (ELT) Offered | H14: =IF(C14="Y",CONCATENATE(H13,CHAR(10),$B14),H13) -> Student Growth Percentile for Low-Income Students | I14: =IF(D14="Y",CONCATENATE(I13,CHAR(10),$B14),I13) -> Student Growth Percentile for Low-Income Students | J14: =IF(E14="Y",CONCATENATE(J13,CHAR(10),$B14),J13) -> Student Growth Percentile for Low-Income Students | K14: =IF(F14="Y",CONCATENATE(K13,CHAR(10),$B14),K13) -> Student Growth Percentile for Low-Income Students Student Average Daily Attendance | L14: =IF(G14="Y",CONCATENATE(L13,CHAR(10),$B14),L13)
B15: Teacher Average Daily Attendance Rate | C15: y | H15: =IF(C15="Y",CONCATENATE(H14,CHAR(10),$B15),H14) -> Student Growth Percentile for Low-Income Students Teacher Average Daily Attendance Rate | I15: =IF(D15="Y",CONCATENATE(I14,CHAR(10),$B15),I14) -> Student Growth Percentile for Low-Income Students | J15: =IF(E15="Y",CONCATENATE(J14,CHAR(10),$B15),J14) -> Student Growth Percentile for Low-Income Students | K15: =IF(F15="Y",CONCATENATE(K14,CHAR(10),$B15),K14) -> Student Growth Percentile for Low-Income Students Student Average Daily Attendance | L15: =IF(G15="Y",CONCATENATE(L14,CHAR(10),$B15),L14)
B16: Teachers Rated as "Effective" and "Highly Effective" | C16: y | H16: =IF(C16="Y",CONCATENATE(H15,CHAR(10),$B16),H15) -> Student Growth Percentile for Low-Income Students Teacher Average Daily Attendance Rate Teachers Rated as "Effective" and "Highly Effective" | I16: =IF(D16="Y",CONCATENATE(I15,CHAR(10),$B16),I15) -> Student Growth Percentile for Low-Income Students | J16: =IF(E16="Y",CONCATENATE(J15,CHAR(10),$B16),J15) -> Student Growth Percentile for Low-Income Students | K16: =IF(F16="Y",CONCATENATE(K15,CHAR(10),$B16),K15) -> Student Growth Percentile for Low-Income Students Student Average Daily Attendance | L16: =IF(G16="Y",CONCATENATE(L15,CHAR(10),$B16),L15)
B17: Teacher Attendance at Professional Development | C17: y | H17: =IF(C17="Y",CONCATENATE(H16,CHAR(10),$B17),H16) -> Student Growth Percentile for Low-Income Students Teacher Average Daily Attendance Rate Teachers Rated as "Effective" and "Highly Effective" Teacher Attendance at Professional Development | I17: =IF(D17="Y",CONCATENATE(I16,CHAR(10),$B17),I16) -> Student Growth Percentile for Low-Income Students | J17: =IF(E17="Y",CONCATENATE(J16,CHAR(10),$B17),J16) -> Student Growth Percentile for Low-Income Students | K17: =IF(F17="Y",CONCATENATE(K16,CHAR(10),$B17),K16) -> Student Growth Percentile for Low-Income Students Student Average Daily Attendance | L17: =IF(G17="Y",CONCATENATE(L16,CHAR(10),$B17),L16)
B18: Parent Attendance at Workshops | G18: y | H18: =IF(C18="Y",CONCATENATE(H17,CHAR(10),$B18),H17) -> Student Growth Percentile for Low-Income Students Teacher Average Daily Attendance Rate Teachers Rated as "Effective" and "Highly Effective" Teacher Attendance at Professional Development | I18: =IF(D18="Y",CONCATENATE(I17,CHAR(10),$B18),I17) -> Student Growth Percentile for Low-Income Students | J18: =IF(E18="Y",CONCATENATE(J17,CHAR(10),$B18),J17) -> Student Growth Percentile for Low-Income Students | K18: =IF(F18="Y",CONCATENATE(K17,CHAR(10),$B18),K17) -> Student Growth Percentile for Low-Income Students Student Average Daily Attendance | L18: =IF(G18="Y",CONCATENATE(L17,CHAR(10),$B18),L17) -> Parent Attendance at Workshops
B19: Parent Participation in District/School Surveys | G19: y | H19: =IF(C19="Y",CONCATENATE(H18,CHAR(10),$B19),H18) -> Student Growth Percentile for Low-Income Students Teacher Average Daily Attendance Rate Teachers Rated as "Effective" and "Highly Effective" Teacher Attendance at Professional Development | I19: =IF(D19="Y",CONCATENATE(I18,CHAR(10),$B19),I18) -> Student Growth Percentile for Low-Income Students | J19: =IF(E19="Y",CONCATENATE(J18,CHAR(10),$B19),J18) -> Student Growth Percentile for Low-Income Students | K19: =IF(F19="Y",CONCATENATE(K18,CHAR(10),$B19),K18) -> Student Growth Percentile for Low-Income Students Student Average Daily Attendance | L19: =IF(G19="Y",CONCATENATE(L18,CHAR(10),$B19),L18) -> Parent Attendance at Workshops Parent Participation in District/School Surveys
H20: =IF(C20="Y",CONCATENATE(H19,CHAR(10),$B20),H19) -> Student Growth Percentile for Low-Income Students Teacher Average Daily Attendance Rate Teachers Rated as "Effective" and "Highly Effective" Teacher Attendance at Professional Development | I20: =IF(D20="Y",CONCATENATE(I19,CHAR(10),$B20),I19) -> Student Growth Percentile for Low-Income Students | J20: =IF(E20="Y",CONCATENATE(J19,CHAR(10),$B20),J19) -> Student Growth Percentile for Low-Income Students | K20: =IF(F20="Y",CONCATENATE(K19,CHAR(10),$B20),K19) -> Student Growth Percentile for Low-Income Students Student Average Daily Attendance | L20: =IF(G20="Y",CONCATENATE(L19,CHAR(10),$B20),L19) -> Parent Attendance at Workshops Parent Participation in District/School Surveys
H21: =IF(C21="Y",CONCATENATE(H20,CHAR(10),$B21),H20) -> Student Growth Percentile for Low-Income Students Teacher Average Daily Attendance Rate Teachers Rated as "Effective" and "Highly Effective" Teacher Attendance at Professional Development | I21: =IF(D21="Y",CONCATENATE(I20,CHAR(10),$B21),I20) -> Student Growth Percentile for Low-Income Students | J21: =IF(E21="Y",CONCATENATE(J20,CHAR(10),$B21),J20) -> Student Growth Percentile for Low-Income Students | K21: =IF(F21="Y",CONCATENATE(K20,CHAR(10),$B21),K20) -> Student Growth Percentile for Low-Income Students Student Average Daily Attendance | L21: =IF(G21="Y",CONCATENATE(L20,CHAR(10),$B21),L20) -> Parent Attendance at Workshops Parent Participation in District/School Surveys
H22: =IF(C22="Y",CONCATENATE(H21,CHAR(10),$B22),H21) -> Student Growth Percentile for Low-Income Students Teacher Average Daily Attendance Rate Teachers Rated as "Effective" and "Highly Effective" Teacher Attendance at Professional Development | I22: =IF(D22="Y",CONCATENATE(I21,CHAR(10),$B22),I21) -> Student Growth Percentile for Low-Income Students | J22: =IF(E22="Y",CONCATENATE(J21,CHAR(10),$B22),J21) -> Student Growth Percentile for Low-Income Students | K22: =IF(F22="Y",CONCATENATE(K21,CHAR(10),$B22),K21) -> Student Growth Percentile for Low-Income Students Student Average Daily Attendance | L22: =IF(G22="Y",CONCATENATE(L21,CHAR(10),$B22),L21) -> Parent Attendance at Workshops Parent Participation in District/School Surveys
H23: =IF(C23="Y",CONCATENATE(H22,CHAR(10),$B23),H22) -> Student Growth Percentile for Low-Income Students Teacher Average Daily Attendance Rate Teachers Rated as "Effective" and "Highly Effective" Teacher Attendance at Professional Development | I23: =IF(D23="Y",CONCATENATE(I22,CHAR(10),$B23),I22) -> Student Growth Percentile for Low-Income Students | J23: =IF(E23="Y",CONCATENATE(J22,CHAR(10),$B23),J22) -> Student Growth Percentile for Low-Income Students | K23: =IF(F23="Y",CONCATENATE(K22,CHAR(10),$B23),K22) -> Student Growth Percentile for Low-Income Students Student Average Daily Attendance | L23: =IF(G23="Y",CONCATENATE(L22,CHAR(10),$B23),L22) -> Parent Attendance at Workshops Parent Participation in District/School Surveys
H24: =IF(C24="Y",CONCATENATE(H23,CHAR(10),$B24),H23) -> Student Growth Percentile for Low-Income Students Teacher Average Daily Attendance Rate Teachers Rated as "Effective" and "Highly Effective" Teacher Attendance at Professional Development | I24: =IF(D24="Y",CONCATENATE(I23,CHAR(10),$B24),I23) -> Student Growth Percentile for Low-Income Students | J24: =IF(E24="Y",CONCATENATE(J23,CHAR(10),$B24),J23) -> Student Growth Percentile for Low-Income Students | K24: =IF(F24="Y",CONCATENATE(K23,CHAR(10),$B24),K23) -> Student Growth Percentile for Low-Income Students Student Average Daily Attendance | L24: =IF(G24="Y",CONCATENATE(L23,CHAR(10),$B24),L23) -> Parent Attendance at Workshops Parent Participation in District/School Surveys
H25: =IF(C25="Y",CONCATENATE(H24,CHAR(10),$B25),H24) -> Student Growth Percentile for Low-Income Students Teacher Average Daily Attendance Rate Teachers Rated as "Effective" and "Highly Effective" Teacher Attendance at Professional Development | I25: =IF(D25="Y",CONCATENATE(I24,CHAR(10),$B25),I24) -> Student Growth Percentile for Low-Income Students | J25: =IF(E25="Y",CONCATENATE(J24,CHAR(10),$B25),J24) -> Student Growth Percentile for Low-Income Students | K25: =IF(F25="Y",CONCATENATE(K24,CHAR(10),$B25),K24) -> Student Growth Percentile for Low-Income Students Student Average Daily Attendance | L25: =IF(G25="Y",CONCATENATE(L24,CHAR(10),$B25),L24) -> Parent Attendance at Workshops Parent Participation in District/School Surveys
H26: =IF(C26="Y",CONCATENATE(H25,CHAR(10),$B26),H25) -> Student Growth Percentile for Low-Income Students Teacher Average Daily Attendance Rate Teachers Rated as "Effective" and "Highly Effective" Teacher Attendance at Professional Development | I26: =IF(D26="Y",CONCATENATE(I25,CHAR(10),$B26),I25) -> Student Growth Percentile for Low-Income Students | J26: =IF(E26="Y",CONCATENATE(J25,CHAR(10),$B26),J25) -> Student Growth Percentile for Low-Income Students | K26: =IF(F26="Y",CONCATENATE(K25,CHAR(10),$B26),K25) -> Student Growth Percentile for Low-Income Students Student Average Daily Attendance | L26: =IF(G26="Y",CONCATENATE(L25,CHAR(10),$B26),L25) -> Parent Attendance at Workshops Parent Participation in District/School Surveys
H27: =IF(C27="Y",CONCATENATE(H26,CHAR(10),$B27),H26) -> Student Growth Percentile for Low-Income Students Teacher Average Daily Attendance Rate Teachers Rated as "Effective" and "Highly Effective" Teacher Attendance at Professional Development | I27: =IF(D27="Y",CONCATENATE(I26,CHAR(10),$B27),I26) -> Student Growth Percentile for Low-Income Students | J27: =IF(E27="Y",CONCATENATE(J26,CHAR(10),$B27),J26) -> Student Growth Percentile for Low-Income Students | K27: =IF(F27="Y",CONCATENATE(K26,CHAR(10),$B27),K26) -> Student Growth Percentile for Low-Income Students Student Average Daily Attendance | L27: =IF(G27="Y",CONCATENATE(L26,CHAR(10),$B27),L26) -> Parent Attendance at Workshops Parent Participation in District/School Surveys
H28: =IF(C28="Y",CONCATENATE(H27,CHAR(10),$B28),H27) -> Student Growth Percentile for Low-Income Students Teacher Average Daily Attendance Rate Teachers Rated as "Effective" and "Highly Effective" Teacher Attendance at Professional Development | I28: =IF(D28="Y",CONCATENATE(I27,CHAR(10),$B28),I27) -> Student Growth Percentile for Low-Income Students | J28: =IF(E28="Y",CONCATENATE(J27,CHAR(10),$B28),J27) -> Student Growth Percentile for Low-Income Students | K28: =IF(F28="Y",CONCATENATE(K27,CHAR(10),$B28),K27) -> Student Growth Percentile for Low-Income Students Student Average Daily Attendance | L28: =IF(G28="Y",CONCATENATE(L27,CHAR(10),$B28),L27) -> Parent Attendance at Workshops Parent Participation in District/School Surveys
H29: =IF(C29="Y",CONCATENATE(H28,CHAR(10),$B29),H28) -> Student Growth Percentile for Low-Income Students Teacher Average Daily Attendance Rate Teachers Rated as "Effective" and "Highly Effective" Teacher Attendance at Professional Development | I29: =IF(D29="Y",CONCATENATE(I28,CHAR(10),$B29),I28) -> Student Growth Percentile for Low-Income Students | J29: =IF(E29="Y",CONCATENATE(J28,CHAR(10),$B29),J28) -> Student Growth Percentile for Low-Income Students | K29: =IF(F29="Y",CONCATENATE(K28,CHAR(10),$B29),K28) -> Student Growth Percentile for Low-Income Students Student Average Daily Attendance | L29: =IF(G29="Y",CONCATENATE(L28,CHAR(10),$B29),L28) -> Parent Attendance at Workshops Parent Participation in District/School Surveys
H30: =IF(C30="Y",CONCATENATE(H29,CHAR(10),$B30),H29) -> Student Growth Percentile for Low-Income Students Teacher Average Daily Attendance Rate Teachers Rated as "Effective" and "Highly Effective" Teacher Attendance at Professional Development | I30: =IF(D30="Y",CONCATENATE(I29,CHAR(10),$B30),I29) -> Student Growth Percentile for Low-Income Students | J30: =IF(E30="Y",CONCATENATE(J29,CHAR(10),$B30),J29) -> Student Growth Percentile for Low-Income Students | K30: =IF(F30="Y",CONCATENATE(K29,CHAR(10),$B30),K29) -> Student Growth Percentile for Low-Income Students Student Average Daily Attendance | L30: =IF(G30="Y",CONCATENATE(L29,CHAR(10),$B30),L29) -> Parent Attendance at Workshops Parent Participation in District/School Surveys
H31: =IF(C31="Y",CONCATENATE(H30,CHAR(10),$B31),H30) -> Student Growth Percentile for Low-Income Students Teacher Average Daily Attendance Rate Teachers Rated as "Effective" and "Highly Effective" Teacher Attendance at Professional Development | I31: =IF(D31="Y",CONCATENATE(I30,CHAR(10),$B31),I30) -> Student Growth Percentile for Low-Income Students | J31: =IF(E31="Y",CONCATENATE(J30,CHAR(10),$B31),J30) -> Student Growth Percentile for Low-Income Students | K31: =IF(F31="Y",CONCATENATE(K30,CHAR(10),$B31),K30) -> Student Growth Percentile for Low-Income Students Student Average Daily Attendance | L31: =IF(G31="Y",CONCATENATE(L30,CHAR(10),$B31),L30) -> Parent Attendance at Workshops Parent Participation in District/School Surveys
... H35: =IF(C35="Y",CONCATENATE(H34,CHAR(10),$B35),H34) -> Student Growth Percentile for Low-Income Students Teacher Average Daily Attendance Rate Teachers Rated as "Effective" and "Highly Effective" Teacher Attendance at Professional Development | I35: =IF(D35="Y",CONCATENATE(I34,CHAR(10),$B35),I34) -> Student Growth Percentile for Low-Income Students | J35: =IF(E35="Y",CONCATENATE(J34,CHAR(10),$B35),J34) -> Student Growth Percentile for Low-Income Students | K35: =IF(F35="Y",CONCATENATE(K34,CHAR(10),$B35),K34) -> Student Growth Percentile for Low-Income Students Student Average Daily Attendance | L35: =IF(G35="Y",CONCATENATE(L34,CHAR(10),$B35),L34) -> Parent Attendance at Workshops Parent Participation in District/School Surveys

Sheet Tenet 2
B1: Tenet 2: School Leader Practices and Decisions | E1: REVIEWER FEEDBACK
B3: Tenet 2 - School Leader Practices and Decisions | D3: Visionary leaders create a school community and culture that lead to success, well-being and high academic outcomes for all students via systems of continuous and sustainable school improvement. | E3: =D3 -> Visionary leaders create a school community and culture that lead to success, well-being and high academic outcomes for all students via systems of continuous and sustainable school improvement.
B4: B1. Most Recent DTSDE Review Date: | D4: April 19th -21st
B5: B2. DTSDE Review Type: | D5: State Visit
E6: REVIEWER FEEDBACK ON NEEDS ASSESSMENT
B7: C1. Needs Statement: Create a clear and concise statement that addresses the primary need(s) to be addressed. Be sure to incorporate the most recent DTSDE review and other applicable data. | D7: By October 2017, during focused walkthroughs, the school leaders should collect and analyze data to determine how effectively teachers check for understanding, differentiate instruction, and provide assessment / closure for a lesson.
E8: REVIEWER FEEDBACK ON SMART GOAL/LEADING INDICATORS
B9: D1. SMART Goal: Create a goal that directly addresses the Needs Statement. The goal should be written as Specific, Measurable, Ambitious, Results-oriented, and Timely. | D9: By November 2017, school leaders will identify and record how successful individual teachers are at implementing the instructional expectations, identify in which classes best practices can be shared, identify which teachers need additional support;and using the evidence collected, determine how effectively the school's system to improve instructional practices is impacting on student achievement.
B10: D2. Leading Indicator(s): Identify the specific indicators that will be used to monitor progress toward the goal. | D10: ='Leading Indicators'!H35 -> Student Growth Percentile for Low-Income Students Teacher Average Daily Attendance Rate Teachers Rated as "Effective" and "Highly Effective" Teacher Attendance at Professional Development
B12: E1. Start Date: Identify the projected start date for each activity. | C12: E2. End Date: Identify the projected end date for each activity. | D12: E3. Action Plan: Detail each action that will take place in order to achieve the identified SMART Goal. Specifically describe what each planned activity is; who will be responsible for completing each activity; who will participate in each activity; how often each activity will take place; and the intended impact of each activity. Do not combine multiple activities into a single cell; each activity should be written in its own cell. | E12: REVIEWER FEEDBACK ON ACTIVITIES
B13: 42849 | C13: 43365 | D13: School leaders will monitor the work of the PLCs
B14: 42858 | C14: 43273 | D14: Teachers should plan instruction that checks for understanding
B15: 42858 | C15: 43273 | D15: Teachers should plan a closure assessment activity that links with learning targets
B16: 42858 | C16: 43273 | D16: School leaders, PBIS coaches and the student support staff should implement weekly lessons to support the teaching of student social and emotional needs with an initial focus on anti-bullying
B17: 42865 | C17: June 22,2018 | D17: Building administration will conduct focused walkthroughs, the school leaders should collect and analyze data

Sheet Tenet 3
B1: Tenet 3: Curriculum Development and Support | E1: REVIEWER FEEDBACK
B3: Tenet 3 - Curriculum Development and Support | D3: Curriculum Development and Support: The school has rigorous and coherent curricula and assessments that are appropriately aligned to the Common Core Learning Standards (CCLS) for all students and are modified for identified subgroups in order to maximize teacher instructional practices and student-learning outcomes. | E3: =D3 -> Curriculum Development and Support: The school has rigorous and coherent curricula and assessments that are appropriately aligned to the Common Core Learning Standards (CCLS) for all students and are modified for identified subgroups in order to maximize teacher instructional practices and student-learning outcomes.
B4: B1. Most Recent DTSDE Review Date: | D4: April 19th-April 21st
B5: B2. DTSDE Review Type: | D5: State Led
E6: REVIEWER FEEDBACK ON NEEDS ASSESSMENT
B7: C1. Needs Statement: Create a clear and concise statement that addresses the primary need(s) to be addressed. Be sure to incorporate the most recent DTSDE review and other applicable data. | D7: Based on the State Led Review, there is a need for rigorous differentiated lessons in which all students' needs are met, especially those needing enrichment. All lessons should consist of all components of an effective lesson plan. All lesson plans must also include Checking for Understanding and Closure/Assessment. Lessons will reflect academic areas of needs based from data. Formal data will be collected and anaylized along with both Qualitative: conferring notes, checklists, teacher reflection/observation, and student self-assessment rubrics; and Quantitative: exit tickets, common assessments, unit tests & quizzes.
E8: REVIEWER FEEDBACK ON SMART GOAL/LEADING INDICATORS
B9: D1. SMART Goal: Create a goal that directly addresses the Needs Statement. The goal should be written as Specific, Measurable, Ambitious, Results-oriented, and Timely. | D9: During the 2017-18 school year, teachers and leaders will utilize the Danielson Framework to generate rigorous lesson which are differentiated for all learners, especially those who need to be challenged. Plans will available for random review to ensure consistency and cohesiveness of planning during formal and informal classroom observations, as well as during instructional learning walks. 100% of teachers will use formative and summative assement data to drive instruction and to increase proficiency levels by 5-15% on NYS ELA and Math Assessments or targeted student growth scores.
B10: D2. Leading Indicator(s): Identify the specific indicators that will be used to monitor progress toward the goal. | D10: ='Leading Indicators'!I35 -> Student Growth Percentile for Low-Income Students
B12: E1. Start Date: Identify the projected start date for each activity. | C12: E2. End Date: Identify the projected end date for each activity. | D12: E3. Action Plan: Detail each action that will take place in order to achieve the identified SMART Goal. Specifically describe what each planned activity is; who will be responsible for completing each activity; who will participate in each activity; how often each activity will take place; and the intended impact of each activity. Do not combine multiple activities into a single cell; each activity should be written in its own cell. | E12: REVIEWER FEEDBACK ON ACTIVITIES
B13: 42995 | C13: 42904 | D13: All grade level teachers will meet for weekly PLCs to analyze the student performance data they collect for reading and math and identify the skills that need to be re-taught.
B14: 42995 | C14: 42904 | D14: All teachers will receive support weekly from the data consultant in order to plan grade level activities that accurately match student achievement levels particularly for those students who are above grade level.
B15: 42995 | C15: 42904 | D15: Ongoing professional development time will be dedicated to teachers via Professional Learning Communities and District PDs for the purpose of data analysis, differentiation, checking for understanding, and closure.
B16: 42995 | C16: 42904 | D16: School leaders will review lesson plans on a weekly basis and provide teachers with written actionable feedback in the areas of differentiation, closure, assessment, and checking for understanding.
B17: 42995 | C17: 42904 | D17: Daily RTI blocks will be in all class schedules to allow for differentiated activities to meet the needs of all students. During these blocks, students will either receive remediation or enrichment activities.
B18: 42995 | C18: 42904 | D18: Bi-monthly learning walks will be conducted throughout the school year. A data tool has been created to provide teachers and staff with valuable feedback in order to address deficiencies as well as exemplary teaching noted from these walks. Observations will also be shared during monthly faculty meetings.
B19: 42995 | C19: 42904 | D19: Intervisitations between grades and classes will occur monthly in order to provide teachers with best practices and exemplary teaching practices.
B20: 42995 | C20: 42904 | D20: Teachers will be expected to give students constructive feedback on what they did well and next steps for mastery.
B21: 42995 | C21: 42904 | D21: 100% of teachers will administer the required common formative, benchmark, and diagnostic assessments as outlined on the District's assessment calendar.
B22: 42995 | C22: 42904 | D22: Teachers and students will develop SMART Goals in Reading, Writing, and Math at least 3 times a year to address students' strengths and weaknesses.

Sheet Tenet 4
B1: Tenet 4: Teacher Practices and Decisions | E1: REVIEWER FEEDBACK
B3: Tenet 4 - Teacher Practices and Decisions | D3: Teacher Practices and Decisions: Teachers engage in strategic practices and decision-making in order to address the gap between what students know and need to learn, so that all students and pertinent subgroups experience consistent high levels of engagement, thinking and achievement. | E3: =D3 -> Teacher Practices and Decisions: Teachers engage in strategic practices and decision-making in order to address the gap between what students know and need to learn, so that all students and pertinent subgroups experience consistent high levels of engagement, thinking and achievement.
B4: B1. Most Recent DTSDE Review Date: | D4: April 19-21, 2017
B5: B2. DTSDE Review Type: | D5: State Visit
E6: REVIEWER FEEDBACK ON NEEDS ASSESSMENT
B7: C1. Needs Statement: Create a clear and concise statement that addresses the primary need(s) to be addressed. Be sure to incorporate the most recent DTSDE review and other applicable data. | D7: Our State Led Review indicated that teachers should increase higher order thinking prompts, activities and questioning as well as differentiate tasks to meet the needs of the diverse learning styles in the classroom, in particular students above grade level as well as ENLs and SWDs. Teachers need to reduce the frequency of teacher led instruction and increase opportunities for students to engage in the application of their learning to real world situations providing hands-on open ended activities. Teachers need to provide opportunities for differentiated tasks, reading material and extensions of learning. Teachers need to reflect on student work as well as data to drive instruction by utilizing grade level and vertical PLC meetings.
E8: REVIEWER FEEDBACK ON SMART GOAL/LEADING INDICATORS
B9: D1. SMART Goal: Create a goal that directly addresses the Needs Statement. The goal should be written as Specific, Measurable, Ambitious, Results-oriented, and Timely. | D9: 100% of teachers will be provided with job embedded professional development on using data to inform instruction, improving student engagment, implementing higher order questioning and incorporating project based learning activities which can be evidenced through a 10% increase in several timely academic assessments. Some formal summative assessments utilized are I-Ready, DiBels, District Interim Assessments, and State Exams. Teachers will also gauge learning by incorporating formative assessments at the close of every lesson.
B10: D2. Leading Indicator(s): Identify the specific indicators that will be used to monitor progress toward the goal. | D10: ='Leading Indicators'!J35 -> Student Growth Percentile for Low-Income Students
B12: E1. Start Date: Identify the projected start date for each activity. | C12: E2. End Date: Identify the projected end date for each activity. | D12: E3. Action Plan: Detail each action that will take place in order to achieve the identified SMART Goal. Specifically describe what each planned activity is; who will be responsible for completing each activity; who will participate in each activity; how often each activity will take place; and the intended impact of each activity. Do not combine multiple activities into a single cell; each activity should be written in its own cell. | E12: REVIEWER FEEDBACK ON ACTIVITIES
B13: 42995 | C13: 42904 | D13: Teachers will plan instruction that includes grade level activities that accurately match student achievement levels, particularly those students who are above grade level.
B14: 42995 | C14: 42904 | D14: Teachers will plan instruction that includes regular checks for student understanding to ensure student mastery of learning.
B15: 42995 | C15: 42904 | D15: Teachers will plan instruction that includes a closure assessment activity that links with the learning target and assesses how well students have learned the lesson content.
B16: 42995 | C16: 42904 | D16: Teachers will continue to use formative and summative assessments to drive instruction for future lessons as well as small group instruction including RTI.
B17: 42995 | C17: 42904 | D17: Teachers will collaborate during PLC periods to evaluate student work, review data, adapt curriculum, differentiate tasks and incorporate project based learning activities addressing individual learning needs and styles.
B18: 42995 | C18: 42904 | D18: Teachers will establish and review student goals as well as promote student engagement in the learning process.
B19: 42995 | C19: 42904 | D19: School Leaders will provide additional professional development on differentiation of tasks, the use of data to drive lessons, various types of formative assessments and higher order questioning to extend learning.

Sheet Tenet 5
B1: Tenet 5: Student Social and Emotional Developmental Health | E1: REVIEWER FEEDBACK
B3: Tenet 5 - Student Social and Emotional Developmental Health | D3: Student Social and Emotional Developmental Health: The school community identifies, promotes, and supports social and emotional development by designing systems and experiences that lead to healthy relationships and a safe, respectful environment that is conducive to learning for all constituents. | E3: =D3 -> Student Social and Emotional Developmental Health: The school community identifies, promotes, and supports social and emotional development by designing systems and experiences that lead to healthy relationships and a safe, respectful environment that is conducive to learning for all constituents.
B4: B1. Most Recent DTSDE Review Date: | D4: April 19th-21st
B5: B2. DTSDE Review Type: | D5: State Visit
E6: REVIEWER FEEDBACK ON NEEDS ASSESSMENT
B7: C1. Needs Statement: Create a clear and concise statement that addresses the primary need(s) to be addressed. Be sure to incorporate the most recent DTSDE review and other applicable data. | D7: School will articiculate and promote a vision for social and emotional developmental health connected to learning experiences and results in building a safer and healthier environmnet for families, teachers and students.
E8: REVIEWER FEEDBACK ON SMART GOAL/LEADING INDICATORS
