Workbook
Name Low: Sheet1!$A$2:$A$4
Name Rating: 'Site Visit #1'!$E$6:$E$16
Name sgg: [1]Sheet1!$A$7:$A$10

Sheet Site Visit #1
B1: Principal: | C1: School:
B2: Date: | C2: Observer:
A5: Timestamp | B5: Enter observed Evidence statement below | C5: Select which component evidence aligns | D5: Select which component evidence aligns
C6: Select Component
C7: Standard 1: Instructional Leadership
C8: Standard 2: School Climate
C9: Standard 3: Human Resource Management
C10: Standard 4: Organizational Management
C11: Standard 5: Communication & Community Relations
C12: Standard 6: Professionalism
A13: =IF(B13<>"",IF(A13="",NOW(),A13),"") | C13: Select Component | D13: Select Component
A14: =IF(B14<>"",IF(A14="",NOW(),A14),"") | C14: Select Component | D14: Select Component
A15: =IF(B15<>"",IF(A15="",NOW(),A15),"") | C15: Select Component | D15: Select Component
A16: =IF(B16<>"",IF(A16="",NOW(),A16),"") | C16: Select Component | D16: Select Component
A17: =IF(B17<>"",IF(A17="",NOW(),A17),"") | C17: Select Component | D17: Select Component
A18: =IF(B18<>"",IF(A18="",NOW(),A18),"") | C18: Select Component | D18: Select Component
A19: =IF(B19<>"",IF(A19="",NOW(),A19),"") | C19: Select Component | D19: Select Component
A20: =IF(B20<>"",IF(A20="",NOW(),A20),"") | C20: Select Component | D20: Select Component
A21: =IF(B21<>"",IF(A21="",NOW(),A21),"") | C21: Select Component | D21: Select Component
A22: =IF(B22<>"",IF(A22="",NOW(),A22),"") | C22: Select Component | D22: Select Component
A23: =IF(B23<>"",IF(A23="",NOW(),A23),"") | C23: Select Component | D23: Select Component
A24: =IF(B24<>"",IF(A24="",NOW(),A24),"") | C24: Select Component | D24: Select Component
... A63: =IF(B63<>"",IF(A63="",NOW(),A63),"") | C63: Select Component | D63: Select Component
B65: Standards | C65: Rating
C66: Exemplary
C67: Accomplished
C68: Developing
C69: Ineffective
C70: N/A
B71: Standard 1: Instructional Leadership | C71: Select Rating
B72: Standard 2: School Climate | C72: Select Rating
B73: Standard 3: Human Resource Management | C73: Select Rating
B74: Standard 4: Organizational Management | C74: Select Rating
B75: Standard 5: Communication & Community Relations | C75: Select Rating
B76: Standard 6: Professionalism | C76: Select Rating
B80: I have participated in a pre- and/or post-visit conference (as required by my district evaluation plan) and have received a copy of this observation document.
B82: Principal: | C82: Date:
B83: Observer: | C83: Date:

Sheet Site Visit #2
B1: Principal: | C1: School:
B2: Date: | C2: Observer:
A5: Timestamp | B5: Enter observed Evidence statement below | C5: Select which component evidence aligns | D5: Select which component evidence aligns
C6: Select Component
C7: Standard 1: Instructional Leadership
C8: Standard 2: School Climate
C9: Standard 3: Human Resource Management
C10: Standard 4: Organizational Management
C11: Standard 5: Communication & Community Relations
C12: Standard 6: Professionalism
C13: Select Component
C14: Select Component
C15: Select Component
A16: =IF(B16<>"",IF(A16="",NOW(),A16),"") | C16: Select Component | D16: Select Component
A17: =IF(B17<>"",IF(A17="",NOW(),A17),"") | C17: Select Component | D17: Select Component
A18: =IF(B18<>"",IF(A18="",NOW(),A18),"") | C18: Select Component | D18: Select Component
A19: =IF(B19<>"",IF(A19="",NOW(),A19),"") | C19: Select Component | D19: Select Component
A20: =IF(B20<>"",IF(A20="",NOW(),A20),"") | C20: Select Component | D20: Select Component
A21: =IF(B21<>"",IF(A21="",NOW(),A21),"") | C21: Select Component | D21: Select Component
A22: =IF(B22<>"",IF(A22="",NOW(),A22),"") | C22: Select Component | D22: Select Component
A23: =IF(B23<>"",IF(A23="",NOW(),A23),"") | C23: Select Component | D23: Select Component
A24: =IF(B24<>"",IF(A24="",NOW(),A24),"") | C24: Select Component | D24: Select Component
A25: =IF(B25<>"",IF(A25="",NOW(),A25),"") | C25: Select Component | D25: Select Component
A26: =IF(B26<>"",IF(A26="",NOW(),A26),"") | C26: Select Component | D26: Select Component
A27: =IF(B27<>"",IF(A27="",NOW(),A27),"") | C27: Select Component | D27: Select Component
... A63: =IF(B63<>"",IF(A63="",NOW(),A63),"") | C63: Select Component | D63: Select Component
B65: Standards | C65: Rating
C66: Exemplary
C67: Accomplished
C68: Developing
C69: Ineffective
C70: N/A
B71: Standard 1: Instructional Leadership | C71: Select Rating | D71: Student Growth Goal | E71: Rating
B72: Standard 2: School Climate | C72: Select Rating | D72: State Median Percentile Goal | E72: Select Rating
B73: Standard 3: Human Resource Management | C73: Select Rating | D73: Local Growth Goal | E73: Select Rating
B74: Standard 4: Organizational Management | C74: Select Rating | D74: COMBINED SGG | E74: Select Rating
B75: Standard 5: Communication & Community Relations | C75: Select Rating
B76: Standard 6: Professionalism | C76: Select Rating
B80: I have participated in a pre- and/or post-visit conference (as required by my district evaluation plan) and have received a copy of this observation document.
B82: Principal: | C82: Date:
...

Sheet Site Visit #3 (Optional)
B1: Principal: | C1: School:
B2: Date: | C2: Observer:
A5: Timestamp | B5: Enter observed Evidence statement below | C5: Select which component evidence aligns | D5: Select which component evidence aligns
C6: Select Component
C7: Standard 1: Instructional Leadership
C8: Standard 2: School Climate
C9: Standard 3: Human Resource Management
C10: Standard 4: Organizational Management
C11: Standard 5: Communication & Community Relations
C12: Standard 6: Professionalism
C13: Select Component
C14: Select Component
C15: Select Component
A16: =IF(B16<>"",IF(A16="",NOW(),A16),"") | C16: Select Component | D16: Select Component
A17: =IF(B17<>"",IF(A17="",NOW(),A17),"") | C17: Select Component | D17: Select Component
A18: =IF(B18<>"",IF(A18="",NOW(),A18),"") | C18: Select Component | D18: Select Component
A19: =IF(B19<>"",IF(A19="",NOW(),A19),"") | C19: Select Component | D19: Select Component
A20: =IF(B20<>"",IF(A20="",NOW(),A20),"") | C20: Select Component | D20: Select Component
A21: =IF(B21<>"",IF(A21="",NOW(),A21),"") | C21: Select Component | D21: Select Component
A22: =IF(B22<>"",IF(A22="",NOW(),A22),"") | C22: Select Component | D22: Select Component
A23: =IF(B23<>"",IF(A23="",NOW(),A23),"") | C23: Select Component | D23: Select Component
A24: =IF(B24<>"",IF(A24="",NOW(),A24),"") | C24: Select Component | D24: Select Component
A25: =IF(B25<>"",IF(A25="",NOW(),A25),"") | C25: Select Component | D25: Select Component
A26: =IF(B26<>"",IF(A26="",NOW(),A26),"") | C26: Select Component | D26: Select Component
A27: =IF(B27<>"",IF(A27="",NOW(),A27),"") | C27: Select Component | D27: Select Component
... A59: =IF(B59<>"",IF(A59="",NOW(),A59),"") | C59: Select Component | D59: Select Component
A60: =IF(B60<>"",IF(A60="",NOW(),A60),"") | C60: Select Component
A61: =IF(B61<>"",IF(A61="",NOW(),A61),"") | C61: Select Component
A62: =IF(B62<>"",IF(A62="",NOW(),A62),"") | C62: Select Component
A63: =IF(B63<>"",IF(A63="",NOW(),A63),"") | C63: Select Component
A64: =IF(B64<>"",IF(A64="",NOW(),A64),"")
B66: Standards | C66: Rating
C67: Exemplary
C68: Accomplished
C69: Developing
C70: Ineffective
C71: N/A
B72: Standard 1: Instructional Leadership | C72: Select Rating
B73: Standard 2: School Climate | C73: Select Rating
B74: Standard 3: Human Resource Management | C74: Select Rating
...

Sheet Summative
A1: Principal: | B1: Summative Rating
B5: Site Visit #1 | C5: Site Visit #2 | D5: Site Visit (Optional)
A6: Standard 1: Instructional Leadership | B6: ='Site Visit #1'!C71 -> Select Rating | C6: ='Site Visit #2'!C71 -> Select Rating | D6: ='Site Visit #3 (Optional)'!C72 -> Select Rating
A7: Standard 2: School Climate | B7: ='Site Visit #1'!C72 -> Select Rating | C7: ='Site Visit #2'!C72 -> Select Rating | D7: ='Site Visit #3 (Optional)'!C73 -> Select Rating
A8: Standard 3: Human Resource Management | B8: ='Site Visit #1'!C73 -> Select Rating | C8: ='Site Visit #2'!C73 -> Select Rating | D8: ='Site Visit #3 (Optional)'!C74 -> Select Rating
A9: Standard 4: Organizational Management | B9: ='Site Visit #1'!C74 -> Select Rating | C9: ='Site Visit #2'!C74 -> Select Rating | D9: ='Site Visit #3 (Optional)'!C75 -> Select Rating
A10: Standard 5: Communication & Community Relations | B10: ='Site Visit #1'!C75 -> Select Rating | C10: ='Site Visit #2'!C75 -> Select Rating | D10: ='Site Visit #3 (Optional)'!C76 -> Select Rating
A11: Standard 6: Professionalism | B11: ='Site Visit #1'!C76 -> Select Rating | C11: ='Site Visit #2'!C76 -> Select Rating | D11: ='Site Visit #3 (Optional)'!C77 -> Select Rating
A13: Professional Practice Rating | B13: Rating
A14: Standard 1: Instructional Leadership | B14: Select Rating
A15: Standard 2: School Climate | B15: Select Rating
A16: Standard 3: Human Resource Management | B16: Select Rating
A17: Standard 4: Organizational Management | B17: Select Rating
A18: Standard 5: Communication & Community Relations | B18: Select Rating
A19: Standard 6: Professionalism | B19: Select Rating
A21: Overall Practice Rating (Summative) | B21: Rating
A22: Professional Practice Rating | B22: Select Rating
A24: Student Growth Goal | B24: Rating
A25: Local Student Growth Rating | B25: ='Site Visit #2'!E72 -> Select Rating
A26: State Student Growth Rating | B26: ='Site Visit #2'!E73 -> Select Rating
A27: COMBINED SGG | B27: ='Site Visit #2'!E74 -> Select Rating
A30: Performance Rating | B30: Select Rating
A31: Exemplary
A32: Accomplished
A33: Developing
A34: Ineffective
A36: I have received a copy of the summative rating: | B36: Date:
A37: Teacher:
A38: Evaluator:
A41: ________________________________________ | B41: ___________
A43: Supervisor: | B43: Date:
A44: ________________________________________ | B44: ___________

Sheet Sheet1
A2: Low | B2: DO NOT MAKE ANY CHANGES TO THIS SHEET OR THESE CELLS AS THEY DIRECTLY IMPACT FORMULAS ON PREVIOUS PAGES
A3: Expected
A4: High
