Workbook
Name pp: Sheet1!$A$1:$A$5
Name practicerating: Sheet1!$A$1:$A$4
Name practiceratings: Sheet1!$A$1:$A$4
Name Rating: 'Obs #1'!$E$6:$E$20
Name sgg: Sheet1!$A$7:$A$10

Sheet Obs #1
B1: Teacher: | C1: Grade: | D1: Observation Type: Mini or Full
B2: Subject: | C2: Date:
B3: Time: | C3: Observer:
A5: Timestamp | B5: Enter observed Evidence statement below | C5: Select which component evidence aligns | D5: Select which component evidence aligns
C6: Select Component
C7: 2a: Creating an Environment of Respect and Rapport
C8: 2b: Establishing a Culture for Learning
C9: 2c: Managing Classroom Procedures
C10: 2d: Managing Student Behavior
C11: 2e: Organizing Physical Space
C12: 3a: Communicating with Students
C13: 3b: Questioning and Discussion
C14: 3c: Engaging Students in Learning
C15: 3d: Using Assessment in Instruction
C16: 3e: Flexibility and Responsiveness
A17: =IF(B17<>"",IF(A17="",NOW(),A17),"") | C17: Select Component | D17: Select Component
A18: =IF(B18<>"",IF(A18="",NOW(),A18),"") | C18: Select Component | D18: Select Component
A19: =IF(B19<>"",IF(A19="",NOW(),A19),"") | C19: Select Component | D19: Select Component
A20: =IF(B20<>"",IF(A20="",NOW(),A20),"") | C20: Select Component | D20: Select Component
A21: =IF(B21<>"",IF(A21="",NOW(),A21),"") | C21: Select Component | D21: Select Component
A22: =IF(B22<>"",IF(A22="",NOW(),A22),"") | C22: Select Component | D22: Select Component
A23: =IF(B23<>"",IF(A23="",NOW(),A23),"") | C23: Select Component | D23: Select Component
A24: =IF(B24<>"",IF(A24="",NOW(),A24),"") | C24: Select Component | D24: Select Component
A25: =IF(B25<>"",IF(A25="",NOW(),A25),"") | C25: Select Component | D25: Select Component
A26: =IF(B26<>"",IF(A26="",NOW(),A26),"") | C26: Select Component | D26: Select Component
A27: =IF(B27<>"",IF(A27="",NOW(),A27),"") | C27: Select Component | D27: Select Component
A28: =IF(B28<>"",IF(A28="",NOW(),A28),"") | C28: Select Component | D28: Select Component
... A67: =IF(B67<>"",IF(A67="",NOW(),A67),"") | C67: Select Component | D67: Select Component
C68: Select Component | D68: Select Component
C69: Select Component | D69: Select Component
C70: Select Component | D70: Select Component
C71: Select Component | D71: Select Component
C72: Select Component | D72: Select Component
B74: Components | C74: Rating | D74: Student Growth Goal | E74: Rating
B75: 1A: Demonstrating Knowledge of Content and Pedagogy | C75: Select Rating | D75: State Median Percentile Goal | E75: Select Rating
B76: 1B:Demonstrating Klnowledge of Students | C76: Select Rating | D76: Local Growth Goal | E76: Select Rating
B77: 1C: Selecting Instructional Outcomes | C77: Select Rating | D77: COMBINED SGG | E77: Select Rating
B78: 1D: Demonstrating Knowledge of Resources | C78: Select Rating | D78: You will only use these cells if you are rating a teacher who is on a three year cycle. These cells will represent their student growth goal attainment in the forst year of their summative cycle
B79: 1E: Designing Coherent instruction | C79: Select Rating
B80: 1F: Designing Student Assessment | C80: Select Rating
B81: Overall Rating for Domain 1: Utilitize evidences from pre and post conferences | C81: Select Rating
B82: 2A: Creating an Environment of Respect and Rapport | C82: Select Rating
B83: 2B: Establishing a Culture for Learning | C83: Select Rating
B84: 2C: Managing Classroom Procedures | C84: Select Rating
B85: 2D: Managing Student Behavior | C85: Select Rating
B86: 2E: Organizing Physical Space | C86: Select Rating
B87: Overall Rating for Domain 2 | C87: Select Rating
B88: 3A: Communicating with Students | C88: Select Rating
B89: 3B: Using Questioning and Discussion Techniques | C89: Select Rating
B90: 3C: Engaging Students in Learning | C90: Select Rating
... B100: Overall Rating for Domain 4: Utilize evidences from pre and post conferences | C100: Select Rating
B103: I have participated in a pre- and/or post-observation conference (as required by my district evaluation plan) and have received a copy of this observation document.
B105: Teacher: | C105: Date:
B106: Observer: | C106: Date:

Sheet Obs #2
B1: Teacher: | C1: Grade: | D1: Observation Type: Mini or Full
B2: Subject: | C2: Date:
B3: Time: | C3: Observer:
A5: Timestamp | B5: Enter observed Evidence statement below | C5: Select which component evidence aligns | D5: Select which component evidence aligns
C6: 2a: Creating an Environment of Respect and Rapport
C7: 2b: Establishing a Culture for Learning
C8: 2c: Managing Classroom Procedures
C9: 2d: Managing Student Behavior
C10: 2e: Organizing Physical Space
C11: 3a: Communicating with Students
C12: 3b: Questioning and Discussion
C13: 3c: Engaging Students in Learning
C14: 3d: Using Assessment in Instruction
C15: 3e: Flexibility and Responsiveness
A16: =IF(B16<>"",IF(A16="",NOW(),A16),"") | C16: Select Component | D16: Select Component
A17: =IF(B17<>"",IF(A17="",NOW(),A17),"") | C17: Select Component | D17: Select Component
A18: =IF(B18<>"",IF(A18="",NOW(),A18),"") | C18: Select Component | D18: Select Component
A19: =IF(B19<>"",IF(A19="",NOW(),A19),"") | C19: Select Component | D19: Select Component
A20: =IF(B20<>"",IF(A20="",NOW(),A20),"") | C20: Select Component | D20: Select Component
A21: =IF(B21<>"",IF(A21="",NOW(),A21),"") | C21: Select Component | D21: Select Component
A22: =IF(B22<>"",IF(A22="",NOW(),A22),"") | C22: Select Component | D22: Select Component
A23: =IF(B23<>"",IF(A23="",NOW(),A23),"") | C23: Select Component | D23: Select Component
A24: =IF(B24<>"",IF(A24="",NOW(),A24),"") | C24: Select Component | D24: Select Component
A25: =IF(B25<>"",IF(A25="",NOW(),A25),"") | C25: Select Component | D25: Select Component
A26: =IF(B26<>"",IF(A26="",NOW(),A26),"") | C26: Select Component | D26: Select Component
A27: =IF(B27<>"",IF(A27="",NOW(),A27),"") | C27: Select Component | D27: Select Component
... A58: =IF(B58<>"",IF(A58="",NOW(),A58),"") | C58: Select Component | D58: Select Component
C59: Select Component | D59: Select Component
C60: Select Component | D60: Select Component
C61: Select Component | D61: Select Component
C62: Select Component | D62: Select Component
C63: Select Component | D63: Select Component
C64: Select Component | D64: Select Component
C65: Select Component | D65: Select Component
C66: Select Component | D66: Select Component
C67: Select Component | D67: Select Component
B69: Components | C69: Rating
C70: Exemplary
C71: Accomplished
C72: Developing
C73: Ineffective
C74: N/A
B75: 1A: Demonstrating Knowledge of Content and Pedagogy | C75: Select Rating | D75: Student Growth Goal | E75: Rating
B76: 1B:Demonstrating Klnowledge of Students | C76: Select Rating | D76: State Median Percentile Goal | E76: Select Rating
B77: 1C: Selecting Instructional Outcomes | C77: Select Rating | D77: Local Growth Goal | E77: Select Rating
B78: 1D: Demonstrating Knowledge of Resources | C78: Select Rating | D78: COMBINED SGG | E78: Select Rating
B79: 1E: Designing Coherent instruction | C79: Select Rating | D79: You will only use these cells if you are rating a teacher who is on a three year cycle. These cells will represent their student growth goal attainment in the forst year of their summative cycle
B80: 1F: Designing Student Assessment | C80: Select Rating
B81: Overall Rating for Domain 1: Utilitize evidences from pre and post conferences | C81: Select Rating
B82: 2A: Creating an Environment of Respect and Rapport | C82: Select Rating
B83: 2B: Establishing a Culture for Learning | C83: Select Rating
B84: 2C: Managing Classroom Procedures | C84: Select Rating
B85: 2D: Managing Student Behavior | C85: Select Rating
B86: 2E: Organizing Physical Space | C86: Select Rating
B87: Overall Rating for Domain 2 | C87: Select Rating
B88: 3A: Communicating with Students | C88: Select Rating
B89: 3B: Using Questioning and Discussion Techniques | C89: Select Rating
B90: 3C: Engaging Students in Learning | C90: Select Rating
B91: 3D: Using Assessment in Instruction | C91: Select Rating
... B100: Overall Rating for Domain 4: Utilize evidences from pre and post conferences | C100: Select Rating
B102: I have participated in a pre- and/or post-observation conference (as required by my district evaluation plan) and have received a copy of this observation document.
B104: Teacher: | C104: Date:
B105: Observer: | C105: Date:

Sheet Full
B1: Teacher: | C1: Grade:
B2: Subject: | C2: Date:
B3: Time: | C3: Observer:
A5: Timestamp | B5: Enter observed Evidence statement below | C5: Select which component evidence aligns | D5: Select which component evidence aligns
C6: 2a: Creating an Environment of Respect and Rapport
C7: 2b: Establishing a Culture for Learning
C8: 2c: Managing Classroom Procedures
C9: 2d: Managing Student Behavior
C10: 2e: Organizing Physical Space
C11: 3a: Communicating with Students
C12: 3b: Questioning and Discussion
C13: 3c: Engaging Students in Learning
C14: 3d: Using Assessment in Instruction
C15: 3e: Flexibility and Responsiveness
A16: =IF(B16<>"",IF(A16="",NOW(),A16),"") | C16: Select Component | D16: Select Component
A17: =IF(B17<>"",IF(A17="",NOW(),A17),"") | C17: Select Component | D17: Select Component
A18: =IF(B18<>"",IF(A18="",NOW(),A18),"") | C18: Select Component | D18: Select Component
A19: =IF(B19<>"",IF(A19="",NOW(),A19),"") | C19: Select Component | D19: Select Component
A20: =IF(B20<>"",IF(A20="",NOW(),A20),"") | C20: Select Component | D20: Select Component
A21: =IF(B21<>"",IF(A21="",NOW(),A21),"") | C21: Select Component | D21: Select Component
A22: =IF(B22<>"",IF(A22="",NOW(),A22),"") | C22: Select Component | D22: Select Component
A23: =IF(B23<>"",IF(A23="",NOW(),A23),"") | C23: Select Component | D23: Select Component
A24: =IF(B24<>"",IF(A24="",NOW(),A24),"") | C24: Select Component | D24: Select Component
A25: =IF(B25<>"",IF(A25="",NOW(),A25),"") | C25: Select Component | D25: Select Component
A26: =IF(B26<>"",IF(A26="",NOW(),A26),"") | C26: Select Component | D26: Select Component
A27: =IF(B27<>"",IF(A27="",NOW(),A27),"") | C27: Select Component | D27: Select Component
... A57: =IF(B57<>"",IF(A57="",NOW(),A57),"") | C57: Select Component | D57: Select Component
C58: Select Component | D58: Select Component
C59: Select Component | D59: Select Component
C60: Select Component | D60: Select Component
C61: Select Component | D61: Select Component
C62: Select Component | D62: Select Component
C63: Select Component | D63: Select Component
C64: Select Component | D64: Select Component
C65: Select Component | D65: Select Component
C66: Select Component | D66: Select Component
C67: Select Component | D67: Select Component
C68: Select Component | D68: Select Component
C69: Select Component | D69: Select Component
... C72: Select Component | D72: Select Component
A73: =IF(B73<>"",IF(A73="",NOW(),A73),"")
B74: Components | C74: Rating | D74: Student Growth Goal | E74: Rating
B75: 1A: Demonstrating Knowledge of Content and Pedagogy | C75: Select Rating | D75: State Median Percentile Goal | E75: Select Rating
B76: 1B:Demonstrating Klnowledge of Students | C76: Select Rating | D76: Local Growth Goal | E76: Select Rating
B77: 1C: Selecting Instructional Outcomes | C77: Select Rating | D77: COMBINED SGG | E77: Select Rating
B78: 1D: Demonstrating Knowledge of Resources | C78: Select Rating
B79: 1E: Designing Coherent instruction | C79: Select Rating
B80: 1F: Designing Student Assessment | C80: Select Rating
B81: Overall Rating for Domain 1: Utilitize evidences from pre and post conferences | C81: Select Rating
B82: 2A: Creating an Environment of Respect and Rapport | C82: Select Rating
B83: 2B: Establishing a Culture for Learning | C83: Select Rating
B84: 2C: Managing Classroom Procedures | C84: Select Rating
B85: 2D: Managing Student Behavior | C85: Select Rating
B86: 2E: Organizing Physical Space | C86: Select Rating
B87: Overall Rating for Domain 2 | C87: Select Rating
B88: 3A: Communicating with Students | C88: Select Rating
B89: 3B: Using Questioning and Discussion Techniques | C89: Select Rating
... B100: Overall Rating for Domain 4: Utilize evidences from pre and post conferences | C100: Select Rating
B102: I have participated in a pre- and/or post-observation conference (as required by my district evaluation plan) and have received a copy of this observation document.
B104: Teacher: | C104: Date:
B105: Observer: | C105: Date:

Sheet Summative
E1: Summative Rating
A2: Teacher:
A3: Cycle:
B4: Obs #1 | C4: Obs #2 | D4: FULL
A5: 1A: Demonstrating Knowledge of Content and Pedagogy | B5: ='Obs #1'!C75 -> Select Rating | C5: ='Obs #2'!C75 -> Select Rating | D5: =Full!C75 -> Select Rating
A6: 1B:Demonstrating Klnowledge of Students | B6: ='Obs #1'!C76 -> Select Rating | C6: ='Obs #2'!C76 -> Select Rating | D6: =Full!C76 -> Select Rating | E6: Professional Practice Rating (Domain) | F6: Rating
A7: 1C: Selecting Instructional Outcomes | B7: ='Obs #1'!C77 -> Select Rating | C7: ='Obs #2'!C77 -> Select Rating | D7: =Full!C77 -> Select Rating | E7: Domain 1: Planning and Preparation | F7: Select Rating
A8: 1D: Demonstrating Knowledge of Resources | B8: ='Obs #1'!C78 -> Select Rating | C8: ='Obs #2'!C78 -> Select Rating | D8: =Full!C78 -> Select Rating | E8: Domain 2: Classroom Environment | F8: Select Rating
A9: 1E: Designing Coherent instruction | B9: ='Obs #1'!C79 -> Select Rating | C9: ='Obs #2'!C79 -> Select Rating | D9: =Full!C79 -> Select Rating | E9: Domain 3: Instruction | F9: Select Rating
A10: 1F: Designing Student Assessment | B10: ='Obs #1'!C80 -> Select Rating | C10: ='Obs #2'!C80 -> Select Rating | D10: =Full!C80 -> Select Rating | E10: Domain 4: Professional Responsibilities | F10: Select Rating
A11: Overall Rating for Domain 1 | B11: ='Obs #1'!C81 -> Select Rating | C11: ='Obs #2'!C81 -> Select Rating | D11: =Full!C81 -> Select Rating
A12: 2A: Creating an Environment of Respect and Rapport | B12: ='Obs #1'!C82 -> Select Rating | C12: ='Obs #2'!C82 -> Select Rating | D12: =Full!C82 -> Select Rating | E12: Overall Practice Rating (Summative) | F12: Rating
A13: 2B: Establishing a Culture for Learning | B13: ='Obs #1'!C83 -> Select Rating | C13: ='Obs #2'!C83 -> Select Rating | D13: =Full!C83 -> Select Rating | E13: Professional Practice Rating | F13: Select Rating
A14: 2C: Managing Classroom Procedures | B14: ='Obs #1'!C84 -> Select Rating | C14: ='Obs #2'!C84 -> Select Rating | D14: =Full!C84 -> Select Rating
A15: 2D: Managing Student Behavior | B15: ='Obs #1'!C85 -> Select Rating | C15: ='Obs #2'!C85 -> Select Rating | D15: =Full!C85 -> Select Rating
A16: 2E: Organizing Physical Space | B16: ='Obs #1'!C86 -> Select Rating | C16: ='Obs #2'!C86 -> Select Rating | D16: =Full!C86 -> Select Rating | E16: Student Growth Goals | F16: Rating
A17: Overall Rating for Domain 2 | B17: ='Obs #1'!C87 -> Select Rating | C17: ='Obs #2'!C87 -> Select Rating | D17: =Full!C87 -> Select Rating | E17: Year 1 | F17: ='Obs #1'!E77 -> Select Rating
A18: 3A: Communicating with Students | B18: ='Obs #1'!C88 -> Select Rating | C18: ='Obs #2'!C88 -> Select Rating | D18: =Full!C88 -> Select Rating | E18: Year 2 | F18: ='Obs #2'!E78 -> Select Rating
A19: 3B: Using Questioning and Discussion Techniques | B19: ='Obs #1'!C89 -> Select Rating | C19: ='Obs #2'!C89 -> Select Rating | D19: =Full!C89 -> Select Rating | E19: Year 3 | F19: =Full!E77 -> Select Rating
A20: 3C: Engaging Students in Learning | B20: ='Obs #1'!C90 -> Select Rating | C20: ='Obs #2'!C90 -> Select Rating | D20: =Full!C90 -> Select Rating
A21: 3D: Using Assessment in Instruction | B21: ='Obs #1'!C91 -> Select Rating | C21: ='Obs #2'!C91 -> Select Rating | D21: =Full!C91 -> Select Rating
A22: 3E: Demonstrating Flexibility and Responsiveness | B22: ='Obs #1'!C92 -> Select Rating | C22: ='Obs #2'!C92 -> Select Rating | D22: =Full!C92 -> Select Rating | E22: Growth Rating | F22: Rating
A23: Overall Rating for Domain 3 | B23: ='Obs #1'!C93 -> Select Rating | C23: ='Obs #2'!C93 -> Select Rating | D23: =Full!C93 -> Select Rating | E23: Overall Growth Rating | F23: Select Rating
A24: 4A: Reflecting on Teaching | B24: ='Obs #1'!C94 -> Select Rating | C24: ='Obs #2'!C94 -> Select Rating | D24: =Full!C94 -> Select Rating
A25: 4B: Maintaining Accurate Records | B25: ='Obs #1'!C95 -> Select Rating | C25: ='Obs #2'!C95 -> Select Rating | D25: =Full!C95 -> Select Rating
A26: 4C: Communicating with Families | B26: ='Obs #1'!C96 -> Select Rating | C26: ='Obs #2'!C96 -> Select Rating | D26: =Full!C96 -> Select Rating | E26: Performance Rating | F26: Select Rating
A27: 4D: Participating in a Professional Community | B27: ='Obs #1'!C97 -> Select Rating | C27: ='Obs #2'!C97 -> Select Rating | D27: =Full!C97 -> Select Rating
A28: 4E: Growing and Developing Professionally | B28: ='Obs #1'!C98 -> Select Rating | C28: ='Obs #2'!C98 -> Select Rating | D28: =Full!C98 -> Select Rating
A29: 4F: Demonstrating Profesionalism | B29: ='Obs #1'!C99 -> Select Rating | C29: ='Obs #2'!C99 -> Select Rating | D29: =Full!C99 -> Select Rating
A30: Overall Rating for Domain 4 | B30: ='Obs #1'!C100 -> Select Rating | C30: ='Obs #2'!C100 -> Select Rating | D30: =Full!C100 -> Select Rating
E31: I have participated in a summative conference (as required by my district evaluation plan) and have received a copy of this observation document.
E33: Teacher: | F33: Date:
E35: Observer: | F35: Date:

Sheet Sheet1
A1: Ineffective | B1: DO NOT DELETE OR EDIT THESE CELLS AS THEY HAVE IMPLICATIONS TO FORMULAS WITHIN THIS DOCUMENT
A2: Developing
A3: Accomplished
A4: Exemplary
A5: N/A
A7: Low
A8: Expected
A9: High
A10: N/A
