Workbook
Name ppr: [1]Sheet1!$A$6:$A$10
Name Rating: 'Mini #1'!$E$6:$E$20
Name sg: Sheet1!$A$1:$A$4
Name sgg: [2]Sheet1!$A$7:$A$10

Sheet Mini #1
B1: Therapeutic Specialist: | C1: School: | D1: Observation Type: Mini or Full
B2: Activity: | C2: Date:
B3: Time: | C3: Observer:
A5: Timestamp | B5: Enter observed Evidence statement below | C5: Select which component evidence aligns | D5: Select which component evidence aligns
C6: Select Component
C7: 2a: Establishing Rapport with Students
C8: 2b: Organizing Time Effectively
C9: 2c: Establishing and Maintaining Clear Procedures for Referrals
C10: 2d: Establishing Standards of Conduct in the Treatment Center
C11: 2e: Organizing Physical Space for Testing of Students and Providing Therapy
C12: 3a: Responding to Referrals and Evaluating Student Needs
C13: 3b: Developing and Implementing Treatment Plans to Maximize Student Success
C14: 3c: Communicating with Families
C15: 3d: Collecting Information; Writing Reports
C16: 3e: Demonstrating Flexibility and Responsiveness
A17: =IF(B17<>"",IF(A17="",NOW(),A17),"") | C17: Select Component | D17: Select Component
A18: =IF(B18<>"",IF(A18="",NOW(),A18),"") | C18: Select Component | D18: Select Component
A19: =IF(B19<>"",IF(A19="",NOW(),A19),"") | C19: Select Component | D19: Select Component
A20: =IF(B20<>"",IF(A20="",NOW(),A20),"") | C20: Select Component | D20: Select Component
A21: =IF(B21<>"",IF(A21="",NOW(),A21),"") | C21: Select Component | D21: Select Component
A22: =IF(B22<>"",IF(A22="",NOW(),A22),"") | C22: Select Component | D22: Select Component
A23: =IF(B23<>"",IF(A23="",NOW(),A23),"") | C23: Select Component | D23: Select Component
A24: =IF(B24<>"",IF(A24="",NOW(),A24),"") | C24: Select Component | D24: Select Component
A25: =IF(B25<>"",IF(A25="",NOW(),A25),"") | C25: Select Component | D25: Select Component
A26: =IF(B26<>"",IF(A26="",NOW(),A26),"") | C26: Select Component | D26: Select Component
A27: =IF(B27<>"",IF(A27="",NOW(),A27),"") | C27: Select Component | D27: Select Component
A28: =IF(B28<>"",IF(A28="",NOW(),A28),"") | C28: Select Component | D28: Select Component
... A76: =IF(B76<>"",IF(A76="",NOW(),A76),"") | C76: Select Component | D76: Select Component
C77: Select Component | D77: Select Component
B79: Components | C79: Rating
C80: Exemplary
C81: Accomplished
C82: Developing
C83: Ineffective
C84: N/A
B85: 1A: Demonstrating Knowledge and Skill in the Specialist Therapy Area Holding the Relevant Certificate or License | C85: Select Rating | D85: Student Growth Goal | E85: Rating
B86: 1B: Establishing Goals for the Therapy Program Appropriate to the Setting and the Students Served | C86: Select Rating | D86: State Median Percentile Goal | E86: Select Rating
B87: 1C: Demonstating Knowledge of District, State, and Federal Regulations and Guidelines | C87: Select Rating | D87: Local Growth Goal | E87: Select Rating
B88: 1D: Demonstrating Knowledge of Resources Both Within and Beyond the School and District | C88: Select Rating | D88: COMBINED SGG | E88: Select Rating
B89: 1E: Planning the Therapy Program Integrated with the Regular School Program to Meet the Needs of Individual Students | C89: Select Rating | D89: You will only use these cells if you are rating a teacher who is on a three year cycle. These cells will represent their student growth goal attainment in the forst year of their summative cycle
B90: 1F: Developing a Plan to Evaluate the Therapy Program | C90: Select Rating
B91: Overall Rating for Domain 1: Utilitize evidences from pre and post conferences | C91: Select Rating
B92: 2a: Establishing Rapport with Students | C92: Select Rating
B93: 2b: Organizing Time Effectively | C93: Select Rating
B94: 2c: Establishing and Maintaining Clear Procedures for Referrals | C94: Select Rating
B95: 2d: Establishing Standards of Conduct in the Treatment Center | C95: Select Rating
B96: 2e: Organizing Physical Space for Testing of Students and Providing Therapy | C96: Select Rating
B97: Overall Rating for Domain 2 | C97: Select Rating
B98: 3a: Responding to Referrals and Evaluating Student Needs | C98: Select Rating
B99: 3b: Developing and Implementing Treatment Plans to Maximize Student Success | C99: Select Rating
B100: 3c: Communicating with Families | C100: Select Rating
B101: 3d: Collecting Information; Writing Reports | C101: Select Rating
... B110: Overall Rating for Domain 4: Utilitize evidences from pre and post conferences | C110: Select Rating
B113: I have participated in a pre- and/or post-observation conference (as required by my district evaluation plan) and have received a copy of this observation document.
B115: Therapeutic Specialist: | C115: Date:
B116: Observer: | C116: Date:

Sheet Mini #2
B1: Therapeutic Specialist: | C1: School: | D1: Observation Type: Mini or Full
B2: Activity: | C2: Date:
B3: Time: | C3: Observer:
A5: Timestamp | B5: Enter observed Evidence statement below | C5: Select which component evidence aligns | D5: Select which component evidence aligns
C6: Select Component
C7: 2a: Establishing Rapport with Students
C8: 2b: Organizing Time Effectively
C9: 2c: Establishing and Maintaining Clear Procedures for Referrals
C10: 2d: Establishing Standards of Conduct in the Treatment Center
C11: 2e: Organizing Physical Space for Testing of Students and Providing Therapy
C12: 3a: Responding to Referrals and Evaluating Student Needs
C13: 3b: Developing and Implementing Treatment Plans to Maximize Student Success
C14: 3c: Communicating with Families
C15: 3d: Collecting Information; Writing Reports
C16: 3e: Demonstrating Flexibility and Responsiveness
A17: =IF(B17<>"",IF(A17="",NOW(),A17),"") | C17: Select Component | D17: Select Component
A18: =IF(B18<>"",IF(A18="",NOW(),A18),"") | C18: Select Component | D18: Select Component
A19: =IF(B19<>"",IF(A19="",NOW(),A19),"") | C19: Select Component | D19: Select Component
A20: =IF(B20<>"",IF(A20="",NOW(),A20),"") | C20: Select Component | D20: Select Component
A21: =IF(B21<>"",IF(A21="",NOW(),A21),"") | C21: Select Component | D21: Select Component
A22: =IF(B22<>"",IF(A22="",NOW(),A22),"") | C22: Select Component | D22: Select Component
A23: =IF(B23<>"",IF(A23="",NOW(),A23),"") | C23: Select Component | D23: Select Component
A24: =IF(B24<>"",IF(A24="",NOW(),A24),"") | C24: Select Component | D24: Select Component
A25: =IF(B25<>"",IF(A25="",NOW(),A25),"") | C25: Select Component | D25: Select Component
A26: =IF(B26<>"",IF(A26="",NOW(),A26),"") | C26: Select Component | D26: Select Component
A27: =IF(B27<>"",IF(A27="",NOW(),A27),"") | C27: Select Component | D27: Select Component
A28: =IF(B28<>"",IF(A28="",NOW(),A28),"") | C28: Select Component | D28: Select Component
... A77: =IF(B77<>"",IF(A77="",NOW(),A77),"") | C77: Select Component | D77: Select Component
B79: Components | C79: Rating
C80: Exemplary
C81: Accomplished
C82: Developing
C83: Ineffective
C84: N/A
B85: 1A: Demonstrating Knowledge and Skill in the Specialist Therapy Area Holding the Relevant Certificate or License | C85: Select Rating | D85: Student Growth Goal | E85: Rating
B86: 1B: Establishing Goals for the Therapy Program Appropriate to the Setting and the Students Served | C86: Select Rating | D86: State Median Percentile Goal | E86: Select Rating
B87: 1C: Demonstating Knowledge of District, State, and Federal Regulations and Guidelines | C87: Select Rating | D87: Local Growth Goal | E87: Select Rating
B88: 1D: Demonstrating Knowledge of Resources Both Within and Beyond the School and District | C88: Select Rating | D88: COMBINED SGG | E88: Select Rating
B89: 1E: Planning the Therapy Program Integrated with the Regular School Program to Meet the Needs of Individual Students | C89: Select Rating | D89: You will only use these cells if you are rating a teacher who is on a three year cycle. These cells will represent their student growth goal attainment in the forst year of their summative cycle
B90: 1F: Developing a Plan to Evaluate the Therapy Program | C90: Select Rating
B91: Overall Rating for Domain 1: Utilitize evidences from pre and post conferences | C91: Select Rating
B92: 2a: Establishing Rapport with Students | C92: Select Rating
B93: 2b: Organizing Time Effectively | C93: Select Rating
B94: 2c: Establishing and Maintaining Clear Procedures for Referrals | C94: Select Rating
B95: 2d: Establishing Standards of Conduct in the Treatment Center | C95: Select Rating
B96: 2e: Organizing Physical Space for Testing of Students and Providing Therapy | C96: Select Rating
B97: Overall Rating for Domain 2 | C97: Select Rating
B98: 3a: Responding to Referrals and Evaluating Student Needs | C98: Select Rating
B99: 3b: Developing and Implementing Treatment Plans to Maximize Student Success | C99: Select Rating
B100: 3c: Communicating with Families | C100: Select Rating
B101: 3d: Collecting Information; Writing Reports | C101: Select Rating
... B110: Overall Rating for Domain 4: Utilitize evidences from pre and post conferences | C110: Select Rating
B113: I have participated in a pre- and/or post-observation conference (as required by my district evaluation plan) and have received a copy of this observation document.
B115: Therapeutic Specialist: | C115: Date:
B116: Observer: | C116: Date:

Sheet Full
B1: Therapeutic Specialist: | C1: School:
B2: Activity: | C2: Date:
B3: Time: | C3: Observer:
A5: Timestamp | B5: Enter observed Evidence statement below | C5: Select which component evidence aligns | D5: Select which component evidence aligns
C6: Select Component
C7: 2a: Establishing Rapport with Students
C8: 2b: Organizing Time Effectively
C9: 2c: Establishing and Maintaining Clear Procedures for Referrals
C10: 2d: Establishing Standards of Conduct in the Treatment Center
C11: 2e: Organizing Physical Space for Testing of Students and Providing Therapy
C12: 3a: Responding to Referrals and Evaluating Student Needs
C13: 3b: Developing and Implementing Treatment Plans to Maximize Student Success
C14: 3c: Communicating with Families
C15: 3d: Collecting Information; Writing Reports
C16: 3e: Demonstrating Flexibility and Responsiveness
A17: =IF(B17<>"",IF(A17="",NOW(),A17),"") | C17: Select Component | D17: Select Component
A18: =IF(B18<>"",IF(A18="",NOW(),A18),"") | C18: Select Component | D18: Select Component
A19: =IF(B19<>"",IF(A19="",NOW(),A19),"") | C19: Select Component | D19: Select Component
A20: =IF(B20<>"",IF(A20="",NOW(),A20),"") | C20: Select Component | D20: Select Component
A21: =IF(B21<>"",IF(A21="",NOW(),A21),"") | C21: Select Component | D21: Select Component
A22: =IF(B22<>"",IF(A22="",NOW(),A22),"") | C22: Select Component | D22: Select Component
A23: =IF(B23<>"",IF(A23="",NOW(),A23),"") | C23: Select Component | D23: Select Component
A24: =IF(B24<>"",IF(A24="",NOW(),A24),"") | C24: Select Component | D24: Select Component
A25: =IF(B25<>"",IF(A25="",NOW(),A25),"") | C25: Select Component | D25: Select Component
A26: =IF(B26<>"",IF(A26="",NOW(),A26),"") | C26: Select Component | D26: Select Component
A27: =IF(B27<>"",IF(A27="",NOW(),A27),"") | C27: Select Component | D27: Select Component
A28: =IF(B28<>"",IF(A28="",NOW(),A28),"") | C28: Select Component | D28: Select Component
... A67: =IF(B67<>"",IF(A67="",NOW(),A67),"") | C67: Select Component | D67: Select Component
C68: Select Component | D68: Select Component
C69: Select Component | D69: Select Component
C70: Select Component | D70: Select Component
C71: Select Component | D71: Select Component
C72: Select Component | D72: Select Component
C73: Select Component | D73: Select Component
C74: Select Component | D74: Select Component
C75: Select Component | D75: Select Component
C76: Select Component | D76: Select Component
C77: Select Component | D77: Select Component
B79: Components | C79: Rating
C80: Exemplary
C81: Accomplished
C82: Developing
C83: Ineffective
C84: N/A
B85: 1A: Demonstrating Knowledge and Skill in the Specialist Therapy Area Holding the Relevant Certificate or License | C85: Select Rating | D85: Student Growth Goal | E85: Rating
B86: 1B: Establishing Goals for the Therapy Program Appropriate to the Setting and the Students Served | C86: Select Rating | D86: State Median Percentile Goal | E86: Select Rating
B87: 1C: Demonstating Knowledge of District, State, and Federal Regulations and Guidelines | C87: Select Rating | D87: Local Growth Goal | E87: Select Rating
B88: 1D: Demonstrating Knowledge of Resources Both Within and Beyond the School and District | C88: Select Rating | D88: COMBINED SGG | E88: Select Rating
B89: 1E: Planning the Therapy Program Integrated with the Regular School Program to Meet the Needs of Individual Students | C89: Select Rating
B90: 1F: Developing a Plan to Evaluate the Therapy Program | C90: Select Rating
B91: Overall Rating for Domain 1: Utilitize evidences from pre and post conferences | C91: Select Rating
B92: 2a: Establishing Rapport with Students | C92: Select Rating
B93: 2b: Organizing Time Effectively | C93: Select Rating
B94: 2c: Establishing and Maintaining Clear Procedures for Referrals | C94: Select Rating
B95: 2d: Establishing Standards of Conduct in the Treatment Center | C95: Select Rating
B96: 2e: Organizing Physical Space for Testing of Students and Providing Therapy | C96: Select Rating
B97: Overall Rating for Domain 2 | C97: Select Rating
B98: 3a: Responding to Referrals and Evaluating Student Needs | C98: Select Rating
B99: 3b: Developing and Implementing Treatment Plans to Maximize Student Success | C99: Select Rating
B100: 3c: Communicating with Families | C100: Select Rating
... B110: Overall Rating for Domain 4: Utilitize evidences from pre and post conferences | C110: Select Rating
B113: I have participated in a pre- and/or post-observation conference (as required by my district evaluation plan) and have received a copy of this observation document.
B115: Therapeutic Specialist: | C115: Date:
B116: Observer: | C116: Date:

Sheet Summative
E1: Summative Rating
A2: Theapuetic Specialist:
A3: Cycle:
B4: Obs #1 | C4: Obs #2 | D4: FULL
A5: 1A: Demonstrating Knowledge and Skill in the Specialist Therapy Area Holding the Relevant Certificate or License | B5: ='Mini #1'!C85 -> Select Rating | C5: ='Mini #2'!C85 -> Select Rating | D5: =Full!C85 -> Select Rating
A6: 1B: Establishing Goals for the Therapy Program Appropriate to the Setting and the Students Served | B6: ='Mini #1'!C86 -> Select Rating | C6: ='Mini #2'!C86 -> Select Rating | D6: =Full!C86 -> Select Rating
A7: 1C: Demonstating Knowledge of District, State, and Federal Regulations and Guidelines | B7: ='Mini #1'!C87 -> Select Rating | C7: ='Mini #2'!C87 -> Select Rating | D7: =Full!C87 -> Select Rating
A8: 1D: Demonstrating Knowledge of Resources Both Within and Beyond the School and District | B8: ='Mini #1'!C88 -> Select Rating | C8: ='Mini #2'!C88 -> Select Rating | D8: =Full!C88 -> Select Rating | E8: Professional Practice Rating (Domain) | F8: Rating
A9: 1E: Planning the Therapy Program Integrated with the Regular School Program to Meet the Needs of Individual Students | B9: ='Mini #1'!C89 -> Select Rating | C9: ='Mini #2'!C89 -> Select Rating | D9: =Full!C89 -> Select Rating | E9: Domain 1: Planning and Preparation | F9: Select Rating
A10: 1F: Developing a Plan to Evaluate the Therapy Program | B10: ='Mini #1'!C90 -> Select Rating | C10: ='Mini #2'!C90 -> Select Rating | D10: =Full!C90 -> Select Rating | E10: Domain 2: The Environment | F10: Select Rating
A11: Overall Rating for Domain 1: Utilitize evidences from pre and post conferences | B11: ='Mini #1'!C91 -> Select Rating | C11: ='Mini #2'!C91 -> Select Rating | D11: =Full!C91 -> Select Rating | E11: Domain 3: Delivery of Service | F11: Select Rating
A12: 2a: Establishing Rapport with Students | B12: ='Mini #1'!C92 -> Select Rating | C12: ='Mini #2'!C92 -> Select Rating | D12: =Full!C92 -> Select Rating | E12: Domain 4: Professional Responsibilities | F12: Select Rating
A13: 2b: Organizing Time Effectively | B13: ='Mini #1'!C93 -> Select Rating | C13: ='Mini #2'!C93 -> Select Rating | D13: =Full!C93 -> Select Rating
A14: 2c: Establishing and Maintaining Clear Procedures for Referrals | B14: ='Mini #1'!C94 -> Select Rating | C14: ='Mini #2'!C94 -> Select Rating | D14: =Full!C94 -> Select Rating
A15: 2d: Establishing Standards of Conduct in the Treatment Center | B15: ='Mini #1'!C95 -> Select Rating | C15: ='Mini #2'!C95 -> Select Rating | D15: =Full!C95 -> Select Rating | E15: Overall Practice Rating (Summative) | F15: Rating
A16: 2e: Organizing Physical Space for Testing of Students and Providing Therapy | B16: ='Mini #1'!C96 -> Select Rating | C16: ='Mini #2'!C96 -> Select Rating | D16: =Full!C96 -> Select Rating | E16: Professional Practice Rating | F16: Select Rating
A17: Overall Rating for Domain 2 | B17: ='Mini #1'!C97 -> Select Rating | C17: ='Mini #2'!C97 -> Select Rating | D17: =Full!C97 -> Select Rating
A18: 3a: Responding to Referrals and Evaluating Student Needs | B18: ='Mini #1'!C98 -> Select Rating | C18: ='Mini #2'!C98 -> Select Rating | D18: =Full!C98 -> Select Rating | E18: Student Growth Goals | F18: Rating
A19: 3b: Developing and Implementing Treatment Plans to Maximize Student Success | B19: ='Mini #1'!C99 -> Select Rating | C19: ='Mini #2'!C99 -> Select Rating | D19: =Full!C99 -> Select Rating | E19: Year 1 | F19: ='Mini #1'!E88 -> Select Rating
A20: 3c: Communicating with Families | B20: ='Mini #1'!C100 -> Select Rating | C20: ='Mini #2'!C100 -> Select Rating | D20: =Full!C100 -> Select Rating | E20: Year 2 | F20: ='Mini #2'!E88 -> Select Rating
A21: 3d: Collecting Information; Writing Reports | B21: ='Mini #1'!C101 -> Select Rating | C21: ='Mini #2'!C101 -> Select Rating | D21: =Full!C101 -> Select Rating | E21: Year 3 | F21: =Full!E88 -> Select Rating
A22: 3e: Demonstrating Flexibility and Responsiveness | B22: ='Mini #1'!C102 -> Select Rating | C22: ='Mini #2'!C102 -> Select Rating | D22: =Full!C102 -> Select Rating
A23: Overall Rating for Domain 3 | B23: ='Mini #1'!C103 -> Select Rating | C23: ='Mini #2'!C103 -> Select Rating | D23: =Full!C103 -> Select Rating | E23: Growth Rating | F23: Rating
A24: 4A: Reflecting on Practice | B24: ='Mini #1'!C104 -> Select Rating | C24: ='Mini #2'!C104 -> Select Rating | D24: =Full!C104 -> Select Rating | E24: Overall Growth Rating | F24: Select Rating
A25: 4B: Collaborating with Teachers and Administrators | B25: ='Mini #1'!C105 -> Select Rating | C25: ='Mini #2'!C105 -> Select Rating | D25: =Full!C105 -> Select Rating
A26: 4C: Maintaining and Effective Data Management System | B26: ='Mini #1'!C106 -> Select Rating | C26: ='Mini #2'!C106 -> Select Rating | D26: =Full!C106 -> Select Rating
A27: 4D: Participating in a Professional Community | B27: ='Mini #1'!C107 -> Select Rating | C27: ='Mini #2'!C107 -> Select Rating | D27: =Full!C107 -> Select Rating
A28: 4E: Engaging and Professional Development | B28: ='Mini #1'!C108 -> Select Rating | C28: ='Mini #2'!C108 -> Select Rating | D28: =Full!C108 -> Select Rating | E28: Performance Rating | F28: Select Rating
A29: 4F: Showing Professionalism; Including Integrity, Advocacy, and Maintaining Confidentiality | B29: ='Mini #1'!C109 -> Select Rating | C29: ='Mini #2'!C109 -> Select Rating | D29: =Full!C109 -> Select Rating
A30: Overall Rating for Domain 4: Utilitize evidences from pre and post conferences | B30: ='Mini #1'!C110 -> Select Rating | C30: ='Mini #2'!C110 -> Select Rating | D30: =Full!C110 -> Select Rating
E34: I have participated in a pre- and/or post-observation conference (as required by my district evaluation plan) and have received a copy of this observation document.
E36: Therapeutic Specialist: | F36: Date:
E38: Observer: | F38: Date:

Sheet Sheet1
A1: Low | C1: Pleae do not edit or change the cells on this page as they have implications to formulas throughout this document
A2: Expected
A3: High
A4: N/A
