Workbook
Name pp: Sheet1!$A$1:$A$5
Name Rating: 'Obs #1'!$E$6:$E$20
Name sg: Sheet1!$A$1:$A$5
Name sgg: [1]Sheet1!$A$7:$A$10
Name sggs: Sheet2!$A$2:$A$5

Sheet Obs #1
B1: Guidance Counselor: | C1: Grade/Group: | D1: Observation Type: Mini or Full
B2: Activity: | C2: Date:
B3: Time: | C3: Observer:
A5: Timestamp | B5: Enter observed Evidence statement below | C5: Select which component evidence aligns | D5: Select which component evidence aligns
C6: Select Component
C7: 2a: Creating an Environment of Respect and Rapport
C8: 2b - Establishing a culture for productive communication
C9: 2c - Managing routines and procedures
C10: 2d - Establishing standards of conduct and contributing to the culture for student behavior throughout the school
C11: 2e: Organizing Physical Space
C12: 3a - Assessing student needs
C13: 3b - Assisting students and teachers in the formulation of academic personal social and career plans based on knowledge of student needs
C14: 3c - Using counseling techniques in individual and classroom programs
C15: 3d - Brokering resources to meet needs
C16: 3e - Demonstrating flexibility and responsiveness
A17: =IF(B17<>"",IF(A17="",NOW(),A17),"") | C17: Select Component | D17: Select Component
A18: =IF(B18<>"",IF(A18="",NOW(),A18),"") | C18: Select Component | D18: Select Component
A19: =IF(B19<>"",IF(A19="",NOW(),A19),"") | C19: Select Component | D19: Select Component
A20: =IF(B20<>"",IF(A20="",NOW(),A20),"") | C20: Select Component | D20: Select Component
A21: =IF(B21<>"",IF(A21="",NOW(),A21),"") | C21: Select Component | D21: Select Component
A22: =IF(B22<>"",IF(A22="",NOW(),A22),"") | C22: Select Component | D22: Select Component
A23: =IF(B23<>"",IF(A23="",NOW(),A23),"") | C23: Select Component | D23: Select Component
A24: =IF(B24<>"",IF(A24="",NOW(),A24),"") | C24: Select Component | D24: Select Component
A25: =IF(B25<>"",IF(A25="",NOW(),A25),"") | C25: Select Component | D25: Select Component
A26: =IF(B26<>"",IF(A26="",NOW(),A26),"") | C26: Select Component | D26: Select Component
A27: =IF(B27<>"",IF(A27="",NOW(),A27),"") | C27: Select Component | D27: Select Component
A28: =IF(B28<>"",IF(A28="",NOW(),A28),"") | C28: Select Component | D28: Select Component
... A73: =IF(B73<>"",IF(A73="",NOW(),A73),"") | C73: Select Component | D73: Select Component
B75: Components | C75: Rating
C76: Exemplary
C77: Accomplished
C78: Developing
C79: Ineffective
C80: N/A
B81: 1A: Demonstrating Knowledge of Counseling Theory and Techniques | C81: Select Rating | D81: Student Growth Goal | E81: Rating
B82: 1B: Demonstrating Knowledge of Child and Adolescent Development | C82: Select Rating | D82: State Median Percentile Goal | E82: Select Rating
B83: 1C: Establishing Goals for the Counseling Program Appropriate to the Setting and the Students Served | C83: Select Rating | D83: Local Growth Goal | E83: Select Rating
B84: 1D: Demonstrating Knowledge of State and Federal Regulations and of Resources Both Within and Beyond School and District | C84: Select Rating | D84: COMBINED SGG | E84: Select Rating
B85: 1E: Plan in the Counseling Program Integrated with the Regular School Program | C85: Select Rating | D85: You will only use these cells if you are rating a teacher who is on a three year cycle. These cells will represent their student growth goal attainment in the forst year of their summative cycle
B86: 1F: Develping a Plan to Evaluate the Counseling Program | C86: Select Rating
B87: Overall Rating for Domain 1: Utilitize evidences from pre and post conferences | C87: Select Rating
B88: 2a: Creating an Environment of Respect and Rapport | C88: Select Rating
B89: 2b - Establishing a culture for productive communication | C89: Select Rating
B90: 2c - Managing routines and procedures | C90: Select Rating
B91: 2d - Establishing standards of conduct and contributing to the culture for student behavior throughout the school | C91: Select Rating
B92: 2e: Organizing Physical Space | C92: Select Rating
B93: Overall Rating for Domain 2 | C93: Select Rating
B94: 3a - Assessing student needs | C94: Select Rating
B95: 3b - Assisting students and teachers in the formulation of academic personal social and career plans based on knowledge of student needs | C95: Select Rating
B96: 3c - Using counseling techniques in individual and classroom programs | C96: Select Rating
B97: 3d - Brokering resources to meet needs | C97: Select Rating
... B106: Overall Rating for Domain 4: Utilitize evidences from pre and post conferences | C106: Select Rating
B109: I have participated in a pre- and/or post-observation conference (as required by my district evaluation plan) and have received a copy of this observation document.
B111: Guidance Counselor: | C111: Date:
B112: Observer: | C112: Date:

Sheet Obs #2
B1: Guidance Counselor: | C1: Grade/Group: | D1: Observation Type: Mini or Full
B2: Activity: | C2: Date:
B3: Time: | C3: Observer:
A5: Timestamp | B5: Enter observed Evidence statement below | C5: Select which component evidence aligns | D5: Select which component evidence aligns
C6: Select Component
C7: 2a: Creating an Environment of Respect and Rapport
C8: 2b - Establishing a culture for productive communication
C9: 2c - Managing routines and procedures
C10: 2d - Establishing standards of conduct and contributing to the culture for student behavior throughout the school
C11: 2e: Organizing Physical Space
C12: 3a - Assessing student needs
C13: 3b - Assisting students and teachers in the formulation of academic personal social and career plans based on knowledge of student needs
C14: 3c - Using counseling techniques in individual and classroom programs
C15: 3d - Brokering resources to meet needs
C16: 3e - Demonstrating flexibility and responsiveness
A17: =IF(B17<>"",IF(A17="",NOW(),A17),"") | C17: Select Component | D17: Select Component
A18: =IF(B18<>"",IF(A18="",NOW(),A18),"") | C18: Select Component | D18: Select Component
A19: =IF(B19<>"",IF(A19="",NOW(),A19),"") | C19: Select Component | D19: Select Component
A20: =IF(B20<>"",IF(A20="",NOW(),A20),"") | C20: Select Component | D20: Select Component
A21: =IF(B21<>"",IF(A21="",NOW(),A21),"") | C21: Select Component | D21: Select Component
A22: =IF(B22<>"",IF(A22="",NOW(),A22),"") | C22: Select Component | D22: Select Component
A23: =IF(B23<>"",IF(A23="",NOW(),A23),"") | C23: Select Component | D23: Select Component
A24: =IF(B24<>"",IF(A24="",NOW(),A24),"") | C24: Select Component | D24: Select Component
A25: =IF(B25<>"",IF(A25="",NOW(),A25),"") | C25: Select Component | D25: Select Component
A26: =IF(B26<>"",IF(A26="",NOW(),A26),"") | C26: Select Component | D26: Select Component
A27: =IF(B27<>"",IF(A27="",NOW(),A27),"") | C27: Select Component | D27: Select Component
A28: =IF(B28<>"",IF(A28="",NOW(),A28),"") | C28: Select Component | D28: Select Component
... A73: =IF(B73<>"",IF(A73="",NOW(),A73),"") | C73: Select Component | D73: Select Component
B75: Components | C75: Rating
C76: Exemplary
C77: Accomplished
C78: Developing
C79: Ineffective
C80: N/A
B81: 1A: Demonstrating Knowledge of Counseling Theory and Techniques | C81: Select Rating | D81: Student Growth Goal | E81: Rating
B82: 1B: Demonstrating Knowledge of Child and Adolescent Development | C82: Select Rating | D82: State Median Percentile Goal | E82: Select Rating
B83: 1C: Establishing Goals for the Counseling Program Appropriate to the Setting and the Students Served | C83: Select Rating | D83: Local Growth Goal | E83: Select Rating
B84: 1D: Demonstrating Knowledge of State and Federal Regulations and of Resources Both Within and Beyond School and District | C84: Select Rating | D84: COMBINED SGG | E84: Select Rating
B85: 1E: Plan in the Counseling Program Integrated with the Regular School Program | C85: Select Rating | D85: You will only use these cells if you are rating a teacher who is on a three year cycle. These cells will represent their student growth goal attainment in the forst year of their summative cycle
B86: 1F: Develping a Plan to Evaluate the Counseling Program | C86: Select Rating
B87: Overall Rating for Domain 1: Utilitize evidences from pre and post conferences | C87: Select Rating
B88: 2a: Creating an Environment of Respect and Rapport | C88: Select Rating
B89: 2b - Establishing a culture for productive communication | C89: Select Rating
B90: 2c - Managing routines and procedures | C90: Select Rating
B91: 2d - Establishing standards of conduct and contributing to the culture for student behavior throughout the school | C91: Select Rating
B92: 2e: Organizing Physical Space | C92: Select Rating
B93: Overall Rating for Domain 2 | C93: Select Rating
B94: 3a - Assessing student needs | C94: Select Rating
B95: 3b - Assisting students and teachers in the formulation of academic personal social and career plans based on knowledge of student needs | C95: Select Rating
B96: 3c - Using counseling techniques in individual and classroom programs | C96: Select Rating
B97: 3d - Brokering resources to meet needs | C97: Select Rating
... B106: Overall Rating for Domain 4: Utilitize evidences from pre and post conferences | C106: Select Rating
B109: I have participated in a pre- and/or post-observation conference (as required by my district evaluation plan) and have received a copy of this observation document.
B111: Guidance Counselor: | C111: Date:
B112: Observer: | C112: Date:

Sheet Full
B1: Guidance Counselor: | C1: Grade/Group:
B2: Activity: | C2: Date:
B3: Time: | C3: Observer:
A5: Timestamp | B5: Enter observed Evidence statement below | C5: Select which component evidence aligns | D5: Select which component evidence aligns
C6: Select Component
C7: 2a: Creating an Environment of Respect and Rapport
C8: 2b - Establishing a culture for productive communication
C9: 2c - Managing routines and procedures
C10: 2d - Establishing standards of conduct and contributing to the culture for student behavior throughout the school
C11: 2e: Organizing Physical Space
C12: 3a - Assessing student needs
C13: 3b - Assisting students and teachers in the formulation of academic personal social and career plans based on knowledge of student needs
C14: 3c - Using counseling techniques in individual and classroom programs
C15: 3d - Brokering resources to meet needs
C16: 3e - Demonstrating flexibility and responsiveness
A17: =IF(B17<>"",IF(A17="",NOW(),A17),"") | C17: Select Component | D17: Select Component
A18: =IF(B18<>"",IF(A18="",NOW(),A18),"") | C18: Select Component | D18: Select Component
A19: =IF(B19<>"",IF(A19="",NOW(),A19),"") | C19: Select Component | D19: Select Component
A20: =IF(B20<>"",IF(A20="",NOW(),A20),"") | C20: Select Component | D20: Select Component
A21: =IF(B21<>"",IF(A21="",NOW(),A21),"") | C21: Select Component | D21: Select Component
A22: =IF(B22<>"",IF(A22="",NOW(),A22),"") | C22: Select Component | D22: Select Component
A23: =IF(B23<>"",IF(A23="",NOW(),A23),"") | C23: Select Component | D23: Select Component
A24: =IF(B24<>"",IF(A24="",NOW(),A24),"") | C24: Select Component | D24: Select Component
A25: =IF(B25<>"",IF(A25="",NOW(),A25),"") | C25: Select Component | D25: Select Component
A26: =IF(B26<>"",IF(A26="",NOW(),A26),"") | C26: Select Component | D26: Select Component
A27: =IF(B27<>"",IF(A27="",NOW(),A27),"") | C27: Select Component | D27: Select Component
A28: =IF(B28<>"",IF(A28="",NOW(),A28),"") | C28: Select Component | D28: Select Component
... A73: =IF(B73<>"",IF(A73="",NOW(),A73),"") | C73: Select Component | D73: Select Component
B75: Components | C75: Rating
C76: Exemplary
C77: Accomplished
C78: Developing
C79: Ineffective
C80: N/A
B81: 1A: Demonstrating Knowledge of Counseling Theory and Techniques | C81: Select Rating | D81: Student Growth Goal | E81: Rating
B82: 1B: Demonstrating Knowledge of Child and Adolescent Development | C82: Select Rating | D82: State Median Percentile Goal | E82: Select Rating
B83: 1C: Establishing Goals for the Counseling Program Appropriate to the Setting and the Students Served | C83: Select Rating | D83: Local Growth Goal | E83: Select Rating
B84: 1D: Demonstrating Knowledge of State and Federal Regulations and of Resources Both Within and Beyond School and District | C84: Select Rating | D84: COMBINED SGG | E84: Select Rating
B85: 1E: Plan in the Counseling Program Integrated with the Regular School Program | C85: Select Rating
B86: 1F: Develping a Plan to Evaluate the Counseling Program | C86: Select Rating
B87: Overall Rating for Domain 1: Utilitize evidences from pre and post conferences | C87: Select Rating
B88: 2a: Creating an Environment of Respect and Rapport | C88: Select Rating
B89: 2b - Establishing a culture for productive communication | C89: Select Rating
B90: 2c - Managing routines and procedures | C90: Select Rating
B91: 2d - Establishing standards of conduct and contributing to the culture for student behavior throughout the school | C91: Select Rating
B92: 2e: Organizing Physical Space | C92: Select Rating
B93: Overall Rating for Domain 2 | C93: Select Rating
B94: 3a - Assessing student needs | C94: Select Rating
B95: 3b - Assisting students and teachers in the formulation of academic personal social and career plans based on knowledge of student needs | C95: Select Rating
B96: 3c - Using counseling techniques in individual and classroom programs | C96: Select Rating
... B106: Overall Rating for Domain 4: Utilitize evidences from pre and post conferences | C106: Select Rating
B109: I have participated in a pre- and/or post-observation conference (as required by my district evaluation plan) and have received a copy of this observation document.
B111: Guidance Counselor: | C111: Date:
B112: Observer: | C112: Date:

Sheet Summative
A1: Guidance Counselor: | F1: Summative Rating
A2: Cycle:
B3: Obs #1 | C3: Obs #2 | D3: FULL
A4: 1A: Demonstrating Knowledge of Counseling Theory and Techniques | B4: ='Obs #1'!C81 -> Select Rating | C4: ='Obs #2'!C81 -> Select Rating | D4: =Full!C81 -> Select Rating
A5: 1B: Demonstrating Knowledge of Child and Adolescent Development | B5: ='Obs #1'!C82 -> Select Rating | C5: ='Obs #2'!C82 -> Select Rating | D5: =Full!C82 -> Select Rating | F5: Professional Practice Rating (Domain) | G5: Rating
A6: 1C: Establishing Goals for the Counseling Program Appropriate to the Setting and the Students Served | B6: ='Obs #1'!C83 -> Select Rating | C6: ='Obs #2'!C83 -> Select Rating | D6: =Full!C83 -> Select Rating | F6: Domain 1: Planning and Preparation | G6: Select Rating
A7: 1D: Demonstrating Knowledge of State and Federal Regulations and of Resources Both Within and Beyond School and District | B7: ='Obs #1'!C84 -> Select Rating | C7: ='Obs #2'!C84 -> Select Rating | D7: =Full!C84 -> Select Rating | F7: Domain 2: Environment | G7: Select Rating
A8: 1E: Plan in the Counseling Program Integrated with the Regular School Program | B8: ='Obs #1'!C85 -> Select Rating | C8: ='Obs #2'!C85 -> Select Rating | D8: =Full!C85 -> Select Rating | F8: Domain 3: Delivery of Service | G8: Select Rating
A9: 1F: Develping a Plan to Evaluate the Counseling Program | B9: ='Obs #1'!C86 -> Select Rating | C9: ='Obs #2'!C86 -> Select Rating | D9: =Full!C86 -> Select Rating | F9: Domain 4: Professional Responsibilities | G9: Select Rating
A10: Overall Rating for Domain 1: Utilitize evidences from pre and post conferences | B10: ='Obs #1'!C87 -> Select Rating | C10: ='Obs #2'!C87 -> Select Rating | D10: =Full!C87 -> Select Rating
A11: 2a: Creating an Environment of Respect and Rapport | B11: ='Obs #1'!C88 -> Select Rating | C11: ='Obs #2'!C88 -> Select Rating | D11: =Full!C88 -> Select Rating | F11: Overall Practice Rating (Summative) | G11: Rating
A12: 2b - Establishing a culture for productive communication | B12: ='Obs #1'!C89 -> Select Rating | C12: ='Obs #2'!C89 -> Select Rating | D12: =Full!C89 -> Select Rating | F12: Professional Practice Rating | G12: Select Rating
A13: 2c - Managing routines and procedures | B13: ='Obs #1'!C90 -> Select Rating | C13: ='Obs #2'!C90 -> Select Rating | D13: =Full!C90 -> Select Rating
A14: 2d - Establishing standards of conduct and contributing to the culture for student behavior throughout the school | B14: ='Obs #1'!C91 -> Select Rating | C14: ='Obs #2'!C91 -> Select Rating | D14: =Full!C91 -> Select Rating | F14: Student Growth Goals | G14: Rating
A15: 2e: Organizing Physical Space | B15: ='Obs #1'!C92 -> Select Rating | C15: ='Obs #2'!C92 -> Select Rating | D15: =Full!C92 -> Select Rating | F15: Year 1 | G15: ='Obs #1'!E84 -> Select Rating
A16: Overall Rating for Domain 2 | B16: ='Obs #1'!C93 -> Select Rating | C16: ='Obs #2'!C93 -> Select Rating | D16: =Full!C93 -> Select Rating | F16: Year 2 | G16: ='Obs #2'!E84 -> Select Rating
A17: 3a - Assessing student needs | B17: ='Obs #1'!C94 -> Select Rating | C17: ='Obs #2'!C94 -> Select Rating | D17: =Full!C94 -> Select Rating | F17: Year 3 | G17: =Full!E84 -> Select Rating
A18: 3b - Assisting students and teachers in the formulation of academic personal social and career plans based on knowledge of student needs | B18: ='Obs #1'!C95 -> Select Rating | C18: ='Obs #2'!C95 -> Select Rating | D18: =Full!C95 -> Select Rating
A19: 3c - Using counseling techniques in individual and classroom programs | B19: ='Obs #1'!C96 -> Select Rating | C19: ='Obs #2'!C96 -> Select Rating | D19: =Full!C96 -> Select Rating
A20: 3d - Brokering resources to meet needs | B20: ='Obs #1'!C97 -> Select Rating | C20: ='Obs #2'!C97 -> Select Rating | D20: =Full!C97 -> Select Rating | F20: Growth Rating | G20: Rating
A21: 3e - Demonstrating flexibility and responsiveness | B21: ='Obs #1'!C98 -> Select Rating | C21: ='Obs #2'!C98 -> Select Rating | D21: =Full!C98 -> Select Rating | F21: Overall Growth Rating | G21: Select Rating
A22: Overall Rating for Domain 3 | B22: ='Obs #1'!C99 -> Select Rating | C22: ='Obs #2'!C99 -> Select Rating | D22: =Full!C99 -> Select Rating
A23: 4A: Reflecting on Practice | B23: ='Obs #1'!C100 -> Select Rating | C23: ='Obs #2'!C100 -> Select Rating | D23: =Full!C100 -> Select Rating
A24: 4B: Maintaining Records and Submitting them in a Timely Fashion | B24: ='Obs #1'!C101 -> Select Rating | C24: ='Obs #2'!C101 -> Select Rating | D24: =Full!C101 -> Select Rating | F24: Overall Rating | G24: Select Rating
A25: 4C: Communicating with Families | B25: ='Obs #1'!C102 -> Select Rating | C25: ='Obs #2'!C102 -> Select Rating | D25: =Full!C102 -> Select Rating
A26: 4D: Participating in a Professional Community | B26: ='Obs #1'!C103 -> Select Rating | C26: ='Obs #2'!C103 -> Select Rating | D26: =Full!C103 -> Select Rating
A27: 4E: Engaging in Professional Development | B27: ='Obs #1'!C104 -> Select Rating | C27: ='Obs #2'!C104 -> Select Rating | D27: =Full!C104 -> Select Rating
A28: 4F: Showing Professionalism | B28: ='Obs #1'!C105 -> Select Rating | C28: ='Obs #2'!C105 -> Select Rating | D28: =Full!C105 -> Select Rating
A29: Overall Rating for Domain 4: Utilitize evidences from pre and post conferences | B29: ='Obs #1'!C106 -> Select Rating | C29: ='Obs #2'!C106 -> Select Rating | D29: =Full!C106 -> Select Rating
F31: I have participated in a summative conference (as required by my district evaluation plan) and have received a copy of this observation document.
F33: Guidance Counselor: | G33: Date:
F35: Observer: | G35: Date:

Sheet Sheet2
A2: Low
A3: Expected
A4: High
A5: N/A

Sheet Sheet1
A1: Ineffective | C1: Do NOT edit or delete these cells as they have direct implications to formulas within this document
A2: Developing
A3: Accomplished
A4: Exemplary
A5: N/A
