Workbook

Sheet All
A1: GIS # | B1: Type | C1: Street | D1: Latitude | E1: Longitude | F1: Watershed | G1: Water Body | H1: WQ Class | I1: Priority Area | J1: Catchment Area (Acres) | K1: IC Imp Cover (acres) | L1: % IC | M1: Connectivity Level | N1: % DCIA | O1: Priority Ranking | P1: SVF Score
A2: 1-01 | B2: 1P | C2: Woodstock Avenue | F2: 3708 | G2: Little River | H2: B | I2: I, U | J2: 2.49 | O2: Low | P2: 1
A3: 1-02 | B3: 1P | C3: Woodstock Avenue | F3: 3708 | G3: Little River | H3: B | I3: I, U | J3: 14.98 | O3: Low | P3: 1
A4: 1-03 | B4: 1P | C4: Woodstock Ave #1 | F4: 3700 | G4: Little River | H4: B | I4: I, U | J4: 0.85 | O4: Low | P4: 1
A5: 2-01 | B5: 1P | C5: Woodstock Avenue | F5: 3708 | G5: Little River | H5: B | I5: I, U | J5: 2.24 | O5: Low | P5: 1
A6: 2-02 | B6: 1P | C6: Labossiere Street | F6: 3708 | G6: Little River | H6: B | I6: I, U | J6: 1.7 | O6: Low | P6: 1
A7: 2-03 | B7: 1P | C7: Latici Street | F7: 3708 | G7: Wheaton Brook | H7: A | I7: I, U, IC | J7: 2.14 | O7: Low | P7: 1
A8: 2-04 | B8: 1P | C8: Viens Street | F8: 3708 | G8: Wheaton Brook | H8: A | I8: I, U, IC | J8: 2.99 | O8: Low | P8: 1
A9: 2-05 | B9: 1P | C9: Meyers Street | F9: 3708 | G9: Wheaton Brook | H9: A | I9: I, U, IC | J9: 0.19 | O9: Low | P9: 1
A10: 2-06 | B10: 1P | C10: Meyers Street | F10: 3708 | G10: Wheaton Brook | H10: A | I10: I, U, IC | J10: 2.74 | O10: Low | P10: 1
A11: 3-01 | B11: 1P | C11: Bibeault Street | F11: 3700 | G11: Quinebaug River | H11: B | I11: I, U | J11: 2.77 | O11: Low | P11: 1
A12: 3-02 | B12: 1P | C12: David Circle | F12: 3700 | G12: Quinebaug River | H12: B | I12: I, U | J12: 8.68 | O12: Low | P12: 1
A13: 3-03 | B13: 1P | C13: David Circle | F13: 3700 | G13: Quinebaug River | H13: B | I13: I, U | J13: 6.24 | O13: Low | P13: 1
... A17: 3-07 | B17: 1P | C17: David Circle | F17: 3700 | G17: Quinebaug River | H17: B | I17: I, U | J17: 4.55 | O17: Low | P17: 1
A18: 3-08 | B18: 1P | C18: Church Street | F18: 3700 | G18: Quinebaug River | H18: B | I18: I, U | J18: check | O18: Low | P18: 2
A19: 3-09 | B19: 1P | C19: Auburn Street | F19: 3700 | G19: Quinebaug River | H19: B | I19: I, U | J19: 0.72 | O19: Low | P19: 1
A20: 3-10 | B20: 1P | C20: Lafayette Street | F20: 3700 | G20: Quinebaug River | H20: B | I20: I, U | J20: 0.83 | O20: Low | P20: 2
A21: 3-11 | B21: 1P | C21: Dudley Street | F21: 3700 | G21: Quinebaug River | H21: B | I21: I, U | J21: 0.536 | O21: Low | P21: 2
A22: 3-12 | B22: 1P | C22: Church Street | F22: 3700 | G22: Quinebaug River | H22: B | I22: I, U | J22: 3.82 | O22: Low | P22: 1
A23: 6-01 | B23: 1P | C23: Sayles Avenue | F23: 3700 | G23: Little Dam Tavern Brook | H23: A | I23: U, IC | J23: 0.54 | O23: Low | P23: 1
A24: 6-02 | B24: 1P | C24: Sayles Avenue | F24: 3700 | G24: Little Dam Tavern Brook | H24: A | I24: IC | J24: 0.55 | O24: Low | P24: 1
A25: 100-01 | B25: 1P | C25: Park Road | F25: 3700 | G25: Quinebaug River | H25: B | I25: I, U, IC | J25: 5.12 | O25: Low | P25: 0
A26: 100-02 | B26: 1P | C26: Park Road | F26: 3700 | G26: Quinebaug River | H26: B | I26: I, U, IC | J26: 11.79 | O26: Low | P26: 0
A27: 100-03 | B27: 1P | C27: Park Road | F27: 3700 | G27: Quinebaug River | H27: B | I27: I, U, IC | J27: 4.95 | O27: Low | P27: 0
A28: 100-04 | B28: 1P | C28: Park Road | F28: 3700 | G28: Quinebaug River | H28: B | I28: I, U, IC | J28: 50.11 | O28: Low | P28: 0
A29: 101-01 | B29: 1P | C29: Ridge Road | F29: 3700 | G29: Quinebaug River | H29: B | I29: I, IC | J29: 11.44 | O29: Low | P29: 0
A30: 107-01 | B30: 1P | C30: Industrial Park Road | F30: 3700 | G30: Quinebaug River | H30: B | I30: I | J30: 8.19 | O30: Low | P30: 0
... A33: 15-04 | B33: 1P | C33: Woodstock Avenue | F33: 3708 | G33: Wheaton Brook | H33: A | I33: I, U, IC | J33: 12.21 | O33: High | P33: 2
A34: 15-05 | B34: 1P | C34: Woodstock Avenue | F34: 3708 | G34: Wheaton Brook | H34: A | I34: I, U, IC | J34: check | O34: High | P34: 2
A35: 15-06 | B35: 1P | C35: Woodstock Avenue | F35: 3708 | G35: Wheaton Brook | H35: A | I35: I, U, IC | J35: check | O35: High | P35: 2
A36: 15-08 | B36: 1P | C36: Wicker Street | F36: 3708 | G36: Wheaton Brook | H36: A | I36: I, U, IC | J36: 0.2 | O36: Low | P36: 2
A37: 15-09 | B37: 1P | C37: Bonosconi Drive | F37: 3708 | G37: Wheaton Brook | H37: A | I37: I, U, IC | J37: 4.64 | O37: Low | P37: 2
A38: 15-10 | B38: 1P | C38: Hurlbut Street | F38: 3708 | G38: Wheaton Brook | H38: A | I38: I, U, IC | J38: 2.27 | O38: Low | P38: 2
A39: 15-11 | B39: 1P | C39: St. Mary Cemetery | F39: 3708 | G39: Wheaton Brook | H39: A | I39: I, U, IC | J39: 6.45 | O39: Low | P39: 2
A40: 16-03 | B40: 1P | C40: Providence Street | F40: 3700 | G40: Quinebaug River | H40: B | I40: I, U, IC | J40: 5.16 | O40: High | P40: 1
A41: 16-04 | B41: 1P | C41: Toutant hydro | F41: 3700 | G41: Quinebaug River | H41: B | I41: I, U, IC | J41: 29.36 | O41: High | P41: 2
A42: 16-05 | B42: 1P | C42: Powhatten Street | F42: 3700 | G42: Quinebaug River | H42: B | I42: I, U, IC | J42: 1.51 | O42: Low | P42: 1
A43: 16-06 | B43: 1P | C43: Riverside Street | F43: 3700 | G43: Quinebaug River | H43: B | I43: I, U | J43: 1.53 | O43: Low | P43: 1
A44: 16-07 | B44: 1P | C44: Addison Street Ext. | F44: 3700 | G44: Quinebaug River | H44: B | I44: I, U | J44: 0.878 | O44: Low | P44: 1
A45: 16-08 | B45: 1P | C45: Addison Street Ext. | F45: 3700 | G45: Quinebaug River | H45: B | I45: I, U | J45: 1.79 | O45: Low | P45: 1
A46: 17-02 | B46: 1P | C46: School Street | F46: 3700 | G46: Little Dam Tavern Brook | H46: A | I46: U, IC | J46: 96.19 | O46: Low | P46: 0
A47: 17-08 | B47: 1P | C47: Thompson Avenue | F47: 3700 | G47: Little Dam Tavern Brook | H47: A | I47: U, IC | J47: 126.41 | O47: Low | P47: 2
... A77: 31-02 | B77: 1P | C77: Walnut Street | F77: 3700 | G77: Little Dam Tavern Brook | H77: A | I77: IC | J77: 1.18 | O77: Low | P77: 1
A78: 31-03 | B78: 1P | C78: Walnut Street | F78: 3700 | G78: Perry Brook | O78: Low | P78: 1
A79: 31-3A | B79: 1P | C79: Walnut Street | F79: 3700 | G79: Perry Brook | O79: Low | P79: 1
A80: 31-04 | B80: 1P | C80: Walnut Street | F80: 3700 | G80: Perry Brook | O80: Low | P80: 1
A81: 31-05 | B81: 1P | C81: Walnut Street | F81: 3700 | G81: Perry Brook | O81: Low | P81: 1
A82: 31-06 | B82: 1P | C82: Walnut Street | F82: 3700 | G82: Perry Brook | O82: Low | P82: 1
A83: 31-08 | B83: 1P | C83: Walnut Street | F83: 3700 | G83: Perry Brook | O83: Low | P83: 1
A84: 31-09 | B84: 1P | C84: Hawkins Road | F84: 3700 | G84: Little Dam Tavern Brook | H84: A | I84: IC | J84: 1.65 | O84: Low | P84: 1
A85: 31-10 | B85: 1P | C85: Walnut Street | F85: 3700 | G85: Perry Brook | O85: Low | P85: 1
A86: 32-01 | B86: 1P | C86: Hawkins Road | F86: 3700 | G86: Little Dam Tavern Brook | H86: A | I86: IC | J86: 3.6 | O86: Low | P86: 1
A87: 41-01 | B87: 1P | C87: Underwood Road | F87: 3708 | G87: Little River | O87: Low | P87: 1
A88: 41-05 | B88: 1P | C88: Sabin Street | F88: 3708 | G88: Little River | H88: B | I88: U, IC | J88: 6.05 | O88: Low | P88: 1
A89: 41-06 | B89: 1P | C89: Sabin Street | F89: 3708 | G89: Little River | H89: B | I89: I, IC | J89: 6.44 | O89: Low | P89: 2
A90: 41-07 | B90: 1P | C90: Sabin Street | F90: 3708 | G90: Little River | H90: B | I90: I, IC | J90: 100.49 | O90: High | P90: 3
A91: 42-02 | B91: 1P | C91: Pomfret Street/Rte 44 | D91: 41.91518 | E91: 71.91109 | F91: 3700 | G91: Quinebaug River | H91: B | I91: I, U, IC | J91: 4.95 | O91: High | P91: 1
A92: 42-05 | B92: 1P | C92: Pomfret Street/Rte 44 | D92: 41.91362 | E92: 71.91343 | F92: 3700 | G92: Quinebaug River | H92: B | I92: I, U, IC | J92: 1.23 | O92: High | P92: 1
A93: 42-06 | B93: 1P | C93: Church Street | D93: 41.91603 | E93: 71.91266 | F93: 3700 | G93: Quinebaug River | H93: B | I93: I, U, IC | J93: 4.25 | O93: Low | P93: 1
A94: 42-07 | B94: 1P | C94: Wilkinson Street | D94: 41.9152 | E94: 71.90605 | F94: 3700 | G94: Quinebaug River | H94: B | I94: I, U, IC | J94: 5.55 | O94: Low | P94: 1
A95: 42-09 | B95: 1P | C95: Kennedy Drive | D95: 41.91583 | E95: 71.91059 | F95: 3700 | G95: Quinebaug River | H95: B | I95: I, U, IC | J95: 55.41 | O95: High | P95: 2
A96: 42-10 | B96: 1P | C96: Kennedy Drive | D96: 41.91578 | E96: 71.91056 | F96: 3700 | G96: Quinebaug River | H96: B | I96: I, U, IC | J96: 3.56 | O96: High | P96: 2
A97: 42-11 | B97: 1P | C97: Kennedy Drive | D97: 41.91201 | E97: 71.91242 | F97: 3700 | G97: Quinebaug River | H97: B | I97: I, U, IC | J97: 3.44 | O97: High | P97: 1
A98: 42-12 | B98: 1P | C98: Kennedy Drive | D98: 41.91449 | E98: 71.91087 | F98: 3700 | G98: Quinebaug River | H98: B | I98: I, U, IC | J98: 1.15 | O98: High | P98: 1
A99: 42-13 | B99: 1P | C99: Kennedy Drive | D99: 41.91366 | E99: 71.91116 | F99: 3700 | G99: Quinebaug River | H99: B | I99: I, U, IC | J99: 2.03 | O99: High | P99: 1
A100: 42-14 | B100: 1P | C100: Church Street | D100: 41.91715 | E100: 71.91247 | F100: 3700 | G100: Quinebaug River | H100: B | I100: I, U, IC | J100: 6.32 | O100: High | P100: 1
A101: 43-01 | B101: 1P | C101: Flagg Street | F101: 3700 | G101: Perry Brook | H101: A | I101: U | J101: 3.45 | O101: Low | P101: 2
A102: 43-02 | B102: 1P | C102: Flagg Street | F102: 3700 | G102: Perry Brook | H102: A | I102: U | J102: 1.84 | O102: Low | P102: 2
A103: 43-03 | B103: 1P | C103: Florence Street | F103: 3700 | G103: Perry Brook | H103: A | I103: U | J103: 2.73 | O103: Low | P103: 1
A104: 43-04 | B104: 1P | C104: Farrows Street | F104: 3700 | G104: Perry Brook | H104: A | I104: U | J104: 6.24 | O104: Low | P104: 0
A105: 43-05 | B105: 1P | C105: Farrows Street | F105: 3700 | G105: Perry Brook | H105: A | I105: U | J105: 13.97 | O105: Low | P105: 0
A106: 43-06 | B106: 1P | C106: Farrows Street | F106: 3700 | G106: Perry Brook | H106: A | I106: U | J106: 21.36 | O106: Low | P106: 0
A107: 43-07 | B107: 1P | C107: Flagg Street | F107: 3700 | G107: Perry Brook | H107: A | I107: U | J107: 3.86 | O107: Low | P107: 1
A108: 53-01 | B108: 1P | C108: Gary School Road | F108: 3700 | G108: Durkee Brook | H108: A | I108: I, U | J108: 4.73 | O108: Low | P108: 1
A109: 55-01 | B109: 1P | C109: Kennedy Drive | D109: 41.90872 | E109: 71.91136 | F109: 3700 | G109: Quinebaug River | H109: B | I109: I, U, IC | J109: 4.73 | O109: Low | P109: 1
A110: 55-02 | B110: 1P | C110: Kennedy Drive | D110: 41.90843 | E110: 71.90815 | F110: 3700 | G110: Quinebaug River | H110: B | I110: I, U, IC | J110: 8.98 | O110: High | P110: 3
A111: 55-03 | B111: 1P | C111: Kennedy Drive | D111: 41.90873 | E111: 71.90899 | F111: 3700 | G111: Quinebaug River | H111: B | I111: I, U, IC | J111: 2.95 | O111: High | P111: 2
A112: 55-04 | B112: 1P | C112: Kennedy Drive | D112: 41.90868 | E112: 71.9095 | F112: 3700 | G112: Quinebaug River | H112: B | I112: I, U, IC | J112: 30.47 | O112: High | P112: 1
A113: 55-05 | B113: 1P | C113: Kennedy Drive | D113: 41.90821 | E113: 71.90782 | F113: 3700 | G113: Quinebaug River | H113: B | I113: I, U, IC | J113: 6.27 | O113: High | P113: 1
A114: 55-06 | B114: 1P | C114: Quinebaug Ave | D114: 41.90842 | E114: 71.91181 | F114: 3700 | G114: Quinebaug River | H114: B | I114: I, U, IC | J114: 25.16 | O114: High | P114: 1
A115: 55-07 | B115: 1P | C115: Kennedy Drive | D115: 41.90659 | E115: 71.90587 | F115: 3700 | G115: Quinebaug River | H115: B | I115: I, U | J115: 52.67 | O115: High | P115: 1
A116: 55-08 | B116: 1P | C116: Park Street | D116: 41.90748 | E116: 71.90375 | F116: 3700 | G116: Quinebaug River | H116: B | I116: I, U, IC | J116: 2.64 | O116: Low | P116: 1
A117: 55-09 | B117: 1P | C117: Kennedy Drive | D117: 41.91122 | E117: 71.9128 | F117: 3700 | G117: Quinebaug River | H117: B | I117: I, U, IC | J117: 1.49 | O117: High | P117: 1
A118: 55-10 | B118: 1P | C118: River Road | D118: 41.90684 | E118: 71.91077 | F118: 3700 | G118: Quinebaug River | H118: B | I118: I, IC | J118: 2.06 | O118: Low | P118: 1
A119: 56-02 | B119: 1P | C119: South Main Street | F119: 3700 | G119: Quinebaug River | H119: B | I119: I, U, IC | J119: 6.18 | O119: Low | P119: 1
A120: 56-03 | B120: 1P | C120: South Main Street | F120: 3700 | G120: Quinebaug River | H120: B | I120: I, U, IC | J120: 9.09 | O120: Low | P120: 1
A121: 56-04 | B121: 1P | C121: Heritage Road | F121: 3700 | G121: Perry Brook | H121: A | I121: U | J121: 0.29 | O121: Low | P121: 1
A122: 56-05 | B122: 1P | C122: Heritage Road | F122: 3700 | G122: Perry Brook | H122: A | I122: U | J122: 10.84 | O122: Low | P122: 1
A123: 56-06 | B123: 1P | C123: Heritage Road | F123: 3700 | G123: Perry Brook | H123: A | I123: U | J123: 0.29 | O123: Low | P123: 1
A124: 56-08 | B124: 1P | C124: Memorial Terrace | F124: 3700 | G124: Perry Brook | H124: A | I124: U | J124: 3.62 | O124: Low | P124: 1
A125: 67-02 | B125: 1P | C125: Kelsie's Way | F125: 3700 | G125: Quinebaug River | H125: B | I125: I, IC | J125: 4.55 | O125: Low | P125: 0
A126: 68-01 | B126: 1P | C126: River Road | F126: 3700 | G126: Quinebaug River | H126: B | I126: I, IC | J126: 1.66 | O126: Low | P126: 1
A127: 68-02 | B127: 1P | C127: Kennedy Drive | F127: 3700 | G127: Quinebaug River | H127: B | I127: I, IC | O127: High | P127: 1
A128: 69-01 | B128: 1P | C128: Kennedy Drive | F128: 3700 | G128: Quinebaug River | H128: B | I128: I, U, IC | J128: 0.35 | O128: Low | P128: 1
A129: 69-03 | B129: 1P | C129: South Main Street | F129: 3700 | G129: Culver Brook | H129: A | I129: U, IC | J129: 1.22 | O129: Low | P129: 1
A130: 69-04 | B130: 1P | C130: South Main Street | F130: 3700 | G130: Culver Brook | H130: A | I130: U, IC | J130: 0.72 | O130: Low | P130: 1
A131: 69-05 | B131: 1P | C131: Kennedy Drive | F131: 3700 | G131: Quinebaug River | H131: B | I131: U, IC | J131: 1.61 | O131: High | P131: 1
A132: 69-06 | B132: 1P | C132: Kennedy Drive | F132: 3700 | G132: Quinebaug River | H132: B | I132: U, IC | J132: 0.84 | O132: High | P132: 1
A133: 80-02 | B133: 1P | C133: St. James Place | F133: 3700 | G133: Quinebaug River | H133: B | I133: I, IC | J133: 5.54 | O133: Low | P133: 1
A134: 82-01 | B134: 1P | C134: Park Street | F134: 3700 | G134: Culver Brook | H134: A | I134: U, IC | J134: 8.67 | O134: Low | P134: 1
...

Sheet Dry
A1: GIS # | B1: Receiving Water | C1: Watershed | D1: Dry Weather Inspection Date | E1: Outfall Submerged? | F1: If yes, identify upstream structure | G1: Outfall Type | H1: Outfall Material | I1: Outfall Condition | J1: Pipe Shape | K1: Pipe Size | L1: Latitude | M1: Longitude | N1: Evidence of Flow | O1: Visual Evidence of Illicit Discharge | P1: Olfactory Evidence of Illicit Discharge | Q1: Comments | R1: Photo
A2: 1 01 | B2: Little River | C2: 3708 | D2: 44364 | E2: No | F2: NA | G2: Pipe | H2: Concrete | I2: Good | J2: Rounded | K2: 24" | N2: Yes* | O2: No | P2: No | Q2: Moderate Flow
A3: 1 02 | B3: Little River | C3: 3708 | D3: 44364 | E3: No | F3: NA | G3: Pipe | H3: Concrete | I3: Good | J3: Rounded | K3: 24" | N3: Yes* | O3: No | P3: No
A4: 1 03 | B4: Little River | C4: 3708 | D4: 44364 | E4: No | F4: NA | G4: Pipe | H4: Concrete | I4: Good | J4: Rounded | K4: 18" | N4: No | O4: No | P4: No
A5: 2 02 | B5: Little River | C5: 3708 | D5: 44364 | E5: No | F5: NA | G5: Pipe | H5: Concrete | I5: Good | J5: Rounded | K5: 15" | N5: No | O5: No | P5: No
A6: 2 03 | B6: Wheaton Brook | C6: 3708 | D6: 44354 | E6: No | F6: NA | G6: Pipe | H6: Concrete | I6: Poor | J6: Rounded | K6: 15" | N6: No | O6: No | P6: No | Q6: Needs cleaning
A7: 2 05 | B7: Wheaton Brook | C7: 3708 | D7: 44364 | E7: No | F7: NA | G7: Pipe | H7: Corrugated HDPE | I7: Good | J7: Rounded | K7: 12" | N7: No | O7: No | P7: No
A8: 2 06 | B8: Wheaton Brook | C8: 3708 | D8: 44364 | E8: No | F8: NA | G8: Pipe | H8: Corrugated HDPE | I8: Good | J8: Rounded | K8: 15" | N8: No | O8: No | P8: No
A9: 3 01 | B9: Quinebaug River | C9: 3700 | D9: 44354 | E9: No | F9: NA | G9: Pipe | H9: Concrete | I9: Good | J9: Rounded | K9: 15" | N9: No | O9: No | P9: No
A10: 3 02 | B10: Quinebaug River | C10: 3700 | D10: 44354 | E10: No | F10: NA | G10: Pipe | H10: Concrete | I10: Good | J10: Rounded | K10: 24" | N10: Yes* | O10: Yes | P10: No | Q10: No Odor, Clear, Some Foam
A11: 3 03 | B11: Quinebaug River | C11: 3700 | D11: 44354 | E11: No | F11: NA | G11: Pipe | H11: Corrugated Metal | I11: Good | J11: Rounded | K11: 15" | N11: No | O11: No | P11: No
A12: 3 04 | B12: Quinebaug River | C12: 3700 | D12: 44354 | E12: No | F12: NA | G12: Pipe | H12: Concrete | I12: Poor | J12: Rounded | K12: 15" | N12: Yes* | O12: Yes | P12: Yes | Q12: Rebar, Faint Sulfur, Clear, Slight Petroleum
A13: 3 05 | B13: Quinebaug River | C13: 3700 | D13: 44354 | E13: No | F13: NA | G13: Pipe | H13: Concrete | I13: Good | J13: Rounded | K13: 15" | N13: No | O13: No | P13: No
A14: 3 06 | B14: Quinebaug River | C14: 3700 | D14: 44354 | E14: No | F14: NA | G14: Pipe | H14: Concrete | I14: Fair | J14: Rounded | K14: 30" | N14: No | O14: No | P14: No
A15: 3 07 | B15: Quinebaug River | C15: 3700 | D15: 44354 | E15: No | F15: NA | G15: Pipe | H15: Corrugated HDPE | I15: Good | J15: Rounded | K15: 15" | N15: Yes* | O15: Yes | P15: Yes | Q15: Faint Musty Odor, Orange, Foam, Mineral
A16: 3 08 | B16: Quinebaug River | C16: 3700 | D16: 44354 | E16: No | F16: NA | G16: Pipe | H16: Corrugated Alum. | I16: Fair | J16: Rounded | K16: 15" | N16: No | O16: No | P16: No
A17: 3 10 | B17: Quinebaug River | C17: 3700 | D17: 44354 | E17: No | F17: NA | G17: Pipe | H17: Concrete | I17: Good | J17: Rounded | K17: 15" | N17: No | O17: No | P17: No
A18: 6 01 | B18: Little Dam Tavern | C18: 3700 | D18: 44375 | E18: No | F18: NA | G18: Pipe | H18: Concrete | I18: Good | J18: Rounded | K18: 15" | N18: No | O18: No | P18: No
A19: 14-01 | B19: Little River | C19: 3708 | D19: 44168 | E19: No | F19: NA | G19: Pipe | H19: Concrete | I19: Good | J19: Rounded | K19: 15" | N19: No | O19: No | P19: No
A20: 15-08 | B20: Wheaton Brook | C20: 3708 | D20: 44168 | E20: No | F20: NA | G20: Pipe | H20: Corrugated Metal | I20: Good | J20: Rounded | K20: 12" | N20: No | O20: No | P20: No
A21: 15-09 | B21: Wheaton Brook | C21: 3708 | D21: 44364 | E21: No | F21: NA | G21: Pipe | H21: Concrete | I21: Good | J21: Rounded | K21: 24" | N21: Yes* | O21: No | P21: No | Q21: No Odor, Orange, Moderate Flow, Slight Tint
A22: 16-05 | B22: Quinebaug River | C22: 3700 | D22: 44364 | E22: No | F22: NA | G22: Pipe | H22: Corrugated Metal | I22: Good | J22: Rounded | K22: 15" | N22: No | O22: No | P22: No
A23: 16-08 | B23: Quinebaug River | C23: 3700 | D23: 44354 | E23: No | F23: NA | G23: Pipe | H23: Corrugated Metal | I23: Good | J23: Rounded | K23: 12" | N23: No | O23: No | P23: No
A24: 18-07 | B24: Little Dam Tavern | C24: 3700 | D24: 44375 | E24: No | F24: NA | G24: Pipe | H24: Concrete | I24: Good | J24: Rounded | K24: 15" | N24: No | O24: No | P24: No | Q24: Needs cleaning
A25: 19-04 | B25: Little Dam Tavern | C25: 3700 | D25: 44375 | E25: No | F25: NA | G25: Pipe | H25: Corrugated HDPE | I25: Good | J25: Rounded | K25: 15" | N25: No | O25: No | P25: No
A26: 28-01 | B26: Little River | C26: 3708 | D26: 44375 | E26: No | F26: NA | G26: Pipe | H26: Concrete | I26: Good | J26: Rounded | K26: 24" | N26: No | O26: No | P26: No | Q26: Large rocks block outfall
A27: 28-02 | B27: Quinebaug River | C27: 3700 | D27: 44354 | E27: No | F27: NA | G27: Pipe | H27: Corrugated HDPE | I27: Good | J27: Rounded | K27: 18" | N27: No | O27: No | P27: No
A28: 28-03 | B28: Wheaton Brook | C28: 3708 | D28: 44168 | E28: No | F28: NA | G28: Pipe | H28: Corrugated Metal | I28: Good | J28: Rounded | K28: 15" | N28: No | O28: No | P28: No
A29: 28-04 | B29: Wheaton Brook | C29: 3708 | D29: 44168 | E29: No | F29: NA | G29: Pipe | H29: Corrugated HDPE | I29: Good | J29: Rounded | K29: 15" | N29: No | O29: No | P29: No
A30: 28-06 | B30: Wheaton Brook | C30: 3708 | D30: 44168 | E30: No | F30: NA | G30: Pipe | H30: Concrete | I30: Good | J30: Rounded | K30: 15" | N30: No | O30: No | P30: No
A31: 29-02 | B31: Quinebaug River | C31: 3700 | D31: 44371 | E31: No | F31: NA | G31: Pipe | H31: Concrete | I31: ? | J31: Rounded | K31: 12" | N31: No | O31: No | P31: No | Q31: Can not locate outfall, upstream dry
A32: 29-04 | B32: Quinebaug River | C32: 3700 | D32: 44371 | E32: No | F32: NA | G32: Pipe | H32: Concrete | I32: Good | J32: Rounded | K32: 12" | N32: No | O32: No | P32: No
A33: 29-05 | B33: Quinebaug River | C33: 3700 | D33: 44371 | E33: No | F33: NA | G33: Pipe | H33: Concrete | I33: Good | J33: Rounded | K33: 12" | N33: No | O33: No | P33: No
A34: 29-10 | B34: Quinebaug River | C34: 3700 | D34: 44371 | E34: No | F34: NA | G34: Pipe | H34: Concrete | I34: Good | J34: Rounded | K34: 15" | N34: No | O34: No | P34: No
A35: 29-12 | B35: Quinebaug River | C35: 3700 | D35: 44371 | E35: No | F35: NA | G35: Pipe | H35: Concrete | I35: Good | J35: Rounded | K35: 12" | N35: No | O35: No | P35: No | Q35: Can not locate outfall, upstream dry
A36: 29-13 | B36: Quinebaug River | C36: 3700 | D36: 44371 | E36: No | F36: NA | G36: Pipe | H36: Concrete | I36: Fair | J36: Rounded | K36: 12" | N36: No | O36: No | P36: No
A37: 30-02 | B37: Perry Brook | C37: 3700 | D37: 44364 | E37: No | F37: NA | G37: Pipe | H37: Concrete | I37: Fair | J37: Rounded | K37: 18" | N37: No | O37: No | P37: No
A38: 30-03 | B38: Perry Brook | C38: 3700 | D38: 44364 | E38: No | F38: NA | G38: Pipe | H38: Concrete | I38: Good | J38: Rounded | K38: 30" | N38: No | O38: No | P38: No
A39: 31-02 | B39: Little Dam Tavern | C39: 3700 | D39: 44375 | E39: No | F39: NA | G39: Pipe | H39: Corrugated Metal | I39: Good | J39: Rounded | K39: 12" | N39: No | O39: No | P39: No
A40: 31-03 | B40: Perry Brook | C40: 3700 | D40: 44375 | E40: No | F40: NA | G40: Pipe | H40: Concrete | I40: Good | J40: Rounded | K40: 30" | N40: No | O40: No | P40: No
A41: 31-03A | B41: Perry Brook | C41: 3700 | D41: 44375 | E41: No | F41: NA | G41: Pipe | H41: Concrete | I41: Good | J41: Rounded | K41: 15" | N41: No | O41: No | P41: No
A42: 31-04 | B42: Little Dam Tavern | C42: 3700 | D42: 44375 | E42: No | F42: NA | G42: Pipe | H42: Concrete | I42: Good | J42: Rounded | K42: 12" | N42: No | O42: No | P42: No
A43: 31-05 | B43: Little Dam Tavern | C43: 3700 | D43: 44375 | E43: No | F43: NA | G43: Pipe | H43: Concrete | I43: Good | J43: Rounded | K43: 15" | N43: No | O43: No | P43: No
A44: 31-06 | B44: Perry Brook | C44: 3700 | D44: 44375 | E44: No | F44: NA | G44: Pipe | H44: Corrugated Metal | I44: Good | J44: Rounded | K44: 15" | N44: No | O44: No | P44: No
A45: 31-08 | B45: Perry Brook | C45: 3700 | D45: 44375 | E45: No | F45: NA | G45: Pipe | H45: Corrugated Metal | I45: Good | J45: Rounded | K45: 15" | N45: No | O45: No | P45: No
A46: 31-10 | B46: Perry Brook | C46: 3700 | D46: 44375 | E46: No | F46: NA | G46: Pipe | H46: Concrete | I46: Good | J46: Rounded | K46: 15" | N46: No | O46: No | P46: No | Q46: Needs cleaning
A47: 32-01 | B47: Little Dam Tavern | C47: 3700 | D47: 44375 | E47: No | F47: NA | G47: Pipe | H47: Concrete | I47: Good | J47: Rounded | K47: 15" | N47: No | O47: No | P47: No
A48: 41-04 | B48: Little River | C48: 3708 | D48: 44375 | E48: No | F48: NA | G48: Pipe | H48: Corrugated HDPE | I48: Good | J48: Rounded | K48: 15" | N48: No | O48: No | P48: No | Q48: Standing Water
A49: 41-2AB | B49: Little River | C49: 3708 | D49: 12/3/22020 | E49: No | F49: NA | G49: Pipes 2 | H49: Cast Iron | I49: Fair | J49: Rounded | K49: 6" | N49: No | O49: No | P49: No
A50: 41-06 | B50: Little River | C50: 3708 | D50: 44168 | E50: No | F50: NA | G50: Pipe | H50: Clay | I50: Fair | J50: Rounded | K50: 10" | N50: No | O50: No | P50: No
A51: 41-07 | B51: Little River | C51: 3708 | D51: 44168 | E51: No | F51: NA | G51: Pipe | H51: Corrugated Metal | I51: Good | J51: Rounded | K51: 30" | N51: No | O51: No | P51: No
A52: 41-08 | B52: Little River | C52: 3708 | D52: 44168 | E52: No | F52: NA | G52: Pipe | H52: PVC | I52: Good | J52: Rounded | K52: 8" | N52: No | O52: No | P52: No
A53: 42-02 | B53: Quinebaug River | C53: 3700 | D53: 43815 | E53: No | F53: NA | G53: Pipe | H53: Corrugated Metal | I53: Good | J53: Rounded | K53: 15" | L53: =All!D91 -> 41.91518 | M53: =All!E91 -> 71.91109 | N53: No | O53: No | P53: No | R53: Dry Weather Screening Photos\Outfall photos\42-2.JPG
A54: 42-05 | B54: Quinebaug River | C54: 3700 | D54: 43815 | E54: No, could not locate | F54: Catch Basin | H54: Concrete | J54: Rounded | K54: 15" | L54: =All!D92 -> 41.91362 | M54: =All!E92 -> 71.91343 | N54: No | O54: No | P54: No | Q54: Area covered in dumped leaves, need to expose | R54: Dry Weather Screening Photos\Outfall photos\42-5cb.JPG
A55: 42-06 | B55: Quinebaug River | C55: 3700 | D55: 43815 | E55: No | F55: NA | G55: Pipe | H55: Corrugated Metal | I55: Good | J55: Rounded | K55: 30" | L55: =All!D93 -> 41.91603 | M55: =All!E93 -> 71.91266 | N55: No | O55: No | P55: No | R55: Dry Weather Screening Photos\Outfall photos\42-6.JPG
A56: 42-07 | B56: Quinebaug River | C56: 3700 | D56: 43815 | E56: No, could not locate | F56: Catch Basin | H56: Corrugated Plastic | J56: Rounded | K56: 18" | L56: =All!D94 -> 41.9152 | M56: =All!E94 -> 71.90605 | N56: No | O56: No | P56: No | Q56: Overgrown vegetation. Need to expose outfall
A57: 42-09 | B57: Quinebaug River | C57: 3700 | D57: 43815 | E57: Yes | F57: Manhole | G57: End Wall | H57: Concrete | J57: Rounded | K57: 48" | L57: =All!D95 -> 41.91583 | M57: =All!E95 -> 71.91059 | Q57: High water level. Need traffic control to access MH
A58: 42-10 | B58: Quinebaug River | C58: 3700 | D58: 43815 | E58: Yes | F58: Manhole | G58: End Wall | H58: Concrete | J58: Rounded | K58: 15" | L58: =All!D96 -> 41.91578 | M58: =All!E96 -> 71.91056 | Q58: High water level. Need traffic control to access MH
A59: 42-11 | B59: Quinebaug River | C59: 3700 | D59: 43815 | E59: Maybe, could not locate | F59: Catch Basin | H59: Concrete | J59: Rounded | K59: 15" | L59: =All!D97 -> 41.91201 | M59: =All!E97 -> 71.91242 | N59: No | O59: No | P59: No | Q59: High water level, dense vegetation, need to expose outfall | R59: Dry Weather Screening Photos\Outfall photos\42-11.JPG
A60: 42-12 | B60: Quinebaug River | C60: 3700 | D60: 43815 | E60: No | F60: NA | G60: Pipe | H60: Concrete | I60: Poor | J60: Rounded | K60: 12" | L60: =All!D98 -> 41.91449 | M60: =All!E98 -> 71.91087 | N60: No | O60: No | P60: No | Q60: Need to remove debris from end of pipe and swale | R60: Dry Weather Screening Photos\Outfall photos\42-12.JPG
A61: 42-13 | B61: Quinebaug River | C61: 3700 | D61: 43815 | E61: Maybe, could not locate | F61: Catch Basin | H61: Concrete | J61: Rounded | K61: 18" | L61: =All!D99 -> 41.91366 | M61: =All!E99 -> 71.91116 | N61: Yes* | O61: No | P61: No | Q61: Dense, overgrown vegetation. Need to expose outfall | R61: Dry Weather Screening Photos\Outfall photos\42-13.jpg
A62: 42-13A | B62: Quinebaug River | C62: 3700 | D62: 44168 | E62: No | F62: NA | G62: Pipe in Pipe | H62: Concrete | I62: Good | J62: Rounded | K62: 15" | N62: No | O62: No | P62: No
A63: 42-14 | B63: Quinebaug River | C63: 3700 | D63: 43815 | E63: No | F63: NA | G63: Pipe | H63: Concrete | I63: Good | J63: Rounded | K63: 18" | L63: =All!D100 -> 41.91715 | M63: =All!E100 -> 71.91247 | N63: No | O63: No | P63: No | R63: Dry Weather Screening Photos\Outfall photos\42-14.JPG
A64: 43-01 | B64: Perry Brook | C64: 3700 | D64: 44364 | E64: No | F64: NA | G64: Pipe | H64: Corrugated HDPE | I64: Good | J64: Rounded | K64: 12" | N64: No | O64: No | P64: No
A65: 43-02 | B65: Perry Brook | C65: 3700 | D65: 44364 | E65: No | F65: NA | G65: Pipe | H65: Corrugated HDPE | I65: Good | J65: Rounded | K65: 12" | N65: No | O65: No | P65: No
A66: 43-03 | B66: Perry Brook | C66: 3700 | D66: 44364 | E66: No | F66: NA | G66: Pipe | H66: Concrete | J66: Rounded | K66: 15" | N66: No | O66: No | P66: No | Q66: Can not locate outfall, upstream dry
A67: 43-04 | B67: Perry Brook | C67: 3700 | D67: 44364 | E67: No | F67: NA | G67: Pipe | H67: Concrete | I67: Fair | J67: Rounded | K67: 15" | N67: No | O67: No | P67: No | Q67: Needs cleaning
A68: 43-05 | B68: Perry Brook | C68: 3700 | D68: 44364 | E68: No | F68: NA | G68: Pipe | H68: Concrete | I68: Fair | J68: Rounded | K68: 15" | N68: No | O68: No | P68: No
A69: 43-06 | B69: Perry Brook | C69: 3700 | D69: 44364 | E69: No | F69: NA | G69: Pipe | H69: Clay? | I69: ? | J69: Rounded | K69: 12" | N69: No | O69: No | P69: No | Q69: Can not locate outfall, upstream dry
A70: 55-01 | B70: Quinebaug River | C70: 3700 | D70: 43815 | E70: Yes | F70: Catch Basin | G70: End Wall | H70: Concrete | I70: Good | J70: Rounded | K70: 24" | L70: =All!D109 -> 41.90872 | M70: =All!E109 -> 71.91136 | N70: No | O70: No | P70: No | R70: Dry Weather Screening Photos\Outfall photos\55-1.jpg
A71: 55-02 | B71: Quinebaug River | C71: 3700 | D71: 43815 | E71: No | F71: NA | G71: Pipe | H71: Corrugated Metal | I71: Good | J71: Rounded | K71: 24" | L71: =All!D110 -> 41.90843 | M71: =All!E110 -> 71.90815 | N71: No | O71: No | P71: No | R71: Dry Weather Screening Photos\Outfall photos\55-2.JPG
A72: 55-03 | B72: Quinebaug River | C72: 3700 | D72: 43815 | E72: No | F72: NA | G72: End Wall | H72: Concrete | I72: Good | J72: Rounded | K72: 15" | L72: =All!D111 -> 41.90873 | M72: =All!E111 -> 71.90899 | N72: No | O72: No | P72: No
A73: 55-04 | B73: Quinebaug River | C73: 3700 | D73: 43815 | E73: Yes | F73: Catch Basin | G73: End Wall | H73: Concrete | I73: Poor | J73: Rounded | K73: 24" | L73: =All!D112 -> 41.90868 | M73: =All!E112 -> 71.9095 | N73: No | O73: No | P73: No | Q73: Tree fell on top of outfall, damaged | R73: Dry Weather Screening Photos\Outfall photos\55-4.jpg
A74: 55-05 | B74: Quinebaug River | C74: 3700 | D74: 43815 | E74: No | F74: NA | G74: Pipe | H74: Corrugated Metal | I74: Good | J74: Rounded | K74: 15" | L74: =All!D113 -> 41.90821 | M74: =All!E113 -> 71.90782 | N74: No | O74: No | P74: No | R74: Dry Weather Screening Photos\Outfall photos\55-5.jpg
A75: 55-06 | B75: Quinebaug River | C75: 3700 | D75: 43815 | E75: No | F75: NA | G75: End Wall | H75: Concrete | I75: Good | J75: Rounded | K75: 30" | L75: =All!D114 -> 41.90842 | M75: =All!E114 -> 71.91181 | N75: Yes* | O75: No | P75: No | R75: Dry Weather Screening Photos\Outfall photos\55-6.JPG
A76: 55-07 | B76: Quinebaug River | C76: 3700 | D76: 43815 | E76: No | F76: NA | G76: Flared End | H76: Concrete | I76: Fair | J76: Rounded | K76: 15" | L76: =All!D115 -> 41.90659 | M76: =All!E115 -> 71.90587 | N76: No | O76: No | P76: No | Q76: Belly sag in center of pipe from upgradient CB | R76: Dry Weather Screening Photos\Outfall photos\55-7.JPG
A77: 55-08 | B77: Quinebaug River | C77: 3700 | D77: 43815 | E77: No, could not locate | F77: Catch Basin | L77: =All!D116 -> 41.90748 | M77: =All!E116 -> 71.90375 | N77: No | O77: No | P77: No | Q77: Dense, overgrown vegetation. Need to expose outfall
A78: 55-09 | B78: Quinebaug River | C78: 3700 | D78: 43815 | E78: Maybe,could not locate | F78: Catch Basin | H78: Concrete | J78: Rounded | K78: 15" | L78: =All!D117 -> 41.91122 | M78: =All!E117 -> 71.9128 | N78: No | O78: No | P78: No | R78: Dry Weather Screening Photos\Outfall photos\55-9.JPG
A79: 55-09 | B79: Quinebaug River | C79: 3700 | D79: 44168 | E79: Yes | F79: NA | G79: Pipe | H79: Clay | I79: Good | J79: Rounded | K79: 24" | N79: No | O79: No | P79: No
A80: 55-9A | B80: Quinebaug River | C80: 3700 | D80: 44168 | E80: No | F80: NA | G80: Pipe | H80: Concrete | I80: Good | J80: Rounded | K80: 15" | N80: No | O80: No | P80: No
A81: 55-10 | B81: Quinebaug River | C81: 3700 | D81: 43815 | E81: No | F81: NA | G81: Pipe | H81: Concrete | I81: Fair | J81: Rounded | K81: 18" | L81: =All!D115 -> 41.90659 | M81: =All!E115 -> 71.90587 | N81: Yes* | O81: No | P81: No | Q81: Outfall needs jetting | R81: Dry Weather Screening Photos\Outfall photos\55-10.JPG
A82: 56-02 | B82: Quinebaug River | C82: 3700 | D82: 44371 | E82: No | F82: NA | G82: Pipe | H82: Corrugated Metal | I82: Good | J82: Rounded | K82: 24" | N82: No | O82: No | P82: No
A83: 68-02 | B83: Quinebaug River | C83: 3700 | D83: 44371 | E83: No | F83: NA | G83: Pipe | H83: Concrete | I83: Good | J83: Rounded | K83: 15" | N83: No | O83: No | P83: No
A84: 69-05 | B84: Quinebaug River | C84: 3700 | D84: 44371 | E84: No | F84: NA | G84: Pipe | H84: Corrugated Metal | I84: Good | J84: Rounded | K84: 15" | N84: No | O84: No | P84: No
A85: 69-06 | B85: Quinebaug River | C85: 3700 | D85: 44374 | Q85: Can not locate outfall, Upstream dry
A89: * Sample results from flow provided on Analysis Sheet

Sheet Analysis
A1: GIS# | B1: Ammonia mg/L | C1: Surfactants mg/L | D1: Chlorine mg/L | E1: Conductivity μS/cm | F1: Temp. C/F | G1: Salinity ppm | H1: Bacteria /100ml | I1: pH | J1: Comment | K1: Follow up needed
A2: Benchmark | B2: ≥0.5 | C2: ≥0.25 | D2: >0.02 | E2: >2,000 | F2: NA | G2: NA | H2: 576
A3: 1 01 | B3: 0.0753 | C3: <0.05 | D3: 0 | E3: 30 | F3: 19C | G3: 0.01 | H3: >24196 | I3: 6.06 | J3: 44364 | K3: yes
A4: 1 02 | B4: 0.106 | C4: <0.05 | D4: 0 | E4: 141 | F4: 21C | G4: 0.06 | H4: >24196 | I4: 6.7 | J4: 44364 | K4: yes
A5: 3 02 | B5: 0.137 | C5: <0.05 | D5: 0 | E5: 290 | F5: 21.5C | G5: 0.15 | H5: 2603 | I5: 6.1 | J5: 44354 | K5: yes
A6: 3 04 | B6: 0.197 | C6: <0.05 | D6: 0 | E6: 922 | F6: 22.2C | G6: 0.46 | H6: >24196 | I6: 5.9 | J6: 44354 | K6: yes
A7: 3 07 | B7: 1.06 | C7: <0.05 | D7: 0 | E7: 1072 | F7: 23.9C | G7: 0.54 | H7: 24196 | I7: 6 | J7: 44354 | K7: yes
A8: 15-09 | B8: 0.205 | C8: <0.05 | D8: 0 | E8: 63 | F8: 18.6C | G8: 0.03 | H8: >24196 | I8: 5.39 | J8: 44364 | K8: yes
A9: MH-42-9-1 | B9: 0 | C9: 3.7 | D9: 0 | E9: 1564 | F9: 12C | I9: 7.57 | J9: 44509 | K9: yes
A10: MH-42-9-2 | B10: 0 | C10: 0.33 | D10: 0 | E10: 1015 | F10: 13.8C | I10: 7.18 | J10: 11/9/2021 11:30AM | K10: yes
A11: MH-42-9-2 | B11: 0 | C11: 0.24 | D11: 0 | E11: 1304 | F11: 12.9C | I11: 7.37 | J11: 11/9/2021 12:00PM | K11: yes
A12: MH-42-10-1 | B12: 0 | C12: 0.48 | D12: 0 | E12: 3070 | F12: 13.8C | I12: 7.22 | J12: 44509 | K12: yes
A13: CB-42-10-13 | B13: 0.5 | C13: 2.5 | D13: 0 | E13: 1194 | F13: 16.2C | I13: 6.71 | J13: 44509 | K13: yes
A14: 42-13 | B14: <0.05 | C14: <0.05 | D14: <0.05 | E14: 677 | F14: 43.6F | G14: 434 | H14: <1 | J14: 43815
A15: CB-42-13A-1 | B15: 0 | C15: 0.26 | D15: 0 | E15: 915 | F15: 11.2C | I15: 7.8 | J15: 11/2/2021 10:30AM Flow
A16: CB-42-13A-1 | J16: 11/2/2021 3:00PM No flow, No sign
A17: CB-42-13A-2 | B17: 0 | C17: 0.24 | D17: 0 | E17: 810 | F17: 12.5C | I17: 6.9 | J17: 44502
A18: CB-42-13A-3 | B18: 0 | C18: 0.18 | D18: 0 | E18: 816 | F18: 13.5C | I18: 6.53 | J18: 44502
A19: CB-42-13A-4 | J19: 11/2/2021 9:00AM No flow, No sign
A20: CB-42-13A-4 | B20: 0 | C20: 0.28 | D20: 0 | E20: 815 | F20: 12.4C | I20: 6.9 | J20: 11/2/2021 12:00PM Flow
A21: 42-13A | B21: 0.15 | C21: <0.05 | D21: <0.05 | E21: 843 | F21: 11.5C | G21: 0.42 | H21: <10 | I21: 8.81 | J21: 44168 | K21: yes
A22: MH-55-4-2 | B22: 0 | C22: 0.15 | D22: 0 | E22: 1213 | F22: 14.8C | I22: 9.1 | J22: 44489
A23: 55-06 | B23: <0.05 | C23: <0.05 | D23: <0.05 | E23: 1778 | F23: 44.1F | G23: 1140 | H23: 59.5 | J23: 43815
A24: 55-10 | B24: <0.05 | C24: <0.05 | D24: <0.05 | E24: 2562 | F24: 40.27F | G24: 1640 | H24: 8.4 | J24: 43815 | K24: yes
A26: Catchments are considered highly likely to contain illicit discharges from sanitary sources when either of the following combinations of sampling results is detected:
A27: Ammonia ≥ 0.5 mg/L, surfactants ≥ 0.25 mg/L, and bacteria levels >576/100 ml
A28: Ammonia ≥ 0.5 mg/L, surfactants ≥ 0.25 mg/L, and detectable levels of chlorine
