Workbook

Sheet All
A1: GIS # | B1: Type | C1: Street | D1: Latitude | E1: Longitude | F1: Watershed | G1: Water Body | H1: WQ Class | I1: Priority Area | J1: Catchment Area (Acres) | K1: IC Imp Cover (acres) | L1: % IC | M1: Connectivity Level | N1: % DCIA | O1: Priority Ranking | P1: SVF Score
A2: 1-01 | B2: 1P | C2: Woodstock Avenue | F2: 3708 | G2: Little River | H2: B | I2: I, U | J2: 2.49 | O2: Low | P2: 1
A3: 1-02 | B3: 1P | C3: Woodstock Avenue | F3: 3708 | G3: Little River | H3: B | I3: I, U | J3: 14.98 | O3: Low | P3: 1
A4: 1-03 | B4: 1P | C4: Woodstock Ave #1 | F4: 3700 | G4: Little River | H4: B | I4: I, U | J4: 0.85 | O4: Low | P4: 1
A5: 2-01 | B5: 1P | C5: Woodstock Avenue | F5: 3708 | G5: Little River | H5: B | I5: I, U | J5: 2.24 | O5: Low | P5: 1
A6: 2-02 | B6: 1P | C6: Labossiere Street | F6: 3708 | G6: Little River | H6: B | I6: I, U | J6: 1.7 | O6: Low | P6: 1
A7: 2-03 | B7: 1P | C7: Latici Street | F7: 3708 | G7: Wheaton Brook | H7: A | I7: I, U, IC | J7: 2.14 | O7: Low | P7: 1
A8: 2-04 | B8: 1P | C8: Viens Street | F8: 3708 | G8: Wheaton Brook | H8: A | I8: I, U, IC | J8: 2.99 | O8: Low | P8: 1
A9: 2-05 | B9: 1P | C9: Meyers Street | F9: 3708 | G9: Wheaton Brook | H9: A | I9: I, U, IC | J9: 0.19 | O9: Low | P9: 1
A10: 2-06 | B10: 1P | C10: Meyers Street | F10: 3708 | G10: Wheaton Brook | H10: A | I10: I, U, IC | J10: 2.74 | O10: Low | P10: 1
A11: 3-01 | B11: 1P | C11: Bibeault Street | F11: 3700 | G11: Quinebaug River | H11: B | I11: I, U | J11: 2.77 | O11: Low | P11: 1
A12: 3-02 | B12: 1P | C12: David Circle | F12: 3700 | G12: Quinebaug River | H12: B | I12: I, U | J12: 8.68 | O12: Low | P12: 1
A13: 3-03 | B13: 1P | C13: David Circle | F13: 3700 | G13: Quinebaug River | H13: B | I13: I, U | J13: 6.24 | O13: Low | P13: 1
... A17: 3-07 | B17: 1P | C17: David Circle | F17: 3700 | G17: Quinebaug River | H17: B | I17: I, U | J17: 4.55 | O17: Low | P17: 1
A18: 3-08 | B18: 1P | C18: Church Street | F18: 3700 | G18: Quinebaug River | H18: B | I18: I, U | J18: check | O18: Low | P18: 2
A19: 3-09 | B19: 1P | C19: Auburn Street | F19: 3700 | G19: Quinebaug River | H19: B | I19: I, U | J19: 0.72 | O19: Low | P19: 1
A20: 3-10 | B20: 1P | C20: Lafayette Street | F20: 3700 | G20: Quinebaug River | H20: B | I20: I, U | J20: 0.83 | O20: Low | P20: 2
A21: 3-11 | B21: 1P | C21: Dudley Street | F21: 3700 | G21: Quinebaug River | H21: B | I21: I, U | J21: 0.536 | O21: Low | P21: 2
A22: 3-12 | B22: 1P | C22: Church Street | F22: 3700 | G22: Quinebaug River | H22: B | I22: I, U | J22: 3.82 | O22: Low | P22: 1
A23: 6-01 | B23: 1P | C23: Sayles Avenue | F23: 3700 | G23: Little Dam Tavern Brook | H23: A | I23: U, IC | J23: 0.54 | O23: Low | P23: 1
A24: 6-02 | B24: 1P | C24: Sayles Avenue | F24: 3700 | G24: Little Dam Tavern Brook | H24: A | I24: IC | J24: 0.55 | O24: Low | P24: 1
A25: 100-01 | B25: 1P | C25: Park Road | F25: 3700 | G25: Quinebaug River | H25: B | I25: I, U, IC | J25: 5.12 | O25: Low | P25: 0
A26: 100-02 | B26: 1P | C26: Park Road | F26: 3700 | G26: Quinebaug River | H26: B | I26: I, U, IC | J26: 11.79 | O26: Low | P26: 0
A27: 100-03 | B27: 1P | C27: Park Road | F27: 3700 | G27: Quinebaug River | H27: B | I27: I, U, IC | J27: 4.95 | O27: Low | P27: 0
A28: 100-04 | B28: 1P | C28: Park Road | F28: 3700 | G28: Quinebaug River | H28: B | I28: I, U, IC | J28: 50.11 | O28: Low | P28: 0
A29: 101-01 | B29: 1P | C29: Ridge Road | F29: 3700 | G29: Quinebaug River | H29: B | I29: I, IC | J29: 11.44 | O29: Low | P29: 0
A30: 107-01 | B30: 1P | C30: Industrial Park Road | F30: 3700 | G30: Quinebaug River | H30: B | I30: I | J30: 8.19 | O30: Low | P30: 0
... A33: 15-04 | B33: 1P | C33: Woodstock Avenue | F33: 3708 | G33: Wheaton Brook | H33: A | I33: I, U, IC | J33: 12.21 | O33: High | P33: 2
A34: 15-05 | B34: 1P | C34: Woodstock Avenue | F34: 3708 | G34: Wheaton Brook | H34: A | I34: I, U, IC | J34: check | O34: High | P34: 2
A35: 15-06 | B35: 1P | C35: Woodstock Avenue | F35: 3708 | G35: Wheaton Brook | H35: A | I35: I, U, IC | J35: check | O35: High | P35: 2
A36: 15-08 | B36: 1P | C36: Wicker Street | F36: 3708 | G36: Wheaton Brook | H36: A | I36: I, U, IC | J36: 0.2 | O36: Low | P36: 2
A37: 15-09 | B37: 1P | C37: Bonosconi Drive | F37: 3708 | G37: Wheaton Brook | H37: A | I37: I, U, IC | J37: 4.64 | O37: Low | P37: 2
A38: 15-10 | B38: 1P | C38: Hurlbut Street | F38: 3708 | G38: Wheaton Brook | H38: A | I38: I, U, IC | J38: 2.27 | O38: Low | P38: 2
A39: 15-11 | B39: 1P | C39: St. Mary Cemetery | F39: 3708 | G39: Wheaton Brook | H39: A | I39: I, U, IC | J39: 6.45 | O39: Low | P39: 2
A40: 16-03 | B40: 1P | C40: Providence Street | F40: 3700 | G40: Quinebaug River | H40: B | I40: I, U, IC | J40: 5.16 | O40: High | P40: 1
A41: 16-04 | B41: 1P | C41: Toutant hydro | F41: 3700 | G41: Quinebaug River | H41: B | I41: I, U, IC | J41: 29.36 | O41: High | P41: 2
A42: 16-05 | B42: 1P | C42: Powhatten Street | F42: 3700 | G42: Quinebaug River | H42: B | I42: I, U, IC | J42: 1.51 | O42: Low | P42: 1
A43: 16-06 | B43: 1P | C43: Riverside Street | F43: 3700 | G43: Quinebaug River | H43: B | I43: I, U | J43: 1.53 | O43: Low | P43: 1
A44: 16-07 | B44: 1P | C44: Addison Street Ext. | F44: 3700 | G44: Quinebaug River | H44: B | I44: I, U | J44: 0.878 | O44: Low | P44: 1
A45: 16-08 | B45: 1P | C45: Addison Street Ext. | F45: 3700 | G45: Quinebaug River | H45: B | I45: I, U | J45: 1.79 | O45: Low | P45: 1
...

Sheet Dry
A1: GIS # | B1: Receiving Water | C1: Watershed | D1: Dry Weather Inspection Date | E1: Outfall Submerged? | F1: If yes, identify upstream structure | G1: Outfall Type | H1: Outfall Material | I1: Outfall Condition | J1: Pipe Shape | K1: Pipe Size | L1: Latitude | M1: Longitude | N1: Evidence of Flow | O1: Visual Evidence of Illicit Discharge | P1: Olfactory Evidence of Illicit Discharge | Q1: Comments | R1: Photo
A2: 1 01 | B2: Little River | C2: 3708 | D2: 44364 | E2: No | F2: NA | G2: Pipe | H2: Concrete | I2: Good | J2: Rounded | K2: 24" | N2: Yes* | O2: No | P2: No | Q2: Moderate Flow
A3: 1 02 | B3: Little River | C3: 3708 | D3: 44364 | E3: No | F3: NA | G3: Pipe | H3: Concrete | I3: Good | J3: Rounded | K3: 24" | N3: Yes* | O3: No | P3: No
A4: 1 03 | B4: Little River | C4: 3708 | D4: 44364 | E4: No | F4: NA | G4: Pipe | H4: Concrete | I4: Good | J4: Rounded | K4: 18" | N4: No | O4: No | P4: No
A5: 2 02 | B5: Little River | C5: 3708 | D5: 44364 | E5: No | F5: NA | G5: Pipe | H5: Concrete | I5: Good | J5: Rounded | K5: 15" | N5: No | O5: No | P5: No
A6: 2 03 | B6: Wheaton Brook | C6: 3708 | D6: 44354 | E6: No | F6: NA | G6: Pipe | H6: Concrete | I6: Poor | J6: Rounded | K6: 15" | N6: No | O6: No | P6: No | Q6: Needs cleaning
A7: 2 05 | B7: Wheaton Brook | C7: 3708 | D7: 44364 | E7: No | F7: NA | G7: Pipe | H7: Corrugated HDPE | I7: Good | J7: Rounded | K7: 12" | N7: No | O7: No | P7: No
A8: 2 06 | B8: Wheaton Brook | C8: 3708 | D8: 44364 | E8: No | F8: NA | G8: Pipe | H8: Corrugated HDPE | I8: Good | J8: Rounded | K8: 15" | N8: No | O8: No | P8: No
A9: 3 01 | B9: Quinebaug River | C9: 3700 | D9: 44354 | E9: No | F9: NA | G9: Pipe | H9: Concrete | I9: Good | J9: Rounded | K9: 15" | N9: No | O9: No | P9: No
A10: 3 02 | B10: Quinebaug River | C10: 3700 | D10: 44354 | E10: No | F10: NA | G10: Pipe | H10: Concrete | I10: Good | J10: Rounded | K10: 24" | N10: Yes* | O10: Yes | P10: No | Q10: No Odor, Clear, Some Foam
A11: 3 03 | B11: Quinebaug River | C11: 3700 | D11: 44354 | E11: No | F11: NA | G11: Pipe | H11: Corrugated Metal | I11: Good | J11: Rounded | K11: 15" | N11: No | O11: No | P11: No
A12: 3 04 | B12: Quinebaug River | C12: 3700 | D12: 44354 | E12: No | F12: NA | G12: Pipe | H12: Concrete | I12: Poor | J12: Rounded | K12: 15" | N12: Yes* | O12: Yes | P12: Yes | Q12: Rebar, Faint Sulfur, Clear, Slight Petroleum
A13: 3 05 | B13: Quinebaug River | C13: 3700 | D13: 44354 | E13: No | F13: NA | G13: Pipe | H13: Concrete | I13: Good | J13: Rounded | K13: 15" | N13: No | O13: No | P13: No
A14: 3 06 | B14: Quinebaug River | C14: 3700 | D14: 44354 | E14: No | F14: NA | G14: Pipe | H14: Concrete | I14: Fair | J14: Rounded | K14: 30" | N14: No | O14: No | P14: No
A15: 3 07 | B15: Quinebaug River | C15: 3700 | D15: 44354 | E15: No | F15: NA | G15: Pipe | H15: Corrugated HDPE | I15: Good | J15: Rounded | K15: 15" | N15: Yes* | O15: Yes | P15: Yes | Q15: Faint Musty Odor, Orange, Foam, Mineral
A16: 3 08 | B16: Quinebaug River | C16: 3700 | D16: 44354 | E16: No | F16: NA | G16: Pipe | H16: Corrugated Alum. | I16: Fair | J16: Rounded | K16: 15" | N16: No | O16: No | P16: No
A17: 3 10 | B17: Quinebaug River | C17: 3700 | D17: 44354 | E17: No | F17: NA | G17: Pipe | H17: Concrete | I17: Good | J17: Rounded | K17: 15" | N17: No | O17: No | P17: No
A18: 6 01 | B18: Little Dam Tavern | C18: 3700 | D18: 44375 | E18: No | F18: NA | G18: Pipe | H18: Concrete | I18: Good | J18: Rounded | K18: 15" | N18: No | O18: No | P18: No
A19: 14-01 | B19: Little River | C19: 3708 | D19: 44168 | E19: No | F19: NA | G19: Pipe | H19: Concrete | I19: Good | J19: Rounded | K19: 15" | N19: No | O19: No | P19: No
A20: 15-08 | B20: Wheaton Brook | C20: 3708 | D20: 44168 | E20: No | F20: NA | G20: Pipe | H20: Corrugated Metal | I20: Good | J20: Rounded | K20: 12" | N20: No | O20: No | P20: No
A21: 15-09 | B21: Wheaton Brook | C21: 3708 | D21: 44364 | E21: No | F21: NA | G21: Pipe | H21: Concrete | I21: Good | J21: Rounded | K21: 24" | N21: Yes* | O21: No | P21: No | Q21: No Odor, Orange, Moderate Flow, Slight Tint
A22: 16-05 | B22: Quinebaug River | C22: 3700 | D22: 44364 | E22: No | F22: NA | G22: Pipe | H22: Corrugated Metal | I22: Good | J22: Rounded | K22: 15" | N22: No | O22: No | P22: No
A23: 16-08 | B23: Quinebaug River | C23: 3700 | D23: 44354 | E23: No | F23: NA | G23: Pipe | H23: Corrugated Metal | I23: Good | J23: Rounded | K23: 12" | N23: No | O23: No | P23: No
A24: 18-07 | B24: Little Dam Tavern | C24: 3700 | D24: 44375 | E24: No | F24: NA | G24: Pipe | H24: Concrete | I24: Good | J24: Rounded | K24: 15" | N24: No | O24: No | P24: No | Q24: Needs cleaning
A25: 19-04 | B25: Little Dam Tavern | C25: 3700 | D25: 44375 | E25: No | F25: NA | G25: Pipe | H25: Corrugated HDPE | I25: Good | J25: Rounded | K25: 15" | N25: No | O25: No | P25: No
A26: 28-01 | B26: Little River | C26: 3708 | D26: 44375 | E26: No | F26: NA | G26: Pipe | H26: Concrete | I26: Good | J26: Rounded | K26: 24" | N26: No | O26: No | P26: No | Q26: Large rocks block outfall
A27: 28-02 | B27: Quinebaug River | C27: 3700 | D27: 44354 | E27: No | F27: NA | G27: Pipe | H27: Corrugated HDPE | I27: Good | J27: Rounded | K27: 18" | N27: No | O27: No | P27: No
A28: 28-03 | B28: Wheaton Brook | C28: 3708 | D28: 44168 | E28: No | F28: NA | G28: Pipe | H28: Corrugated Metal | I28: Good | J28: Rounded | K28: 15" | N28: No | O28: No | P28: No
A29: 28-04 | B29: Wheaton Brook | C29: 3708 | D29: 44168 | E29: No | F29: NA | G29: Pipe | H29: Corrugated HDPE | I29: Good | J29: Rounded | K29: 15" | N29: No | O29: No | P29: No
A30: 28-06 | B30: Wheaton Brook | C30: 3708 | D30: 44168 | E30: No | F30: NA | G30: Pipe | H30: Concrete | I30: Good | J30: Rounded | K30: 15" | N30: No | O30: No | P30: No
A31: 29-02 | B31: Quinebaug River | C31: 3700 | D31: 44371 | E31: No | F31: NA | G31: Pipe | H31: Concrete | I31: ? | J31: Rounded | K31: 12" | N31: No | O31: No | P31: No | Q31: Can not locate outfall, upstream dry
A32: 29-04 | B32: Quinebaug River | C32: 3700 | D32: 44371 | E32: No | F32: NA | G32: Pipe | H32: Concrete | I32: Good | J32: Rounded | K32: 12" | N32: No | O32: No | P32: No
A33: 29-05 | B33: Quinebaug River | C33: 3700 | D33: 44371 | E33: No | F33: NA | G33: Pipe | H33: Concrete | I33: Good | J33: Rounded | K33: 12" | N33: No | O33: No | P33: No
A34: 29-10 | B34: Quinebaug River | C34: 3700 | D34: 44371 | E34: No | F34: NA | G34: Pipe | H34: Concrete | I34: Good | J34: Rounded | K34: 15" | N34: No | O34: No | P34: No
A35: 29-12 | B35: Quinebaug River | C35: 3700 | D35: 44371 | E35: No | F35: NA | G35: Pipe | H35: Concrete | I35: Good | J35: Rounded | K35: 12" | N35: No | O35: No | P35: No | Q35: Can not locate outfall, upstream dry
A36: 29-13 | B36: Quinebaug River | C36: 3700 | D36: 44371 | E36: No | F36: NA | G36: Pipe | H36: Concrete | I36: Fair | J36: Rounded | K36: 12" | N36: No | O36: No | P36: No
A37: 30-02 | B37: Perry Brook | C37: 3700 | D37: 44364 | E37: No | F37: NA | G37: Pipe | H37: Concrete | I37: Fair | J37: Rounded | K37: 18" | N37: No | O37: No | P37: No
A38: 30-03 | B38: Perry Brook | C38: 3700 | D38: 44364 | E38: No | F38: NA | G38: Pipe | H38: Concrete | I38: Good | J38: Rounded | K38: 30" | N38: No | O38: No | P38: No
A39: 31-02 | B39: Little Dam Tavern | C39: 3700 | D39: 44375 | E39: No | F39: NA | G39: Pipe | H39: Corrugated Metal | I39: Good | J39: Rounded | K39: 12" | N39: No | O39: No | P39: No
A40: 31-03 | B40: Perry Brook | C40: 3700 | D40: 44375 | E40: No | F40: NA | G40: Pipe | H40: Concrete | I40: Good | J40: Rounded | K40: 30" | N40: No | O40: No | P40: No
...

Sheet Analysis
A1: GIS# | B1: Ammonia mg/L | C1: Surfactants mg/L | D1: Chlorine mg/L | E1: Conductivity μS/cm | F1: Temp. C/F | G1: Salinity ppm | H1: Bacteria /100ml | I1: pH | J1: Comment | K1: Follow up needed
A2: Benchmark | B2: ≥0.5 | C2: ≥0.25 | D2: >0.02 | E2: >2,000 | F2: NA | G2: NA | H2: 576
A3: 1 01 | B3: 0.0753 | C3: <0.05 | D3: 0 | E3: 30 | F3: 19C | G3: 0.01 | H3: >24196 | I3: 6.06 | J3: 44364 | K3: yes
A4: 1 02 | B4: 0.106 | C4: <0.05 | D4: 0 | E4: 141 | F4: 21C | G4: 0.06 | H4: >24196 | I4: 6.7 | J4: 44364 | K4: yes
A5: 3 02 | B5: 0.137 | C5: <0.05 | D5: 0 | E5: 290 | F5: 21.5C | G5: 0.15 | H5: 2603 | I5: 6.1 | J5: 44354 | K5: yes
A6: 3 04 | B6: 0.197 | C6: <0.05 | D6: 0 | E6: 922 | F6: 22.2C | G6: 0.46 | H6: >24196 | I6: 5.9 | J6: 44354 | K6: yes
A7: 3 07 | B7: 1.06 | C7: <0.05 | D7: 0 | E7: 1072 | F7: 23.9C | G7: 0.54 | H7: 24196 | I7: 6 | J7: 44354 | K7: yes
A8: 15-09 | B8: 0.205 | C8: <0.05 | D8: 0 | E8: 63 | F8: 18.6C | G8: 0.03 | H8: >24196 | I8: 5.39 | J8: 44364 | K8: yes
A9: MH-42-9-1 | B9: 0 | C9: 3.7 | D9: 0 | E9: 1564 | F9: 12C | I9: 7.57 | J9: 44509 | K9: yes
A10: MH-42-9-2 | B10: 0 | C10: 0.33 | D10: 0 | E10: 1015 | F10: 13.8C | I10: 7.18 | J10: 11/9/2021 11:30AM | K10: yes
A11: MH-42-9-2 | B11: 0 | C11: 0.24 | D11: 0 | E11: 1304 | F11: 12.9C | I11: 7.37 | J11: 11/9/2021 12:00PM | K11: yes
A12: MH-42-10-1 | B12: 0 | C12: 0.48 | D12: 0 | E12: 3070 | F12: 13.8C | I12: 7.22 | J12: 44509 | K12: yes
A13: CB-42-10-13 | B13: 0.5 | C13: 2.5 | D13: 0 | E13: 1194 | F13: 16.2C | I13: 6.71 | J13: 44509 | K13: yes
A14: 42-13 | B14: <0.05 | C14: <0.05 | D14: <0.05 | E14: 677 | F14: 43.6F | G14: 434 | H14: <1 | J14: 43815
A15: CB-42-13A-1 | B15: 0 | C15: 0.26 | D15: 0 | E15: 915 | F15: 11.2C | I15: 7.8 | J15: 11/2/2021 10:30AM Flow
A16: CB-42-13A-1 | J16: 11/2/2021 3:00PM No flow, No sign
A17: CB-42-13A-2 | B17: 0 | C17: 0.24 | D17: 0 | E17: 810 | F17: 12.5C | I17: 6.9 | J17: 44502
A18: CB-42-13A-3 | B18: 0 | C18: 0.18 | D18: 0 | E18: 816 | F18: 13.5C | I18: 6.53 | J18: 44502
A19: CB-42-13A-4 | J19: 11/2/2021 9:00AM No flow, No sign
A20: CB-42-13A-4 | B20: 0 | C20: 0.28 | D20: 0 | E20: 815 | F20: 12.4C | I20: 6.9 | J20: 11/2/2021 12:00PM Flow
A21: 42-13A | B21: 0.15 | C21: <0.05 | D21: <0.05 | E21: 843 | F21: 11.5C | G21: 0.42 | H21: <10 | I21: 8.81 | J21: 44168 | K21: yes
A22: MH-55-4-2 | B22: 0 | C22: 0.15 | D22: 0 | E22: 1213 | F22: 14.8C | I22: 9.1 | J22: 44489
A23: 55-06 | B23: <0.05 | C23: <0.05 | D23: <0.05 | E23: 1778 | F23: 44.1F | G23: 1140 | H23: 59.5 | J23: 43815
A24: 55-10 | B24: <0.05 | C24: <0.05 | D24: <0.05 | E24: 2562 | F24: 40.27F | G24: 1640 | H24: 8.4 | J24: 43815 | K24: yes
A26: Catchments are considered highly likely to contain illicit discharges from sanitary sources when either of the following combinations of sampling results is detected:
A27: Ammonia ≥ 0.5 mg/L, surfactants ≥ 0.25 mg/L, and bacteria levels >576/100 ml
A28: Ammonia ≥ 0.5 mg/L, surfactants ≥ 0.25 mg/L, and detectable levels of chlorine
