Workbook
Name _1_2005_06_RE_CERTIFICATIO: #REF!
Name _1_2005_06_RE_CERTIFICATIO: #REF!
Name Add_Ons: #REF!
Name Add_Ons: #REF!
Name Add_Ons: #REF!
Name Add_Ons: #REF!
Name Add_Ons: #REF!
Name Att_COE: #REF!
Name Att_COE: #REF!
Name Att_COE: #REF!
Name Att_COE: #REF!
Name Att_COE: #REF!
Name Att_CS: #REF!
Name Att_CS: #REF!
Name Att_CS: #REF!
Name Att_CS: #REF!
Name Att_CS: #REF!
Name CALSTARS_to_FI_Cal_Crosswalk: #REF!
Name CALSTARS_to_FI_Cal_Crosswalk: #REF!
Name CALSTARS_to_FI_Cal_Crosswalk: #REF!
Name CALSTARS_to_FI_Cal_Crosswalk: #REF!
Name CharterInfoReport: #REF!
Name CharterInfoReport: #REF!
Name closed: #REF!
Name closed: #REF!
Name CNIPS: #REF!
Name CNIPS: #REF!
Name CNIPS: #REF!
Name CNIPS: #REF!
Name CNVAP: #REF!
Name CNVAP: #REF!
Name CNVAP: #REF!
Name CNVAP: #REF!
Name County_UPP: #REF!
Name County_UPP: #REF!
Name County_UPP: #REF!
Name County_UPP: #REF!
Name County_UPP: #REF!
Name Crosswalk: #REF!
Name Crosswalk: #REF!
Name Crosswalk: #REF!
Name Crosswalk: #REF!
Name Current_Period: #REF!
Name Current_Period: #REF!
Name Current_Period: #REF!
Name Current_Period: #REF!
Name Current_Period: #REF!
Name CY_P2: #REF!
Name CY_P2: #REF!
Name CY_P2: #REF!
Name CY_P2: #REF!
Name CY_P2: #REF!
Name Debbie: #REF!
Name Debbie: #REF!
Name Debbie: #REF!
Name Debbie: #REF!
Name District_Count: #REF!
Name District_Count: #REF!
Name District_Count: #REF!
Name District_Count: #REF!

Sheet Summary
A1: San Diego County LEA's
A2: County Office of Education and School Districts
A3: Summary - COVID funding assistance
A5: County | B5: County Code | C5: District Code | D5: School Code | E5: Local Educational Agency | F5: District Type | G5: ESSER I (Federal CARES Act) | H5: ESSER II (Federal CRRSA Act) | I5: ESSER III (Federal ARP Act) | J5: SB 117 COVID-19 LEA Response Funds (State) | K5: Learning Loss Mitigation Funds (State & Federal) | L5: In Person Instruction Grant (State) | M5: Expanded Learning Opportunities Grant (State & Federal) | N5: Total COVID funding assistance (State & Federal)
A6: San Diego | B6: 37 | C6: 10371 | D6: 0000000 | E6: San Diego Co. Office of Education | F6: County Office | G6: =VLOOKUP(Table39[[#This Row],[District Code]],'20-21 ESSER I Alloc'!D:K,8,FALSE) -> 1335032 | H6: =VLOOKUP(Table39[[#This Row],[District Code]],'20-21 ESSER II Alloc'!D:M,10,FALSE) -> 5534823 | I6: =VLOOKUP(Table39[[#This Row],[District Code]],'2020-21 ESSER III Alloc'!D:U,18,FALSE) -> 12439346 | J6: =VLOOKUP(Table39[[#This Row],[District Code]],'SB 117 Allocation'!C:AA,25,FALSE) -> 28732 | K6: =VLOOKUP(Table39[[#This Row],[District Code]],'fy20 LLMF Allocations'!B:V,21,FALSE) -> 4262384 | L6: =VLOOKUP(Table39[[#This Row],[District Code]],'IPI Grant -Rev Alloc'!B:K,10,FALSE) -> 3077761 | M6: =VLOOKUP(Table39[[#This Row],[District Code]],'ELO RevAlloc (All LEAs)'!B:W,22,FALSE) -> 6051201 | N6: =SUM(G6:M6) -> 32729279
A7: San Diego | B7: 37 | C7: 67967 | D7: 0000000 | E7: Alpine Union Elementary | F7: Elementary | G7: =VLOOKUP(Table39[[#This Row],[District Code]],'20-21 ESSER I Alloc'!D:K,8,FALSE) -> 120437 | H7: =VLOOKUP(Table39[[#This Row],[District Code]],'20-21 ESSER II Alloc'!D:M,10,FALSE) -> 595344 | I7: =VLOOKUP(Table39[[#This Row],[District Code]],'2020-21 ESSER III Alloc'!D:U,18,FALSE) -> 1338017 | J7: =VLOOKUP(Table39[[#This Row],[District Code]],'SB 117 Allocation'!C:AA,25,FALSE) -> 27230 | K7: =VLOOKUP(Table39[[#This Row],[District Code]],'fy20 LLMF Allocations'!B:V,21,FALSE) -> 889992 | L7: =VLOOKUP(Table39[[#This Row],[District Code]],'IPI Grant -Rev Alloc'!B:K,10,FALSE) -> 543987 | M7: =VLOOKUP(Table39[[#This Row],[District Code]],'ELO RevAlloc (All LEAs)'!B:W,22,FALSE) -> 1056056 | N7: =SUM(G7:M7) -> 4571063
A8: San Diego | B8: 37 | C8: 67983 | D8: 0000000 | E8: Borrego Springs Unified | F8: Unified | G8: =VLOOKUP(Table39[[#This Row],[District Code]],'20-21 ESSER I Alloc'!D:K,8,FALSE) -> 88385 | H8: =VLOOKUP(Table39[[#This Row],[District Code]],'20-21 ESSER II Alloc'!D:M,10,FALSE) -> 305429 | I8: =VLOOKUP(Table39[[#This Row],[District Code]],'2020-21 ESSER III Alloc'!D:U,18,FALSE) -> 686443 | J8: =VLOOKUP(Table39[[#This Row],[District Code]],'SB 117 Allocation'!C:AA,25,FALSE) -> 6470 | K8: =VLOOKUP(Table39[[#This Row],[District Code]],'fy20 LLMF Allocations'!B:V,21,FALSE) -> 526478 | L8: =VLOOKUP(Table39[[#This Row],[District Code]],'IPI Grant -Rev Alloc'!B:K,10,FALSE) -> 182790 | M8: =VLOOKUP(Table39[[#This Row],[District Code]],'ELO RevAlloc (All LEAs)'!B:W,22,FALSE) -> 330662 | N8: =SUM(G8:M8) -> 2126657
A9: San Diego | B9: 37 | C9: 67991 | D9: 0000000 | E9: Cajon Valley Union | F9: Elementary | G9: =VLOOKUP(Table39[[#This Row],[District Code]],'20-21 ESSER I Alloc'!D:K,8,FALSE) -> 5002169 | H9: =VLOOKUP(Table39[[#This Row],[District Code]],'20-21 ESSER II Alloc'!D:M,10,FALSE) -> 23739702 | I9: =VLOOKUP(Table39[[#This Row],[District Code]],'2020-21 ESSER III Alloc'!D:U,18,FALSE) -> 53354251 | J9: =VLOOKUP(Table39[[#This Row],[District Code]],'SB 117 Allocation'!C:AA,25,FALSE) -> 276306 | K9: =VLOOKUP(Table39[[#This Row],[District Code]],'fy20 LLMF Allocations'!B:V,21,FALSE) -> 15671264 | L9: =VLOOKUP(Table39[[#This Row],[District Code]],'IPI Grant -Rev Alloc'!B:K,10,FALSE) -> 6098009 | M9: =VLOOKUP(Table39[[#This Row],[District Code]],'ELO RevAlloc (All LEAs)'!B:W,22,FALSE) -> 11260113 | N9: =SUM(G9:M9) -> 115401814
A10: San Diego | B10: 37 | C10: 68007 | D10: 0000000 | E10: Cardiff Elementary | F10: Elementary | G10: =VLOOKUP(Table39[[#This Row],[District Code]],'20-21 ESSER I Alloc'!D:K,8,FALSE) -> 0 | H10: =VLOOKUP(Table39[[#This Row],[District Code]],'20-21 ESSER II Alloc'!D:M,10,FALSE) -> 243125 | I10: =VLOOKUP(Table39[[#This Row],[District Code]],'2020-21 ESSER III Alloc'!D:U,18,FALSE) -> 546415 | J10: =VLOOKUP(Table39[[#This Row],[District Code]],'SB 117 Allocation'!C:AA,25,FALSE) -> 11563 | K10: =VLOOKUP(Table39[[#This Row],[District Code]],'fy20 LLMF Allocations'!B:V,21,FALSE) -> 261932 | L10: =VLOOKUP(Table39[[#This Row],[District Code]],'IPI Grant -Rev Alloc'!B:K,10,FALSE) -> 204501 | M10: =VLOOKUP(Table39[[#This Row],[District Code]],'ELO RevAlloc (All LEAs)'!B:W,22,FALSE) -> 369937 | N10: =SUM(G10:M10) -> 1637473
A11: San Diego | B11: 37 | C11: 68023 | D11: 0000000 | E11: Chula Vista Elementary | F11: Elementary | G11: =VLOOKUP(Table39[[#This Row],[District Code]],'20-21 ESSER I Alloc'!D:K,8,FALSE) -> 4489787 | H11: =VLOOKUP(Table39[[#This Row],[District Code]],'20-21 ESSER II Alloc'!D:M,10,FALSE) -> 19825466 | I11: =VLOOKUP(Table39[[#This Row],[District Code]],'2020-21 ESSER III Alloc'!D:U,18,FALSE) -> 44557127 | J11: =VLOOKUP(Table39[[#This Row],[District Code]],'SB 117 Allocation'!C:AA,25,FALSE) -> 390507 | K11: =VLOOKUP(Table39[[#This Row],[District Code]],'fy20 LLMF Allocations'!B:V,21,FALSE) -> 18370365 | L11: =VLOOKUP(Table39[[#This Row],[District Code]],'IPI Grant -Rev Alloc'!B:K,10,FALSE) -> 7754520 | M11: =VLOOKUP(Table39[[#This Row],[District Code]],'ELO RevAlloc (All LEAs)'!B:W,22,FALSE) -> 14850991 | N11: =SUM(G11:M11) -> 110238763
A12: San Diego | B12: 37 | C12: 68031 | D12: 0000000 | E12: Coronado Unified | F12: Unified | G12: =VLOOKUP(Table39[[#This Row],[District Code]],'20-21 ESSER I Alloc'!D:K,8,FALSE) -> 143045 | H12: =VLOOKUP(Table39[[#This Row],[District Code]],'20-21 ESSER II Alloc'!D:M,10,FALSE) -> 576642 | I12: =VLOOKUP(Table39[[#This Row],[District Code]],'2020-21 ESSER III Alloc'!D:U,18,FALSE) -> 1295984 | J12: =VLOOKUP(Table39[[#This Row],[District Code]],'SB 117 Allocation'!C:AA,25,FALSE) -> 51373 | K12: =VLOOKUP(Table39[[#This Row],[District Code]],'fy20 LLMF Allocations'!B:V,21,FALSE) -> 1302534 | L12: =VLOOKUP(Table39[[#This Row],[District Code]],'IPI Grant -Rev Alloc'!B:K,10,FALSE) -> 1019814 | M12: =VLOOKUP(Table39[[#This Row],[District Code]],'ELO RevAlloc (All LEAs)'!B:W,22,FALSE) -> 1845813 | N12: =SUM(G12:M12) -> 6235205
A13: San Diego | B13: 37 | C13: 68049 | D13: 0000000 | E13: Dehesa Elementary | F13: Elementary | G13: =VLOOKUP(Table39[[#This Row],[District Code]],'20-21 ESSER I Alloc'!D:K,8,FALSE) -> 18296 | H13: =VLOOKUP(Table39[[#This Row],[District Code]],'20-21 ESSER II Alloc'!D:M,10,FALSE) -> 74808 | I13: =VLOOKUP(Table39[[#This Row],[District Code]],'2020-21 ESSER III Alloc'!D:U,18,FALSE) -> 168128 | J13: =VLOOKUP(Table39[[#This Row],[District Code]],'SB 117 Allocation'!C:AA,25,FALSE) -> 2461 | K13: =VLOOKUP(Table39[[#This Row],[District Code]],'fy20 LLMF Allocations'!B:V,21,FALSE) -> 112945 | L13: =VLOOKUP(Table39[[#This Row],[District Code]],'IPI Grant -Rev Alloc'!B:K,10,FALSE) -> 48871 | M13: =VLOOKUP(Table39[[#This Row],[District Code]],'ELO RevAlloc (All LEAs)'!B:W,22,FALSE) -> 93405 | N13: =SUM(G13:M13) -> 518914
A14: San Diego | B14: 37 | C14: 68056 | D14: 0000000 | E14: Del Mar Union Elementary | F14: Elementary | G14: =VLOOKUP(Table39[[#This Row],[District Code]],'20-21 ESSER I Alloc'!D:K,8,FALSE) -> 107469 | H14: =VLOOKUP(Table39[[#This Row],[District Code]],'20-21 ESSER II Alloc'!D:M,10,FALSE) -> 810415 | I14: =VLOOKUP(Table39[[#This Row],[District Code]],'2020-21 ESSER III Alloc'!D:U,18,FALSE) -> 1821384 | J14: =VLOOKUP(Table39[[#This Row],[District Code]],'SB 117 Allocation'!C:AA,25,FALSE) -> 71989 | K14: =VLOOKUP(Table39[[#This Row],[District Code]],'fy20 LLMF Allocations'!B:V,21,FALSE) -> 2073293 | L14: =VLOOKUP(Table39[[#This Row],[District Code]],'IPI Grant -Rev Alloc'!B:K,10,FALSE) -> 1307100 | M14: =VLOOKUP(Table39[[#This Row],[District Code]],'ELO RevAlloc (All LEAs)'!B:W,22,FALSE) -> 2367504 | N14: =SUM(G14:M14) -> 8559154
A15: San Diego | B15: 37 | C15: 68080 | D15: 0000000 | E15: Encinitas Union Elementary | F15: Elementary | G15: =VLOOKUP(Table39[[#This Row],[District Code]],'20-21 ESSER I Alloc'!D:K,8,FALSE) -> 348141 | H15: =VLOOKUP(Table39[[#This Row],[District Code]],'20-21 ESSER II Alloc'!D:M,10,FALSE) -> 1376206 | I15: =VLOOKUP(Table39[[#This Row],[District Code]],'2020-21 ESSER III Alloc'!D:U,18,FALSE) -> 3092980 | J15: =VLOOKUP(Table39[[#This Row],[District Code]],'SB 117 Allocation'!C:AA,25,FALSE) -> 90004 | K15: =VLOOKUP(Table39[[#This Row],[District Code]],'fy20 LLMF Allocations'!B:V,21,FALSE) -> 2603945 | L15: =VLOOKUP(Table39[[#This Row],[District Code]],'IPI Grant -Rev Alloc'!B:K,10,FALSE) -> 1680433 | M15: =VLOOKUP(Table39[[#This Row],[District Code]],'ELO RevAlloc (All LEAs)'!B:W,22,FALSE) -> 3049852 | N15: =SUM(G15:M15) -> 12241561
A16: San Diego | B16: 37 | C16: 68098 | D16: 0000000 | E16: Escondido Union | F16: Elementary | G16: =VLOOKUP(Table39[[#This Row],[District Code]],'20-21 ESSER I Alloc'!D:K,8,FALSE) -> 4053718 | H16: =VLOOKUP(Table39[[#This Row],[District Code]],'20-21 ESSER II Alloc'!D:M,10,FALSE) -> 16024400 | I16: =VLOOKUP(Table39[[#This Row],[District Code]],'2020-21 ESSER III Alloc'!D:U,18,FALSE) -> 36014348 | J16: =VLOOKUP(Table39[[#This Row],[District Code]],'SB 117 Allocation'!C:AA,25,FALSE) -> 249274 | K16: =VLOOKUP(Table39[[#This Row],[District Code]],'fy20 LLMF Allocations'!B:V,21,FALSE) -> 16313868 | L16: =VLOOKUP(Table39[[#This Row],[District Code]],'IPI Grant -Rev Alloc'!B:K,10,FALSE) -> 5771429 | M16: =VLOOKUP(Table39[[#This Row],[District Code]],'ELO RevAlloc (All LEAs)'!B:W,22,FALSE) -> 11342340 | N16: =SUM(G16:M16) -> 89769377
A17: San Diego | B17: 37 | C17: 68106 | D17: 0000000 | E17: Escondido Union High | F17: High | G17: =VLOOKUP(Table39[[#This Row],[District Code]],'20-21 ESSER I Alloc'!D:K,8,FALSE) -> 1618586 | H17: =VLOOKUP(Table39[[#This Row],[District Code]],'20-21 ESSER II Alloc'!D:M,10,FALSE) -> 6398292 | I17: =VLOOKUP(Table39[[#This Row],[District Code]],'2020-21 ESSER III Alloc'!D:U,18,FALSE) -> 14379964 | J17: =VLOOKUP(Table39[[#This Row],[District Code]],'SB 117 Allocation'!C:AA,25,FALSE) -> 120331 | K17: =VLOOKUP(Table39[[#This Row],[District Code]],'fy20 LLMF Allocations'!B:V,21,FALSE) -> 7717907 | L17: =VLOOKUP(Table39[[#This Row],[District Code]],'IPI Grant -Rev Alloc'!B:K,10,FALSE) -> 3143865 | M17: =VLOOKUP(Table39[[#This Row],[District Code]],'ELO RevAlloc (All LEAs)'!B:W,22,FALSE) -> 5903157 | N17: =SUM(G17:M17) -> 39282102
... A48: San Diego | B48: 37 | C48: 76851 | D48: 0000000 | E48: Bonsall Unified | F48: Unified | G48: =VLOOKUP(Table39[[#This Row],[District Code]],'20-21 ESSER I Alloc'!D:K,8,FALSE) -> 327347 | H48: =VLOOKUP(Table39[[#This Row],[District Code]],'20-21 ESSER II Alloc'!D:M,10,FALSE) -> 1206882 | I48: =VLOOKUP(Table39[[#This Row],[District Code]],'2020-21 ESSER III Alloc'!D:U,18,FALSE) -> 2712430 | J48: =VLOOKUP(Table39[[#This Row],[District Code]],'SB 117 Allocation'!C:AA,25,FALSE) -> 40515 | K48: =VLOOKUP(Table39[[#This Row],[District Code]],'fy20 LLMF Allocations'!B:V,21,FALSE) -> 1454214 | L48: =VLOOKUP(Table39[[#This Row],[District Code]],'IPI Grant -Rev Alloc'!B:K,10,FALSE) -> 796670 | M48: =VLOOKUP(Table39[[#This Row],[District Code]],'ELO RevAlloc (All LEAs)'!B:W,22,FALSE) -> 1697152 | N48: =SUM(G48:M48) -> 8235210
A49: Totals | G49: =SUM(G6:G48) -> 84015213 | H49: =SUM(H6:H48) -> 362945667 | I49: =SUM(I6:I48) -> 815709242 | J49: =SUM(J6:J48) -> 7115707 | K49: =SUM(K6:K48) -> 335178982 | L49: =SUM(L6:L48) -> 153691617 | M49: =SUM(M6:M48) -> 302295633 | N49: =SUM(N6:N48) -> 2060952061
A50: Prepared by: | G50: =Table39[[#Totals],[ESSER I (Federal CARES Act)]]-'20-21 ESSER I Alloc'!K173 -> 0 | H50: =Table39[[#Totals],[ESSER II (Federal CRRSA Act)]]-'20-21 ESSER II Alloc'!M173 -> 0 | I50: =Table39[[#Totals],[ESSER III (Federal ARP Act)]]-'2020-21 ESSER III Alloc'!U173 -> 0 | J50: =Table39[[#Totals],[SB 117 COVID-19 LEA Response Funds (State)]]-Table3[[#Totals],[SB 117 Allocation (greater of $17.3779235 x E.2, or $250)]] -> 0 | K50: =K49-'fy20 LLMF Allocations'!V185 -> 0 | L50: =L49-'IPI Grant -Rev Alloc'!K185 -> 0 | M50: =M49-'ELO RevAlloc (All LEAs)'!W184 -> 0
A51: San Diego County Office of Education
A52: Business Services Division
A53: as of September 9, 2021

Sheet 20-21 ESSER I Alloc
A1: CARES Act, Elementary and Secondary School Emergency Relief Fund (ESSER I) Section 18003
A2: 2020-21 Fiscal Year
A3: Final allocation amounts are posted for local educational agencies (LEAs) with ESSER I Legal Assurances submitted as of April 7, 2021, a certified Title I Consolidated Application and Reporting System (CARS) Application for Funding and a submitted Title I LCAP Federal Addendum as of April 16, 2021.
A4: The fourth apportionment is based on ESSER I Expenditure Reports of April 7, 2021.
A5: County Name | B5: Full CDS Code | C5: County Code | D5: District Code | E5: School Code | F5: Direct Funded Charter School Number | G5: Service Location Field | H5: Local Educational Agency | I5: LCAP Federal Addendum for Title I | J5: ESSER I Application | K5: Final Allocation | L5: 1st Apportionment | M5: 2nd Apportionment | N5: 3rd Apportionment | O5: 4th Apportionment | P5: Total Paid | Q5: Balance Remaining
A6: San Diego | B6: 37103710000000 | C6: 37 | D6: 10371 | E6: 0000000 | F6: N/A | G6: 10371 | H6: San Diego County Office of Education | I6: Yes | J6: Yes | K6: 1335032 | L6: 331529 | M6: 968246 | N6: 24857 | O6: 10400 | P6: 1335032 | Q6: 0
A7: San Diego | B7: 37679670000000 | C7: 37 | D7: 67967 | E7: 0000000 | F7: N/A | G7: 67967 | H7: Alpine Union Elementary | I7: Yes | J7: Yes | K7: 120437 | L7: 29908 | M7: 90392 | N7: 0 | O7: 137 | P7: 120437 | Q7: 0
A8: San Diego | B8: 37679830000000 | C8: 37 | D8: 67983 | E8: 0000000 | F8: N/A | G8: 67983 | H8: Borrego Springs Unified | I8: Yes | J8: Yes | K8: 88385 | L8: 21949 | M8: 37690 | N8: 9246 | O8: 19500 | P8: 88385 | Q8: 0
A9: San Diego | B9: 37679910000000 | C9: 37 | D9: 67991 | E9: 0000000 | F9: N/A | G9: 67991 | H9: Cajon Valley Union | I9: Yes | J9: Yes | K9: 5002169 | L9: 1242189 | M9: 3471175 | N9: 208057 | O9: 80748 | P9: 5002169 | Q9: 0
A10: San Diego | B10: 37680070000000 | C10: 37 | D10: 68007 | E10: 0000000 | F10: N/A | G10: 68007 | H10: Cardiff Elementary | I10: Yes | J10: No | K10: 0 | L10: 0 | M10: 0 | N10: 0 | O10: 0 | P10: 0 | Q10: 0
A11: San Diego | B11: 37680230000000 | C11: 37 | D11: 68023 | E11: 0000000 | F11: N/A | G11: 68023 | H11: Chula Vista Elementary | I11: Yes | J11: Yes | K11: 4489787 | L11: 1114949 | M11: 740204 | N11: 1146420 | O11: 1301842 | P11: 4303415 | Q11: 186372
A12: San Diego | B12: 37680310000000 | C12: 37 | D12: 68031 | E12: 0000000 | F12: N/A | G12: 68031 | H12: Coronado Unified | I12: Yes | J12: Yes | K12: 143045 | L12: 35522 | M12: 2467 | N12: 0 | O12: 44036 | P12: 82025 | Q12: 61020
A13: San Diego | B13: 37680490000000 | C13: 37 | D13: 68049 | E13: 0000000 | F13: N/A | G13: 68049 | H13: Dehesa Elementary | I13: Yes | J13: Yes | K13: 18296 | L13: 4544 | M13: 25 | N13: 1052 | O13: 5 | P13: 5626 | Q13: 12670
A14: San Diego | B14: 37680560000000 | C14: 37 | D14: 68056 | E14: 0000000 | F14: N/A | G14: 68056 | H14: Del Mar Union Elementary | I14: Yes | J14: Yes | K14: 107469 | L14: 26688 | M14: 4973 | N14: 9806 | O14: 66002 | P14: 107469 | Q14: 0
A15: San Diego | B15: 37680800000000 | C15: 37 | D15: 68080 | E15: 0000000 | F15: N/A | G15: 68080 | H15: Encinitas Union Elementary | I15: Yes | J15: Yes | K15: 348141 | L15: 86454 | M15: 482 | N15: 1030 | O15: 41993 | P15: 129959 | Q15: 218182
A16: San Diego | B16: 37680980000000 | C16: 37 | D16: 68098 | E16: 0000000 | F16: N/A | G16: 68098 | H16: Escondido Union | I16: Yes | J16: Yes | K16: 4053718 | L16: 1006660 | M16: 5619 | N16: 0 | O16: 1778316 | P16: 2790595 | Q16: 1263123
A17: San Diego | B17: 37681060000000 | C17: 37 | D17: 68106 | E17: 0000000 | F17: N/A | G17: 68106 | H17: Escondido Union High | I17: Yes | J17: Yes | K17: 1618586 | L17: 401944 | M17: 284984 | N17: 434709 | O17: 427654 | P17: 1549291 | Q17: 69295
... A171: San Diego | B171: 37681630139402 | C171: 37 | D171: 68163 | E171: 0139402 | F171: 2055 | G171: C2055 | H171: Brookfield Engineering Science Technology Academy | I171: Yes | J171: Yes | K171: 96236 | L171: 0 | M171: 0 | N171: 17617 | O171: 6442 | P171: 24059 | Q171: 72177
A172: Countywide Total | K172: =SUBTOTAL(109,Table25[Final Allocation]) -> 93754285 | L172: =SUBTOTAL(109,Table25[1st Apportionment]) -> 23191606 | M172: =SUBTOTAL(109,Table25[2nd Apportionment]) -> 12108639 | N172: =SUBTOTAL(109,Table25[3rd Apportionment]) -> 8965116 | O172: =SUBTOTAL(109,Table25[4th Apportionment]) -> 14877431 | P172: =SUBTOTAL(109,Table25[Total Paid]) -> 59142792 | Q172: =SUBTOTAL(109,Table25[Balance Remaining]) -> 34611493
A173: California Department of Education | J173: COE & District Total | K173: =SUMIF(Table25[Direct Funded Charter School Number],"N/A",Table25[Final Allocation]) -> 84015213
A174: School Fiscal Services Division
A175: May 2021

Sheet 20-21 ESSER II Alloc
A1: Schedule of the Revised Allocation for Coronavirus Response and Relief Supplemental Appropriations Act, 2021 (CRRSA Act)
A2: Elementary and Secondary School Relief (ESSER II) Fund
A3: Fiscal Year 2020-21
A4: To receive a revised eligibility amount for ESSER II, the LEA must have received a 2020-21 Title I allocation by having submitted the 2020-21 CARS Application for Funding and the LCAP Federal Addendum no later than April 16, 2021
A5: LEAs with $0 revised ESSER II eligibility in Column I did not meet one or more of the requirements listed above in row 4.
A6: LEAs must complete the ESSER II Legal Assurances to receive payment.
A7: The second apportionment is based on July 2021 expenditure reports.
A8: County Name | B8: Full CDS Code | C8: County Code | D8: District Code | E8: School Code | F8: Direct Funded Charter School Number | G8: Service Location Field | H8: Local Educational Agency | I8: Revised Eligibility Amount | J8: CARS Application for Funding | K8: LCAP Federal Addendum | L8: ESSER II Legal Assurances | M8: Revised Allocation Amount | N8: 1st Apportionment | O8: 2nd Apportionment | P8: Total Paid | Q8: Balance Remaining
A9: San Diego | B9: 37103710000000 | C9: 37 | D9: 10371 | E9: 0000000 | F9: N/A | G9: 10371 | H9: San Diego County Office of Education | I9: 5534823 | J9: Yes | K9: Yes | L9: Yes | M9: 5534823 | N9: 555002 | O9: 0 | P9: 555002 | Q9: 4979821
A10: San Diego | B10: 37679670000000 | C10: 37 | D10: 67967 | E10: 0000000 | F10: N/A | G10: 67967 | H10: Alpine Union Elementary | I10: 595344 | J10: Yes | K10: Yes | L10: Yes | M10: 595344 | N10: 59698 | O10: 188479 | P10: 248177 | Q10: 347167
A11: San Diego | B11: 37679830000000 | C11: 37 | D11: 67983 | E11: 0000000 | F11: N/A | G11: 67983 | H11: Borrego Springs Unified | I11: 305429 | J11: Yes | K11: Yes | L11: Yes | M11: 305429 | N11: 30627 | O11: 0 | P11: 30627 | Q11: 274802
A12: San Diego | B12: 37679910000000 | C12: 37 | D12: 67991 | E12: 0000000 | F12: N/A | G12: 67991 | H12: Cajon Valley Union | I12: 23739702 | J12: Yes | K12: Yes | L12: Yes | M12: 23739702 | N12: 2380489 | O12: 3698660 | P12: 6079149 | Q12: 17660553
A13: San Diego | B13: 37680070000000 | C13: 37 | D13: 68007 | E13: 0000000 | F13: N/A | G13: 68007 | H13: Cardiff Elementary | I13: 243125 | J13: Yes | K13: Yes | L13: Yes | M13: 243125 | N13: 24379 | O13: 0 | P13: 24379 | Q13: 218746
A14: San Diego | B14: 37680230000000 | C14: 37 | D14: 68023 | E14: 0000000 | F14: N/A | G14: 68023 | H14: Chula Vista Elementary | I14: 19825466 | J14: Yes | K14: Yes | L14: Yes | M14: 19825466 | N14: 1987990 | O14: 3155947 | P14: 5143937 | Q14: 14681529
A15: San Diego | B15: 37680310000000 | C15: 37 | D15: 68031 | E15: 0000000 | F15: N/A | G15: 68031 | H15: Coronado Unified | I15: 576642 | J15: Yes | K15: Yes | L15: Yes | M15: 576642 | N15: 57823 | O15: 0 | P15: 57823 | Q15: 518819
A16: San Diego | B16: 37680490000000 | C16: 37 | D16: 68049 | E16: 0000000 | F16: N/A | G16: 68049 | H16: Dehesa Elementary | I16: 74808 | J16: Yes | K16: Yes | L16: Yes | M16: 74808 | N16: 7501 | O16: 0 | P16: 7501 | Q16: 67307
A17: San Diego | B17: 37680560000000 | C17: 37 | D17: 68056 | E17: 0000000 | F17: N/A | G17: 68056 | H17: Del Mar Union Elementary | I17: 810415 | J17: Yes | K17: Yes | L17: Yes | M17: 810415 | N17: 81264 | O17: 729151 | P17: 810415 | Q17: 0
A18: San Diego | B18: 37680800000000 | C18: 37 | D18: 68080 | E18: 0000000 | F18: N/A | G18: 68080 | H18: Encinitas Union Elementary | I18: 1376206 | J18: Yes | K18: Yes | L18: Yes | M18: 1376206 | N18: 137998 | O18: 1144132 | P18: 1282130 | Q18: 94076
A19: San Diego | B19: 37680980000000 | C19: 37 | D19: 68098 | E19: 0000000 | F19: N/A | G19: 68098 | H19: Escondido Union | I19: 16024400 | J19: Yes | K19: Yes | L19: Yes | M19: 16024400 | N19: 1606840 | O19: 219039 | P19: 1825879 | Q19: 14198521
A20: San Diego | B20: 37681060000000 | C20: 37 | D20: 68106 | E20: 0000000 | F20: N/A | G20: 68106 | H20: Escondido Union High | I20: 6398292 | J20: Yes | K20: Yes | L20: Yes | M20: 6398292 | N20: 641586 | O20: 2250353 | P20: 2891939 | Q20: 3506353
... A171: San Diego | B171: 37681630139402 | C171: 37 | D171: 68163 | E171: 0139402 | F171: 2055 | G171: C2055 | H171: Brookfield Engineering Science Technology Academy | I171: 366327 | J171: Yes | K171: Yes | L171: Yes | M171: 366327 | N171: 36733 | O171: 0 | P171: 36733 | Q171: 329594
A172: Countywide Total | I172: =SUBTOTAL(109,Table37[Revised Eligibility Amount]) -> 406349105 | M172: =SUBTOTAL(109,Table37[Revised Allocation Amount]) -> 406349105 | N172: =SUBTOTAL(109,Table37[1st Apportionment]) -> 40746495 | O172: =SUBTOTAL(109,Table37[2nd Apportionment]) -> 37195717 | P172: =SUBTOTAL(109,Table37[Total Paid]) -> 77942212 | Q172: =SUBTOTAL(109,Table37[Balance Remaining]) -> 328406893
A173: California Department of Education | L173: COE & District Total | M173: =SUMIF(Table37[Direct Funded Charter School Number],"N/A",Table37[Revised Allocation Amount]) -> 362945667
A174: School Fiscal Services Division
A175: August 2021

Sheet 2020-21 ESSER III Alloc
A1: American Rescue Plan (ARP) Act , 2020–21
A2: Elementary and Secondary School Emergency Relief III (ESSER III) Funds
A3: To receive a preliminary eligibility amount for ESSER III, the LEA must have received a 2020-21 Title I allocation by 1) meeting Title I, Part A eligiblity requirements, 2) submitting the 2020-21 CARS Application for Funding by 4/16/2021, and 3) submitting the LCAP Federal Addendum by 4/16/2021.
A4: LEAs with $0 preliminary ESSER III eligibility in Column I did not meet one or more of the requirements listed above in row 3.
A5: LEAs must complete the ESSER III Legal Assurances to receive an allocation amount and payments.
A6: 1 : An LEA must reserve not less than 20 percent of its total ESSER III allocation to address learning loss through the implementation of evidence-based interventions and ensure that such interventions respond to students’ academic, social, and emotional needs.
A7: The U.S. Department of Education (ED) has made $10,045,923,031 of ESSER III funding available to California for allocation to LEAs as of June 2021.
A8: County Name | B8: Full CDS Code | C8: County Code | D8: District Code | E8: School Code | F8: Direct Funded Charter School Number | G8: Service Location Field | H8: Local Educational Agency | I8: Current Authority Eligibility Amount | J8: Future Authority Eligibility Amount | K8: Revised Total Eligibility Amount | L8: CARS Application for Funding | M8: LCAP Federal Addendum | N8: ESSER III Legal Assurances | O8: 80% of Funding Allowable Uses of ESSER III Resource 3213 (Current Authority) | P8: 20% of Funding to Address Learning Loss1 Resource 3214 (Current Authority) | Q8: Total Revised Allocation Amount (Current Authority) | R8: 80% of Funding Allowable Uses of ESSER III Resource 3213 (Future Authority) | S8: 20% of Funding to Address Learning Loss1 Resource 3214 (Future Authority) | T8: Total Revised Allocation Amount (Future Authority) | U8: Total Revised Allocation Amount (Current + Future) | V8: 1st Apportionment (10% of Current Authority) | W8: Total Paid | X8: Balance Remaining
A9: San Diego | B9: 37103710000000 | C9: 37 | D9: 10371 | E9: 0000000 | F9: N/A | G9: 10371 | H9: San Diego County Office of Education | I9: 9207724 | J9: 3231622 | K9: 12439346 | L9: Yes | M9: Yes | N9: Yes | O9: 7366179 | P9: 1841545 | Q9: 9207724 | R9: 2585298 | S9: 646324 | T9: 3231622 | U9: 12439346 | V9: 920772 | W9: 920772 | X9: 11509655
A10: San Diego | B10: 37679670000000 | C10: 37 | D10: 67967 | E10: 0000000 | F10: N/A | G10: 67967 | H10: Alpine Union Elementary | I10: 990413 | J10: 347604 | K10: 1338017 | L10: Yes | M10: Yes | N10: Yes | O10: 792330 | P10: 198083 | Q10: 990413 | R10: 278083 | S10: 69521 | T10: 347604 | U10: 1338017 | V10: 99041 | W10: 99041 | X10: 1238016
A11: San Diego | B11: 37679830000000 | C11: 37 | D11: 67983 | E11: 0000000 | F11: N/A | G11: 67983 | H11: Borrego Springs Unified | I11: 508112 | J11: 178331 | K11: 686443 | L11: Yes | M11: Yes | N11: Yes | O11: 406490 | P11: 101622 | Q11: 508112 | R11: 142665 | S11: 35666 | T11: 178331 | U11: 686443 | V11: 50811 | W11: 50811 | X11: 635140
A12: San Diego | B12: 37679910000000 | C12: 37 | D12: 67991 | E12: 0000000 | F12: N/A | G12: 67991 | H12: Cajon Valley Union | I12: 39493332 | J12: 13860919 | K12: 53354251 | L12: Yes | M12: Yes | N12: Yes | O12: 31594666 | P12: 7898666 | Q12: 39493332 | R12: 11088735 | S12: 2772184 | T12: 13860919 | U12: 53354251 | V12: 3949333 | W12: 3949333 | X12: 49366665
A13: San Diego | B13: 37680070000000 | C13: 37 | D13: 68007 | E13: 0000000 | F13: N/A | G13: 68007 | H13: Cardiff Elementary | I13: 404462 | J13: 141953 | K13: 546415 | L13: Yes | M13: Yes | N13: Yes | O13: 323570 | P13: 80892 | Q13: 404462 | R13: 113562 | S13: 28391 | T13: 141953 | U13: 546415 | V13: 40446 | W13: 40446 | X13: 505578
A14: San Diego | B14: 37680230000000 | C14: 37 | D14: 68023 | E14: 0000000 | F14: N/A | G14: 68023 | H14: Chula Vista Elementary | I14: 32981616 | J14: 11575511 | K14: 44557127 | L14: Yes | M14: Yes | N14: Yes | O14: 26385293 | P14: 6596323 | Q14: 32981616 | R14: 9260409 | S14: 2315102 | T14: 11575511 | U14: 44557127 | V14: 3298162 | W14: 3298162 | X14: 41227019
A15: San Diego | B15: 37680310000000 | C15: 37 | D15: 68031 | E15: 0000000 | F15: N/A | G15: 68031 | H15: Coronado Unified | I15: 959300 | J15: 336684 | K15: 1295984 | L15: Yes | M15: Yes | N15: Yes | O15: 767440 | P15: 191860 | Q15: 959300 | R15: 269347 | S15: 67337 | T15: 336684 | U15: 1295984 | V15: 95930 | W15: 95930 | X15: 1199125
A16: San Diego | B16: 37680490000000 | C16: 37 | D16: 68049 | E16: 0000000 | F16: N/A | G16: 68049 | H16: Dehesa Elementary | I16: 124450 | J16: 43678 | K16: 168128 | L16: Yes | M16: Yes | N16: Yes | O16: 99560 | P16: 24890 | Q16: 124450 | R16: 34942 | S16: 8736 | T16: 43678 | U16: 168128 | V16: 12445 | W16: 12445 | X16: 155562
A17: San Diego | B17: 37680560000000 | C17: 37 | D17: 68056 | E17: 0000000 | F17: N/A | G17: 68056 | H17: Del Mar Union Elementary | I17: 1348206 | J17: 473178 | K17: 1821384 | L17: Yes | M17: Yes | N17: Yes | O17: 1078565 | P17: 269641 | Q17: 1348206 | R17: 378542 | S17: 94636 | T17: 473178 | U17: 1821384 | V17: 134821 | W17: 134821 | X17: 1685257
A18: San Diego | B18: 37680800000000 | C18: 37 | D18: 68080 | E18: 0000000 | F18: N/A | G18: 68080 | H18: Encinitas Union Elementary | I18: 2289454 | J18: 803526 | K18: 3092980 | L18: Yes | M18: Yes | N18: Yes | O18: 1831563 | P18: 457891 | Q18: 2289454 | R18: 642821 | S18: 160705 | T18: 803526 | U18: 3092980 | V18: 228945 | W18: 228945 | X18: 2861818
A19: San Diego | B19: 37680980000000 | C19: 37 | D19: 68098 | E19: 0000000 | F19: N/A | G19: 68098 | H19: Escondido Union | I19: 26658168 | J19: 9356180 | K19: 36014348 | L19: Yes | M19: Yes | N19: Yes | O19: 21326534 | P19: 5331634 | Q19: 26658168 | R19: 7484944 | S19: 1871236 | T19: 9356180 | U19: 36014348 | V19: 2665817 | W19: 2665817 | X19: 33322710
A20: San Diego | B20: 37681060000000 | C20: 37 | D20: 68106 | E20: 0000000 | F20: N/A | G20: 68106 | H20: Escondido Union High | I20: 10644188 | J20: 3735776 | K20: 14379964 | L20: Yes | M20: Yes | N20: Yes | O20: 8515350 | P20: 2128838 | Q20: 10644188 | R20: 2988621 | S20: 747155 | T20: 3735776 | U20: 14379964 | V20: 1064419 | W20: 1064419 | X20: 13305235
... A171: San Diego | B171: 37681630139402 | C171: 37 | D171: 68163 | E171: 0139402 | F171: 2055 | G171: C2055 | H171: Brookfield Engineering Science Technology Academy | I171: 609420 | J171: 213887 | K171: 823307 | L171: Yes | M171: Yes | N171: Yes | O171: 487536 | P171: 121884 | Q171: 609420 | R171: 171110 | S171: 42777 | T171: 213887 | U171: 823307 | V171: 60942 | W171: 60942 | X171: 761775
A172: Totals | I172: =SUBTOTAL(109,Table2[Current Authority Eligibility Amount]) -> 676001757 | J172: =SUBTOTAL(109,Table2[Future Authority Eligibility Amount]) -> 237255380 | K172: =SUBTOTAL(109,Table2[Revised Total Eligibility Amount]) -> 913257137 | O172: =SUBTOTAL(109,Table2[80% of Funding Allowable Uses of ESSER III Resource 3213 (Current Authority)]) -> 535354894 | P172: =SUBTOTAL(109,Table2[20% of Funding to Address Learning Loss1 Resource 3214 (Current Authority)]) -> 133838719 | Q172: =SUBTOTAL(109,Table2[Total Revised Allocation Amount (Current Authority)]) -> 669193613 | R172: =SUBTOTAL(109,Table2[80% of Funding Allowable Uses of ESSER III Resource 3213 (Future Authority)]) -> 187892745 | S172: =SUBTOTAL(109,Table2[20% of Funding to Address Learning Loss1 Resource 3214 (Future Authority)]) -> 46973190 | T172: =SUBTOTAL(109,Table2[Total Revised Allocation Amount (Future Authority)]) -> 234865935 | U172: =SUBTOTAL(109,Table2[Total Revised Allocation Amount (Current + Future)]) -> 904059548 | V172: =SUBTOTAL(109,Table2[1st Apportionment (10% of Current Authority)]) -> 66919365 | W172: =SUBTOTAL(109,Table2[Total Paid]) -> 66919365 | X172: =SUBTOTAL(109,Table2[Balance Remaining]) -> 836492009
A173: California Department of Education | T173: COE & District Total | U173: =SUMIF(Table2[Direct Funded Charter School Number],"N/A",Table2[Total Revised Allocation Amount (Current + Future)]) -> 815709242
A174: School Fiscal Services Division
A175: July 2021

Sheet SB 117 Allocation
A1: Schedule of Allocations for the SB 117 COVID-19 LEA Response Funds
A2: Fiscal Year 2019–20
A3: https://www.cde.ca.gov/ls/he/hn/coronavirus.asp
A4: Legend: ADA = Average Daily Attendance Funded as of the 2019-20 First Principal Apportionment; CALPADS = California Longitudinal Pupil Achievement Data System; COE = County Office of Education; COVPT = Court-Ordered Voluntary Pupil Transfer; DFCP=District Funded County Program; NSS = Necessary Small School
A5: County | B5: County Code | C5: District Code | D5: School Code | E5: Charter Number | F5: Charter Fund Type | G5: Local Educational Agency | H5: District Type | I5: School District Funded ADA A.1 | J5: School District NSS Funded ADA A.2 | K5: School District Basic Aid Choice A.3 | L5: School District Basic Aid COVPT A.4 | M5: Total School District ADA (Sum A.1:A.4) A.5 | N5: Attendance COE B.1 | O5: Attendance DFCP B.2 | P5: Total COE ADA (B.1 + B.2) B.3 | Q5: Attendance Charter School C.1 | R5: Attendance Charter Funded County Program C.2 | S5: Attendance COE Charter C.3 | T5: All Charter District C.4 | U5: Total Charter School Funded ADA (Sum C.1:C.4) C.5 | V5: Total Funded ADA (A.5 + B.3 + C.5) D.1 | W5: Charter School Nonclassroom Based ADA D.2 | X5: Total Funded ADA less Charter School Nonclassroom Based ADA D.3 | Y5: 2019-20 Fall 1 CALPADS Enrollment for State Special Schools E.1 | Z5: ADA to Include State Special School ADA Equivalent E.2 | AA5: SB 117 Allocation (greater of $17.3779235 x E.2, or $250)
A6: San Diego | B6: 37 | C6: 10371 | D6: 0000000 | E6: N/A | F6: N/A | G6: San Diego Co. Office of Education | H6: County Office | I6: 0 | J6: 0 | K6: 0 | L6: 0 | M6: 0 | N6: 1205.7 | O6: 447.64 | P6: 1653.34 | Q6: 0 | R6: 0 | S6: 0 | T6: 0 | U6: 0 | V6: 1653.34 | W6: 0 | X6: 1653.34 | Y6: N/A | Z6: 1653.34 | AA6: 28732
A7: San Diego | B7: 37 | C7: 10371 | D7: 0136085 | E7: 1883 | F7: D | G7: Scholarship Prep Charter School - Oceanside | H7: Unified | I7: 0 | J7: 0 | K7: 0 | L7: 0 | M7: 0 | N7: 0 | O7: 0 | P7: 0 | Q7: 377.89 | R7: 0 | S7: 0 | T7: 0 | U7: 377.89 | V7: 377.89 | W7: 0 | X7: 377.89 | Y7: N/A | Z7: 377.89 | AA7: 6567
A8: San Diego | B8: 37 | C8: 10371 | D8: 0136192 | E8: 1872 | F8: D | G8: School of Universal Learning (SOUL) | H8: High | I8: 0 | J8: 0 | K8: 0 | L8: 0 | M8: 0 | N8: 0 | O8: 0 | P8: 0 | Q8: 66.72 | R8: 0 | S8: 0 | T8: 0 | U8: 66.72 | V8: 66.72 | W8: 0 | X8: 66.72 | Y8: N/A | Z8: 66.72 | AA8: 1159
A9: San Diego | B9: 37 | C9: 10371 | D9: 0138594 | E9: 2023 | F9: D | G9: National University Academy Dual Language Institute | H9: Unified | I9: 0 | J9: 0 | K9: 0 | L9: 0 | M9: 0 | N9: 0 | O9: 0 | P9: 0 | Q9: 244.83 | R9: 0 | S9: 0 | T9: 0 | U9: 244.83 | V9: 244.83 | W9: 0 | X9: 244.83 | Y9: N/A | Z9: 244.83 | AA9: 4255
A10: San Diego | B10: 37 | C10: 10371 | D10: 6119119 | E10: 0405 | F10: D | G10: Literacy First Charter | H10: Elementary | I10: 0 | J10: 0 | K10: 0 | L10: 0 | M10: 0 | N10: 0 | O10: 0 | P10: 0 | Q10: 1713.41 | R10: 0 | S10: 0 | T10: 0 | U10: 1713.41 | V10: 1713.41 | W10: 46.4 | X10: 1667.01 | Y10: N/A | Z10: 1667.01 | AA10: 28969
A11: San Diego | B11: 37 | C11: 67967 | D11: 0000000 | E11: N/A | F11: N/A | G11: Alpine Union Elementary | H11: Elementary | I11: 1566.91 | J11: 0 | K11: 0 | L11: 0 | M11: 1566.91 | N11: 0 | O11: 0 | P11: 0 | Q11: 0 | R11: 0 | S11: 0 | T11: 0 | U11: 0 | V11: 1566.91 | W11: 0 | X11: 1566.91 | Y11: N/A | Z11: 1566.91 | AA11: 27230
A12: San Diego | B12: 37 | C12: 67983 | D12: 0000000 | E12: N/A | F12: N/A | G12: Borrego Springs Unified | H12: Unified | I12: 257.25 | J12: 115.06 | K12: 0 | L12: 0 | M12: 372.31 | N12: 0 | O12: 0 | P12: 0 | Q12: 0 | R12: 0 | S12: 0 | T12: 0 | U12: 0 | V12: 372.31 | W12: 0 | X12: 372.31 | Y12: N/A | Z12: 372.31 | AA12: 6470
A13: San Diego | B13: 37 | C13: 67991 | D13: 0000000 | E13: N/A | F13: N/A | G13: Cajon Valley Union | H13: Elementary | I13: 15899.8 | J13: 0 | K13: 0 | L13: 0 | M13: 15899.8 | N13: 0 | O13: 0 | P13: 0 | Q13: 0 | R13: 0 | S13: 0 | T13: 0 | U13: 0 | V13: 15899.8 | W13: 0 | X13: 15899.8 | Y13: N/A | Z13: 15899.8 | AA13: 276306
A14: San Diego | B14: 37 | C14: 67991 | D14: 0108563 | E14: 0683 | F14: D | G14: EJE Elementary Academy Charter | H14: Elementary | I14: 0 | J14: 0 | K14: 0 | L14: 0 | M14: 0 | N14: 0 | O14: 0 | P14: 0 | Q14: 533.37 | R14: 0 | S14: 0 | T14: 0 | U14: 533.37 | V14: 533.37 | W14: 2.32 | X14: 531.05 | Y14: N/A | Z14: 531.05 | AA14: 9229
A15: San Diego | B15: 37 | C15: 67991 | D15: 0119255 | E15: 1063 | F15: D | G15: EJE Middle Academy | H15: Elementary | I15: 0 | J15: 0 | K15: 0 | L15: 0 | M15: 0 | N15: 0 | O15: 0 | P15: 0 | Q15: 248.29 | R15: 0 | S15: 0 | T15: 0 | U15: 248.29 | V15: 248.29 | W15: 0.21 | X15: 248.08 | Y15: N/A | Z15: 248.08 | AA15: 4311
A16: San Diego | B16: 37 | C16: 67991 | D16: 0139394 | E16: 2054 | F16: D | G16: Kidinnu Academy | H16: Elementary | I16: 0 | J16: 0 | K16: 0 | L16: 0 | M16: 0 | N16: 0 | O16: 0 | P16: 0 | Q16: 109.22 | R16: 0 | S16: 0 | T16: 0 | U16: 109.22 | V16: 109.22 | W16: 0 | X16: 109.22 | Y16: N/A | Z16: 109.22 | AA16: 1898
A17: San Diego | B17: 37 | C17: 68007 | D17: 0000000 | E17: N/A | F17: N/A | G17: Cardiff Elementary | H17: Elementary | I17: 665.39 | J17: 0 | K17: 0 | L17: 0 | M17: 665.39 | N17: 0 | O17: 0 | P17: 0 | Q17: 0 | R17: 0 | S17: 0 | T17: 0 | U17: 0 | V17: 665.39 | W17: 0 | X17: 665.39 | Y17: N/A | Z17: 665.39 | AA17: 11563
... A134: San Diego | B134: 37 | C134: 77172 | D134: 0138099 | E134: 1966 | F134: D | G134: Baypoint Preparatory Academy - San Diego | H134: Unified | I134: 0 | J134: 0 | K134: 0 | L134: 0 | M134: 0 | N134: 0 | O134: 0 | P134: 0 | Q134: 152.45 | R134: 0 | S134: 0 | T134: 0 | U134: 152.45 | V134: 152.45 | W134: 1.1 | X134: 151.35 | Y134: N/A | Z134: 151.35 | AA134: 2630
A135: Totals | I135: =SUBTOTAL(109,Table3[ School District Funded ADA A.1]) -> 407487.4 | J135: =SUBTOTAL(109,Table3[ School District NSS Funded ADA A.2]) -> 269.21 | K135: =SUBTOTAL(109,Table3[ School District Basic Aid Choice A.3]) -> 58.11 | L135: =SUBTOTAL(109,Table3[ School District Basic Aid COVPT A.4]) -> 0 | M135: =SUBTOTAL(109,Table3[Total School District ADA (Sum A.1:A.4) A.5 ]) -> 407814.72 | N135: =SUBTOTAL(109,Table3[Attendance COE B.1]) -> 1205.7 | O135: =SUBTOTAL(109,Table3[Attendance DFCP B.2]) -> 447.64 | P135: =SUBTOTAL(109,Table3[Total COE ADA (B.1 + B.2) B.3]) -> 1653.34 | Q135: =SUBTOTAL(109,Table3[Attendance Charter School C.1]) -> 0 | R135: =SUBTOTAL(109,Table3[Attendance Charter Funded County Program C.2]) -> 0 | S135: =SUBTOTAL(109,Table3[Attendance COE Charter C.3]) -> 0 | T135: =SUBTOTAL(109,Table3[All Charter District C.4]) -> 0 | U135: =SUBTOTAL(109,Table3[Total Charter School Funded ADA (Sum C.1:C.4) C.5]) -> 0 | V135: =SUBTOTAL(109,Table3[Total Funded ADA (A.5 + B.3 + C.5) D.1]) -> 409468.06 | W135: =SUBTOTAL(109,Table3[Charter School Nonclassroom Based ADA D.2]) -> 0 | X135: =SUBTOTAL(109,Table3[Total Funded ADA less Charter School Nonclassroom Based ADA D.3 ]) -> 409468.06 | Y135: =SUBTOTAL(109,Table3[2019-20 Fall 1 CALPADS Enrollment for State Special Schools E.1]) -> 0 | Z135: =SUBTOTAL(109,Table3[ADA to Include State Special School ADA Equivalent E.2]) -> 409468.06 | AA135: =SUBTOTAL(109,Table3[SB 117 Allocation (greater of $17.3779235 x E.2, or $250)]) -> 7115707
A136: Prepared by:
A137: California Department of Education
A138: School Fiscal Services Division
A139: March 30, 2020

Sheet fy20 LLMF Allocations
A1: Schedule of Allocations for Learning Loss Mitigation, Section 110 of Senate Bill 98 (Chapter 24, Statutes of 2020)
A2: Fiscal Year 2020-21 | C2: 1 | D2: =+C2+1 -> 2 | E2: =+D2+1 -> 3 | F2: =+E2+1 -> 4 | G2: =+F2+1 -> 5 | H2: =+G2+1 -> 6 | I2: =+H2+1 -> 7 | J2: =+I2+1 -> 8 | K2: =+J2+1 -> 9 | ... V2: =+U2+1 -> 20
A3: Pursuant to Sec. 110 of Senate Bill (SB) 98, allocations are paid from federal and state resources including Federal CARES Act: Coronavirus Relief (CR) Fund, Section 5001 and Governor's Emergency Education Relief (GEER) Fund, Section 18002; and State General Fund (GF)
A4: Funds are allocated based on three formulas established in SB 98: Sec. 110(a) is based on Special Education Pupil Count multiplied by $460.01 for GEER Fund and by $1482.46 for CR Fund; (2) Sec. 110(b) is based on LEA proportion of statewide Supplemental and Concentration Grant funding; (3) Sec. 110(c) is based on LEA proportion of statewide LCFF entitlement
A5: Legend: LCFF = Local Control Funding Formula; LEA = Local Educational Agency; P-2 = 2019-20 Second Principal Apportionment; Res. Code = Standardized Account Code Structure Resource Code
A6: County Code | B6: District Code | C6: School Code | D6: Charter Number | E6: Charter School Fund Type | F6: Service Location | G6: Local Educational Agency Name | H6: Nonclassroom-Based Charter School Yes/No | I6: Special Education Pupil Count as of the 2019-20 Fall 1 Census | J6: Allocation for Sec. 110(a) Paid from GEER Fund Res. Code 3215 | K6: Allocation for Sec. 110(a) Paid from CR Fund Res. Code 3220 | L6: LEA Supplemental and Concentration Grant Funding as of 2019-20 P-2 | M6: LEA Proportion of Statewide Supplemental and Concentration Grant Funding | N6: Allocation for Sec. 110(b) Paid from CR Fund Res. Code 3220 | O6: LEA LCFF Entitlement as of 2019-20 P-2 | P6: LEA Proportion of Statewide LCFF Entitlement | Q6: Allocation for Sec. 110(c) Paid from GF Res. Code 7420 | R6: Allocation for Sec. 110(c) Paid from CR Fund Res. Code 3220 | S6: Allocation by Fund GEER Fund Res. Code 3215 | T6: Allocation by Fund CR Fund Res. Code 3220 | U6: Allocation by Fund GF Res. Code 7420 | V6: Total Allocation Sec. 110(a)-GEER Sec. 110(a)-CRF Sec. 110(b)-CRF Sec. 110(c)-GF Sec. 110(c)-CRF
A7: 37 | B7: 10371 | C7: 0000000 | D7: N/A | E7: N/A | F7: 10371 | G7: San Diego County Office of Education | H7: No | I7: 429 | J7: 197345 | K7: 635973 | L7: 7456890 | M7: 0.00076339017 | N7: 2179652 | O7: 80790029 | P7: 0.0012752121 | Q7: 688520 | R7: 560894 | S7: 197345 | T7: 3376519 | U7: 688520 | V7: 4262384
A8: 37 | B8: 10371 | C8: 0136085 | D8: 1883 | E8: D | F8: C1883 | G8: Scholarship Prep - Oceanside | H8: No | I8: 65 | J8: 29901 | K8: 96360 | L8: 339871 | M8: 3.4793886e-05 | N8: 99344 | O8: 3457959 | P8: 5.4581378e-05 | Q8: 29470 | R8: 24007 | S8: 29901 | T8: 219711 | U8: 29470 | V8: 279082
A9: 37 | B9: 10371 | C9: 0136192 | D9: 1872 | E9: D | F9: C1872 | G9: School of Universal Learning (SOUL) | H9: No | I9: 22 | J9: 10120 | K9: 32614 | L9: 24561 | M9: 2.5144029e-06 | N9: 7179 | O9: 618094 | P9: 9.7561661e-06 | Q9: 5268 | R9: 4291 | S9: 10120 | T9: 44084 | U9: 5268 | V9: 59472
A10: 37 | B10: 10371 | C10: 0137695 | D10: 1947 | E10: D | F10: C1947 | G10: Community Montessori | H10: Yes | I10: 0 | J10: 0 | K10: 0 | L10: 0 | M10: 0 | N10: 0 | O10: 6413060 | P10: 0.00010122551 | Q10: 54654 | R10: 44523 | S10: 0 | T10: 44523 | U10: 54654 | V10: 99177
A11: 37 | B11: 10371 | C11: 0137752 | D11: 1946 | E11: D | F11: C1946 | G11: Dimensions Collaborative | H11: Yes | I11: 0 | J11: 0 | K11: 0 | L11: 0 | M11: 0 | N11: 0 | O11: 4328175 | P11: 6.8317107e-05 | Q11: 36886 | R11: 30049 | S11: 0 | T11: 30049 | U11: 36886 | V11: 66935
A12: 37 | B12: 10371 | C12: 0138016 | D12: 1989 | E12: D | F12: C1989 | G12: Pacific Springs Charter | H12: Yes | I12: 0 | J12: 0 | K12: 0 | L12: 0 | M12: 0 | N12: 0 | O12: 4570009 | P12: 7.2134282e-05 | Q12: 38947 | R12: 31728 | S12: 0 | T12: 31728 | U12: 38947 | V12: 70675
A13: 37 | B13: 10371 | C13: 0138404 | D13: 2016 | E13: D | F13: C2016 | G13: Classical Academy Vista | H13: Yes | I13: 0 | J13: 0 | K13: 0 | L13: 0 | M13: 0 | N13: 0 | O13: 4304136 | P13: 6.7937669e-05 | Q13: 36681 | R13: 29882 | S13: 0 | T13: 29882 | U13: 36681 | V13: 66563
A14: 37 | B14: 10371 | C14: 0138594 | D14: 2023 | E14: D | F14: C2023 | G14: National University Academy Dual Language Institute | H14: No | I14: 20 | J14: 9200 | K14: 29649 | L14: 201518 | M14: 2.0630164e-05 | N14: 58904 | O14: 2216704 | P14: 3.4989067e-05 | Q14: 18892 | R14: 15390 | S14: 9200 | T14: 103943 | U14: 18892 | V14: 132035
A15: 37 | B15: 10371 | C15: 0138792 | D15: 2024 | E15: D | F15: C2024 | G15: JCS - Manzanita | H15: Yes | I15: 0 | J15: 0 | K15: 0 | L15: 0 | M15: 0 | N15: 0 | O15: 2388690 | P15: 3.7703741e-05 | Q15: 20357 | R15: 16584 | S15: 0 | T15: 16584 | U15: 20357 | V15: 36941
A16: 37 | B16: 10371 | C16: 6119119 | D16: 0405 | E16: D | F16: C0405 | G16: Literacy First Charter | H16: No | I16: 190 | J16: 87402 | K16: 281667 | L16: 1534152 | M16: 0.00015705697 | N16: 448433 | O16: 15826608 | P16: 0.00024981154 | Q16: 134880 | R16: 109878 | S16: 87402 | T16: 839978 | U16: 134880 | V16: 1062260
A17: 37 | B17: 67967 | C17: 0000000 | D17: N/A | E17: N/A | F17: 67967 | G17: Alpine Union Elementary | H17: No | I17: 220 | J17: 101202 | K17: 326140 | L17: 834444 | M17: 8.5425204e-05 | N17: 243908 | O17: 14144407 | P17: 0.00022325922 | Q17: 120543 | R17: 98199 | S17: 101202 | T17: 668247 | U17: 120543 | V17: 889992
A18: 37 | B18: 67983 | C18: 0000000 | D18: N/A | E18: N/A | F18: 67983 | G18: Borrego Springs Unified | H18: No | I18: 58 | J18: 26681 | K18: 85982 | L18: 1152014 | M18: 0.00011793605 | N18: 336734 | O18: 4984228 | P18: 7.8672429e-05 | Q18: 42477 | R18: 34604 | S18: 26681 | T18: 457320 | U18: 42477 | V18: 526478
... A183: 37 | B183: 77172 | C183: 0138099 | D183: 1966 | E183: D | F183: C1966 | G183: Baypoint Preparatory Academy - San Diego | H183: No | I183: 19 | J183: 8740 | K183: 28167 | L183: 113548 | M183: 1.162434e-05 | N183: 33190 | O183: 1376315 | P183: 2.1724135e-05 | Q183: 11729 | R183: 9555 | S183: 8740 | T183: 70912 | U183: 11729 | V183: 91381
A184: Countywide Totals | I184: =SUBTOTAL(109,Table18[Special Education Pupil Count as of the 2019-20 Fall 1 Census]) -> 68722 | J184: =SUBTOTAL(109,Table18[Allocation for Sec. 110(a) Paid from GEER Fund Res. Code 3215]) -> 31612891 | K184: =SUBTOTAL(109,Table18[Allocation for Sec. 110(a) Paid from CR Fund Res. Code 3220]) -> 101877320 | L184: =SUBTOTAL(109,Table18[LEA Supplemental and Concentration Grant Funding as of 2019-20 P-2]) -> 555132622 | M184: =SUBTOTAL(109,Table18[LEA Proportion of Statewide Supplemental and Concentration Grant Funding]) -> 0.056831036 | N184: =SUBTOTAL(109,Table18[Allocation for Sec. 110(b) Paid from CR Fund Res. Code 3220]) -> 162265511 | O184: =SUBTOTAL(109,Table18[LEA LCFF Entitlement as of 2019-20 P-2]) -> 4961878647 | P184: =SUBTOTAL(109,Table18[LEA Proportion of Statewide LCFF Entitlement]) -> 0.07831966 | Q184: =SUBTOTAL(109,Table18[Allocation for Sec. 110(c) Paid from GF Res. Code 7420]) -> 42286818 | R184: =SUBTOTAL(109,Table18[Allocation for Sec. 110(c) Paid from CR Fund Res. Code 3220]) -> 34448433 | S184: =SUBTOTAL(109,Table18[Allocation by Fund GEER Fund Res. Code 3215]) -> 31612891 | T184: =SUBTOTAL(109,Table18[Allocation by Fund CR Fund Res. Code 3220]) -> 298591264 | U184: =SUBTOTAL(109,Table18[Allocation by Fund GF Res. Code 7420]) -> 42286818 | V184: =SUBTOTAL(109,Table18[Total Allocation Sec. 110(a)-GEER Sec. 110(a)-CRF Sec. 110(b)-CRF Sec. 110(c)-GF Sec. 110(c)-CRF]) -> 372490973
A185: California Department of Education | U185: COE & District Total | V185: =SUMIF(Table18[Charter Number],"N/A",Table18[Total Allocation Sec. 110(a)-GEER Sec. 110(a)-CRF Sec. 110(b)-CRF Sec. 110(c)-GF Sec. 110(c)-CRF]) -> 335178982
A186: School Fiscal Services Division
A187: September 2020

Sheet IPI Grant -Rev Alloc
A1: Schedule of Revised Allocations for the In-Person Instruction Grant
A2: Fiscal Year 2020–21
A3: Section 2 of Assembly Bill (AB) 86 (Chapter 10, Statutes of 2021), as amended by Section 34 of AB 130 (Chapter 44, Statutes of 2021), provides funding for the In-Person Instruction (IPI) Grant.
A4: The revised allocation is based upon data from the 2020–21 Second Principal Apportionment.
A5: IPI Grants are based on a proportionate share of each LEA's LCFF entitlement, nonclassroom-based charter schools do not generate funding under this formula [EC 43521(c)].
A6: IPI funding reductions were calculated pursuant to EC 43521(f)(1)(B) based on the start date of in-person instruction as certified by each local educational agency.
A7: An LEA’s in-person instruction apportionment, and retention of funding, is contingent on meeting the criteria for continuous in-person instruction pursuant to Section 2 of AB 86.
A8: Legend: COE = County Office of Education; EC = Education Code; IPI = In-Person Instruction; LCFF = Local Control Funding Formula
A9: County Code | B9: District Code | C9: School Code | D9: Charter Number | E9: Fund Type | F9: Entity Name | G9: Entity Type | H9: Charter Schools: Nonclassroom-Based Charter School Indicator (Yes/No) | I9: Total LCFF Entitlement (If Nonclassroom-Based = Yes, equals 0) A.1 | J9: IPI Compliance Reduction Factor [EC 43521(c)(2)(B)(i) & (ii)] A.2 | K9: IPI Grant Allocation (A.1 x 3.8378610585% x (100% - A.2) A.3 | L9: Paid to Date B.1 | M9: Balance Due (A.3 - B.1) B.2
A10: 37 | B10: 10371 | C10: 0000000 | D10: N/A | E10: N/A | F10: San Diego Co. Office of Education | G10: COE | H10: N/A | I10: 81831329 | J10: 0.02 | K10: 3077761 | L10: 1345606 | M10: 1732155
A11: 37 | B11: 10371 | C11: 0108548 | D11: 0680 | E11: D | F11: Iftin Charter | G11: Charter School | H11: No | I11: 3416707 | J11: 0 | K11: 131128 | L11: 55813 | M11: 75315
A12: 37 | B12: 10371 | C12: 0136085 | D12: 1883 | E12: D | F12: Scholarship Prep Charter School - Oceanside | G12: Charter School | H12: No | I12: 4260944 | J12: 0 | K12: 163529 | L12: 70204 | M12: 93325
A13: 37 | B13: 10371 | C13: 0137695 | D13: 1947 | E13: D | F13: Community Montessori | G13: Charter School | H13: Yes | I13: 0 | J13: N/A | K13: 0 | L13: 0 | M13: 0
A14: 37 | B14: 10371 | C14: 0137752 | D14: 1946 | E14: D | F14: Dimensions Collaborative | G14: Charter School | H14: Yes | I14: 0 | J14: N/A | K14: 0 | L14: 0 | M14: 0
A15: 37 | B15: 10371 | C15: 0138016 | D15: 1989 | E15: D | F15: Pacific Springs Charter | G15: Charter School | H15: Yes | I15: 0 | J15: N/A | K15: 0 | L15: 0 | M15: 0
A16: 37 | B16: 10371 | C16: 0138404 | D16: 2016 | E16: D | F16: Classical Academy Vista | G16: Charter School | H16: Yes | I16: 0 | J16: N/A | K16: 0 | L16: 0 | M16: 0
A17: 37 | B17: 10371 | C17: 0138594 | D17: 2023 | E17: D | F17: National University Academy Dual Language Institute | G17: Charter School | H17: No | I17: 2217510 | J17: 0 | K17: 85105 | L17: 36505 | M17: 48600
A18: 37 | B18: 10371 | C18: 0138792 | D18: 2024 | E18: D | F18: JCS - Manzanita | G18: Charter School | H18: Yes | I18: 0 | J18: N/A | K18: 0 | L18: 0 | M18: 0
A19: 37 | B19: 10371 | C19: 6119119 | D19: 0405 | E19: D | F19: Literacy First Charter | G19: Charter School | H19: No | I19: 15968767 | J19: 0 | K19: 612859 | L19: 260354 | M19: 352505
A20: 37 | B20: 67967 | C20: 0000000 | D20: N/A | E20: N/A | F20: Alpine Union Elementary | G20: School District | H20: N/A | I20: 14174219 | J20: 0 | K20: 543987 | L20: 233362 | M20: 310625
A21: 37 | B21: 67983 | C21: 0000000 | D21: N/A | E21: N/A | F21: Borrego Springs Unified | G21: School District | H21: N/A | I21: 4762820 | J21: 0 | K21: 182790 | L21: 78488 | M21: 104302
A22: 37 | B22: 67983 | C22: 0134890 | D22: 1832 | E22: D | F22: San Diego Workforce Innovation High | G22: Charter School | H22: Yes | I22: 0 | J22: N/A | K22: 0 | L22: 0 | M22: 0
A23: 37 | B23: 67991 | C23: 0000000 | D23: N/A | E23: N/A | F23: Cajon Valley Union | G23: School District | H23: N/A | I23: 158890812 | J23: 0 | K23: 6098009 | L23: 2616908 | M23: 3481101
A24: 37 | B24: 67991 | C24: 0108563 | D24: 0683 | E24: D | F24: EJE Elementary Academy Charter | G24: Charter School | H24: No | I24: 5446580 | J24: 0 | K24: 209032 | L24: 89787 | M24: 119245
A25: 37 | B25: 67991 | C25: 0119255 | D25: 1063 | E25: D | F25: EJE Middle Academy | G25: Charter School | H25: No | I25: 2435161 | J25: 0 | K25: 93458 | L25: 40128 | M25: 53330
A26: 37 | B26: 67991 | C26: 0139394 | D26: 2054 | E26: D | F26: Kidinnu Academy | G26: Charter School | H26: No | I26: 1639768 | J26: 0 | K26: 62932 | L26: 26997 | M26: 35935
A27: 37 | B27: 68007 | C27: 0000000 | D27: N/A | E27: N/A | F27: Cardiff Elementary | G27: School District | H27: N/A | I27: 5328523 | J27: 0 | K27: 204501 | L27: 87681 | M27: 116820
A28: 37 | B28: 68023 | C28: 0000000 | D28: N/A | E28: N/A | F28: Chula Vista Elementary | G28: School District | H28: N/A | I28: 212687545 | J28: 0.05 | K28: 7754520 | L28: 3487765 | M28: 4266755
A29: 37 | B29: 68023 | C29: 0119594 | D29: 1082 | E29: D | F29: Leonardo da Vinci Health Sciences Charter | G29: Charter School | H29: No | I29: 2238918 | J29: 0.1 | K29: 77334 | L29: 36686 | M29: 40648
A30: 37 | B30: 68023 | C30: 0124321 | D30: 1308 | E30: D | F30: Howard Gardner Community Charter | G30: Charter School | H30: No | I30: 1976066 | J30: 0.04 | K30: 72805 | L30: 32445 | M30: 40360
A31: 37 | B31: 68023 | C31: 0138073 | D31: 2001 | E31: D | F31: Learning Choice Academy - Chula Vista | G31: Charter School | H31: Yes | I31: 0 | J31: N/A | K31: 0 | L31: 0 | M31: 0
A32: 37 | B32: 68023 | C32: 6037956 | D32: 0121 | E32: D | F32: Feaster (Mae L.) Charter | G32: Charter School | H32: No | I32: 11439823 | J32: 0.07 | K32: 408311 | L32: 187424 | M32: 220887
A33: 37 | B33: 68023 | C33: 6037980 | D33: 0064 | E33: D | F33: Mueller Charter (Robert L.) | G33: Charter School | H33: No | I33: 16643461 | J33: 0 | K33: 638753 | L33: 272775 | M33: 365978
A34: 37 | B34: 68023 | C34: 6111322 | D34: 0054 | E34: D | F34: Discovery Charter | G34: Charter School | H34: No | I34: 7673819 | J34: 0.07 | K34: 273895 | L34: 126151 | M34: 147744
A35: 37 | B35: 68023 | C35: 6115778 | D35: 0135 | E35: D | F35: Chula Vista Learning Community Charter | G35: Charter School | H35: No | I35: 14521785 | J35: 0.09 | K35: 507167 | L35: 238006 | M35: 269161
A36: 37 | B36: 68023 | C36: 6116859 | D36: 0483 | E36: D | F36: Arroyo Vista Charter | G36: Charter School | H36: No | I36: 7881539 | J36: 0.07 | K36: 281309 | L36: 129483 | M36: 151826
A37: 37 | B37: 68031 | C37: 0000000 | D37: N/A | E37: N/A | F37: Coronado Unified | G37: School District | H37: N/A | I37: 26572464 | J37: 0 | K37: 1019814 | L37: 437329 | M37: 582485
A38: 37 | B38: 68049 | C38: 0000000 | D38: N/A | E38: N/A | F38: Dehesa Elementary | G38: School District | H38: N/A | I38: 1273379 | J38: 0 | K38: 48871 | L38: 20970 | M38: 27901
A39: 37 | B39: 68049 | C39: 0127118 | D39: 1488 | E39: D | F39: The Heights Charter | G39: Charter School | H39: Yes | I39: 0 | J39: N/A | K39: 0 | L39: 0 | M39: 0
A40: 37 | B40: 68049 | C40: 0129221 | D40: 1617 | E40: D | F40: MethodSchools | G40: Charter School | H40: Yes | I40: 0 | J40: N/A | K40: 0 | L40: 0 | M40: 0
...

Sheet ELO RevAlloc (All LEAs)
A1: Schedule of Revised Allocations for the AB 86 Expanded Learning Opportunties Grant - Calculation by Fund
A2: Fiscal Year 2020–21
A3: Section 2 of AB 86 (Chapter 10, Statutes of 2021), provided funding for the Expanded Learning Opportunities (ELO) Grant, amendments in Section 34 of AB 130 (Chapter 44, Statutes of 2021), included a shift of $2.015 billion from General Fund to federal stimulus funds. This revised allocation provides each LEA's allocation by fund source.
A4: The revised allocation is based upon data from the 2020–21 Second Principal Apportionment and 2020-21 final California Longitudinal Pupil Achievement Data System (CALPADS) Fall 1 data.
A5: ELO Grants are based on three calculations: Homeless Pupil Enrollment x $1,000, State Special Schools ADA x $725, and remaining funds based on proportionate share of each LEA's LCFF Entitlement [EC 43521(b)].
A6: Calculations are displayed for all local educational agencies, however, for apportionment and reporting purposes, a locally funded charter school's allocation is included with the authorizing agency and SBC Charter records are displayed at the district level.
A7: Legend: AB = Assembly Bill; ADA = Average Daily Attendance; COE = County Office of Education; EC = Education Code; ELO = Expanded Learning Opportunities; LCFF = Local Control Funding Formula; LEA = Local Educational Agency; Res. Code = Standardized Account Code Structure (SACS) Resource Code
A8: County Code | B8: District Code | C8: School Code | D8: Charter Number | E8: Fund Type | F8: Service Location | G8: Entity Name | H8: Entity Type | I8: Homeless Pupil Enrollment as of the 2020–21 Fall 1 Census A.1 | J8: ELO Allocation for Homeless Pupils per EC 43521(b)(1) (A.1 x $1,000) A.2 | K8: State Special Schools Enrollment as of the 2020–21 Fall 1 Census B.1 | L8: State Special Schools ADA (B.1 x 97%) B.2 | M8: ELO Allocation for State Special Schools per EC 43521(b)(2) (B.2 x $725) B.3 | N8: Total LCFF Entitlement for ELO C.1 | O8: ELO Proportionate Share per EC 43521(b)(3) (C.1 x 6.9425743358%) C.2 | P8: Total ELO Allocation per EC 43521(b)(3) (A.2 + B.3 + C.2) D.1 | Q8: ELO Allocation Restricted to Paraprofessionals per EC 43522(c) Res.Code 7426 (C.2 x 10%) D.2 | R8: Allocation by Fund General Fund (D.1 x 55.7769571%) Res.Code 7425 Res. Code 7426 E.1 | S8: Allocation by Fund ESSER II EC 43521(a)(1) (D.1 x 14.7223566%) Res.Code 3216 E.2 | T8: Allocation by Fund GEER II EC 43521(a)(2) (D.1 x 3.3783416%) Res.Code 3217 E.3 | U8: Allocation by Fund ESSER III EC 43521(a)(3) (D.1 x 9.5901807%) Res.Code 3218 E.4 | V8: Allocation by Fund ESSER III State Reserve EC 43521(a)(4) (D.1 x 16.5321650%) Res.Code 3219 E.5 | W8: TOTAL Allocation General Fund, ESSER II, GEER II, ESSER III ESSER III-State Reserve (D.1 x 100%) (E.1 + E.2 + E.3 + E.4 + E.5) E.6
A9: 37 | B9: 10371 | C9: 0000000 | D9: N/A | E9: N/A | F9: 10371 | G9: San Diego Co. Office of Education | H9: COE | I9: 370 | J9: 370000 | K9: 0 | L9: 0 | M9: 0 | N9: 81831329 | O9: 5681201 | P9: 6051201 | Q9: 568120 | R9: 3375176 | S9: 890879 | T9: 204430 | U9: 580321 | V9: 1000395 | W9: 6051201
A10: 37 | B10: 10371 | C10: 0108548 | D10: 0680 | E10: D | F10: C0680 | G10: Iftin Charter | H10: Charter School | I10: 0 | J10: 0 | K10: 0 | L10: 0 | M10: 0 | N10: 3416707 | O10: 237207 | P10: 237207 | Q10: 23721 | R10: 132307 | S10: 34922 | T10: 8014 | U10: 22749 | V10: 39215 | W10: 237207
A11: 37 | B11: 10371 | C11: 0136085 | D11: 1883 | E11: D | F11: C1883 | G11: Scholarship Prep Charter School - Oceanside | H11: Charter School | I11: 30 | J11: 30000 | K11: 0 | L11: 0 | M11: 0 | N11: 4260944 | O11: 295819 | P11: 325819 | Q11: 29582 | R11: 181732 | S11: 47968 | T11: 11007 | U11: 31247 | V11: 53865 | W11: 325819
A12: 37 | B12: 10371 | C12: 0137695 | D12: 1947 | E12: D | F12: C1947 | G12: Community Montessori | H12: Charter School | I12: 5 | J12: 5000 | K12: 0 | L12: 0 | M12: 0 | N12: 6443703 | O12: 447359 | P12: 452359 | Q12: 44736 | R12: 252312 | S12: 66598 | T12: 15282 | U12: 43382 | V12: 74785 | W12: 452359
A13: 37 | B13: 10371 | C13: 0137752 | D13: 1946 | E13: D | F13: C1946 | G13: Dimensions Collaborative | H13: Charter School | I13: 8 | J13: 8000 | K13: 0 | L13: 0 | M13: 0 | N13: 4336562 | O13: 301069 | P13: 309069 | Q13: 30107 | R13: 172390 | S13: 45502 | T13: 10441 | U13: 29640 | V13: 51096 | W13: 309069
A14: 37 | B14: 10371 | C14: 0138016 | D14: 1989 | E14: D | F14: C1989 | G14: Pacific Springs Charter | H14: Charter School | I14: 42 | J14: 42000 | K14: 0 | L14: 0 | M14: 0 | N14: 4581483 | O14: 318073 | P14: 360073 | Q14: 31807 | R14: 200838 | S14: 53011 | T14: 12164 | U14: 34532 | V14: 59528 | W14: 360073
A15: 37 | B15: 10371 | C15: 0138404 | D15: 2016 | E15: D | F15: C2016 | G15: Classical Academy Vista | H15: Charter School | I15: 0 | J15: 0 | K15: 0 | L15: 0 | M15: 0 | N15: 4330843 | O15: 300672 | P15: 300672 | Q15: 30067 | R15: 167705 | S15: 44266 | T15: 10158 | U15: 28835 | V15: 49708 | W15: 300672
A16: 37 | B16: 10371 | C16: 0138594 | D16: 2023 | E16: D | F16: C2023 | G16: National University Academy Dual Language Institute | H16: Charter School | I16: 1 | J16: 1000 | K16: 0 | L16: 0 | M16: 0 | N16: 2217510 | O16: 153952 | P16: 154952 | Q16: 15395 | R16: 86427 | S16: 22813 | T16: 5235 | U16: 14860 | V16: 25617 | W16: 154952
A17: 37 | B17: 10371 | C17: 0138792 | D17: 2024 | E17: D | F17: C2024 | G17: JCS - Manzanita | H17: Charter School | I17: 6 | J17: 6000 | K17: 0 | L17: 0 | M17: 0 | N17: 2388383 | O17: 165815 | P17: 171815 | Q17: 16582 | R17: 95834 | S17: 25295 | T17: 5804 | U17: 16477 | V17: 28405 | W17: 171815
