Workbook
Name Mileage_Rate: 'Lookup & Calc Tables'!$C$32

Sheet Guidelines
B2: PARK HILL SCHOOL DISTRICT GUIDELINES GOVERNING TRAVEL & EXPENSES
B3: GO TO THE FORM
B5: INTRODUCTION
B7: Park Hill School District appreciates the time and effort you have given for official district business or professional development and wishes to reimburse you for the normal expenses incurred while performing services to the Park Hill School District. The school district is obliged to spend taxpayer funds prudently and within published IRS guidelines on eligible business expenses. If there is any question about any expenditure made on behalf of the district, please call your supervising administrator to discuss the justification of the claim. It is always desirable that the expenditure questions be clarified in advance. In order for reimbursements to be processed in a timely manner the form must be signed by the traveler and immediate supervisor, with account codes provided (if applicable), and with all documentation included.
B9: OVERNIGHT TRAVEL APPROVAL
B11: Overnight travel paid for by the Park Hill School District requires prior approval from the employee's supervisor and an overnight travel approval code. The Overnight Travel Approval form can be found at http://inside.parkhill.k12.mo.us/sites/Resources/Business/Business%20Department%20Web%20Pages/Employee%20Travel.aspx.
B13: CASH ADVANCES
B15: Cash advances for anticipated expenses (such as per diem amounts) will be given to employees per their request. Requests must be made no more than 30 days in advance and no less than two Tuesdays prior to the event.
B17: PER DIEM (MEALS)
B19: Effective August 1, 2013, employees will be eligible for a per diem to support district related travel and may be used for food/drink/meals and other related travel expenses. The per diem allowance will be calculated based upon the number of eligible meals within the trip. Per diem allowances are calculated based upon the following eligbile meal reimbursement rates: $15 for Breakfast; $20 for Lunch; $25 for Dinner. Meals included as a part of registration are not eligible for per diem allocations regardless of whether the employee chooses to take part in the provided meal.
B21: AIR TRAVEL
B23: Air travel can be arranged through All Purpose Travel (816/741-9080). Travelers should arrange for the most economical airfare available consistent with circumstances. Park Hill School District will pay up to coach fare only – usually paid in advance through a Purchase Order. Receipts and pricing documentation must be attached. The school district will pay for reasonable baggage fees, but will not reimburse the traveler for preferred seat or position upgrades.
... B66: Click Here to Return to Form

Sheet Form
C3: PARK HILL SCHOOL DISTRICT | O3: INPUT INFORMATION IN EACH ORANGE BOX
C4: Travel and Expense Reimbursement Form
C5: NAME: | H5: BUILDING:
C6: LAST 4 DIGITS SSN OR EMPLOYEE ID: | G6: OVERNIGHT TRAVEL APPROVAL CODE (if applicable):
C7: EVENT:
C8: EVENT LOCATION:
C9: FIRST DATE OF TRAVEL (MM/DD/YYYY):
C10: LAST DATE OF TRAVEL (MM/DD/YYYY):
C12: GUIDELINES
C13: 1. Copy of event agenda must be attached.
C14: 2. This form is to be used by individual employees only and reimbursements for the individual named above. Individual employees will not receive reimbursements for additional employee's meals or expenses.
C15: 3. Receipts for items outside food/drink/meals should be attached.
C17: PER DIEM (FOOD/DRINK/MEALS)
C18: 1. Effective August 1, 2013, employees will be eligible for a per diem to support district related travel and may be used for food/drink/meals and other related travel expenses. The per diem allowance will be calculated based upon the number of eligible meals within the trip. Per diem allowances are calculated based upon the following eligible meal reimbursement rates: $15 for Breakfast; $20 for Lunch; $25 for Dinner.
C19: 2. Food/drink/meals are the responsibility of the employee and may be paid for with the per diem allowance. Because food/drink/meals are the responsibility of the employee, receipts are not required to be provided to the district for food/drink/meals. Amounts spent for food/drink/meals above per diem allocations will be the responsibility of the employee and not reimbursed by the school district.
C20: 3. Meals included as a part of registration or provided by vendors at the conference are not eligible for per diem allocations regardless of whether the employee chooses to take part in the provided meal.
C21: 4. On the first day of travel from home (a) breakfast is not eligible for reimbursement; (b) lunch is eligible for reimbursement when 50 miles or more from home AND after 11AM; (c) dinner is eligible for reimbursement when 50 miles or more from home AND after 4PM.
D23: =TEXT(WEEKDAY(D24),"dddd") -> Saturday | E23: =TEXT(WEEKDAY(E24),"dddd") -> Sunday | F23: =TEXT(WEEKDAY(F24),"dddd") -> Monday | G23: =TEXT(WEEKDAY(G24),"dddd") -> Tuesday | H23: =TEXT(WEEKDAY(H24),"dddd") -> Wednesday | I23: =TEXT(WEEKDAY(I24),"dddd") -> Thursday | J23: =TEXT(WEEKDAY(J24),"dddd") -> Friday
C24: MEALS (used to calculate per diem allocation) | D24: =D9 -> 0 | E24: =D24+1 -> 1 | F24: =E24+1 -> 2 | G24: =F24+1 -> 3 | H24: =G24+1 -> 4 | I24: =H24+1 -> 5 | J24: =I24+1 -> 6 | K24: Total
C26: BREAKFAST ($15)
C27: BREAKFAST (Prior to 11AM) | D27: None | E27: None | F27: None | G27: None | H27: None | I27: None | J27: None | K27: ='Lookup & Calc Tables'!J18 -> 0
C29: LUNCH ($20)
C30: LUNCH (11AM to 4PM) | D30: None | E30: None | F30: None | G30: None | H30: None | I30: None | J30: None | K30: ='Lookup & Calc Tables'!J21 -> 0
C32: DINNER ($25)
C33: DINNER (After 4PM) | D33: None | E33: None | F33: None | G33: None | H33: None | I33: None | J33: None | K33: ='Lookup & Calc Tables'!J24 -> 0
C35: Meal Allowance Total | D35: ='Lookup & Calc Tables'!C26 -> 0 | E35: ='Lookup & Calc Tables'!D26 -> 0 | F35: ='Lookup & Calc Tables'!E26 -> 0 | G35: ='Lookup & Calc Tables'!F26 -> 0 | H35: ='Lookup & Calc Tables'!G26 -> 0 | I35: ='Lookup & Calc Tables'!H26 -> 0 | J35: ='Lookup & Calc Tables'!I26 -> 0 | K35: ='Lookup & Calc Tables'!J26 -> 0
C37: OTHER EXPENSES
C38: RECEIPT REQUIRED Hotel | D38: 0 | E38: 0 | F38: 0 | G38: 0 | H38: 0 | I38: 0 | J38: 0 | K38: =SUM(D38:J38) -> 0
C39: RECEIPT REQUIRED Taxi, Bus, Shuttle * | D39: 0 | E39: 0 | F39: 0 | G39: 0 | H39: 0 | I39: 0 | J39: 0 | K39: =SUM(D39:J39) -> 0
C40: RECEIPT REQUIRED Plane (including baggage fee) or Train | D40: 0 | E40: 0 | F40: 0 | G40: 0 | H40: 0 | I40: 0 | J40: 0 | K40: =SUM(D40:J40) -> 0
C41: NO RECEIPT REQUIRED (NOT TO EXCEED $5) Baggage Handling (Tips) | D41: 0 | E41: 0 | F41: 0 | G41: 0 | H41: 0 | I41: 0 | J41: 0 | K41: =SUM(D41:J41) -> 0
C42: RECEIPT & PRIOR APPROVAL REQUIRED Automobile Rental | D42: 0 | E42: 0 | F42: 0 | G42: 0 | H42: 0 | I42: 0 | J42: 0 | K42: =SUM(D42:J42) -> 0
C43: INPUT MILES PER DAY ON THIS LINE | D43: 0 | E43: 0 | F43: 0 | G43: 0 | H43: 0 | I43: 0 | J43: 0 | K43: =SUM(D43:J43) -> 0
C44: Automobile Mileage | D44: =ROUND(D43*Mileage_Rate,2) -> 0 | E44: =ROUND(E43*Mileage_Rate,2) -> 0 | F44: =ROUND(F43*Mileage_Rate,2) -> 0 | G44: =ROUND(G43*Mileage_Rate,2) -> 0 | H44: =ROUND(H43*Mileage_Rate,2) -> 0 | I44: =ROUND(I43*Mileage_Rate,2) -> 0 | J44: =ROUND(J43*Mileage_Rate,2) -> 0 | K44: =SUM(D44:J44) -> 0
C45: RECEIPT REQUIRED | KCI ECONOMY LOT RATE MAXIMUM ALLOWANCE Parking | D45: 0 | E45: 0 | F45: 0 | G45: 0 | H45: 0 | I45: 0 | J45: 0 | K45: =SUM(D45:J45) -> 0
C46: RECEIPT REQUIRED Registration Fee | D46: 0 | E46: 0 | F46: 0 | G46: 0 | H46: 0 | I46: 0 | J46: 0 | K46: =SUM(D46:J46) -> 0
C47: EXPLANATION REQUIRED BELOW Other * | D47: 0 | E47: 0 | F47: 0 | G47: 0 | H47: 0 | I47: 0 | J47: 0 | K47: =SUM(D47:J47) -> 0
C49: * Explain items and Any Unusual Items That May Be Questioned
C53: Other Expense Totals | D53: =D47+D46+D45+D44+D42+D41+D40+D39+D38 -> 0 | E53: =E47+E46+E45+E44+E42+E41+E40+E39+E38 -> 0 | F53: =F47+F46+F45+F44+F42+F41+F40+F39+F38 -> 0 | G53: =G47+G46+G45+G44+G42+G41+G40+G39+G38 -> 0 | H53: =H47+H46+H45+H44+H42+H41+H40+H39+H38 -> 0 | I53: =I47+I46+I45+I44+I42+I41+I40+I39+I38 -> 0 | J53: =J47+J46+J45+J44+J42+J41+J40+J39+J38 -> 0 | K53: =K47+K46+K45+K44+K42+K41+K40+K39+K38 -> 0
C55: TOTALS & AUTHORIZATION
...

Sheet Lookup & Calc Tables
A2: Table_PerDiemAmounts
B4: STATUS | C4: BREAKFAST | D4: LUNCH | E4: DINNER
B5: None | C5: 0 | D5: 0 | E5: 0
B6: Provided By Event/Vendor | C6: 0 | D6: 0 | E6: 0
B7: Per Diem | C7: 15 | D7: 20 | E7: 25
C8: 0 | D8: 0 | E8: 0
A12: Calc Table
C14: =TEXT(WEEKDAY(C15),"dddd") -> Saturday | D14: =TEXT(WEEKDAY(D15),"dddd") -> Sunday | E14: =TEXT(WEEKDAY(E15),"dddd") -> Monday | F14: =TEXT(WEEKDAY(F15),"dddd") -> Tuesday | G14: =TEXT(WEEKDAY(G15),"dddd") -> Wednesday | H14: =TEXT(WEEKDAY(H15),"dddd") -> Thursday | I14: =TEXT(WEEKDAY(I15),"dddd") -> Friday
B15: MEAL | C15: =Form!D24 -> 0 | D15: =Form!E24 -> 1 | E15: =Form!F24 -> 2 | F15: =Form!G24 -> 3 | G15: =Form!H24 -> 4 | H15: =Form!I24 -> 5 | I15: =Form!J24 -> 6 | J15: Total
B17: BREAKFAST ($15)
B18: BREAKFAST | C18: =IFERROR(VLOOKUP(Form!D27,Table_PerDiemAmounts[],2,FALSE),0) -> 0 | D18: =IFERROR(VLOOKUP(Form!E27,Table_PerDiemAmounts[],2,FALSE),0) -> 0 | E18: =IFERROR(VLOOKUP(Form!F27,Table_PerDiemAmounts[],2,FALSE),0) -> 0 | F18: =IFERROR(VLOOKUP(Form!G27,Table_PerDiemAmounts[],2,FALSE),0) -> 0 | G18: =IFERROR(VLOOKUP(Form!H27,Table_PerDiemAmounts[],2,FALSE),0) -> 0 | H18: =IFERROR(VLOOKUP(Form!I27,Table_PerDiemAmounts[],2,FALSE),0) -> 0 | I18: =IFERROR(VLOOKUP(Form!J27,Table_PerDiemAmounts[],2,FALSE),0) -> 0 | J18: =SUM(C18:I18) -> 0
B20: LUNCH ($20)
B21: LUNCH | C21: =IFERROR(VLOOKUP(Form!D30,Table_PerDiemAmounts[],3,FALSE),0) -> 0 | D21: =IFERROR(VLOOKUP(Form!E30,Table_PerDiemAmounts[],3,FALSE),0) -> 0 | E21: =IFERROR(VLOOKUP(Form!F30,Table_PerDiemAmounts[],3,FALSE),0) -> 0 | F21: =IFERROR(VLOOKUP(Form!G30,Table_PerDiemAmounts[],3,FALSE),0) -> 0 | G21: =IFERROR(VLOOKUP(Form!H30,Table_PerDiemAmounts[],3,FALSE),0) -> 0 | H21: =IFERROR(VLOOKUP(Form!I30,Table_PerDiemAmounts[],3,FALSE),0) -> 0 | I21: =IFERROR(VLOOKUP(Form!J30,Table_PerDiemAmounts[],3,FALSE),0) -> 0 | J21: =SUM(C21:I21) -> 0
B23: DINNER ($25)
B24: DINNER | C24: =IFERROR(VLOOKUP(Form!D33,Table_PerDiemAmounts[],4,FALSE),0) -> 0 | D24: =IFERROR(VLOOKUP(Form!E33,Table_PerDiemAmounts[],4,FALSE),0) -> 0 | E24: =IFERROR(VLOOKUP(Form!F33,Table_PerDiemAmounts[],4,FALSE),0) -> 0 | F24: =IFERROR(VLOOKUP(Form!G33,Table_PerDiemAmounts[],4,FALSE),0) -> 0 | G24: =IFERROR(VLOOKUP(Form!H33,Table_PerDiemAmounts[],4,FALSE),0) -> 0 | H24: =IFERROR(VLOOKUP(Form!I33,Table_PerDiemAmounts[],4,FALSE),0) -> 0 | I24: =IFERROR(VLOOKUP(Form!J33,Table_PerDiemAmounts[],4,FALSE),0) -> 0 | J24: =SUM(C24:I24) -> 0
B26: Meal Per Diem Total | C26: =C24+C21+C18 -> 0 | D26: =D24+D21+D18 -> 0 | E26: =E24+E21+E18 -> 0 | F26: =F24+F21+F18 -> 0 | G26: =G24+G21+G18 -> 0 | H26: =H24+H21+H18 -> 0 | I26: =I24+I21+I18 -> 0 | J26: =J24+J21+J18 -> 0
A30: Mileage Rate
B32: FY2020 | C32: 0.575
