Workbook

Sheet Grants Summary
A1: Grants
A2: fye 2021
B3: Amount | C3: Due Date | D3: Submitted | E3: Purpose of Grant | F3: July Payment | G3: August Payment | H3: September Payment | I3: October Payment | J3: November Payment | K3: December Payment | O3: Total Billed | P3: Balance Due
A4: CARES Act/ESSR | B4: 20000 | C4: 44057 | D4: Yes | E4: Covid related expenses | F4: 2000 | H4: 18000 | I4: 0 | J4: 0 | K4: 0 | O4: =SUM(F4:N4) -> 20000 | P4: =+B4-O4 -> 0
A5: Title I | B5: 22993 | C5: 44088 | D5: Yes | E5: Reading Program | H5: =+B5/10 -> 2299.3 | I5: 2299 | J5: 2299 | K5: 2299 | O5: =SUM(F5:N5) -> 9196.3 | P5: =+B5-O5 -> 13796.7
A6: Title Iia | B6: 11416 | C6: 44088 | D6: Yes | E6: Professional Development | H6: =+B6/10 -> 1141.6 | I6: 1142 | J6: 1142 | K6: 1142 | O6: =SUM(F6:N6) -> 4567.6 | P6: =+B6-O6 -> 6848.4
A7: Title IV | B7: 10000 | C7: 44088 | D7: Yes | E7: Technology | H7: =+B7/10 -> 1000 | I7: 1000 | J7: 1000 | K7: 1000 | O7: =SUM(F7:N7) -> 4000 | P7: =+B7-O7 -> 6000
A8: 240 Grant | B8: 177783 | C8: 44109 | D8: Yes | E8: Special Education | H8: =+B8/10 -> 17778.3 | I8: 15053 | J8: 17505 | K8: 17505 | O8: =SUM(F8:N8) -> 67841.3 | P8: =+B8-O8 -> 109941.7
A9: FEMA** | B9: =5000*0.75 -> 3750 | C9: On going | D9: No | E9: Disaster Relief - Covid related expenses | J9: 0 | K9: 0 | O9: =SUM(F9:N9) -> 0 | P9: =+B9-O9 -> 3750
A10: Technology Grant 117/118 | B10: 32490 | C10: 44013 | D10: Yes | E10: Technology for Covid related expenses | H10: 3249 | I10: =+B10-H10 -> 29241 | J10: 0 | K10: 0 | O10: =SUM(F10:N10) -> 32490 | P10: =+B10-O10 -> 0
A11: Grant 102 ($225 per pupil) | B11: 216675 | C11: 44074 | D11: Yes | E11: General Grant Covid related expenses | H11: 21667 | I11: 66599 | J11: 79463 | K11: =216675-167729 -> 48946 | O11: =SUM(F11:N11) -> 216675 | P11: =+B11-O11 -> 0
A12: Share Grant FC 336 | B12: 93279 | C12: 43952 | D12: Yes | E12: Guidance Grant | J12: 9327 | K12: 0 | O12: =SUM(F12:N12) -> 9327 | P12: =+B12-O12 -> 83952
A13: 248 Grant Systems for Student Success | B13: 20000 | C13: 43952 | D13: Yes | E13: Guidance Grant and Teacher's lounges | F13: 18000 | I13: 0 | J13: 0 | K13: 0 | O13: =SUM(F13:N13) -> 18000 | P13: =+B13-O13 -> 2000
A14: 248 Grant Systems for Student Success | B14: 27000 | C14: 44088 | D14: Yes | E14: Guidance Grant fy 21 | J14: 2700 | K14: 0 | O14: =SUM(F14:N14) -> 2700 | P14: =+B14-O14 -> 24300
A15: Year 2 Title I | B15: 100 | H15: 100 | I15: 0 | J15: 0 | K15: 0 | O15: =SUM(F15:N15) -> 100 | P15: =+B15-O15 -> 0
A16: Year 2 Title Iia | B16: 100 | H16: 100 | I16: 0 | J16: 0 | K16: 0 | O16: =SUM(F16:N16) -> 100 | P16: =+B16-O16 -> 0
A17: Year 2 Title IV | B17: 100 | H17: 100 | I17: 0 | J17: 0 | K17: 0 | O17: =SUM(F17:N17) -> 100 | P17: =+B17-O17 -> 0
A18: Year 2 240 Grant | B18: 100 | H18: 100 | I18: 0 | J18: 0 | K18: 0 | O18: =SUM(F18:N18) -> 100 | P18: =+B18-O18 -> 0
B21: =SUM(B4:B18) -> 635786 | H21: =SUM(H4:H18) -> 65535.2 | I21: =SUM(I4:I18) -> 115334 | J21: =SUM(J4:J18) -> 113436 | K21: =SUM(K4:K18) -> 70892
A26: Estimated Grant** | H26: Actually Paid Sept | I26: Need Kate
H27: Paid October | J27: Pd Nov
A33: Recurring Entitlement Grants

Sheet CARES Act
A1: Cares Act
A3: Total Grant | B3: =+'Grants Summary'!B4 -> 20000
A5: Expenses
A6: Stipends for Summer Work | B6: 20000
B8: =+B3-B6 -> 0

Sheet Title I
A1: Title I
A3: Total Grant | B3: =+'Grants Summary'!B5 -> 22993
A5: Expenses
A6: Literacy Teacher | B6: 21094
A7: MTRS | B7: 1898
A8: Misc | B8: 1
A10: Total Expenses | B10: =SUM(B6:B9) -> 22993

Sheet Title IIa
A1: Title Iia
A3: Total Grant | B3: =+'Grants Summary'!B6 -> 11416
A5: Expenses
A6: DEEP | B6: 11416
B8: =+B3-B6 -> 0

Sheet Title IV
A1: Title IV
A3: Total Grant | B3: =+'Grants Summary'!B7 -> 10000
A5: Expenses
A6: Peer Mediation | B6: 4000
A7: Ellevation | B7: 6000
A9: Total Expenses | B9: =SUM(B6:B8) -> 10000
B11: =+B3-B9 -> 0

Sheet 240 Grant
A1: 240 Idea Grant
A3: Total Grant | B3: =+'Grants Summary'!B8 -> 177783
A5: Expenses
A6: Behavior Specialist | B6: 37867
A7: Paraprofessionals | B7: 126508
A8: MTRS | B8: 3408
A9: PD For Special Ed Teachers | B9: 3350
A10: PD For Paraprofessionals | B10: 3350
A11: Ipads to evaluate students | B11: 1100
A12: Closed Captions for Zoom | B12: 2200
A15: Total Expenses | B15: =SUM(B6:B14) -> 177783
B17: =+B3-B15 -> 0

Sheet FEMA
A1: FEMA
A3: Total Grant | B3: =+'Grants Summary'!B9 -> 3750
A5: Expenses
A6: PPE
A7: Cleaning | B7: =5000*0.75 -> 3750
A9: Total Expenses | B9: =SUM(B6:B8) -> 3750

Sheet Technology Grant 117-118
A1: Technology Grant 117-118
A3: Total Grant | B3: =+'Grants Summary'!B10 -> 32490
A5: Expenses
A6: 100 Laptops for Student Use | B6: 32490
B8: =+B3-B6 -> 0

Sheet Grant 102 $225 per pupil
A1: Grant 102 $225 per pupil | B1: Original | C1: Amended
A3: Total Grant | B3: =+'Grants Summary'!B11 -> 216675 | C3: 216675
A5: Expenses
A6: Stipends for providing PD workshops | B6: 4800 | C6: 1800
A7: Stipend to provide parent presentation on Executive Function in remote learning | B7: 1500 | C7: 1500
A8: Air Flow Study | B8: 40000 | C8: 8377
A9: Mental Health Services to Students | B9: 7000 | C9: 7000
A10: PD to build a community for students with remote learning | B10: 7500 | C10: 7200
A11: Provide day care for teachers who's children have different learning schedules then our teachers | B11: 5000
A12: Zoom, Monitors, document cameras, software, Laptops for students to use for remote learning | B12: 69624 | C12: 92882
A13: Rental of modular office space to create isolation space for school nurse's office | B13: 4000
A14: Purchase plexiglass, stanchions and signage for social distancing | B14: 12000 | C14: 14422
A15: Supplies and equipment to sanitize the buildings | B15: 27760 | C15: 37655
A16: Add additional busses to create more social distancing | B16: 37491
A17: Air Purifiers | C17: 37344
A18: Radios | C18: 8495
A27: Total Expenses | B27: =SUM(B6:B26) -> 216675 | C27: =SUM(C6:C26) -> 216675
B29: =+B3-B27 -> 0

Sheet FC336 Share Grant
A10: FC336 Share Grant
A12: Total Grant | B12: =+'Grants Summary'!B12 -> 93279
A14: Expenses
A15: BRYT Academic Coordinator | B15: 26500
A16: DESE PD | B16: 10000
A17: BRYT Data Collection | B17: 1000
A18: Grant Management Team | B18: 3000
A19: Translation | B19: 3000
A20: Brookline Center PD | B20: 5000
A21: Clinical Support for BRYT | B21: 20000
A22: DEEP | B22: 22000
A23: Yoga/Mindfulness | B23: 2000
A24: YMHFA, CPI Materials | B24: 779
A26: Total Expenses | B26: =SUM(B15:B25) -> 93279
B28: =+B12-B26 -> 0

Sheet 248 Grant 8.2020
A1: 248 Grant ending 8.31.2020
A3: Total Grant | B3: =+'Grants Summary'!B13 -> 20000
A5: Expenses
A6: Tutor Center Development | B6: 1000
A7: Math Intervention Planning | B7: 3000
A8: DEEP | B8: 6000
A9: Furniture, paint to refurbish 3 existing teachers lounges | B9: 10000
A11: Total Expenses | B11: =SUM(B6:B10) -> 20000
B13: =+B3-B11 -> 0

Sheet 248 Grant 8.2021
A1: 248 Grant ending 8.31.2021
A3: Total Grant | B3: =+'Grants Summary'!B14 -> 27000
A5: Expenses
A6: Math Intervention Teacher | B6: 9174
A7: MTRS | B7: 826
A8: Tutor Center Lead Teacher | B8: 2000
A9: Tutor Center Supervision with additional Math intervention | B9: 8000
A10: DEEP | B10: 7000
A12: Total Expenses | B12: =SUM(B6:B11) -> 27000
B14: =+B3-B12 -> 0

Sheet Summary Grant Expenses
A1: 100 Laptops for Student Use | B1: 32490 | C1: Capitalize | D1: Technology Grant
A2: 100 Laptops for Student Use | B2: 52807 | C2: Capitalize | D2: Grant 102 $2125 per pupil | F2: =+B1+B2 -> 85297 | G2: =+F2-14000 -> 71297
A3: PPE | B3: 15000 | C3: Facilities | D3: FEMA
A4: Cleaning | B4: 5000 | C4: Facilities | D4: FEMA
A5: Air Flow Study | B5: 40000 | C5: Facilities | D5: Grant 102 $2125 per pupil
A6: Provide day care for teachers who's children have different learning schedules then our teachers | B6: 5000 | C6: Facilities | D6: Grant 102 $2125 per pupil
A7: Rental of modular office space to create isolation space for school nurse's office | B7: 4000 | C7: Facilities | D7: Grant 102 $2125 per pupil
A8: Purchase plexiglass, stanchions and signage for social distancing | B8: 12000 | C8: Facilities | D8: Grant 102 $2125 per pupil
A9: Supplies and equipment to sanitize the buildings | B9: 27760 | C9: Facilities | D9: Grant 102 $2125 per pupil | F9: =SUM(B3:B9) -> 108760
A10: Mental Health Services to Students | B10: 7000 | C10: Guidance | D10: Grant 102 $2125 per pupil
A11: BRYT Academic Coordinator | B11: 26500 | C11: Guidance | D11: FC 336
A12: BRYT Data Collection | B12: 1000 | C12: Guidance | D12: FC 336
A13: Translation | B13: 3000 | C13: Guidance | D13: FC 336
A14: Clinical Support for BRYT | B14: 20000 | C14: Guidance | D14: FC 336 | F14: =SUM(B10:B14) -> 57500
A15: Zoom, Monitors, document cameras, software, Laptops for students to use for remote learning | B15: =69624-52807 -> 16817 | C15: IT | D15: Grant 102 $2125 per pupil | F15: =B15 -> 16817
A16: PD to build a community for students with remote learning | B16: 7500 | C16: PD | D16: Grant 102 $2125 per pupil
A17: DESE PD | B17: 10000 | C17: PD | D17: FC 336 | G17: DEEP Training
A18: Brookline Center PD | B18: 5000 | C18: PD | D18: FC 336
A19: DEEP | B19: 22000 | C19: PD | D19: FC 336 | G19: FC336 | H19: =+B19 -> 22000
A20: Yoga/Mindfulness | B20: 2000 | C20: PD | D20: FC 336 | G20: 248 Grant | H20: =+B22 -> 7000
A21: YMHFA, CPI Materials | B21: 779 | C21: PD | D21: FC 336 | G21: 248 Grant last year | H21: 6000
A22: DEEP | B22: 7000 | C22: PD | D22: 248 Grant | F22: =SUM(B16:B22) -> 54279 | G22: Title II | H22: 11416
A23: Stipends for Summer Work | B23: 20000 | C23: Stipends | D23: CARES | G23: Total Covered | H23: =SUM(H19:H22) -> 46416
A24: Stipends for providing PD workshops | B24: 4800 | C24: Stipends | D24: Grant 102 $2125 per pupil | G24: Total Invoice | H24: 53000
A25: Stipend to provide parent presentation on Executive Function in remote learning | B25: 1500 | C25: Stipends | D25: Grant 102 $2125 per pupil | G25: Balance | H25: =+H24-H23 -> 6584
A26: Grant Management Team | B26: 3000 | C26: Stipends | D26: FC 336
A27: Math Intervention Teacher | B27: 9174 | C27: Stipends | D27: 248 Grant
A28: MTRS | B28: 826 | C28: Stipends | D28: 248 Grant
A29: Tutor Center Lead Teacher | B29: 2000 | C29: Stipends | D29: 248 Grant
A30: Tutor Center Supervision with additional Math intervention | B30: 8000 | C30: Stipends | D30: 248 Grant | F30: =SUM(B23:B30) -> 49300
A31: Add additional busses to create more social distancing | C31: Student Transportation | D31: Grant 102 $2125 per pupil
B33: =SUM(B1:B32) -> 371953

Sheet Grants with Expenses
C1: CARES Act | D1: Title I | E1: Title Iia | F1: Title IV | G1: 240 Grant | H1: FEMA | I1: Tech Grant | J1: $225/Pupil | K1: FC336 Share | L1: 248 - 8/2020 | M1: 248 8/2021 | N1: Total
A2: Grant Revenue | C2: 20000 | D2: =+'Grants Summary'!B5 -> 22993 | E2: =+'Grants Summary'!B6 -> 11416 | F2: =+'Grants Summary'!B7 -> 10000 | G2: =+'Grants Summary'!B8 -> 177783 | H2: =+'Grants Summary'!B9 -> 3750 | I2: =+'Grants Summary'!B10 -> 32490 | J2: =+'Grants Summary'!B11 -> 216675 | K2: =+'Grants Summary'!B12 -> 93279 | L2: =+'Grants Summary'!B13 -> 20000 | M2: =+'Grants Summary'!B14 -> 27000 | N2: =SUM(C2:M2) -> 635386
A4: 100 Laptops for Student Use | B4: 32490 | I4: =+B4 -> 32490 | N4: =SUM(C4:M4) -> 32490
A5: Air Flow Study | B5: 8377 | J5: =+B5 -> 8377 | N5: =SUM(C5:M5) -> 8377
A6: Air Purifiers | B6: 37344 | J6: =+B6 -> 37344 | N6: =SUM(C6:M6) -> 37344
A7: Behavior Specialist | B7: 37867 | G7: =+B7 -> 37867 | N7: =SUM(C7:M7) -> 37867
A8: Brookline Center PD | B8: 5000 | K8: =+B8 -> 5000 | N8: =SUM(C8:M8) -> 5000
A9: BRYT Academic Coordinator | B9: 26500 | K9: =+B9 -> 26500 | N9: =SUM(C9:M9) -> 26500
A10: BRYT Data Collection | B10: 1000 | K10: =+B10 -> 1000 | N10: =SUM(C10:M10) -> 1000
A11: Cleaning | B11: =5000*0.75 -> 3750 | H11: =+B11 -> 3750 | N11: =SUM(C11:M11) -> 3750
A12: Clinical Support for BRYT | B12: 20000 | K12: =+B12 -> 20000 | N12: =SUM(C12:M12) -> 20000
A13: Closed Captions for Zoom | B13: 2200 | G13: =+B13 -> 2200 | N13: =SUM(C13:M13) -> 2200
A14: DEEP | B14: 11416 | E14: =+B14 -> 11416 | K14: 22000 | L14: 6000 | M14: 7000 | N14: =SUM(C14:M14) -> 46416
A15: DESE PD | B15: 10000 | K15: =+B15 -> 10000 | N15: =SUM(C15:M15) -> 10000
A16: Ellevation | B16: 6000 | F16: =+B16 -> 6000 | N16: =SUM(C16:M16) -> 6000
A17: Furniture, paint to refurbish 3 existing teachers lounges | B17: 10000 | L17: =+B17 -> 10000 | N17: =SUM(C17:M17) -> 10000
A18: Grant Management Team | B18: 3000 | K18: =+B18 -> 3000 | N18: =SUM(C18:M18) -> 3000
A19: Ipads to evaluate students | B19: 1100 | G19: =+B19 -> 1100 | N19: =SUM(C19:M19) -> 1100
A20: Literacy Teacher | B20: 21094 | D20: =+B20 -> 21094 | N20: =SUM(C20:M20) -> 21094
A21: Math Intervention Planning | B21: 3000 | L21: =+B21 -> 3000 | N21: =SUM(C21:M21) -> 3000
A22: Math Intervention Teacher | B22: 9174 | M22: =+B22 -> 9174 | N22: =SUM(C22:M22) -> 9174
A23: Mental Health Services to Students | B23: 7000 | J23: =+B23 -> 7000 | N23: =SUM(C23:M23) -> 7000
A24: MTRS | B24: 1899 | D24: =+B24 -> 1899 | G24: 3408 | M24: 826 | N24: =SUM(C24:M24) -> 6133
A25: Paraprofessionals | B25: 126508 | G25: =+B25 -> 126508 | N25: =SUM(C25:M25) -> 126508
A26: PD For Paraprofessionals | B26: 3350 | G26: =+B26 -> 3350 | N26: =SUM(C26:M26) -> 3350
A27: PD For Special Ed Teachers | B27: 3350 | G27: =+B27 -> 3350 | N27: =SUM(C27:M27) -> 3350
A28: PD to build a community for students with remote learning | B28: 7200 | J28: =+B28 -> 7200 | N28: =SUM(C28:M28) -> 7200
A29: Peer Mediation | B29: 4000 | F29: =+B29 -> 4000 | N29: =SUM(C29:M29) -> 4000
A30: Purchase plexiglass, stanchions and signage for social distancing | B30: 14422 | J30: =+B30 -> 14422 | N30: =SUM(C30:M30) -> 14422
A31: Radios | B31: 8495 | J31: =+B31 -> 8495 | N31: =SUM(C31:M31) -> 8495
A32: Stipend to provide parent presentation on Executive Function in remote learning | B32: 1500 | J32: =+B32 -> 1500 | N32: =SUM(C32:M32) -> 1500
A33: Stipends for providing PD workshops | B33: 1800 | J33: =+B33 -> 1800 | N33: =SUM(C33:M33) -> 1800
A34: Stipends for Summer Work | B34: 20000 | C34: =+B34 -> 20000 | N34: =SUM(C34:M34) -> 20000
A35: Supplies and equipment to sanitize the buildings | B35: 37655 | J35: =+B35 -> 37655 | N35: =SUM(C35:M35) -> 37655
A36: Translation | B36: 3000 | K36: =+B36 -> 3000 | N36: =SUM(C36:M36) -> 3000
A37: Tutor Center Development | B37: 1000 | L37: =+B37 -> 1000 | N37: =SUM(C37:M37) -> 1000
A38: Tutor Center Lead Teacher | B38: 2000 | M38: =+B38 -> 2000 | N38: =SUM(C38:M38) -> 2000
A39: Tutor Center Supervision with additional Math intervention | B39: 8000 | M39: =+B39 -> 8000 | N39: =SUM(C39:M39) -> 8000
A40: YMHFA, CPI Materials | B40: 779 | K40: =+B40 -> 779 | N40: =SUM(C40:M40) -> 779
A41: Yoga/Mindfulness | B41: 2000 | K41: =+B41 -> 2000 | N41: =SUM(C41:M41) -> 2000
...
