Workbook

Sheet Capital Status Summary
A2: Exhibit VII – Capital Improvement Projects Status
A4: Open Capital Projects Status Report
A5: As of Jan 6, 2021
A7: FY/Group | B7: # of Projects | C7: # of Non-Active Projects | D7: # of Active Projects | E7: LTD Original Budget | F7: LTD Budget Transfers | G7: LTD Revised Budget | H7: LTD Actual | I7: Prior Yrs Spending | J7: CY Actual | K7: Encumbrances | L7: Available Budget | M7: % Avl Budget | N7: Last October Available Budget
A8: FY18 | B8: =COUNTIF('Capital Status Report'!B:B,A8) -> 45 | C8: =COUNTIFS('Capital Status Report'!B:B,A8,'Capital Status Report'!R:R,"Complete")+COUNTIFS('Capital Status Report'!B:B,A8,'Capital Status Report'!R:R,"Cancelled*") -> 31 | D8: =B8-C8 -> 14 | E8: =SUMIF('Capital Status Report'!$B:$B,'Capital Status Summary'!$A8,'Capital Status Report'!J:J) -> 12502960 | F8: =SUMIF('Capital Status Report'!$B:$B,'Capital Status Summary'!$A8,'Capital Status Report'!K:K) -> -1768960.1 | G8: =SUMIF('Capital Status Report'!$B:$B,'Capital Status Summary'!$A8,'Capital Status Report'!L:L) -> 10734000 | H8: =SUMIF('[1]Capital Status Report'!$B:$B,'Capital Status Summary'!$A8,'[1]Capital Status Report'!M:M) -> #VALUE! | I8: =SUMIF('Capital Status Report'!$B:$B,'Capital Status Summary'!$A8,'Capital Status Report'!N:N) -> 7671455 | J8: =SUMIF('Capital Status Report'!$B:$B,'Capital Status Summary'!$A8,'Capital Status Report'!O:O) -> 533906.7 | K8: =SUMIF('Capital Status Report'!$B:$B,'Capital Status Summary'!$A8,'Capital Status Report'!P:P) -> 168571.65 | L8: =SUMIF('Capital Status Report'!$B:$B,'Capital Status Summary'!$A8,'Capital Status Report'!Q:Q) -> 2360066.5 | M8: =L8/L$12 -> 0.094104652 | N8: 2528749
A9: FY19 | B9: =COUNTIF('Capital Status Report'!B:B,A9) -> 76 | C9: =COUNTIFS('Capital Status Report'!B:B,A9,'Capital Status Report'!R:R,"Complete")+COUNTIFS('Capital Status Report'!B:B,A9,'Capital Status Report'!R:R,"Cancelled*") -> 49 | D9: =B9-C9 -> 27 | E9: =SUMIF('Capital Status Report'!$B:$B,'Capital Status Summary'!$A9,'Capital Status Report'!J:J) -> 19869058 | F9: =SUMIF('Capital Status Report'!$B:$B,'Capital Status Summary'!$A9,'Capital Status Report'!K:K) -> -107058.5 | G9: =SUMIF('Capital Status Report'!$B:$B,'Capital Status Summary'!$A9,'Capital Status Report'!L:L) -> 19762000 | H9: =SUMIF('[2]Capital Status Report'!$B:$B,'[2]Capital Status Summary'!$A9,'[2]Capital Status Report'!M:M) -> #VALUE! | I9: =SUMIF('Capital Status Report'!$B:$B,'Capital Status Summary'!$A9,'Capital Status Report'!N:N) -> 12287229 | J9: =SUMIF('Capital Status Report'!$B:$B,'Capital Status Summary'!$A9,'Capital Status Report'!O:O) -> 2617633.8 | K9: =SUMIF('Capital Status Report'!$B:$B,'Capital Status Summary'!$A9,'Capital Status Report'!P:P) -> 946174.59 | L9: =SUMIF('Capital Status Report'!$B:$B,'Capital Status Summary'!$A9,'Capital Status Report'!Q:Q) -> 5267893.2 | M9: =L9/L$12 -> 0.21005054 | N9: 6056134
A10: FY20 | B10: =COUNTIF('Capital Status Report'!B:B,A10) -> 71 | C10: =COUNTIFS('Capital Status Report'!B:B,A10,'Capital Status Report'!R:R,"Complete")+COUNTIFS('Capital Status Report'!B:B,A10,'Capital Status Report'!R:R,"Cancelled*") -> 32 | D10: =B10-C10 -> 39 | E10: =SUMIF('Capital Status Report'!$B:$B,'Capital Status Summary'!$A10,'Capital Status Report'!J:J) -> 22038503 | F10: =SUMIF('Capital Status Report'!$B:$B,'Capital Status Summary'!$A10,'Capital Status Report'!K:K) -> 0 | G10: =SUMIF('Capital Status Report'!$B:$B,'Capital Status Summary'!$A10,'Capital Status Report'!L:L) -> 22038503 | H10: =SUMIF('[2]Capital Status Report'!$B:$B,'[2]Capital Status Summary'!$A10,'[2]Capital Status Report'!M:M) -> #VALUE! | I10: =SUMIF('Capital Status Report'!$B:$B,'Capital Status Summary'!$A10,'Capital Status Report'!N:N) -> 7327783.6 | J10: =SUMIF('Capital Status Report'!$B:$B,'Capital Status Summary'!$A10,'Capital Status Report'!O:O) -> 4893680.2 | K10: =SUMIF('Capital Status Report'!$B:$B,'Capital Status Summary'!$A10,'Capital Status Report'!P:P) -> 3386321.7 | L10: =SUMIF('Capital Status Report'!$B:$B,'Capital Status Summary'!$A10,'Capital Status Report'!Q:Q) -> 6430717.6 | M10: =L10/L$12 -> 0.25641668 | N10: 6587834
A11: FY21 | B11: =COUNTIF('Capital Status Report'!B:B,A11) -> 88 | C11: =COUNTIFS('Capital Status Report'!B:B,A11,'Capital Status Report'!R:R,"Complete")+COUNTIFS('Capital Status Report'!B:B,A11,'Capital Status Report'!R:R,"Cancelled*") -> 4 | D11: =B11-C11 -> 84 | E11: =SUMIF('Capital Status Report'!$B:$B,'Capital Status Summary'!$A11,'Capital Status Report'!J:J) -> 16397000 | F11: =SUMIF('Capital Status Report'!$B:$B,'Capital Status Summary'!$A11,'Capital Status Report'!K:K) -> 0 | G11: =SUMIF('Capital Status Report'!$B:$B,'Capital Status Summary'!$A11,'Capital Status Report'!L:L) -> 16397000 | I11: =SUMIF('Capital Status Report'!$B:$B,'Capital Status Summary'!$A11,'Capital Status Report'!N:N) -> 0 | J11: =SUMIF('Capital Status Report'!$B:$B,'Capital Status Summary'!$A11,'Capital Status Report'!O:O) -> 2012744.9 | K11: =SUMIF('Capital Status Report'!$B:$B,'Capital Status Summary'!$A11,'Capital Status Report'!P:P) -> 3363762.6 | L11: =SUMIF('Capital Status Report'!$B:$B,'Capital Status Summary'!$A11,'Capital Status Report'!Q:Q) -> 11020492 | M11: =L11/L$12 -> 0.43942812 | N11: 12289902
A12: Subtotal FY Projects | B12: =SUM(B8:B11) -> 280 | C12: =SUM(C8:C11) -> 116 | D12: =SUM(D8:D11) -> 164 | E12: =SUM(E8:E11) -> 70807522 | F12: =SUM(F8:F11) -> -1876018.6 | G12: =SUM(G8:G11) -> 68931503 | H12: =SUM(H8:H11) -> #VALUE! | I12: =SUM(I8:I11) -> 27286468 | ... L12: =SUM(L8:L11) -> 25079170 | M12: =SUM(M8:M10) -> 0.56057188 | N12: =SUM(N8:N11) -> 27462619
A14: Building Committee** | B14: =COUNTIF('Capital Status Report'!B:B,"BC") -> 7 | C14: =COUNTIFS('Capital Status Report'!B:B,A14,'Capital Status Report'!R:R,"Complete")+COUNTIFS('Capital Status Report'!B:B,A14,'Capital Status Report'!R:R,"Cancelled*") -> 0 | D14: =B14-C14 -> 7 | E14: =SUMIF('Capital Status Report'!$B:$B,"BC",'Capital Status Report'!J:J) -> 78581000 | F14: =SUMIF('Capital Status Report'!$B:$B,"BC",'Capital Status Report'!K:K) -> 31967100 | G14: =SUMIF('Capital Status Report'!$B:$B,"BC",'Capital Status Report'!L:L) -> 110548100 | H14: =SUMIF('Capital Status Report'!$B:$B,"BC",'Capital Status Report'!M:M) -> 1.075707e+08 | I14: =SUMIF('Capital Status Report'!$B:$B,"BC",'Capital Status Report'!N:N) -> 1.0717706e+08 | J14: =SUMIF('Capital Status Report'!$B:$B,"BC",'Capital Status Report'!O:O) -> 393640.17 | K14: =SUMIF('Capital Status Report'!$B:$B,"BC",'Capital Status Report'!P:P) -> 249990.13 | L14: =SUMIF('Capital Status Report'!$B:$B,"BC",'Capital Status Report'!Q:Q) -> 2727405.7 | N14: 2736011
A16: Total Projects | B16: =B12+B14 -> 287 | C16: =C12+C14 -> 116 | D16: =D12+D14 -> 171 | E16: =SUBTOTAL(9,E12:E15) -> 1.4938852e+08 | F16: =SUBTOTAL(9,F12:F15) -> 30091081 | G16: =SUBTOTAL(9,G12:G15) -> 1.794796e+08 | H16: =SUBTOTAL(9,H12:H15) -> #VALUE! | I16: =SUBTOTAL(9,I12:I15) -> 1.3446353e+08 | J16: =SUBTOTAL(9,J12:J15) -> 10451606 | K16: =SUBTOTAL(9,K12:K15) -> 8114820.7 | L16: =SUBTOTAL(9,L12:L15) -> 27806575 | N16: =SUBTOTAL(9,N12:N15) -> 30198630 | O16: =(N16-L16)/N16 -> 0.079210697

Sheet Capital Status Report
A1: Line | B1: Group | C1: Bundle Description | D1: Bundle Project Number | E1: Project Description | F1: Project Location | G1: Bundle & Project | H1: Locn | I1: Munis Setup Year | J1: LTD Original Budget | K1: LTD Budget Transfers | L1: LTD Revised Budget | M1: LTD Actual | N1: Prior Yrs Spending | O1: CY Actual | P1: Encumb | Q1: Available Budget | R1: Status | S1: Facilities Internal Comments | T1: COMMENTS
A2: 1 | B2: BC | C2: 25110 - Hamilton Avenue | D2: =LEFT(C2,5) -> 25110 | E2: Hamilton Ave | F2: 117 - HAVEMEYER | G2: =D2&F2 -> 25110117 - HAVEMEYER | H2: =VLOOKUP(F2,'[2]Locn Lookup'!A$1:B$17,2,FALSE) -> HAV | I2: =VLOOKUP($C2&$F2,Open Capital Projects Access,4,FALSE) -> #NAME? | J2: =SUMIF('MUNIS GL Working Doc 01.06'!H:H,'Capital Status Report'!G2,'MUNIS GL Working Doc 01.06'!AB:AB) -> 21000000 | K2: =SUMIF('MUNIS GL Working Doc 01.06'!H:H,'Capital Status Report'!G2,'MUNIS GL Working Doc 01.06'!AE:AE) -> 6718100 | L2: =SUMIF('MUNIS GL Working Doc 01.06'!$H:$H,'Capital Status Report'!$G2,'MUNIS GL Working Doc 01.06'!AF:AF) -> 27718100 | M2: =SUMIF('MUNIS GL Working Doc 01.06'!$H:$H,'Capital Status Report'!$G2,'MUNIS GL Working Doc 01.06'!AG:AG) -> 27608411 | N2: =M2-O2 -> 27608411 | O2: =SUMIF('MUNIS GL Working Doc 01.06'!$H:$H,'Capital Status Report'!$G2,'MUNIS GL Working Doc 01.06'!W:W) -> 0 | P2: =SUMIF('MUNIS GL Working Doc 01.06'!$H:$H,'Capital Status Report'!$G2,'MUNIS GL Working Doc 01.06'!X:X) -> 10123.11 | Q2: =SUMIF('MUNIS GL Working Doc 01.06'!$H:$H,'Capital Status Report'!$G2,'MUNIS GL Working Doc 01.06'!Z:Z) -> 99566.22 | R2: Complete | T2: N/A
A3: 3 | B3: BC | C3: 29049 - Glenville School Bldg Committee | D3: =LEFT(C3,5) -> 29049 | E3: Glenville School | F3: 117 - HAVEMEYER | G3: =D3&F3 -> 29049117 - HAVEMEYER | H3: =VLOOKUP(F3,'[2]Locn Lookup'!A$1:B$17,2,FALSE) -> HAV | I3: =VLOOKUP($C3&$F3,Open Capital Projects Access,4,FALSE) -> #NAME? | J3: =SUMIF('MUNIS GL Working Doc 01.06'!H:H,'Capital Status Report'!G3,'MUNIS GL Working Doc 01.06'!AB:AB) -> 3500000 | K3: =SUMIF('MUNIS GL Working Doc 01.06'!H:H,'Capital Status Report'!G3,'MUNIS GL Working Doc 01.06'!AE:AE) -> -1500000 | L3: =SUMIF('MUNIS GL Working Doc 01.06'!$H:$H,'Capital Status Report'!$G3,'MUNIS GL Working Doc 01.06'!AF:AF) -> 2000000 | M3: =SUMIF('MUNIS GL Working Doc 01.06'!$H:$H,'Capital Status Report'!$G3,'MUNIS GL Working Doc 01.06'!AG:AG) -> 734362.57 | N3: =M3-O3 -> 734362.57 | O3: =SUMIF('MUNIS GL Working Doc 01.06'!$H:$H,'Capital Status Report'!$G3,'MUNIS GL Working Doc 01.06'!W:W) -> 0 | P3: =SUMIF('MUNIS GL Working Doc 01.06'!$H:$H,'Capital Status Report'!$G3,'MUNIS GL Working Doc 01.06'!X:X) -> 5000 | Q3: =SUMIF('MUNIS GL Working Doc 01.06'!$H:$H,'Capital Status Report'!$G3,'MUNIS GL Working Doc 01.06'!Z:Z) -> 1260637.4 | R3: Complete | S3: $1.5M of this item (Orig Bud) is not on Access Report | T3: GLENVILLE COMMITTEE
A4: 5 | B4: BC | C4: 12149 - MISA | D4: =LEFT(C4,5) -> 12149 | E4: MISA | F4: 116 - GREENWICH HIGH SCHOOL | G4: =D4&F4 -> 12149116 - GREENWICH HIGH SCHOOL | H4: =VLOOKUP(F4,'[2]Locn Lookup'!A$1:B$17,2,FALSE) -> GHS | I4: =VLOOKUP($C4&$F4,Open Capital Projects Access,4,FALSE) -> #NAME? | J4: =SUMIF('MUNIS GL Working Doc 01.06'!H:H,'Capital Status Report'!G4,'MUNIS GL Working Doc 01.06'!AB:AB) -> 17000000 | K4: =SUMIF('MUNIS GL Working Doc 01.06'!H:H,'Capital Status Report'!G4,'MUNIS GL Working Doc 01.06'!AE:AE) -> 24451000 | L4: =SUMIF('MUNIS GL Working Doc 01.06'!$H:$H,'Capital Status Report'!$G4,'MUNIS GL Working Doc 01.06'!AF:AF) -> 41451000 | M4: =SUMIF('MUNIS GL Working Doc 01.06'!$H:$H,'Capital Status Report'!$G4,'MUNIS GL Working Doc 01.06'!AG:AG) -> 41438365 | N4: =M4-O4 -> 41437523 | O4: =SUMIF('MUNIS GL Working Doc 01.06'!$H:$H,'Capital Status Report'!$G4,'MUNIS GL Working Doc 01.06'!W:W) -> 842.5 | P4: =SUMIF('MUNIS GL Working Doc 01.06'!$H:$H,'Capital Status Report'!$G4,'MUNIS GL Working Doc 01.06'!X:X) -> 10928.26 | Q4: =SUMIF('MUNIS GL Working Doc 01.06'!$H:$H,'Capital Status Report'!$G4,'MUNIS GL Working Doc 01.06'!Z:Z) -> 1706.31 | R4: Substantially Complete | T4: MISA
A5: 7 | B5: BC | C5: 13164 - MISA Soil Contamination | D5: =LEFT(C5,5) -> 13164 | E5: MISA soil contamination | F5: 116 - GREENWICH HIGH SCHOOL | G5: =D5&F5 -> 13164116 - GREENWICH HIGH SCHOOL | H5: =VLOOKUP(F5,'[2]Locn Lookup'!A$1:B$17,2,FALSE) -> GHS | I5: =VLOOKUP($C5&$F5,Open Capital Projects Access,4,FALSE) -> #NAME? | J5: =SUMIF('MUNIS GL Working Doc 01.06'!H:H,'Capital Status Report'!G5,'MUNIS GL Working Doc 01.06'!AB:AB) -> 2070000 | K5: =SUMIF('MUNIS GL Working Doc 01.06'!H:H,'Capital Status Report'!G5,'MUNIS GL Working Doc 01.06'!AE:AE) -> 0 | L5: =SUMIF('MUNIS GL Working Doc 01.06'!$H:$H,'Capital Status Report'!$G5,'MUNIS GL Working Doc 01.06'!AF:AF) -> 2070000 | M5: =SUMIF('MUNIS GL Working Doc 01.06'!$H:$H,'Capital Status Report'!$G5,'MUNIS GL Working Doc 01.06'!AG:AG) -> 2069930.1 | N5: =M5-O5 -> 2069930.1 | O5: =SUMIF('MUNIS GL Working Doc 01.06'!$H:$H,'Capital Status Report'!$G5,'MUNIS GL Working Doc 01.06'!W:W) -> 0 | P5: =SUMIF('MUNIS GL Working Doc 01.06'!$H:$H,'Capital Status Report'!$G5,'MUNIS GL Working Doc 01.06'!X:X) -> 69.86 | Q5: =SUMIF('MUNIS GL Working Doc 01.06'!$H:$H,'Capital Status Report'!$G5,'MUNIS GL Working Doc 01.06'!Z:Z) -> 0 | R5: Substantially Complete | T5: MISA
A6: 9 | B6: BC | C6: 15166 - New Lebanon Feasibility Study | D6: =LEFT(C6,5) -> 15166 | E6: New Lebanon feasibility study | F6: 117 - HAVEMEYER | G6: =D6&F6 -> 15166117 - HAVEMEYER | H6: =VLOOKUP(F6,'[2]Locn Lookup'!A$1:B$17,2,FALSE) -> HAV | I6: =VLOOKUP($C6&$F6,Open Capital Projects Access,4,FALSE) -> #NAME? | J6: =SUMIF('MUNIS GL Working Doc 01.06'!H:H,'Capital Status Report'!G6,'MUNIS GL Working Doc 01.06'!AB:AB) -> 100000 | K6: =SUMIF('MUNIS GL Working Doc 01.06'!H:H,'Capital Status Report'!G6,'MUNIS GL Working Doc 01.06'!AE:AE) -> 0 | L6: =SUMIF('MUNIS GL Working Doc 01.06'!$H:$H,'Capital Status Report'!$G6,'MUNIS GL Working Doc 01.06'!AF:AF) -> 100000 | M6: =SUMIF('MUNIS GL Working Doc 01.06'!$H:$H,'Capital Status Report'!$G6,'MUNIS GL Working Doc 01.06'!AG:AG) -> 98716.5 | N6: =M6-O6 -> 98716.5 | O6: =SUMIF('MUNIS GL Working Doc 01.06'!$H:$H,'Capital Status Report'!$G6,'MUNIS GL Working Doc 01.06'!W:W) -> 0 | P6: =SUMIF('MUNIS GL Working Doc 01.06'!$H:$H,'Capital Status Report'!$G6,'MUNIS GL Working Doc 01.06'!X:X) -> 0 | Q6: =SUMIF('MUNIS GL Working Doc 01.06'!$H:$H,'Capital Status Report'!$G6,'MUNIS GL Working Doc 01.06'!Z:Z) -> 1283.5 | R6: Substantially Complete | T6: NLBC
A7: 11 | B7: BC | C7: 16166 - New Lebanon Design | D7: =LEFT(C7,5) -> 16166 | E7: New Lebanon design | F7: 117 - HAVEMEYER | G7: =D7&F7 -> 16166117 - HAVEMEYER | H7: =VLOOKUP(F7,'[2]Locn Lookup'!A$1:B$17,2,FALSE) -> HAV | I7: =VLOOKUP($C7&$F7,Open Capital Projects Access,4,FALSE) -> #NAME? | J7: =SUMIF('MUNIS GL Working Doc 01.06'!H:H,'Capital Status Report'!G7,'MUNIS GL Working Doc 01.06'!AB:AB) -> 2850000 | K7: =SUMIF('MUNIS GL Working Doc 01.06'!H:H,'Capital Status Report'!G7,'MUNIS GL Working Doc 01.06'!AE:AE) -> 0 | L7: =SUMIF('MUNIS GL Working Doc 01.06'!$H:$H,'Capital Status Report'!$G7,'MUNIS GL Working Doc 01.06'!AF:AF) -> 2850000 | M7: =SUMIF('MUNIS GL Working Doc 01.06'!$H:$H,'Capital Status Report'!$G7,'MUNIS GL Working Doc 01.06'!AG:AG) -> 2812934.1 | N7: =M7-O7 -> 2812934.1 | O7: =SUMIF('MUNIS GL Working Doc 01.06'!$H:$H,'Capital Status Report'!$G7,'MUNIS GL Working Doc 01.06'!W:W) -> 0 | P7: =SUMIF('MUNIS GL Working Doc 01.06'!$H:$H,'Capital Status Report'!$G7,'MUNIS GL Working Doc 01.06'!X:X) -> 37064.5 | Q7: =SUMIF('MUNIS GL Working Doc 01.06'!$H:$H,'Capital Status Report'!$G7,'MUNIS GL Working Doc 01.06'!Z:Z) -> 1.36 | R7: Substantially Complete | T7: NLBC
A8: 13 | B8: BC | C8: 17157 - New Lebanon School | D8: =LEFT(C8,5) -> 17157 | E8: New Lebanon School | F8: 117 - HAVEMEYER | G8: =D8&F8 -> 17157117 - HAVEMEYER | H8: =VLOOKUP(F8,'[2]Locn Lookup'!A$1:B$17,2,FALSE) -> HAV | I8: =VLOOKUP($C8&$F8,Open Capital Projects Access,4,FALSE) -> #NAME? | J8: =SUMIF('MUNIS GL Working Doc 01.06'!H:H,'Capital Status Report'!G8,'MUNIS GL Working Doc 01.06'!AB:AB) -> 32061000 | K8: =SUMIF('MUNIS GL Working Doc 01.06'!H:H,'Capital Status Report'!G8,'MUNIS GL Working Doc 01.06'!AE:AE) -> 2298000 | L8: =SUMIF('MUNIS GL Working Doc 01.06'!$H:$H,'Capital Status Report'!$G8,'MUNIS GL Working Doc 01.06'!AF:AF) -> 34359000 | M8: =SUMIF('MUNIS GL Working Doc 01.06'!$H:$H,'Capital Status Report'!$G8,'MUNIS GL Working Doc 01.06'!AG:AG) -> 32807985 | N8: =M8-O8 -> 32415187 | O8: =SUMIF('MUNIS GL Working Doc 01.06'!$H:$H,'Capital Status Report'!$G8,'MUNIS GL Working Doc 01.06'!W:W) -> 392797.67 | P8: =SUMIF('MUNIS GL Working Doc 01.06'!$H:$H,'Capital Status Report'!$G8,'MUNIS GL Working Doc 01.06'!X:X) -> 186804.4 | Q8: =SUMIF('MUNIS GL Working Doc 01.06'!$H:$H,'Capital Status Report'!$G8,'MUNIS GL Working Doc 01.06'!Z:Z) -> 1364210.9 | R8: In Construction > 50% | T8: NLBC
A9: 15 | B9: FY18 | C9: 18155 - Digital Learning Program | D9: =LEFT(C9,5) -> 18155 | E9: Advances the transformation of teaching & learning | F9: 117 - HAVEMEYER | G9: =D9&F9 -> 18155117 - HAVEMEYER | H9: =VLOOKUP(F9,'[2]Locn Lookup'!A$1:B$17,2,FALSE) -> HAV | I9: =VLOOKUP($C9&$F9,Open Capital Projects Access,4,FALSE) -> #NAME? | J9: =SUMIF('MUNIS GL Working Doc 01.06'!H:H,'Capital Status Report'!G9,'MUNIS GL Working Doc 01.06'!AB:AB) -> 3496000 | K9: =SUMIF('MUNIS GL Working Doc 01.06'!H:H,'Capital Status Report'!G9,'MUNIS GL Working Doc 01.06'!AE:AE) -> -1748000 | L9: =SUMIF('MUNIS GL Working Doc 01.06'!$H:$H,'Capital Status Report'!$G9,'MUNIS GL Working Doc 01.06'!AF:AF) -> 1748000 | M9: =SUMIF('MUNIS GL Working Doc 01.06'!$H:$H,'Capital Status Report'!$G9,'MUNIS GL Working Doc 01.06'!AG:AG) -> 1734465.5 | N9: =M9-O9 -> 1734465.5 | O9: =SUMIF('MUNIS GL Working Doc 01.06'!$H:$H,'Capital Status Report'!$G9,'MUNIS GL Working Doc 01.06'!W:W) -> 0 | P9: =SUMIF('MUNIS GL Working Doc 01.06'!$H:$H,'Capital Status Report'!$G9,'MUNIS GL Working Doc 01.06'!X:X) -> 0 | Q9: =SUMIF('MUNIS GL Working Doc 01.06'!$H:$H,'Capital Status Report'!$G9,'MUNIS GL Working Doc 01.06'!Z:Z) -> 13534.48 | R9: Substantially Complete | T9: DIGITAL LEARNING
A10: 17 | B10: FY18 | C10: 18158 - Advance A/E | D10: =LEFT(C10,5) -> 18158 | E10: Consulting fees for next year's capital projects | F10: 117 - HAVEMEYER | G10: =D10&F10 -> 18158117 - HAVEMEYER | H10: =VLOOKUP(F10,'[2]Locn Lookup'!A$1:B$17,2,FALSE) -> HAV | I10: =VLOOKUP($C10&$F10,Open Capital Projects Access,4,FALSE) -> #NAME? | J10: =SUMIF('MUNIS GL Working Doc 01.06'!H:H,'Capital Status Report'!G10,'MUNIS GL Working Doc 01.06'!AB:AB) -> 550000 | K10: =SUMIF('MUNIS GL Working Doc 01.06'!H:H,'Capital Status Report'!G10,'MUNIS GL Working Doc 01.06'!AE:AE) -> 0 | L10: =SUMIF('MUNIS GL Working Doc 01.06'!$H:$H,'Capital Status Report'!$G10,'MUNIS GL Working Doc 01.06'!AF:AF) -> 550000 | M10: =SUMIF('MUNIS GL Working Doc 01.06'!$H:$H,'Capital Status Report'!$G10,'MUNIS GL Working Doc 01.06'!AG:AG) -> 502183.85 | N10: =M10-O10 -> 502183.85 | O10: =SUMIF('MUNIS GL Working Doc 01.06'!$H:$H,'Capital Status Report'!$G10,'MUNIS GL Working Doc 01.06'!W:W) -> 0 | P10: =SUMIF('MUNIS GL Working Doc 01.06'!$H:$H,'Capital Status Report'!$G10,'MUNIS GL Working Doc 01.06'!X:X) -> 42816.15 | Q10: =SUMIF('MUNIS GL Working Doc 01.06'!$H:$H,'Capital Status Report'!$G10,'MUNIS GL Working Doc 01.06'!Z:Z) -> 5000 | R10: Complete | S10: RETURN TO TOG | T10: RETURN TO TOG
A11: 19 | B11: FY18 | C11: 18159 - Cardinal Stadium Feasblty Stdy&Cons | D11: =LEFT(C11,5) -> 18159 | E11: Consulting fees for the feasibility of a new stadium at GHS | F11: 116 - GREENWICH HIGH SCHOOL | G11: =D11&F11 -> 18159116 - GREENWICH HIGH SCHOOL | H11: =VLOOKUP(F11,'[2]Locn Lookup'!A$1:B$17,2,FALSE) -> GHS | I11: =VLOOKUP($C11&$F11,Open Capital Projects Access,4,FALSE) -> #NAME? | J11: =SUMIF('MUNIS GL Working Doc 01.06'!H:H,'Capital Status Report'!G11,'MUNIS GL Working Doc 01.06'!AB:AB) -> 60000 | K11: =SUMIF('MUNIS GL Working Doc 01.06'!H:H,'Capital Status Report'!G11,'MUNIS GL Working Doc 01.06'!AE:AE) -> 0 | L11: =SUMIF('MUNIS GL Working Doc 01.06'!$H:$H,'Capital Status Report'!$G11,'MUNIS GL Working Doc 01.06'!AF:AF) -> 60000 | M11: =SUMIF('MUNIS GL Working Doc 01.06'!$H:$H,'Capital Status Report'!$G11,'MUNIS GL Working Doc 01.06'!AG:AG) -> 51512.8 | N11: =M11-O11 -> 45898.82 | O11: =SUMIF('MUNIS GL Working Doc 01.06'!$H:$H,'Capital Status Report'!$G11,'MUNIS GL Working Doc 01.06'!W:W) -> 5613.98 | P11: =SUMIF('MUNIS GL Working Doc 01.06'!$H:$H,'Capital Status Report'!$G11,'MUNIS GL Working Doc 01.06'!X:X) -> 5400 | Q11: =SUMIF('MUNIS GL Working Doc 01.06'!$H:$H,'Capital Status Report'!$G11,'MUNIS GL Working Doc 01.06'!Z:Z) -> 3087.2 | R11: COMPLETE | T11: Ongoing
A12: 21 | B12: FY18 | C12: 18160 - Interior Finishes-Flooring,Painting | D12: =LEFT(C12,5) -> 18160 | E12: Interior painting | F12: 102 - HAMILTON AVENUE SCHOOL | G12: =D12&F12 -> 18160102 - HAMILTON AVENUE SCHOOL | H12: =VLOOKUP(F12,'[2]Locn Lookup'!A$1:B$17,2,FALSE) -> HA | I12: =VLOOKUP($C12&$F12,Open Capital Projects Access,4,FALSE) -> #NAME? | J12: =SUMIF('MUNIS GL Working Doc 01.06'!H:H,'Capital Status Report'!G12,'MUNIS GL Working Doc 01.06'!AB:AB) -> 7500 | K12: =SUMIF('MUNIS GL Working Doc 01.06'!H:H,'Capital Status Report'!G12,'MUNIS GL Working Doc 01.06'!AE:AE) -> 0 | L12: =SUMIF('MUNIS GL Working Doc 01.06'!$H:$H,'Capital Status Report'!$G12,'MUNIS GL Working Doc 01.06'!AF:AF) -> 7500 | M12: =SUMIF('MUNIS GL Working Doc 01.06'!$H:$H,'Capital Status Report'!$G12,'MUNIS GL Working Doc 01.06'!AG:AG) -> 7500 | N12: =M12-O12 -> 0 | O12: =SUMIF('MUNIS GL Working Doc 01.06'!$H:$H,'Capital Status Report'!$G12,'MUNIS GL Working Doc 01.06'!W:W) -> 7500 | P12: =SUMIF('MUNIS GL Working Doc 01.06'!$H:$H,'Capital Status Report'!$G12,'MUNIS GL Working Doc 01.06'!X:X) -> 0 | Q12: =SUMIF('MUNIS GL Working Doc 01.06'!$H:$H,'Capital Status Report'!$G12,'MUNIS GL Working Doc 01.06'!Z:Z) -> 0 | R12: Complete | S12: 12.9.2020 Parking Garage painting
A13: 22 | B13: FY18 | C13: 18160 - Interior Finishes-Flooring,Painting | D13: =LEFT(C13,5) -> 18160 | E13: Interior Painting | F13: 103 - GLENVILLE SCHOOL | G13: =D13&F13 -> 18160103 - GLENVILLE SCHOOL | H13: =VLOOKUP(F13,'[2]Locn Lookup'!A$1:B$17,2,FALSE) -> GL | I13: =VLOOKUP($C13&$F13,Open Capital Projects Access,4,FALSE) -> #NAME? | J13: =SUMIF('MUNIS GL Working Doc 01.06'!H:H,'Capital Status Report'!G13,'MUNIS GL Working Doc 01.06'!AB:AB) -> 6500 | K13: =SUMIF('MUNIS GL Working Doc 01.06'!H:H,'Capital Status Report'!G13,'MUNIS GL Working Doc 01.06'!AE:AE) -> 0 | L13: =SUMIF('MUNIS GL Working Doc 01.06'!$H:$H,'Capital Status Report'!$G13,'MUNIS GL Working Doc 01.06'!AF:AF) -> 6500 | M13: =SUMIF('MUNIS GL Working Doc 01.06'!$H:$H,'Capital Status Report'!$G13,'MUNIS GL Working Doc 01.06'!AG:AG) -> 6500 | N13: =M13-O13 -> 6500 | O13: =SUMIF('MUNIS GL Working Doc 01.06'!$H:$H,'Capital Status Report'!$G13,'MUNIS GL Working Doc 01.06'!W:W) -> 0 | P13: =SUMIF('MUNIS GL Working Doc 01.06'!$H:$H,'Capital Status Report'!$G13,'MUNIS GL Working Doc 01.06'!X:X) -> 0 | Q13: =SUMIF('MUNIS GL Working Doc 01.06'!$H:$H,'Capital Status Report'!$G13,'MUNIS GL Working Doc 01.06'!Z:Z) -> 0 | R13: Complete | T13: CLOSE - PROJECT COMPLETE
A14: 23 | B14: FY18 | C14: 18160 - Interior Finishes-Flooring,Painting | D14: =LEFT(C14,5) -> 18160 | E14: Interior painting | F14: 105 - COS COB SCHOOL | G14: =D14&F14 -> 18160105 - COS COB SCHOOL | H14: =VLOOKUP(F14,'[2]Locn Lookup'!A$1:B$17,2,FALSE) -> CC | I14: =VLOOKUP($C14&$F14,Open Capital Projects Access,4,FALSE) -> #NAME? | J14: =SUMIF('MUNIS GL Working Doc 01.06'!H:H,'Capital Status Report'!G14,'MUNIS GL Working Doc 01.06'!AB:AB) -> 6500 | K14: =SUMIF('MUNIS GL Working Doc 01.06'!H:H,'Capital Status Report'!G14,'MUNIS GL Working Doc 01.06'!AE:AE) -> 0 | L14: =SUMIF('MUNIS GL Working Doc 01.06'!$H:$H,'Capital Status Report'!$G14,'MUNIS GL Working Doc 01.06'!AF:AF) -> 6500 | M14: =SUMIF('MUNIS GL Working Doc 01.06'!$H:$H,'Capital Status Report'!$G14,'MUNIS GL Working Doc 01.06'!AG:AG) -> 6500 | N14: =M14-O14 -> 6500 | O14: =SUMIF('MUNIS GL Working Doc 01.06'!$H:$H,'Capital Status Report'!$G14,'MUNIS GL Working Doc 01.06'!W:W) -> 0 | P14: =SUMIF('MUNIS GL Working Doc 01.06'!$H:$H,'Capital Status Report'!$G14,'MUNIS GL Working Doc 01.06'!X:X) -> 0 | Q14: =SUMIF('MUNIS GL Working Doc 01.06'!$H:$H,'Capital Status Report'!$G14,'MUNIS GL Working Doc 01.06'!Z:Z) -> 0 | R14: Complete | T14: CLOSE - PROJECT COMPLETE
A15: 24 | B15: FY18 | C15: 18160 - Interior Finishes-Flooring,Painting | D15: =LEFT(C15,5) -> 18160 | E15: Interior painting | F15: 106 - JULIAN CURTISS SCHOOL | G15: =D15&F15 -> 18160106 - JULIAN CURTISS SCHOOL | H15: =VLOOKUP(F15,'[2]Locn Lookup'!A$1:B$17,2,FALSE) -> JC | I15: =VLOOKUP($C15&$F15,Open Capital Projects Access,4,FALSE) -> #NAME? | J15: =SUMIF('MUNIS GL Working Doc 01.06'!H:H,'Capital Status Report'!G15,'MUNIS GL Working Doc 01.06'!AB:AB) -> 6000 | K15: =SUMIF('MUNIS GL Working Doc 01.06'!H:H,'Capital Status Report'!G15,'MUNIS GL Working Doc 01.06'!AE:AE) -> 1400 | L15: =SUMIF('MUNIS GL Working Doc 01.06'!$H:$H,'Capital Status Report'!$G15,'MUNIS GL Working Doc 01.06'!AF:AF) -> 7400 | M15: =SUMIF('MUNIS GL Working Doc 01.06'!$H:$H,'Capital Status Report'!$G15,'MUNIS GL Working Doc 01.06'!AG:AG) -> 7400 | N15: =M15-O15 -> 7400 | O15: =SUMIF('MUNIS GL Working Doc 01.06'!$H:$H,'Capital Status Report'!$G15,'MUNIS GL Working Doc 01.06'!W:W) -> 0 | P15: =SUMIF('MUNIS GL Working Doc 01.06'!$H:$H,'Capital Status Report'!$G15,'MUNIS GL Working Doc 01.06'!X:X) -> 0 | Q15: =SUMIF('MUNIS GL Working Doc 01.06'!$H:$H,'Capital Status Report'!$G15,'MUNIS GL Working Doc 01.06'!Z:Z) -> 0 | R15: Complete | T15: CLOSE - PROJECT COMPLETE
A16: 25 | B16: FY18 | C16: 18160 - Interior Finishes-Flooring,Painting | D16: =LEFT(C16,5) -> 18160 | E16: Interior painting | F16: 107 - NORTH STREET SCHOOL | G16: =D16&F16 -> 18160107 - NORTH STREET SCHOOL | H16: =VLOOKUP(F16,'[2]Locn Lookup'!A$1:B$17,2,FALSE) -> NS | I16: =VLOOKUP($C16&$F16,Open Capital Projects Access,4,FALSE) -> #NAME? | J16: =SUMIF('MUNIS GL Working Doc 01.06'!H:H,'Capital Status Report'!G16,'MUNIS GL Working Doc 01.06'!AB:AB) -> 6000 | K16: =SUMIF('MUNIS GL Working Doc 01.06'!H:H,'Capital Status Report'!G16,'MUNIS GL Working Doc 01.06'!AE:AE) -> 0 | L16: =SUMIF('MUNIS GL Working Doc 01.06'!$H:$H,'Capital Status Report'!$G16,'MUNIS GL Working Doc 01.06'!AF:AF) -> 6000 | M16: =SUMIF('MUNIS GL Working Doc 01.06'!$H:$H,'Capital Status Report'!$G16,'MUNIS GL Working Doc 01.06'!AG:AG) -> 6000 | N16: =M16-O16 -> 6000 | O16: =SUMIF('MUNIS GL Working Doc 01.06'!$H:$H,'Capital Status Report'!$G16,'MUNIS GL Working Doc 01.06'!W:W) -> 0 | P16: =SUMIF('MUNIS GL Working Doc 01.06'!$H:$H,'Capital Status Report'!$G16,'MUNIS GL Working Doc 01.06'!X:X) -> 0 | Q16: =SUMIF('MUNIS GL Working Doc 01.06'!$H:$H,'Capital Status Report'!$G16,'MUNIS GL Working Doc 01.06'!Z:Z) -> 0 | R16: Complete | T16: CLOSE - PROJECT COMPLETE
A17: 26 | B17: FY18 | C17: 18160 - Interior Finishes-Flooring,Painting | D17: =LEFT(C17,5) -> 18160 | E17: Interior painting | F17: 108 - PARKWAY SCHOOL | G17: =D17&F17 -> 18160108 - PARKWAY SCHOOL | H17: =VLOOKUP(F17,'[2]Locn Lookup'!A$1:B$17,2,FALSE) -> PW | I17: =VLOOKUP($C17&$F17,Open Capital Projects Access,4,FALSE) -> #NAME? | J17: =SUMIF('MUNIS GL Working Doc 01.06'!H:H,'Capital Status Report'!G17,'MUNIS GL Working Doc 01.06'!AB:AB) -> 5000 | K17: =SUMIF('MUNIS GL Working Doc 01.06'!H:H,'Capital Status Report'!G17,'MUNIS GL Working Doc 01.06'!AE:AE) -> -1400 | L17: =SUMIF('MUNIS GL Working Doc 01.06'!$H:$H,'Capital Status Report'!$G17,'MUNIS GL Working Doc 01.06'!AF:AF) -> 3600 | M17: =SUMIF('MUNIS GL Working Doc 01.06'!$H:$H,'Capital Status Report'!$G17,'MUNIS GL Working Doc 01.06'!AG:AG) -> 3600 | N17: =M17-O17 -> 3600 | O17: =SUMIF('MUNIS GL Working Doc 01.06'!$H:$H,'Capital Status Report'!$G17,'MUNIS GL Working Doc 01.06'!W:W) -> 0 | P17: =SUMIF('MUNIS GL Working Doc 01.06'!$H:$H,'Capital Status Report'!$G17,'MUNIS GL Working Doc 01.06'!X:X) -> 0 | Q17: =SUMIF('MUNIS GL Working Doc 01.06'!$H:$H,'Capital Status Report'!$G17,'MUNIS GL Working Doc 01.06'!Z:Z) -> 0 | R17: Complete | T17: CLOSE - PROJECT COMPLETE
A18: 27 | B18: FY18 | C18: 18160 - Interior Finishes-Flooring,Painting | D18: =LEFT(C18,5) -> 18160 | E18: Interior painting | F18: 109 - DUNDEE SCHOOL | G18: =D18&F18 -> 18160109 - DUNDEE SCHOOL | H18: =VLOOKUP(F18,'[2]Locn Lookup'!A$1:B$17,2,FALSE) -> ISD | I18: =VLOOKUP($C18&$F18,Open Capital Projects Access,4,FALSE) -> #NAME? | J18: =SUMIF('MUNIS GL Working Doc 01.06'!H:H,'Capital Status Report'!G18,'MUNIS GL Working Doc 01.06'!AB:AB) -> 5000 | K18: =SUMIF('MUNIS GL Working Doc 01.06'!H:H,'Capital Status Report'!G18,'MUNIS GL Working Doc 01.06'!AE:AE) -> 0 | L18: =SUMIF('MUNIS GL Working Doc 01.06'!$H:$H,'Capital Status Report'!$G18,'MUNIS GL Working Doc 01.06'!AF:AF) -> 5000 | M18: =SUMIF('MUNIS GL Working Doc 01.06'!$H:$H,'Capital Status Report'!$G18,'MUNIS GL Working Doc 01.06'!AG:AG) -> 5000 | N18: =M18-O18 -> 5000 | O18: =SUMIF('MUNIS GL Working Doc 01.06'!$H:$H,'Capital Status Report'!$G18,'MUNIS GL Working Doc 01.06'!W:W) -> 0 | P18: =SUMIF('MUNIS GL Working Doc 01.06'!$H:$H,'Capital Status Report'!$G18,'MUNIS GL Working Doc 01.06'!X:X) -> 0 | Q18: =SUMIF('MUNIS GL Working Doc 01.06'!$H:$H,'Capital Status Report'!$G18,'MUNIS GL Working Doc 01.06'!Z:Z) -> 0 | R18: Complete | T18: CLOSE - PROJECT COMPLETE
A19: 28 | B19: FY18 | C19: 18160 - Interior Finishes-Flooring,Painting | D19: =LEFT(C19,5) -> 18160 | E19: Interior painting | F19: 110 - NORTH MIANUS SCHOOL | G19: =D19&F19 -> 18160110 - NORTH MIANUS SCHOOL | H19: =VLOOKUP(F19,'[2]Locn Lookup'!A$1:B$17,2,FALSE) -> NM | I19: =VLOOKUP($C19&$F19,Open Capital Projects Access,4,FALSE) -> #NAME? | J19: =SUMIF('MUNIS GL Working Doc 01.06'!H:H,'Capital Status Report'!G19,'MUNIS GL Working Doc 01.06'!AB:AB) -> 7000 | K19: =SUMIF('MUNIS GL Working Doc 01.06'!H:H,'Capital Status Report'!G19,'MUNIS GL Working Doc 01.06'!AE:AE) -> 0 | L19: =SUMIF('MUNIS GL Working Doc 01.06'!$H:$H,'Capital Status Report'!$G19,'MUNIS GL Working Doc 01.06'!AF:AF) -> 7000 | M19: =SUMIF('MUNIS GL Working Doc 01.06'!$H:$H,'Capital Status Report'!$G19,'MUNIS GL Working Doc 01.06'!AG:AG) -> 7000 | N19: =M19-O19 -> 7000 | O19: =SUMIF('MUNIS GL Working Doc 01.06'!$H:$H,'Capital Status Report'!$G19,'MUNIS GL Working Doc 01.06'!W:W) -> 0 | P19: =SUMIF('MUNIS GL Working Doc 01.06'!$H:$H,'Capital Status Report'!$G19,'MUNIS GL Working Doc 01.06'!X:X) -> 0 | Q19: =SUMIF('MUNIS GL Working Doc 01.06'!$H:$H,'Capital Status Report'!$G19,'MUNIS GL Working Doc 01.06'!Z:Z) -> 0 | R19: Complete | T19: CLOSE - PROJECT COMPLETE
A20: 29 | B20: FY18 | C20: 18160 - Interior Finishes-Flooring,Painting | D20: =LEFT(C20,5) -> 18160 | E20: Interior painting | F20: 111 - OLD GREENWICH SCHOOL | G20: =D20&F20 -> 18160111 - OLD GREENWICH SCHOOL | H20: =VLOOKUP(F20,'[2]Locn Lookup'!A$1:B$17,2,FALSE) -> OG | I20: =VLOOKUP($C20&$F20,Open Capital Projects Access,4,FALSE) -> #NAME? | J20: =SUMIF('MUNIS GL Working Doc 01.06'!H:H,'Capital Status Report'!G20,'MUNIS GL Working Doc 01.06'!AB:AB) -> 7500 | K20: =SUMIF('MUNIS GL Working Doc 01.06'!H:H,'Capital Status Report'!G20,'MUNIS GL Working Doc 01.06'!AE:AE) -> 0 | L20: =SUMIF('MUNIS GL Working Doc 01.06'!$H:$H,'Capital Status Report'!$G20,'MUNIS GL Working Doc 01.06'!AF:AF) -> 7500 | M20: =SUMIF('MUNIS GL Working Doc 01.06'!$H:$H,'Capital Status Report'!$G20,'MUNIS GL Working Doc 01.06'!AG:AG) -> 7500 | N20: =M20-O20 -> 7500 | O20: =SUMIF('MUNIS GL Working Doc 01.06'!$H:$H,'Capital Status Report'!$G20,'MUNIS GL Working Doc 01.06'!W:W) -> 0 | P20: =SUMIF('MUNIS GL Working Doc 01.06'!$H:$H,'Capital Status Report'!$G20,'MUNIS GL Working Doc 01.06'!X:X) -> 0 | Q20: =SUMIF('MUNIS GL Working Doc 01.06'!$H:$H,'Capital Status Report'!$G20,'MUNIS GL Working Doc 01.06'!Z:Z) -> 0 | R20: Complete | T20: CLOSE - PROJECT COMPLETE
A21: 30 | B21: FY18 | C21: 18160 - Interior Finishes-Flooring,Painting | D21: =LEFT(C21,5) -> 18160 | E21: Interior painting | F21: 112 - RIVERSIDE SCHOOL | G21: =D21&F21 -> 18160112 - RIVERSIDE SCHOOL | H21: =VLOOKUP(F21,'[2]Locn Lookup'!A$1:B$17,2,FALSE) -> RV | I21: =VLOOKUP($C21&$F21,Open Capital Projects Access,4,FALSE) -> #NAME? | J21: =SUMIF('MUNIS GL Working Doc 01.06'!H:H,'Capital Status Report'!G21,'MUNIS GL Working Doc 01.06'!AB:AB) -> 5000 | K21: =SUMIF('MUNIS GL Working Doc 01.06'!H:H,'Capital Status Report'!G21,'MUNIS GL Working Doc 01.06'!AE:AE) -> 0 | L21: =SUMIF('MUNIS GL Working Doc 01.06'!$H:$H,'Capital Status Report'!$G21,'MUNIS GL Working Doc 01.06'!AF:AF) -> 5000 | M21: =SUMIF('MUNIS GL Working Doc 01.06'!$H:$H,'Capital Status Report'!$G21,'MUNIS GL Working Doc 01.06'!AG:AG) -> 5000 | N21: =M21-O21 -> 5000 | O21: =SUMIF('MUNIS GL Working Doc 01.06'!$H:$H,'Capital Status Report'!$G21,'MUNIS GL Working Doc 01.06'!W:W) -> 0 | P21: =SUMIF('MUNIS GL Working Doc 01.06'!$H:$H,'Capital Status Report'!$G21,'MUNIS GL Working Doc 01.06'!X:X) -> 0 | Q21: =SUMIF('MUNIS GL Working Doc 01.06'!$H:$H,'Capital Status Report'!$G21,'MUNIS GL Working Doc 01.06'!Z:Z) -> 0 | R21: Complete | T21: CLOSE - PROJECT COMPLETE
A22: 31 | B22: FY18 | C22: 18160 - Interior Finishes-Flooring,Painting | D22: =LEFT(C22,5) -> 18160 | E22: Interior painting | F22: 113 - CENTRAL MIDDLE SCHOOL | G22: =D22&F22 -> 18160113 - CENTRAL MIDDLE SCHOOL | H22: =VLOOKUP(F22,'[2]Locn Lookup'!A$1:B$17,2,FALSE) -> CMS | I22: =VLOOKUP($C22&$F22,Open Capital Projects Access,4,FALSE) -> #NAME? | J22: =SUMIF('MUNIS GL Working Doc 01.06'!H:H,'Capital Status Report'!G22,'MUNIS GL Working Doc 01.06'!AB:AB) -> 20000 | K22: =SUMIF('MUNIS GL Working Doc 01.06'!H:H,'Capital Status Report'!G22,'MUNIS GL Working Doc 01.06'!AE:AE) -> 0 | L22: =SUMIF('MUNIS GL Working Doc 01.06'!$H:$H,'Capital Status Report'!$G22,'MUNIS GL Working Doc 01.06'!AF:AF) -> 20000 | M22: =SUMIF('MUNIS GL Working Doc 01.06'!$H:$H,'Capital Status Report'!$G22,'MUNIS GL Working Doc 01.06'!AG:AG) -> 20000 | N22: =M22-O22 -> 20000 | O22: =SUMIF('MUNIS GL Working Doc 01.06'!$H:$H,'Capital Status Report'!$G22,'MUNIS GL Working Doc 01.06'!W:W) -> 0 | P22: =SUMIF('MUNIS GL Working Doc 01.06'!$H:$H,'Capital Status Report'!$G22,'MUNIS GL Working Doc 01.06'!X:X) -> 0 | Q22: =SUMIF('MUNIS GL Working Doc 01.06'!$H:$H,'Capital Status Report'!$G22,'MUNIS GL Working Doc 01.06'!Z:Z) -> 0 | R22: Complete | T22: CLOSE - PROJECT COMPLETE
A23: 32 | B23: FY18 | C23: 18160 - Interior Finishes-Flooring,Painting | D23: =LEFT(C23,5) -> 18160 | E23: Interior painting | F23: 114 - EASTERN MIDDLE SCHOOL | G23: =D23&F23 -> 18160114 - EASTERN MIDDLE SCHOOL | H23: =VLOOKUP(F23,'[2]Locn Lookup'!A$1:B$17,2,FALSE) -> EMS | I23: =VLOOKUP($C23&$F23,Open Capital Projects Access,4,FALSE) -> #NAME? | J23: =SUMIF('MUNIS GL Working Doc 01.06'!H:H,'Capital Status Report'!G23,'MUNIS GL Working Doc 01.06'!AB:AB) -> 10000 | K23: =SUMIF('MUNIS GL Working Doc 01.06'!H:H,'Capital Status Report'!G23,'MUNIS GL Working Doc 01.06'!AE:AE) -> 0 | L23: =SUMIF('MUNIS GL Working Doc 01.06'!$H:$H,'Capital Status Report'!$G23,'MUNIS GL Working Doc 01.06'!AF:AF) -> 10000 | M23: =SUMIF('MUNIS GL Working Doc 01.06'!$H:$H,'Capital Status Report'!$G23,'MUNIS GL Working Doc 01.06'!AG:AG) -> 10000 | N23: =M23-O23 -> 10000 | O23: =SUMIF('MUNIS GL Working Doc 01.06'!$H:$H,'Capital Status Report'!$G23,'MUNIS GL Working Doc 01.06'!W:W) -> 0 | P23: =SUMIF('MUNIS GL Working Doc 01.06'!$H:$H,'Capital Status Report'!$G23,'MUNIS GL Working Doc 01.06'!X:X) -> 0 | Q23: =SUMIF('MUNIS GL Working Doc 01.06'!$H:$H,'Capital Status Report'!$G23,'MUNIS GL Working Doc 01.06'!Z:Z) -> 0 | R23: Complete | T23: CLOSE - PROJECT COMPLETE
A24: 33 | B24: FY18 | C24: 18160 - Interior Finishes-Flooring,Painting | D24: =LEFT(C24,5) -> 18160 | E24: Interior painting | F24: 115 - WESTERN MIDDLE SCHOOL | G24: =D24&F24 -> 18160115 - WESTERN MIDDLE SCHOOL | H24: =VLOOKUP(F24,'[2]Locn Lookup'!A$1:B$17,2,FALSE) -> WMS | I24: =VLOOKUP($C24&$F24,Open Capital Projects Access,4,FALSE) -> #NAME? | J24: =SUMIF('MUNIS GL Working Doc 01.06'!H:H,'Capital Status Report'!G24,'MUNIS GL Working Doc 01.06'!AB:AB) -> 10000 | K24: =SUMIF('MUNIS GL Working Doc 01.06'!H:H,'Capital Status Report'!G24,'MUNIS GL Working Doc 01.06'!AE:AE) -> 0 | L24: =SUMIF('MUNIS GL Working Doc 01.06'!$H:$H,'Capital Status Report'!$G24,'MUNIS GL Working Doc 01.06'!AF:AF) -> 10000 | M24: =SUMIF('MUNIS GL Working Doc 01.06'!$H:$H,'Capital Status Report'!$G24,'MUNIS GL Working Doc 01.06'!AG:AG) -> 10000 | N24: =M24-O24 -> 10000 | O24: =SUMIF('MUNIS GL Working Doc 01.06'!$H:$H,'Capital Status Report'!$G24,'MUNIS GL Working Doc 01.06'!W:W) -> 0 | P24: =SUMIF('MUNIS GL Working Doc 01.06'!$H:$H,'Capital Status Report'!$G24,'MUNIS GL Working Doc 01.06'!X:X) -> 0 | Q24: =SUMIF('MUNIS GL Working Doc 01.06'!$H:$H,'Capital Status Report'!$G24,'MUNIS GL Working Doc 01.06'!Z:Z) -> 0 | R24: Complete | T24: CLOSE - PROJECT COMPLETE
A25: 34 | B25: FY18 | C25: 18160 - Interior Finishes-Flooring,Painting | D25: =LEFT(C25,5) -> 18160 | E25: Interior painting ($20K) & carpet science learning ctr ($16K) | F25: 116 - GREENWICH HIGH SCHOOL | G25: =D25&F25 -> 18160116 - GREENWICH HIGH SCHOOL | H25: =VLOOKUP(F25,'[2]Locn Lookup'!A$1:B$17,2,FALSE) -> GHS | I25: =VLOOKUP($C25&$F25,Open Capital Projects Access,4,FALSE) -> #NAME? | J25: =SUMIF('MUNIS GL Working Doc 01.06'!H:H,'Capital Status Report'!G25,'MUNIS GL Working Doc 01.06'!AB:AB) -> 36000 | K25: =SUMIF('MUNIS GL Working Doc 01.06'!H:H,'Capital Status Report'!G25,'MUNIS GL Working Doc 01.06'!AE:AE) -> -8230 | L25: =SUMIF('MUNIS GL Working Doc 01.06'!$H:$H,'Capital Status Report'!$G25,'MUNIS GL Working Doc 01.06'!AF:AF) -> 27770 | M25: =SUMIF('MUNIS GL Working Doc 01.06'!$H:$H,'Capital Status Report'!$G25,'MUNIS GL Working Doc 01.06'!AG:AG) -> 12925 | N25: =M25-O25 -> 12925 | O25: =SUMIF('MUNIS GL Working Doc 01.06'!$H:$H,'Capital Status Report'!$G25,'MUNIS GL Working Doc 01.06'!W:W) -> 0 | P25: =SUMIF('MUNIS GL Working Doc 01.06'!$H:$H,'Capital Status Report'!$G25,'MUNIS GL Working Doc 01.06'!X:X) -> 5200 | Q25: =SUMIF('MUNIS GL Working Doc 01.06'!$H:$H,'Capital Status Report'!$G25,'MUNIS GL Working Doc 01.06'!Z:Z) -> 9645 | R25: Substantially Complete | S25: 12.9.2020 GYM ENTRY WALKOFF / TARGET DATE - WINTER RECESS
A26: 35 | B26: FY18 | C26: 18160 - Interior Finishes-Flooring,Painting | D26: =LEFT(C26,5) -> 18160 | E26: Painting ($30K) & misc flooring ($40K) | F26: 117 - HAVEMEYER | G26: =D26&F26 -> 18160117 - HAVEMEYER | H26: =VLOOKUP(F26,'[2]Locn Lookup'!A$1:B$17,2,FALSE) -> HAV | I26: =VLOOKUP($C26&$F26,Open Capital Projects Access,4,FALSE) -> #NAME? | J26: =SUMIF('MUNIS GL Working Doc 01.06'!H:H,'Capital Status Report'!G26,'MUNIS GL Working Doc 01.06'!AB:AB) -> 70000 | K26: =SUMIF('MUNIS GL Working Doc 01.06'!H:H,'Capital Status Report'!G26,'MUNIS GL Working Doc 01.06'!AE:AE) -> 8230 | L26: =SUMIF('MUNIS GL Working Doc 01.06'!$H:$H,'Capital Status Report'!$G26,'MUNIS GL Working Doc 01.06'!AF:AF) -> 78230 | M26: =SUMIF('MUNIS GL Working Doc 01.06'!$H:$H,'Capital Status Report'!$G26,'MUNIS GL Working Doc 01.06'!AG:AG) -> 78229.6 | N26: =M26-O26 -> 78229.6 | O26: =SUMIF('MUNIS GL Working Doc 01.06'!$H:$H,'Capital Status Report'!$G26,'MUNIS GL Working Doc 01.06'!W:W) -> 0 | P26: =SUMIF('MUNIS GL Working Doc 01.06'!$H:$H,'Capital Status Report'!$G26,'MUNIS GL Working Doc 01.06'!X:X) -> 0 | Q26: =SUMIF('MUNIS GL Working Doc 01.06'!$H:$H,'Capital Status Report'!$G26,'MUNIS GL Working Doc 01.06'!Z:Z) -> 0.4 | R26: Complete | T26: CLOSE - PROJECT COMPLETE
A27: 37 | B27: FY18 | C27: 18161 - Interior Carpentry | D27: =LEFT(C27,5) -> 18161 | E27: Convert storage to office, office to classroom | F27: 106 - JULIAN CURTISS SCHOOL | G27: =D27&F27 -> 18161106 - JULIAN CURTISS SCHOOL | H27: =VLOOKUP(F27,'[2]Locn Lookup'!A$1:B$17,2,FALSE) -> JC | I27: =VLOOKUP($C27&$F27,Open Capital Projects Access,4,FALSE) -> #NAME? | J27: =SUMIF('MUNIS GL Working Doc 01.06'!H:H,'Capital Status Report'!G27,'MUNIS GL Working Doc 01.06'!AB:AB) -> 45000 | K27: =SUMIF('MUNIS GL Working Doc 01.06'!H:H,'Capital Status Report'!G27,'MUNIS GL Working Doc 01.06'!AE:AE) -> -45000 | L27: =SUMIF('MUNIS GL Working Doc 01.06'!$H:$H,'Capital Status Report'!$G27,'MUNIS GL Working Doc 01.06'!AF:AF) -> 0 | M27: =SUMIF('MUNIS GL Working Doc 01.06'!$H:$H,'Capital Status Report'!$G27,'MUNIS GL Working Doc 01.06'!AG:AG) -> 0 | N27: =M27-O27 -> 0 | O27: =SUMIF('MUNIS GL Working Doc 01.06'!$H:$H,'Capital Status Report'!$G27,'MUNIS GL Working Doc 01.06'!W:W) -> 0 | P27: =SUMIF('MUNIS GL Working Doc 01.06'!$H:$H,'Capital Status Report'!$G27,'MUNIS GL Working Doc 01.06'!X:X) -> 0 | Q27: =SUMIF('MUNIS GL Working Doc 01.06'!$H:$H,'Capital Status Report'!$G27,'MUNIS GL Working Doc 01.06'!Z:Z) -> 0 | R27: Complete | T27: CLOSE - PROJECT COMPLETE
A28: 38 | B28: FY18 | C28: 18161 - Interior Carpentry | D28: =LEFT(C28,5) -> 18161 | E28: Refurbish stage | F28: 107 - NORTH STREET SCHOOL | G28: =D28&F28 -> 18161107 - NORTH STREET SCHOOL | H28: =VLOOKUP(F28,'[2]Locn Lookup'!A$1:B$17,2,FALSE) -> NS | I28: =VLOOKUP($C28&$F28,Open Capital Projects Access,4,FALSE) -> #NAME? | J28: =SUMIF('MUNIS GL Working Doc 01.06'!H:H,'Capital Status Report'!G28,'MUNIS GL Working Doc 01.06'!AB:AB) -> 22000 | K28: =SUMIF('MUNIS GL Working Doc 01.06'!H:H,'Capital Status Report'!G28,'MUNIS GL Working Doc 01.06'!AE:AE) -> -9690 | L28: =SUMIF('MUNIS GL Working Doc 01.06'!$H:$H,'Capital Status Report'!$G28,'MUNIS GL Working Doc 01.06'!AF:AF) -> 12310 | M28: =SUMIF('MUNIS GL Working Doc 01.06'!$H:$H,'Capital Status Report'!$G28,'MUNIS GL Working Doc 01.06'!AG:AG) -> 12310 | N28: =M28-O28 -> 12310 | O28: =SUMIF('MUNIS GL Working Doc 01.06'!$H:$H,'Capital Status Report'!$G28,'MUNIS GL Working Doc 01.06'!W:W) -> 0 | P28: =SUMIF('MUNIS GL Working Doc 01.06'!$H:$H,'Capital Status Report'!$G28,'MUNIS GL Working Doc 01.06'!X:X) -> 0 | Q28: =SUMIF('MUNIS GL Working Doc 01.06'!$H:$H,'Capital Status Report'!$G28,'MUNIS GL Working Doc 01.06'!Z:Z) -> 0 | R28: Complete | T28: CLOSE - PROJECT COMPLETE
A29: 39 | B29: FY18 | C29: 18161 - Interior Carpentry | D29: =LEFT(C29,5) -> 18161 | E29: Replace ceilings & lighting | F29: 111 - OLD GREENWICH SCHOOL | G29: =D29&F29 -> 18161111 - OLD GREENWICH SCHOOL | H29: =VLOOKUP(F29,'[2]Locn Lookup'!A$1:B$17,2,FALSE) -> OG | I29: =VLOOKUP($C29&$F29,Open Capital Projects Access,4,FALSE) -> #NAME? | J29: =SUMIF('MUNIS GL Working Doc 01.06'!H:H,'Capital Status Report'!G29,'MUNIS GL Working Doc 01.06'!AB:AB) -> 315000 | K29: =SUMIF('MUNIS GL Working Doc 01.06'!H:H,'Capital Status Report'!G29,'MUNIS GL Working Doc 01.06'!AE:AE) -> -108971 | L29: =SUMIF('MUNIS GL Working Doc 01.06'!$H:$H,'Capital Status Report'!$G29,'MUNIS GL Working Doc 01.06'!AF:AF) -> 206029 | M29: =SUMIF('MUNIS GL Working Doc 01.06'!$H:$H,'Capital Status Report'!$G29,'MUNIS GL Working Doc 01.06'!AG:AG) -> 206028.63 | N29: =M29-O29 -> 206028.63 | O29: =SUMIF('MUNIS GL Working Doc 01.06'!$H:$H,'Capital Status Report'!$G29,'MUNIS GL Working Doc 01.06'!W:W) -> 0 | P29: =SUMIF('MUNIS GL Working Doc 01.06'!$H:$H,'Capital Status Report'!$G29,'MUNIS GL Working Doc 01.06'!X:X) -> 0 | Q29: =SUMIF('MUNIS GL Working Doc 01.06'!$H:$H,'Capital Status Report'!$G29,'MUNIS GL Working Doc 01.06'!Z:Z) -> 0.37 | R29: Complete | T29: CLOSE - PROJECT COMPLETE
A30: 40 | B30: FY18 | C30: 18161 - Interior Carpentry | D30: =LEFT(C30,5) -> 18161 | E30: Replace ceilings & lighting | F30: 112 - RIVERSIDE SCHOOL | G30: =D30&F30 -> 18161112 - RIVERSIDE SCHOOL | H30: =VLOOKUP(F30,'[2]Locn Lookup'!A$1:B$17,2,FALSE) -> RV | I30: =VLOOKUP($C30&$F30,Open Capital Projects Access,4,FALSE) -> #NAME? | J30: =SUMIF('MUNIS GL Working Doc 01.06'!H:H,'Capital Status Report'!G30,'MUNIS GL Working Doc 01.06'!AB:AB) -> 400000 | K30: =SUMIF('MUNIS GL Working Doc 01.06'!H:H,'Capital Status Report'!G30,'MUNIS GL Working Doc 01.06'!AE:AE) -> 163661 | L30: =SUMIF('MUNIS GL Working Doc 01.06'!$H:$H,'Capital Status Report'!$G30,'MUNIS GL Working Doc 01.06'!AF:AF) -> 563661 | M30: =SUMIF('MUNIS GL Working Doc 01.06'!$H:$H,'Capital Status Report'!$G30,'MUNIS GL Working Doc 01.06'!AG:AG) -> 497163.22 | N30: =M30-O30 -> 497163.22 | O30: =SUMIF('MUNIS GL Working Doc 01.06'!$H:$H,'Capital Status Report'!$G30,'MUNIS GL Working Doc 01.06'!W:W) -> 0 | P30: =SUMIF('MUNIS GL Working Doc 01.06'!$H:$H,'Capital Status Report'!$G30,'MUNIS GL Working Doc 01.06'!X:X) -> 0 | Q30: =SUMIF('MUNIS GL Working Doc 01.06'!$H:$H,'Capital Status Report'!$G30,'MUNIS GL Working Doc 01.06'!Z:Z) -> 66497.78 | R30: Substantially Complete | S30: Funds to be used to complete office suite lighting upgrade | T30: to be completed summer2021
A31: 42 | B31: FY18 | C31: 18162 - Building Envelope-Life Cycle Replcm | D31: =LEFT(C31,5) -> 18162 | E31: Window Replacement | F31: 114 - EASTERN MIDDLE SCHOOL | G31: =D31&F31 -> 18162114 - EASTERN MIDDLE SCHOOL | H31: =VLOOKUP(F31,'[2]Locn Lookup'!A$1:B$17,2,FALSE) -> EMS | I31: =VLOOKUP($C31&$F31,Open Capital Projects Access,4,FALSE) -> #NAME? | J31: =SUMIF('MUNIS GL Working Doc 01.06'!H:H,'Capital Status Report'!G31,'MUNIS GL Working Doc 01.06'!AB:AB) -> 750000 | K31: =SUMIF('MUNIS GL Working Doc 01.06'!H:H,'Capital Status Report'!G31,'MUNIS GL Working Doc 01.06'!AE:AE) -> 28554.29 | L31: =SUMIF('MUNIS GL Working Doc 01.06'!$H:$H,'Capital Status Report'!$G31,'MUNIS GL Working Doc 01.06'!AF:AF) -> 778554.29 | M31: =SUMIF('MUNIS GL Working Doc 01.06'!$H:$H,'Capital Status Report'!$G31,'MUNIS GL Working Doc 01.06'!AG:AG) -> 761152.37 | N31: =M31-O31 -> 750000 | O31: =SUMIF('MUNIS GL Working Doc 01.06'!$H:$H,'Capital Status Report'!$G31,'MUNIS GL Working Doc 01.06'!W:W) -> 11152.37 | P31: =SUMIF('MUNIS GL Working Doc 01.06'!$H:$H,'Capital Status Report'!$G31,'MUNIS GL Working Doc 01.06'!X:X) -> 0 | Q31: =SUMIF('MUNIS GL Working Doc 01.06'!$H:$H,'Capital Status Report'!$G31,'MUNIS GL Working Doc 01.06'!Z:Z) -> 17401.92 | R31: Substantially Complete | S31: 12.9.2020 Use for C0s associated HVAC / Window project | T31: Funds to be used for Window/HVAC project Change Orders from field conditions as needed
A32: 43 | B32: FY18 | C32: 18162 - Building Envelope-Life Cycle Replcm | D32: =LEFT(C32,5) -> 18162 | E32: Window Replacement | F32: 115 - WESTERN MIDDLE SCHOOL | G32: =D32&F32 -> 18162115 - WESTERN MIDDLE SCHOOL | H32: =VLOOKUP(F32,'[2]Locn Lookup'!A$1:B$17,2,FALSE) -> WMS | I32: =VLOOKUP($C32&$F32,Open Capital Projects Access,4,FALSE) -> #NAME? | J32: =SUMIF('MUNIS GL Working Doc 01.06'!H:H,'Capital Status Report'!G32,'MUNIS GL Working Doc 01.06'!AB:AB) -> 140000 | K32: =SUMIF('MUNIS GL Working Doc 01.06'!H:H,'Capital Status Report'!G32,'MUNIS GL Working Doc 01.06'!AE:AE) -> -28554.29 | L32: =SUMIF('MUNIS GL Working Doc 01.06'!$H:$H,'Capital Status Report'!$G32,'MUNIS GL Working Doc 01.06'!AF:AF) -> 111445.71 | M32: =SUMIF('MUNIS GL Working Doc 01.06'!$H:$H,'Capital Status Report'!$G32,'MUNIS GL Working Doc 01.06'!AG:AG) -> 111445.71 | N32: =M32-O32 -> 111445.71 | O32: =SUMIF('MUNIS GL Working Doc 01.06'!$H:$H,'Capital Status Report'!$G32,'MUNIS GL Working Doc 01.06'!W:W) -> 0 | P32: =SUMIF('MUNIS GL Working Doc 01.06'!$H:$H,'Capital Status Report'!$G32,'MUNIS GL Working Doc 01.06'!X:X) -> 0 | Q32: =SUMIF('MUNIS GL Working Doc 01.06'!$H:$H,'Capital Status Report'!$G32,'MUNIS GL Working Doc 01.06'!Z:Z) -> 0 | R32: Complete | T32: CLOSE - PROJECT COMPLETE
A33: 45 | B33: FY18 | C33: 18163 - Athletics | D33: =LEFT(C33,5) -> 18163 | E33: Gym lighting | F33: 106 - JULIAN CURTISS SCHOOL | G33: =D33&F33 -> 18163106 - JULIAN CURTISS SCHOOL | H33: =VLOOKUP(F33,'[2]Locn Lookup'!A$1:B$17,2,FALSE) -> JC | I33: =VLOOKUP($C33&$F33,Open Capital Projects Access,4,FALSE) -> #NAME? | J33: =SUMIF('MUNIS GL Working Doc 01.06'!H:H,'Capital Status Report'!G33,'MUNIS GL Working Doc 01.06'!AB:AB) -> 80000 | K33: =SUMIF('MUNIS GL Working Doc 01.06'!H:H,'Capital Status Report'!G33,'MUNIS GL Working Doc 01.06'!AE:AE) -> -60024.12 | L33: =SUMIF('MUNIS GL Working Doc 01.06'!$H:$H,'Capital Status Report'!$G33,'MUNIS GL Working Doc 01.06'!AF:AF) -> 19975.88 | M33: =SUMIF('MUNIS GL Working Doc 01.06'!$H:$H,'Capital Status Report'!$G33,'MUNIS GL Working Doc 01.06'!AG:AG) -> 19975.88 | N33: =M33-O33 -> 19975.88 | O33: =SUMIF('MUNIS GL Working Doc 01.06'!$H:$H,'Capital Status Report'!$G33,'MUNIS GL Working Doc 01.06'!W:W) -> 0 | P33: =SUMIF('MUNIS GL Working Doc 01.06'!$H:$H,'Capital Status Report'!$G33,'MUNIS GL Working Doc 01.06'!X:X) -> 0 | Q33: =SUMIF('MUNIS GL Working Doc 01.06'!$H:$H,'Capital Status Report'!$G33,'MUNIS GL Working Doc 01.06'!Z:Z) -> 0 | R33: Complete | T33: CLOSE - PROJECT COMPLETE
A34: 46 | B34: FY18 | C34: 18163 - Athletics | D34: =LEFT(C34,5) -> 18163 | E34: Gym lighting | F34: 107 - NORTH STREET SCHOOL | G34: =D34&F34 -> 18163107 - NORTH STREET SCHOOL | H34: =VLOOKUP(F34,'[2]Locn Lookup'!A$1:B$17,2,FALSE) -> NS | I34: =VLOOKUP($C34&$F34,Open Capital Projects Access,4,FALSE) -> #NAME? | J34: =SUMIF('MUNIS GL Working Doc 01.06'!H:H,'Capital Status Report'!G34,'MUNIS GL Working Doc 01.06'!AB:AB) -> 80000 | K34: =SUMIF('MUNIS GL Working Doc 01.06'!H:H,'Capital Status Report'!G34,'MUNIS GL Working Doc 01.06'!AE:AE) -> -42315.6 | L34: =SUMIF('MUNIS GL Working Doc 01.06'!$H:$H,'Capital Status Report'!$G34,'MUNIS GL Working Doc 01.06'!AF:AF) -> 37684.4 | M34: =SUMIF('MUNIS GL Working Doc 01.06'!$H:$H,'Capital Status Report'!$G34,'MUNIS GL Working Doc 01.06'!AG:AG) -> 35684.4 | N34: =M34-O34 -> 35684.4 | O34: =SUMIF('MUNIS GL Working Doc 01.06'!$H:$H,'Capital Status Report'!$G34,'MUNIS GL Working Doc 01.06'!W:W) -> 0 | P34: =SUMIF('MUNIS GL Working Doc 01.06'!$H:$H,'Capital Status Report'!$G34,'MUNIS GL Working Doc 01.06'!X:X) -> 0 | Q34: =SUMIF('MUNIS GL Working Doc 01.06'!$H:$H,'Capital Status Report'!$G34,'MUNIS GL Working Doc 01.06'!Z:Z) -> 2000 | R34: Complete | S34: Close - Project done | T34: CLOSE - PROJECT COMPLETE
A35: 47 | B35: FY18 | C35: 18163 - Athletics | D35: =LEFT(C35,5) -> 18163 | E35: Replace gym floor | F35: 109 - DUNDEE SCHOOL | G35: =D35&F35 -> 18163109 - DUNDEE SCHOOL | H35: =VLOOKUP(F35,'[2]Locn Lookup'!A$1:B$17,2,FALSE) -> ISD | I35: =VLOOKUP($C35&$F35,Open Capital Projects Access,4,FALSE) -> #NAME? | J35: =SUMIF('MUNIS GL Working Doc 01.06'!H:H,'Capital Status Report'!G35,'MUNIS GL Working Doc 01.06'!AB:AB) -> 125000 | K35: =SUMIF('MUNIS GL Working Doc 01.06'!H:H,'Capital Status Report'!G35,'MUNIS GL Working Doc 01.06'!AE:AE) -> 42389 | L35: =SUMIF('MUNIS GL Working Doc 01.06'!$H:$H,'Capital Status Report'!$G35,'MUNIS GL Working Doc 01.06'!AF:AF) -> 167389 | M35: =SUMIF('MUNIS GL Working Doc 01.06'!$H:$H,'Capital Status Report'!$G35,'MUNIS GL Working Doc 01.06'!AG:AG) -> 162389 | N35: =M35-O35 -> 162389 | O35: =SUMIF('MUNIS GL Working Doc 01.06'!$H:$H,'Capital Status Report'!$G35,'MUNIS GL Working Doc 01.06'!W:W) -> 0 | P35: =SUMIF('MUNIS GL Working Doc 01.06'!$H:$H,'Capital Status Report'!$G35,'MUNIS GL Working Doc 01.06'!X:X) -> 0 | Q35: =SUMIF('MUNIS GL Working Doc 01.06'!$H:$H,'Capital Status Report'!$G35,'MUNIS GL Working Doc 01.06'!Z:Z) -> 5000 | R35: Complete | S35: Close - Project done | T35: CLOSE - PROJECT COMPLETE
A36: 48 | B36: FY18 | C36: 18163 - Athletics | D36: =LEFT(C36,5) -> 18163 | E36: Gym Divider* | F36: 115 - WESTERN MIDDLE SCHOOL | G36: =D36&F36 -> 18163115 - WESTERN MIDDLE SCHOOL | H36: =VLOOKUP(F36,'[2]Locn Lookup'!A$1:B$17,2,FALSE) -> WMS | I36: =VLOOKUP($C36&$F36,Open Capital Projects Access,4,FALSE) -> #NAME? | J36: =SUMIF('MUNIS GL Working Doc 01.06'!H:H,'Capital Status Report'!G36,'MUNIS GL Working Doc 01.06'!AB:AB) -> 20960 | K36: =SUMIF('MUNIS GL Working Doc 01.06'!H:H,'Capital Status Report'!G36,'MUNIS GL Working Doc 01.06'!AE:AE) -> 10000 | L36: =SUMIF('MUNIS GL Working Doc 01.06'!$H:$H,'Capital Status Report'!$G36,'MUNIS GL Working Doc 01.06'!AF:AF) -> 30960 | M36: =SUMIF('MUNIS GL Working Doc 01.06'!$H:$H,'Capital Status Report'!$G36,'MUNIS GL Working Doc 01.06'!AG:AG) -> 29200 | N36: =M36-O36 -> 29200 | O36: =SUMIF('MUNIS GL Working Doc 01.06'!$H:$H,'Capital Status Report'!$G36,'MUNIS GL Working Doc 01.06'!W:W) -> 0 | P36: =SUMIF('MUNIS GL Working Doc 01.06'!$H:$H,'Capital Status Report'!$G36,'MUNIS GL Working Doc 01.06'!X:X) -> 0 | Q36: =SUMIF('MUNIS GL Working Doc 01.06'!$H:$H,'Capital Status Report'!$G36,'MUNIS GL Working Doc 01.06'!Z:Z) -> 1760 | R36: Complete | S36: ??? Close out | T36: CLOSE - PROJECT COMPLETE
A37: 49 | B37: FY18 | C37: 18163 - Athletics | D37: =LEFT(C37,5) -> 18163 | E37: Renovate locker rooms ($450K); replace gym floor ($325K); practice field lighting ($96K) | F37: 116 - GREENWICH HIGH SCHOOL | G37: =D37&F37 -> 18163116 - GREENWICH HIGH SCHOOL | H37: =VLOOKUP(F37,'[2]Locn Lookup'!A$1:B$17,2,FALSE) -> GHS | I37: =VLOOKUP($C37&$F37,Open Capital Projects Access,4,FALSE) -> #NAME? | J37: =SUMIF('MUNIS GL Working Doc 01.06'!H:H,'Capital Status Report'!G37,'MUNIS GL Working Doc 01.06'!AB:AB) -> 871000 | K37: =SUMIF('MUNIS GL Working Doc 01.06'!H:H,'Capital Status Report'!G37,'MUNIS GL Working Doc 01.06'!AE:AE) -> 28990.6 | L37: =SUMIF('MUNIS GL Working Doc 01.06'!$H:$H,'Capital Status Report'!$G37,'MUNIS GL Working Doc 01.06'!AF:AF) -> 899990.6 | M37: =SUMIF('MUNIS GL Working Doc 01.06'!$H:$H,'Capital Status Report'!$G37,'MUNIS GL Working Doc 01.06'!AG:AG) -> 790605.88 | N37: =M37-O37 -> 790605.88 | O37: =SUMIF('MUNIS GL Working Doc 01.06'!$H:$H,'Capital Status Report'!$G37,'MUNIS GL Working Doc 01.06'!W:W) -> 0 | P37: =SUMIF('MUNIS GL Working Doc 01.06'!$H:$H,'Capital Status Report'!$G37,'MUNIS GL Working Doc 01.06'!X:X) -> 13384.72 | Q37: =SUMIF('MUNIS GL Working Doc 01.06'!$H:$H,'Capital Status Report'!$G37,'MUNIS GL Working Doc 01.06'!Z:Z) -> 96000 | R37: Substantially Complete | S37: 1.29.2021 Can remaining funds be utilized for lighting in the Cardinal Stadium Project. If so, HOLD!!! | T37: CLOSE - PROJECT COMPLETE $96KFOR LIGHTS ONLY. RETURN $96k /
A38: 51 | B38: FY18 | C38: 18164 - Mechanical Systems Upgrades | D38: =LEFT(C38,5) -> 18164 | E38: Valve replacements | F38: 106 - JULIAN CURTISS SCHOOL | G38: =D38&F38 -> 18164106 - JULIAN CURTISS SCHOOL | H38: =VLOOKUP(F38,'[2]Locn Lookup'!A$1:B$17,2,FALSE) -> JC | I38: =VLOOKUP($C38&$F38,Open Capital Projects Access,4,FALSE) -> #NAME? | J38: =SUMIF('MUNIS GL Working Doc 01.06'!H:H,'Capital Status Report'!G38,'MUNIS GL Working Doc 01.06'!AB:AB) -> 25000 | K38: =SUMIF('MUNIS GL Working Doc 01.06'!H:H,'Capital Status Report'!G38,'MUNIS GL Working Doc 01.06'!AE:AE) -> 0 | L38: =SUMIF('MUNIS GL Working Doc 01.06'!$H:$H,'Capital Status Report'!$G38,'MUNIS GL Working Doc 01.06'!AF:AF) -> 25000 | M38: =SUMIF('MUNIS GL Working Doc 01.06'!$H:$H,'Capital Status Report'!$G38,'MUNIS GL Working Doc 01.06'!AG:AG) -> 9364.41 | N38: =M38-O38 -> 464.41 | O38: =SUMIF('MUNIS GL Working Doc 01.06'!$H:$H,'Capital Status Report'!$G38,'MUNIS GL Working Doc 01.06'!W:W) -> 8900 | P38: =SUMIF('MUNIS GL Working Doc 01.06'!$H:$H,'Capital Status Report'!$G38,'MUNIS GL Working Doc 01.06'!X:X) -> 0 | Q38: =SUMIF('MUNIS GL Working Doc 01.06'!$H:$H,'Capital Status Report'!$G38,'MUNIS GL Working Doc 01.06'!Z:Z) -> 15635.59 | R38: Substantially Complete | S38: 2.8.2021 Hold for valve replacment Spring 2021 | T38: 2.8.202 - Schede to provide proposal to complete valves replacment to enable entire wings to be valved off in lieu of entire bldg drain down
A39: 52 | B39: FY18 | C39: 18164 - Mechanical Systems Upgrades | D39: =LEFT(C39,5) -> 18164 | E39: Well pump room improvements | F39: 108 - PARKWAY SCHOOL | G39: =D39&F39 -> 18164108 - PARKWAY SCHOOL | H39: =VLOOKUP(F39,'[2]Locn Lookup'!A$1:B$17,2,FALSE) -> PW | I39: =VLOOKUP($C39&$F39,Open Capital Projects Access,4,FALSE) -> #NAME? | J39: =SUMIF('MUNIS GL Working Doc 01.06'!H:H,'Capital Status Report'!G39,'MUNIS GL Working Doc 01.06'!AB:AB) -> 50000 | K39: =SUMIF('MUNIS GL Working Doc 01.06'!H:H,'Capital Status Report'!G39,'MUNIS GL Working Doc 01.06'!AE:AE) -> 0 | L39: =SUMIF('MUNIS GL Working Doc 01.06'!$H:$H,'Capital Status Report'!$G39,'MUNIS GL Working Doc 01.06'!AF:AF) -> 50000 | M39: =SUMIF('MUNIS GL Working Doc 01.06'!$H:$H,'Capital Status Report'!$G39,'MUNIS GL Working Doc 01.06'!AG:AG) -> 38140.32 | N39: =M39-O39 -> 37057 | O39: =SUMIF('MUNIS GL Working Doc 01.06'!$H:$H,'Capital Status Report'!$G39,'MUNIS GL Working Doc 01.06'!W:W) -> 1083.32 | P39: =SUMIF('MUNIS GL Working Doc 01.06'!$H:$H,'Capital Status Report'!$G39,'MUNIS GL Working Doc 01.06'!X:X) -> 0 | Q39: =SUMIF('MUNIS GL Working Doc 01.06'!$H:$H,'Capital Status Report'!$G39,'MUNIS GL Working Doc 01.06'!Z:Z) -> 11859.68 | R39: Substantially Complete | S39: 1.29.2021 HOLD and use for Chiller project field conditions as needed. | T39: Hold - chiller replacment project contingency if needed
A40: 53 | B40: FY18 | C40: 18164 - Mechanical Systems Upgrades | D40: =LEFT(C40,5) -> 18164 | E40: Replace cooling tower | F40: 109 - DUNDEE SCHOOL | G40: =D40&F40 -> 18164109 - DUNDEE SCHOOL | H40: =VLOOKUP(F40,'[2]Locn Lookup'!A$1:B$17,2,FALSE) -> ISD | I40: =VLOOKUP($C40&$F40,Open Capital Projects Access,4,FALSE) -> #NAME? | J40: =SUMIF('MUNIS GL Working Doc 01.06'!H:H,'Capital Status Report'!G40,'MUNIS GL Working Doc 01.06'!AB:AB) -> 250000 | K40: =SUMIF('MUNIS GL Working Doc 01.06'!H:H,'Capital Status Report'!G40,'MUNIS GL Working Doc 01.06'!AE:AE) -> -95263.02 | L40: =SUMIF('MUNIS GL Working Doc 01.06'!$H:$H,'Capital Status Report'!$G40,'MUNIS GL Working Doc 01.06'!AF:AF) -> 154736.98 | M40: =SUMIF('MUNIS GL Working Doc 01.06'!$H:$H,'Capital Status Report'!$G40,'MUNIS GL Working Doc 01.06'!AG:AG) -> 147901.98 | N40: =M40-O40 -> 139736.98 | O40: =SUMIF('MUNIS GL Working Doc 01.06'!$H:$H,'Capital Status Report'!$G40,'MUNIS GL Working Doc 01.06'!W:W) -> 8165 | P40: =SUMIF('MUNIS GL Working Doc 01.06'!$H:$H,'Capital Status Report'!$G40,'MUNIS GL Working Doc 01.06'!X:X) -> 0 | Q40: =SUMIF('MUNIS GL Working Doc 01.06'!$H:$H,'Capital Status Report'!$G40,'MUNIS GL Working Doc 01.06'!Z:Z) -> 6835 | R40: Substantially Complete | S40: 1.29.2021 HOLD and use for Chiller if needed. | T40: Project Complete. Move available funds within bundle to CMS Auditorium to cover budget shortcoming
...

Sheet MUNIS GL Working Doc 01.06
